{"text_format":"1","workbook":"xlsx","n_sheets":34,"sheets":["Instructions","Table of Contents","Outstanding Errors and Warnings","Expenditures","Capacity","Resources","FNPIs Employment","Services Employment","FNPIs Education","Services Education","FNPIs Income","Services Income","FNPIs Housing","Services Housing","FNPIs Health","Services Health","FNPIs Civic Eng. & Comm. Inv.","Services Civic Eng. & Comm Inv.","FNPIs Across Multiple Domains","Services Multiple Domains","Characteristics","Error Messages","Field Names","CFDA Better Choices","Year-to-Year Comparisons FNPIs","Year-to-Year Comparisons SRVs","Year-to-Year Characteristics","Identification M2","Identification M4","XML Export Map M2","XML Export Map M4","Deprecated Fields","Lookups M2","Lookups M4"],"not_rendered":{"charts":0,"images":1,"macros":1,"external_links":0,"defined_names":2052,"comments":1,"pivot_tables":0},"unopened":[],"bounds":{"document_bytes":16777216,"sheet_cells":100000,"rows_first":2000,"rows_last":500,"rows_between":2000,"halvings":0,"cell_chars":16384,"cell_head_chars":4096},"cells_cut":0,"cells_raw":0,"read":"whole","date_system":"1900"}

{"sheet":"Instructions","index":0,"n_rows":80,"n_cols":24,"rows_kept":80,"cut":false,"hidden":false,"merged":[[20,1,20,3],[4,1,4,3],[6,1,6,3],[9,1,9,3],[11,1,11,3],[18,1,18,3],[37,1,37,3],[39,1,39,3],[22,1,22,3],[24,1,24,2],[29,1,29,3],[31,1,31,3],[33,1,33,3],[35,1,35,3],[2,6,2,8],[18,6,18,8],[6,6,7,8],[10,6,16,8],[19,6,20,8],[4,6,4,8],[9,6,9,8]]}
[]
[null,null,"Instructional Notes"]
[null,null,"Module 2 SmartForm Sections",null,null,null,"Module 4 SmartForm Sections"]
[]
[null,"SmartForm Purpose",null,null,null,null,"Module 4, Section A: Individual and Family National Performance Indicators (NPIs) - Data Entry Form"]
[]
[null,"The purpose of the Module 2 SmartForm is to:",null,null,null,null,"Section A: Individual and Family NPIs Data Entry Form is comprised of indicators to report outcomes that fall under National Goal 1: Individuals and families with low incomes are stable and achieve economic security. The indicators are the vehicle by which CSBG Eligible Entities measure and report the outcomes they have achieved for individuals and families. All Individual and Family NPIs are optional, and there is a category for \"Other Outcome Indicator\". "]
[null,null,"1. Collect data required for reporting Module 2 of the CSBG Annual Report.\n2. Alert CSBG Eligible Entities of possible data quality issues during the data collection process.\n3. Provide CSBG Eligible Entities an explanation of possible data quality issues so they can determine whether the data needs to be modified.\n4. Provide State Offices a guided review of CSBG Eligible Entity reported data prior to finalizing and submitting data in OLDC."]
[]
[null,"Components of the Smart Form",null,null,null,null,"Module 4, Section B: Individual and Family Services - Data Entry Form"]
[null,null,null,null,null,null,"Section B: Individual and Family Services Data Entry Form provides information on the work CSBG Eligible Entities did to help individuals and families achieve the outcomes listed in Section A. This standardized Individual and Family Services list will aid in analysis of the relationship between people, services, and outcomes. "]
[null,"There are 5 tabs in the Module 2 SmartForm:"]
[null,null,"Module 2 Instructions - For more detailed guidance on Module 2 of the CSBG Annual Report, review the CSBG Annual Report, Module 2 Instruction Manual."]
[null,null,"Section A. Local CSBG Expen - This tab should be used by CSBG Eligible Entities to enter data on Module 2, Section A of the CSBG Annual Report"]
[null,null,"Section B. Local Agency Cap - This tab should be used by CSBG Eligible Entities to enter data on Module 2, Section B of the CSBG Annual Report"]
[null,null,"Section C Local CSBG Resources - This tab should be used by CSBG Eligible Entities to enter data on Module 2, Section C of the CSBG Annual Report"]
[null,null,"Outstanding Errors and Warnings Tab: This tab provides a summary list of data fields in Sections A, B, and C with possible data quality issues, as well as a brief description of the issues."]
[]
[null,"Error and Warning Messages - Overview",null,null,null,null,"Module 4, Section C: All Characteristics Report - Data Entry Form"]
[null,null,null,null,null,null,"Section C: The All Characteristics Report Data Entry Form collects data on all individuals and households, whether or not funded directly by CSBG. This demographic information strengthens the CSBG Annual Report by demonstrating who is being served by CSBG Eligible Entities. "]
[null,"An Error is activated when the user has entered data that is considered invalid by the SmartForm (for example, a user reports they served a negative number of participants).  A Warning is activated when data is considered valid, but should be reviewed by the user to confirm its accuracy (for example, a user reports that none of the participants served achieved an outcome).\n\nPlease note: a Warning message does not necessarily mean the data is incorrect.  Review the reason for the warning and determine whether the data is correct or requires revision.  "]
[]
[null,"Error and Warning Messages - Example"]
[]
[null,"The error message will describe the error and/or warning(s) that were activated.  An example of a message is included below:"]
[]
[]
[]
[]
[null,"Color Coded Fields"]
[]
[null,"RED: The user has activated an error message.\nYELLOW: The user has activated a warning message.                                                                                                                    \n\nThe highlighting serves as a reminder to the CSBG Eligible Entity of the possible data quality issue.  Once data is entered that resolves the error and/or warning message(s), the red and/or yellow highlighting will disappear."]
[]
[null,"Current Year and Prior Year Data"]
[]
[null,"Each tab for Sections A, B,  & C are prepopulated with prior year data. This should be used when reviewing current year data to identify discrepancies. The data comes from the FY18 Annual Report. In future years all fields will be populated. Note: the user cannot edit prior year data.\n\n"]
[]
[null,"Outstanding Errors and Warnings Tab"]
[]
[null,"The SmartForm's Outstanding Errors and Warnings tab lists the location and description of all Errors and Warnings activated.  The Outstanding Warnings tab updates every time the user saves the SmartForm.  Therefore, it is critical that users save the SmartForm prior to reviewing the Outstanding Warnings tab."]
[]
[]
[]
[]
[]
[]
[]
[]
[]
[]
[]
[]
[]
[]
[]
[]
[]
[]
[]
[]
[]
[]
[]
[]
[]
[]
[]
[]
[]
[]
[]
[]
[]
[]
[]
[]
[]
[]
[]
[null,null,null,null,null,null,null,null,null,null,null,null,null,null,null,null,null,null,null,null,null,null,null,"hideCol"]

{"sheet":"Table of Contents","index":1,"n_rows":80,"n_cols":24,"rows_kept":80,"cut":false,"hidden":false,"merged":[]}
[]
[]
[]
[]
[null,"Table of Contents"]
[]
[null,"Instructions"]
[]
[null,"Outstanding Errors and Warnings"]
[]
[null,"Section A. Local CSBG Expenditures"]
[null,"Section B. Local Agency Capacity"]
[null,"Section C. Local CSBG Resources"]
[]
[null,"Employment Indicators (Employment NPIs)"]
[null,"Education and Cognitive Development Indicators (Education NPIs)"]
[null,"Income and Asset Building Indicators (Income NPIs)"]
[null,"Housing Indicators (Housing NPIs)"]
[null,"Health and Social/Behavioral Development Indicators (Health NPIs)"]
[null,"Civic Engagement and Community Involvement Indicators (CivicEng&Comm NPIs)"]
[null,"Outcomes Across Multiple Domains (Outcomes Across Mult Domains)"]
[]
[null,"Employment Services (Services Employment)"]
[null,"Education and Cognitive Development Services (Services Education)"]
[null,"Income and Asset Building Services (Services Income)"]
[null,"Housing Services (Services Housing)"]
[null,"Health and Social/Behavioral Development (Services Health and Social)"]
[null,"Civic Engagement and Community Involvement (Services Civic Eng. & Comm Inv.)"]
[null,"Services Supporting Multiple Domains (Support Services)"]
[]
[null,"All Characteristics Report  (Characteristics)"]
[]
[null,"Year to Year Comparisons NPIs"]
[null,"Year to Year Comparisons SRVs"]
[null,"Year to Year Characteristic"]
[]
[]
[]
[]
[]
[]
[]
[]
[]
[]
[]
[]
[]
[]
[]
[]
[]
[]
[]
[]
[]
[]
[]
[]
[]
[]
[]
[]
[]
[]
[]
[]
[]
[]
[]
[]
[]
[]
[]
[]
[]
[]
[]
[]
[null,null,null,null,null,null,null,null,null,null,null,null,null,null,null,null,null,null,null,null,null,null,null,"hideCol"]

{"sheet":"Outstanding Errors and Warnings","index":2,"n_rows":604,"n_cols":24,"rows_kept":604,"cut":false,"hidden":false,"merged":[[3,1,3,7]]}
[]
[null,null,null,null,null,null,null,"Double click in any row to go to the cell that generated the error or warning."]
[]
[null,"Modules 2 and 4 Errors and Warnings"]
[null,"Tab","Datapoint Description","Module","Section","Datapoint","Message Description","Action Required",null,null,null,"Populate this SmartForm with data from a previous version of this form or the XML output file."]
[null,"Capacity","Capacity","M_2","Capacity","All B","WARNING: No data reported\n","There is no data reported for any Module 2, Section B Capacity datapoint.  If correct as initially submitted, please confirm and provide an explanation.  If not correct, please complete the applicable datapoints for the Capacity section.",null,"ERR_M2B_001",null,"You will be prompted to navigate to the import file (SmartForm or XML)"]
[null,"Expenditures","Reporting Period ","M_2","Expenditures","A.1","ERROR: Missing data","One selection must be made for A.1.  Please choose the appropriate option that corresponds with the correct reporting period.  Please contact the State CSBG Office if you have any questions about what should be selected for A.1.","A1_ErrorCell","ERR_M2A_003"]
[null,"Expenditures","Expenditures","M_2","Expenditures","All A","WARNING: No data reported\n","There is no data reported for any Module 2, Section A Expenditures datapoint.  If correct as initially submitted, please confirm and provide an explanation.  If not correct, please complete the applicable datapoints for the Expenditures section.",null,"ERR_M2A_001"]
[null,"Resources","Resources","M_2","Resources","All C","WARNING: No data reported\n","There is no data reported for any Module 2, Section C Resources datapoint.  If correct as initially submitted, please confirm and provide an explanation.  If not correct, please complete the applicable datapoints for the Resources section.",null,"ERR_M2C_001"]
[null,"Resources","CSBG Allocation","M_2","Resources","C.2.","ERROR: Missing data\n","The agency should report the amount of CSBG funds were allocated during the FY.","M2C2AmtAllocated","ERR_M2C_010"]
[null,"Characteristics","Characteristics","M_4","Characteristics","All ACRs","WARNING: No data reported\n","There is no data reported for any Module 4, Section C Characteristics datapoint.  If correct as initially submitted, please confirm and provide an explanation.  If not correct, please complete the applicable datapoints under the Characteristics section.",null,"ERR_ACR_001"]
[null,"All FNPIs","Employment","M_4","FNPIs","All FNPIs","WARNING: No data reported\n","There is no data reported for any Module 4, Section A FNPIs datapoint.  If correct as initially submitted, please confirm and provide an explanation.  If not correct, please complete the applicable datapoints for the FNPIs section.",null,"ERR_FNPI_001"]
[null,"All SRVs","Services","M_4","Services","All SRVs","WARNING: No data reported\n","There is no data reported for any datapoint for Module 4, Section B Services.  If correct as initially submitted, please confirm and provide an explanation.  If not correct, please complete the applicable datapoints for the Services section.",null,"ERR_SRV_001"]
[]
[]
[]
[]
[]
[]
[]
[]
[]
[]
[]
[]
[]
[]
[]
[]
[]
[]
[]
[]
[]
[]
[]
[]
[]
[]
[]
[]
[]
[]
[]
[]
[]
[]
[]
[]
[]
[]
[]
[]
[]
[]
[]
[]
[]
[]
[]
[]
[]
[]
[]
[]
[]
[]
[]
[]
[]
[]
[]
[]
[]
[]
[]
[]
[]
[]
[]
[]
[]
[]
[]
[]
[]
[]
[]
[]
[]
[]
[]
[]
[]
[]
[]
[]
[]
[]
[]
[]
[]
[]
[]
[]
[]
[]
[]
[]
[]
[]
[]
[]
[]
[]
[]
[]
[]
[]
[]
[]
[]
[]
[]
[]
[]
[]
[]
[]
[]
[]
[]
[]
[]
[]
[]
[]
[]
[]
[]
[]
[]
[]
[]
[]
[]
[]
[]
[]
[]
[]
[]
[]
[]
[]
[]
[]
[]
[]
[]
[]
[]
[]
[]
[]
[]
[]
[]
[]
[]
[]
[]
[]
[]
[]
[]
[]
[]
[]
[]
[]
[]
[]
[]
[]
[]
[]
[]
[]
[]
[]
[]
[]
[]
[]
[]
[]
[]
[]
[]
[]
[]
[]
[]
[]
[]
[]
[]
[]
[]
[]
[]
[]
[]
[]
[]
[]
[]
[]
[]
[]
[]
[]
[]
[]
[]
[]
[]
[]
[]
[]
[]
[]
[]
[]
[]
[]
[]
[]
[]
[]
[]
[]
[]
[]
[]
[]
[]
[]
[]
[]
[]
[]
[]
[]
[]
[]
[]
[]
[]
[]
[]
[]
[]
[]
[]
[]
[]
[]
[]
[]
[]
[]
[]
[]
[]
[]
[]
[]
[]
[]
[]
[]
[]
[]
[]
[]
[]
[]
[]
[]
[]
[]
[]
[]
[]
[]
[]
[]
[]
[]
[]
[]
[]
[]
[]
[]
[]
[]
[]
[]
[]
[]
[]
[]
[]
[]
[]
[]
[]
[]
[]
[]
[]
[]
[]
[]
[]
[]
[]
[]
[]
[]
[]
[]
[]
[]
[]
[]
[]
[]
[]
[]
[]
[]
[]
[]
[]
[]
[]
[]
[]
[]
[]
[]
[]
[]
[]
[]
[]
[]
[]
[]
[]
[]
[]
[]
[]
[]
[]
[]
[]
[]
[]
[]
[]
[]
[]
[]
[]
[]
[]
[]
[]
[]
[]
[]
[]
[]
[]
[]
[]
[]
[]
[]
[]
[]
[]
[]
[]
[]
[]
[]
[]
[]
[]
[]
[]
[]
[]
[]
[]
[]
[]
[]
[]
[]
[]
[]
[]
[]
[]
[]
[]
[]
[]
[]
[]
[]
[]
[]
[]
[]
[]
[]
[]
[]
[]
[]
[]
[]
[]
[]
[]
[]
[]
[]
[]
[]
[]
[]
[]
[]
[]
[]
[]
[]
[]
[]
[]
[]
[]
[]
[]
[]
[]
[]
[]
[]
[]
[]
[]
[]
[]
[]
[]
[]
[]
[]
[]
[]
[]
[]
[]
[]
[]
[]
[]
[]
[]
[]
[]
[]
[]
[]
[]
[]
[]
[]
[]
[]
[]
[]
[]
[]
[]
[]
[]
[]
[]
[]
[]
[]
[]
[]
[]
[]
[]
[]
[]
[]
[]
[]
[]
[]
[]
[]
[]
[]
[]
[]
[]
[]
[]
[]
[]
[]
[]
[]
[]
[]
[]
[]
[]
[]
[]
[]
[]
[]
[]
[]
[]
[]
[]
[]
[]
[]
[]
[]
[]
[]
[]
[]
[]
[]
[]
[]
[]
[]
[]
[]
[]
[]
[]
[]
[]
[]
[]
[]
[]
[]
[]
[]
[]
[]
[]
[]
[]
[]
[]
[]
[]
[]
[]
[]
[]
[]
[]
[]
[]
[]
[]
[]
[null,null,null,null,null,null,null,null,null,null,null,null,null,null,null,null,null,null,null,null,null,null,null,"hideCol"]

{"sheet":"Expenditures","index":3,"n_rows":80,"n_cols":28,"rows_kept":80,"cut":false,"hidden":false,"merged":[[1,2,1,3],[1,8,1,9],[2,2,2,3],[2,8,2,9],[3,2,3,3],[3,8,3,9],[4,8,4,9],[5,8,5,9],[7,2,7,3],[7,8,7,9],[14,2,14,3],[14,8,14,9],[35,2,35,3],[35,8,35,9],[36,2,36,3],[36,8,36,9],[37,2,39,3],[37,8,39,9],[40,2,40,3],[40,8,40,9],[41,2,41,3],[41,8,41,9],[42,2,42,3],[42,8,42,9]]}
[]
[null,{"$f":"\"FY \" & FY-2000","v":"FY 25"},"Module 2, Section A: Local Agency CSBG Expenditures - Data Entry Form",null,null,null,null,{"$f":"\"FY \" &( FY-1)-2000","v":"FY 24"},"Module 2, Section A: Local Agency CSBG Expenditures - Data Entry Form"]
[null,null,"Name of CSBG Eligible Entity (enter below): ",null,null,null,null,null,"State Name:"]
[]
[null,null,"State Name (enter below):","UEI",null,null,null,null,"Name of CSBG Eligible Entity:"]
[]
[]
[null,null,"A.1  CSBG Eligible Entity Reporting Period: ",null,null,null,null,null,"A.1  CSBG Eligible Entity Reporting Period: "]
[]
[null,null,null,{"$f":"IF('Lookups M2'!C15<>1,\"ERROR: Select One Checkbox\",\" \")","v":"ERROR: Select One Checkbox"},null,null,null,null,null,null,null,null,null,null,null,null,null,null,null,null,null,null,null,null,null,"Any_M2A_Set",null,"All_M2A_Same_As_PY"]
[null,null,"A.1a.  July 1-June 30",null,null,null,null,null,"A.1a.  July 1-June 30",null,null,null,null,null,null,null,null,null,null,null,null,null,null,null,null,{"$f":"M2A2kTotal+M2A3Admin>0","v":false},null,{"$f":"AND(AB18:AB30)","v":false}]
[null,null,"A.1b.  October 1-September 30",null,null,null,null,null,"A.1b.  October 1-September 30"]
[null,null,"A.1c.  January 1-December 31",null,null,null,null,null,"A.1c.  January 1-December 31"]
[]
[null,null,"A.2  CSBG Expenditures: \n",null,null,null,null,null,"A.2  CSBG Expenditures: \n"]
[]
[null,null,"CSBG Expenditures Domains","CSBG Funds",null,null,null,null,"CSBG Expenditures Domains","CSBG Funds"]
[null,null,"A.2a.  Employment",null,null,null,null,null,"A.2a.  Employment",null,null,null,null,null,null,null,null,null,null,null,null,null,null,null,null,null,null,{"$f":"AND(D18>0,D18=J18)","v":false}]
[null,null,"A.2b.  Education and Cognitive Development",null,null,null,null,null,"A.2b.  Education and Cognitive Development",null,null,null,null,null,null,null,null,null,null,null,null,null,null,null,null,null,null,{"$f":"AND(D19>0,D19=J19)","v":false}]
[null,null,"A.2c.  Income, Infrastructure, and Asset Building",null,null,null,null,null,"A.2c.  Income, Infrastructure, and Asset Building",null,null,null,null,null,null,null,null,null,null,null,null,null,null,null,null,null,null,false]
[null,null,"A.2d.  Housing",null,null,null,null,null,"A.2d.  Housing",null,null,null,null,null,null,null,null,null,null,null,null,null,null,null,null,null,null,false]
[null,null,"A.2e.  Health and Social/Behavioral Development (includes nutrition)",null,null,null,null,null,"A.2e.  Health and Social/Behavioral Development (includes nutrition)",null,null,null,null,null,null,null,null,null,null,null,null,null,null,null,null,null,null,false]
[null,null,"A.2f.  Civic Engagement and Community Involvement",null,null,null,null,null,"A.2f.  Civic Engagement and Community Involvement",null,null,null,null,null,null,null,null,null,null,null,null,null,null,null,null,null,null,false]
[null,null,"A.2g.  Services Supporting Multiple Domains  ",null,null,null,null,null,"A.2g.  Services Supporting Multiple Domains  ",null,null,null,null,null,null,null,null,null,null,null,null,null,null,null,null,null,null,false]
[null,null,"A.2h.  Linkages (e.g. partnerships that support multiple domains)",null,null,null,null,null,"A.2h.  Linkages (e.g. partnerships that support multiple domains)",null,null,null,null,null,null,null,null,null,null,null,null,null,null,null,null,null,null,false]
[null,null,"A.2i.  Agency Capacity Building (detailed below in Table A.4)",null,null,null,null,null,"A.2i.  Agency Capacity Building (detailed below in Table A.4)",null,null,null,null,null,null,null,null,null,null,null,null,null,null,null,null,null,null,false]
[null,null,"A.2j.  Other (e.g. emergency management/disaster relief)",null,null,null,null,null,"A.2j.  Other (e.g. emergency management/disaster relief)",null,null,null,null,null,null,null,null,null,null,null,null,null,null,null,null,null,null,false]
[null,null,"A.2k.   Total CSBG Expenditures (auto calculated)    ",{"$f":"SUM(D18:D27)","v":0},null,null,null,null,"A.2k.   Total CSBG Expenditures (auto calculated)    ",{"$f":"SUM(J18:J27)","v":0},null,null,null,null,null,null,null,null,null,null,null,null,null,null,null,null,null,false]
[]
[null,null,"A.3  Of the CSBG funds reported above, report the total amount used for Administration*.",null,null,null,null,null,"A.3  Of the CSBG funds reported above, report the total amount used for Administration*.",null,null,null,null,null,null,null,null,null,null,null,null,null,null,null,null,null,null,{"$f":"AND(D30>0,D30=J30)","v":false}]
[null,null,"*for more information on what qualifies as Administration, refer to IM37 ",null,null,null,null,null,"*for more information on what qualifies as Administration, refer to IM37 "]
[]
[]
[null,null,"A.4  Details on Agency Capacity Building Activities Funded by CSBG:",null,null,null,null,null,"A.4  Details on Agency Capacity Building Activities Funded by CSBG:"]
[]
[null,null,"A.4.1.   Please identify which activities were funded by CSBG under Agency Capacity in Table B. Please check all that apply.",null,null,null,null,null,"A.4.1.   Please identify which activities were funded by CSBG under Agency Capacity in Table B. Please check all that apply."]
[null,null,{"$f":"IF(AND(A41_Activities=0,D26<>0),\" ERROR: You must select at least 1 checkbox since you reported funds in A.2i\",\" \")","v":" "}]
[]
[]
[]
[null,null,"A.4.1.oth.  Please specify Other Activities funded by CSBG under Agency Capacity:",null,null,null,null,null,"A.4.1.oth.  Please specify Other Activities funded by CSBG under Agency Capacity:"]
[]
[null,null,{"$f":"IF(AND('Lookups M2'!C24,C42=\"\"),\"ERROR You selected 'Other' in the checkbox in item A.4.1.  You must specify A.4.1.oth., 'Other Activities funded by CSBG under Agency Capacity' (above).\",\" \")","v":" "}]
[]
[]
[]
[]
[]
[]
[]
[]
[]
[]
[]
[]
[]
[]
[]
[]
[]
[]
[]
[]
[]
[]
[]
[]
[]
[]
[]
[]
[]
[]
[]
[]
[]
[]
[]
[]
[null,null,null,null,null,null,null,null,null,null,null,null,null,null,null,null,null,null,null,null,null,null,null,null,"hideCol"]

{"sheet":"Capacity","index":4,"n_rows":80,"n_cols":28,"rows_kept":80,"cut":false,"hidden":false,"merged":[[18,2,18,3],[1,2,1,3],[1,8,1,9],[2,8,2,9],[3,8,3,9],[14,2,14,3],[37,2,37,3],[38,2,38,3],[38,8,39,9],[39,2,39,3],[55,2,55,3]]}
[]
[null,{"$f":"\"FY \" & FY-2000","v":"FY 25"}," Module 2, Section B: Local Agency Capacity Building - Data Entry Form",null,null,null,null,{"$f":"\"FY \" &( FY-1)-2000","v":"FY 24"}," Module 2, Section B: Local Agency Capacity Building - Data Entry Form"]
[null,null,{"$f":"\"Name of CSBG Eligible Entity: \" & IF(M2AgencyName<>\"\",M2AgencyName,\" \")","v":"Name of CSBG Eligible Entity:  "},"UEI",null,null,null,null,"Name of CSBG Eligible Entity",null,null,null,null,null,null,null,null,null,null,null,null,null,null,null,null,"Any_M2B_Set",null,"All_M2B_Same_As_PY"]
[null,null,{"$f":"\"State Name: \" & IF(M2StateName<>\"\",M2StateName,\" \")","v":"State Name:  "},{"$f":"IF(M2UEI<>\"\",M2UEI,\" \")","v":" "},null,null,null,null,null,null,null,null,null,null,null,null,null,null,null,null,null,null,null,null,null,{"$f":"SUM(D13:D54)>0","v":false},null,{"$f":"AND(AB13:AB54)","v":false}]
[]
[null,null,"B.1. CSBG Eligibly Entity Reporting Period: ",null,null,null,null,null,"B.1. CSBG Eligibly Entity Reporting Period: "]
[null,null,"B.1.  CSBG Eligible Entity Reporting Period","\"X\"",null,null,null,null,"B.1.  CSBG Eligible Entity Reporting Period","\"X\""]
[null,null,"B.1a. July 1-June 30",null,null,null,null,null,"July 1-June 30"]
[null,null,"B.1b. October 1-September 30",null,null,null,null,null,"October 1-September 30"]
[null,null,"B.1c. January 1-December 31",null,null,null,null,null,"January 1-December 31"]
[]
[null,null,"B.2 Hours of Agency Capacity Building (e.g. training, planning, assessment):","Hours",null,null,null,null,"B.2 Hours of Agency Capacity Building (e.g. training, planning, assessment):","Hours"]
[null,null,"    B.2a. Hours of Board Members in capacity building activities",null,null,null,null,null,"     a. Hours of Board Members in Trainings",null,null,null,null,null,null,null,null,null,null,null,null,null,null,null,null,null,null,{"$f":"AND(D13>0,D13=J13)","v":false}]
[null,null,"    B.2b. Hours of Agency Staff in capacity building activities",null,null,null,null,null,"     b. Hours of Agency Staff in Trainings",null,null,null,null,null,null,null,null,null,null,null,null,null,null,null,null,null,null,{"$f":"AND(D14>0,D14=J14)","v":false}]
[]
[null,null,"B.3. Volunteer Hours of Agency Capacity Building (e.g. program support, service delivery, fundraising):"," Hours",null,null,null,null,"B.3. Volunteer Hours of Agency Capacity Building (e.g. program support, service delivery, fundraising):","Hours"]
[null,null,"B.3a. Total number of volunteer hours donated to the agency",null,null,null,null,null,"B.3a. Number of Voluntee hours donated to the agency",null,null,null,null,null,null,null,null,null,null,null,null,null,null,null,null,null,null,{"$f":"AND(D17>0,D17=J17)","v":false}]
[null,null,"B.3a.1. Of the above, the total number of volunteer hours donated by individuals with low-incomes",null,null,null,null,null,"B.3a.1. Total number of volunteer hours donated by low-income individuals to community action",null,null,null,null,null,null,null,null,null,null,null,null,null,null,null,null,null,null,{"$f":"AND(D18>0,D18=J18)","v":false}]
[]
[null,null,"B.4. The number of staff who hold certifications that increase agency capacity to achieve family and community outcomes, as measured by one or more of the following: ","Number",null,null,null,null,"B.4. The number of staff who hold certifications that increase agency capacity to achieve family and community outcomes, as measured by one or more of the following: ","Number"]
[null,null,"B.4a. Number of Nationally Certified ROMA Trainers",null,null,null,null,null,"B.4a. Number of Nationally Certified ROMA Trainers",null,null,null,null,null,null,null,null,null,null,null,null,null,null,null,null,null,null,{"$f":"AND(C21>0,C21=I21)","v":true}]
[null,null,"B.4b. Number of Nationally Certified ROMA Implementers",null,null,null,null,null,"B.4b. Number of Nationally Certified ROMA Implementers",null,null,null,null,null,null,null,null,null,null,null,null,null,null,null,null,null,null,true]
[null,null,"B.4c. Number of Certified Community Action Professionals (CCAP)",null,null,null,null,null,"B.4c. Number of Certified Community Action Professionals (CCAP)",null,null,null,null,null,null,null,null,null,null,null,null,null,null,null,null,null,null,true]
[null,null,"B.4d. Number of Staff with a child development certification",null,null,null,null,null,"B.4d. Number of Staff with a child development certification",null,null,null,null,null,null,null,null,null,null,null,null,null,null,null,null,null,null,true]
[null,null,"B.4e. Number of Staff with a family development certification",null,null,null,null,null,"B.4e. Number of Staff with a family development certification",null,null,null,null,null,null,null,null,null,null,null,null,null,null,null,null,null,null,true]
[null,null,"B.4f. Number of Pathways Reviewers ",null,null,null,null,null,"B.4f. Number of Pathways Reviewers ",null,null,null,null,null,null,null,null,null,null,null,null,null,null,null,null,null,null,true]
[null,null,"B.4g. Number of Staff with Home Energy Professional Certifications",null,null,null,null,null,"B.4g. Number of Staff with Home Energy Professional Certifications",null,null,null,null,null,null,null,null,null,null,null,null,null,null,null,null,null,null,true]
[null,null,"     B.4g.1. Number of Energy Auditors",null,null,null,null,null,"     B.4g.1. Number of Energy Auditors",null,null,null,null,null,null,null,null,null,null,null,null,null,null,null,null,null,null,true]
[null,null,"     B.4g.2. Number of Retrofit Installer Technicians",null,null,null,null,null,"     B.4g.2. Number of Retrofit Installer Technicians",null,null,null,null,null,null,null,null,null,null,null,null,null,null,null,null,null,null,true]
[null,null,"     B.4g.3. Number of Crew Leaders",null,null,null,null,null,"     B.4g.3. Number of Crew Leaders",null,null,null,null,null,null,null,null,null,null,null,null,null,null,null,null,null,null,true]
[null,null,"     B.4g.4. Number of Quality Control Inspectors (QCI)",null,null,null,null,null,"     B.4g.4. Number of Quality Control Inspectors (QCI)",null,null,null,null,null,null,null,null,null,null,null,null,null,null,null,null,null,null,true]
[null,null," B.4h. Number of LEED Risk Certified assessors",null,null,null,null,null," B.4h. Number of LEED Risk Certified assessors",null,null,null,null,null,null,null,null,null,null,null,null,null,null,null,null,null,null,true]
[null,null," B.4i. Number of Building Performance Institute (BPI) certified professionals",null,null,null,null,null," B.4i. Number of Building Performance Institute (BPI) certified professionals",null,null,null,null,null,null,null,null,null,null,null,null,null,null,null,null,null,null,true]
[null,null,"B.4j. Number of Classroom Assessment Scoring System (CLASS) certified professionals",null,null,null,null,null,"B.4j. Number of Classroom Assessment Scoring System (CLASS) certified professionals",null,null,null,null,null,null,null,null,null,null,null,null,null,null,null,null,null,null,true]
[null,null,"B.4k. Number of Certified Housing Quality Standards (HQS) Inspectors",null,null,null,null,null,"B.4k. Number of Certified Housing Quality Standards (HQS) Inspectors",null,null,null,null,null,null,null,null,null,null,null,null,null,null,null,null,null,null,true]
[null,null,"B.4l. Number of American Institute of Certified Planners (AICP)   ",null,null,null,null,null,"B.4l. Number of American Institute of Certified Planners (AICP)   ",null,null,null,null,null,null,null,null,null,null,null,null,null,null,null,null,null,null,true]
[null,null,"B.4m. Other (Please specify others below):",null,null,null,null,null,"B.4m. Other (Please specify others below):",null,null,null,null,null,null,null,null,null,null,null,null,null,null,null,null,null,null,true]
[]
[]
[null,null,{"$f":"IF(AND(D37<>0,C39=\"\"),\"ERROR: You must specify the Other certifications held by staff members \",\" \")","v":" "}]
[null,null,"                          ",null,null,null,null,null,"                          "]
[null,null,"B.5. Number of organizations, both public and private, that the CSBG Eligible Entity actively works with to expand resources and opportunities in order to achieve family and community outcomes:","Unduplicated Number of Organizations",null,null,null,null,"B.5. Number of organizations, both public and private, that the CSBG Eligible Entity actively works with to expand resources and opportunities in order to achieve family and community outcomes:","Unduplicated Number of Organizations"]
[null,null,"B.5a. Non-Profit",null,null,null,null,null,"B.5a. Non-Profit",null,null,null,null,null,null,null,null,null,null,null,null,null,null,null,null,null,null,{"$f":"AND(C43>0,C43=I43)","v":true}]
[null,null,"B.5b. Faith Based",null,null,null,null,null,"B.5b. Faith Based",null,null,null,null,null,null,null,null,null,null,null,null,null,null,null,null,null,null,true]
[null,null,"B.5c. Local Government",null,null,null,null,null,"B.5c. Local Government",null,null,null,null,null,null,null,null,null,null,null,null,null,null,null,null,null,null,true]
[null,null,"B.5d. State Government",null,null,null,null,null,"B.5d. State Government",null,null,null,null,null,null,null,null,null,null,null,null,null,null,null,null,null,null,true]
[null,null,"B.5e. Federal Government",null,null,null,null,null,"B.5e. Federal Government",null,null,null,null,null,null,null,null,null,null,null,null,null,null,null,null,null,null,true]
[null,null,"B.5f. For-Profit Business or Corporation",null,null,null,null,null,"B.5f. For-Profit Business or Corporation",null,null,null,null,null,null,null,null,null,null,null,null,null,null,null,null,null,null,true]
[null,null,"B.5g. Consortiums/Collaborations",null,null,null,null,null,"B.5g. Consortiums/Collaborations",null,null,null,null,null,null,null,null,null,null,null,null,null,null,null,null,null,null,true]
[null,null,"B.5h. School Districts",null,null,null,null,null,"B.5h. School Districts",null,null,null,null,null,null,null,null,null,null,null,null,null,null,null,null,null,null,true]
[null,null,"B.5i. Institutions of Post-Secondary Education/Training",null,null,null,null,null,"B.5i. Institutions of Post-Secondary Education/Training",null,null,null,null,null,null,null,null,null,null,null,null,null,null,null,null,null,null,true]
[null,null,"B.5j. Financial/Banking Institutions",null,null,null,null,null,"B.5j. Financial/Banking Institutions",null,null,null,null,null,null,null,null,null,null,null,null,null,null,null,null,null,null,true]
[null,null,"B.5k. Health Service Organizations",null,null,null,null,null,"B.5k. Health Service Organizations",null,null,null,null,null,null,null,null,null,null,null,null,null,null,null,null,null,null,true]
[null,null,"B.5l. Statewide Associations or Collaborations",null,null,null,null,null,"B.5l. Statewide Associations or Collaborations",null,null,null,null,null,null,null,null,null,null,null,null,null,null,null,null,null,null,true]
[]
[]
[]
[]
[]
[]
[]
[]
[]
[]
[]
[]
[]
[]
[]
[]
[]
[]
[]
[]
[]
[]
[]
[]
[]
[null,null,null,null,null,null,null,null,null,null,null,null,null,null,null,null,null,null,null,null,null,null,null,null,"hideCol"]

{"sheet":"Resources","index":5,"n_rows":161,"n_cols":41,"rows_kept":161,"cut":false,"hidden":false,"merged":[[5,2,5,5],[5,6,5,8],[5,15,5,23],[2,2,2,10],[2,15,2,23],[4,2,4,5],[4,6,4,11],[4,15,4,24],[99,5,99,7],[99,18,99,20],[7,2,7,7],[7,8,7,10],[7,15,7,20],[16,2,16,10],[16,15,16,23],[82,2,82,10],[83,2,83,10],[83,15,83,23],[7,21,7,23],[8,8,8,11],[8,21,10,24],[9,8,9,11],[10,8,10,11],[108,5,108,7],[100,5,100,7],[100,18,100,20],[101,5,101,7],[101,18,101,20],[102,5,102,7],[102,18,102,20],[103,5,103,7],[104,5,104,7],[105,5,105,7],[106,5,106,7],[107,5,107,7],[141,2,141,10],[112,3,113,8],[112,16,113,21],[115,2,115,10],[115,15,115,23],[124,3,125,8],[124,16,125,21],[126,2,126,11],[127,2,127,10],[127,15,127,23],[139,3,140,8],[139,16,140,21]]}
[]
[]
[null,{"$f":"\"FY \" & FY-2000","v":"FY 25"},"Module 2, Section C: Allocated Resources per CSBG Eligible Entity - Data Entry Form",null,null,null,null,null,null,null,null,null,null,null,{"$f":"\"FY \" &( FY-1)-2000","v":"FY 24"},"Module 2, Section C: Allocated Resources per CSBG Eligible Entity - Data Entry Form"]
[null,null,null,null,null,null,null,null,null,null,null,null,null,null,null,null,null,null,null,null,null,null,null,null,null,null,null,null,null,null,null,null,null,null,null,null,null,null,"Any_M2C_Set",null,"All_M2C_Same_As_PY"]
[null,null,"Name of CSBG Eligble Entity:",null,null,null,{"$f":"IF(M2AgencyName<>\"\",M2AgencyName,\" \")","v":" "},null,null,null,null,null,null,null,null,"Name of CSBG Eligible Entity:",null,null,null,null,null,null,null,null,null,null,null,null,null,null,null,null,null,null,null,null,null,null,{"$f":"SUM(K14:K145)>0","v":false},null,{"$f":"AND(AO14:AO145)","v":false}]
[null,null,"State Name:",null,null,null,{"$f":"IF(M2StateName<>\"\",M2StateName,\" \")","v":" "},null,null,"UEI:",{"$f":"IF(M2UEI<>\"\",M2UEI,\" \")","v":" "}]
[]
[null,null,"C.1. CSBG Eligible Entity Reporting Period",null,null,null,null,null,"\"X\"",null,null,null,null,null,null,"C.1. CSBG Eligible Entity Reporting Period",null,null,null,null,null,"\"X\""]
[null,null,"C.1a. July 1 - June 30",null,null,null,null,null,null,null,null,null,null,null,null,"C.1a. July 1 - June 30"]
[null,null,"C.1b. October 1 - September 30",null,null,null,null,null,null,null,null,null,null,null,null,"C.1b. October 1 - September 30"]
[null,null,"C.1c. January 1 - December 31",null,null,null,null,null,null,null,null,null,null,null,null,"C.1c. January 1 - December 31"]
[]
[]
[null,null,{"$f":"\"C.2. Amount of FY \" & FY & \" CSBG allocated to reporting entity:\"","v":"C.2. Amount of FY 2025 CSBG allocated to reporting entity:"},null,null,null,null,null,null,"C.2",null,null,null,null,null,{"$f":"\"C.2. Amount of FY \" & (FY-1) & \" CSBG allocated to reporting entity:\"","v":"C.2. Amount of FY 2024 CSBG allocated to reporting entity:"},null,null,null,null,null,null,"C.2",null,null,null,null,null,null,null,null,null,null,null,null,null,null,null,null,null,{"$f":"AND(K14>0,K14=X14)","v":false}]
[]
[]
[null,null,"C.3. Federal Resources Allocated (Other than CSBG)",null,null,null,null,null,null,null,null,null,null,null,null,"C.3. Federal Resources Allocated (Other than CSBG)"]
[]
[null,null,"C.3a. Weatherization (DOE) (include oil overcharge $$)",null,null,null,null,null,null,"C.3a.",null,null,null,null,null,"C.3a. Weatherization (DOE) (include oil overcharge $$)",null,null,null,null,null,null,"C.3a.",null,null,null,null,null,null,null,null,null,null,null,null,null,null,null,null,null,{"$f":"AND(K19>0,K19=X19)","v":false}]
[null,null,"C.3b. Health and Human Services (HHS)",null,null,null,null,null,null,null,null,null,null,null,null,"C.3b. Health and Human Services (HHS)"]
[null,null,null,"C.3b.1.",null,"LIHEAP - Fuel Assistance  (include oil overcharge $$)",null,null,null,"C.3b.1.",null,null,null,null,null,null,"C.3b.1.",null,"LIHEAP - Fuel Assistance  (include oil overcharge $$)",null,null,null,"C.3b.1.",null,null,null,null,null,null,null,null,null,null,null,null,null,null,null,null,null,{"$f":"AND(K21>0,K21=X21)","v":false}]
[null,null,null,"C.3b.2.",null,"LIHEAP - Weatherization  (include oil overcharge $$)",null,null,null,"C.3b.2.",null,null,null,null,null,null,"C.3b.2.",null,"LIHEAP - Weatherization  (include oil overcharge $$)",null,null,null,"C.3b.2.",null,null,null,null,null,null,null,null,null,null,null,null,null,null,null,null,null,false]
[null,null,null,"C.3b.3.",null,"Head Start",null,null,null,"C.3b.3.",null,null,null,null,null,null,"C.3b.3.",null,"Head Start",null,null,null,"C.3b.3.",null,null,null,null,null,null,null,null,null,null,null,null,null,null,null,null,null,false]
[null,null,null,"C.3b.4.",null,"Early Head Start",null,null,null,"C.3b.4.",null,null,null,null,null,null,"C.3b.4.",null,"Early Head Start",null,null,null,"C.3b.4.",null,null,null,null,null,null,null,null,null,null,null,null,null,null,null,null,null,false]
[null,null,null,"C.3b.5.",null,"Older Americans Act ",null,null,null,"C.3b.5.",null,null,null,null,null,null,"C.3b.5.",null,"Older Americans Act ",null,null,null,"C.3b.5.",null,null,null,null,null,null,null,null,null,null,null,null,null,null,null,null,null,false]
[null,null,null,"C.3b.6.",null,"Social Services Block Grant (SSBG)",null,null,null,"C.3b.6.",null,null,null,null,null,null,"C.3b.6.",null,"Social Services Block Grant (SSBG)",null,null,null,"C.3b.6.",null,null,null,null,null,null,null,null,null,null,null,null,null,null,null,null,null,false]
[null,null,null,"C.3b.7.",null,"Medicare/Medicaid ",null,null,null,"C.3b.7.",null,null,null,null,null,null,"C.3b.7.",null,"Medicare/Medicaid ",null,null,null,"C.3b.7.",null,null,null,null,null,null,null,null,null,null,null,null,null,null,null,null,null,false]
[null,null,null,"C.3b.8.",null,"Assets for Independence (AFI)",null,null,null,"C.3b.8.",null,null,null,null,null,null,"C.3b.8.",null,"Assets for Independence (AFI)",null,null,null,"C.3b.8.",null,null,null,null,null,null,null,null,null,null,null,null,null,null,null,null,null,false]
[null,null,null,"C.3b.9.",null,"Temporary Assistance for Needy Families (TANF)",null,null,null,"C.3b.9.",null,null,null,null,null,null,"C.3b.9.",null,"Temporary Assistance for Needy Families (TANF)",null,null,null,"C.3b.9.",null,null,null,null,null,null,null,null,null,null,null,null,null,null,null,null,null,false]
[null,null,null,"C.3b.10.",null,"Child Care Development Block Grant (CCDBG)",null,null,null,"C.3b.10.",null,null,null,null,null,null,"C.3b.10.",null,"Child Care Development Block Grant (CCDBG)",null,null,null,"C.3b.10.",null,null,null,null,null,null,null,null,null,null,null,null,null,null,null,null,null,false]
[null,null,null,"C.3b.11.",null,"Community Economic Development (CED)",null,null,null,"C.3b.11.",null,null,null,null,null,null,"C.3b.11.",null,"Community Economic Development (CED)",null,null,null,"C.3b.11.",null,null,null,null,null,null,null,null,null,null,null,null,null,null,null,null,null,false]
[null,null,null,"C.3b.12.",null,"Other HHS Resource Description",{"$f":"IF(AND(OR(AND(F33<>\"\",I33<>\"\",K33<>\"\"),AND(F33=\"\",I33=\"\",K33=\"\"), AND(F33=\"\",I33=\"\",K33=0)), OR(AND(F34<>\"\",I34<>\"\",K34<>\"\"),AND(F34=\"\",I34=\"\",K34=\"\"), AND(F34=\"\",I34=\"\",K34=0) ), OR(AND(F35<>\"\",I35<>\"\",K35<>\"\"),AND(F35=\"\",I35=\"\",K35=\"\"), AND(F35=\"\",I35=\"\",K35=0)), OR(AND(F36<>\"\",I36<>\"\",K36<>\"\"),AND(F36=\"\",I36=\"\",K36=\"\"), AND(F36=\"\",I36=\"\",K36=0))),\"\",\"ENTER DESCRIPTION, CFDA#, & DOLLAR AMOUNT BELOW\")","v":""},null,null,null,null,null,null,null,null,null,"C.3b.12.",null,"Other HHS Resources"]
[null,null,null,null,"C.3b.12.i.",null,null,"CFDA #:",null,"C.3b.12.i.",null,null,null,null,null,null,null,"C.3b.12.i.",null,null,"CFDA #:",null,"C.3b.12.i.",null,null,null,null,null,null,null,null,null,null,null,null,null,null,null,null,null,{"$f":"AND(K33>0,K33=X33)","v":false}]
[null,null,null,null,"C.3b.12.ii.",null,null,"CFDA #:",null,"C.3b.12.ii.",null,null,null,null,null,null,null,"C.3b.12.ii.",null,null,"CFDA #:",null,"C.3b.12.ii.",null,null,null,null,null,null,null,null,null,null,null,null,null,null,null,null,null,false]
[null,null,null,null,"C.3b.12.iii.",null,null,"CFDA #:",null,"C.3b.12.iii.",null,null,null,null,null,null,null,"C.3b.12.iii.",null,null,"CFDA #:",null,"C.3b.12.iii.",null,null,null,null,null,null,null,null,null,null,null,null,null,null,null,null,null,false]
[null,null,null,null,"C.3b.12.iv.",null,null,"CFDA #:",null,"C.3b.12.iv.",null,null,null,null,null,null,null,"C.3b.12.iv.",null,null,"CFDA #:",null,"C.3b.12.iv.",null,null,null,null,null,null,null,null,null,null,null,null,null,null,null,null,null,false]
[null,null,null,null,"C.3b.12.v.",null,null,"CFDA #:",null,"C.3b.12.v."]
[null,null,null,null,"C.3b.12.vi.",null,null,"CFDA #:",null,"C.3b.12.vi."]
[null,null,null,null,"C.3b.12.vii.",null,null,"CFDA #:",null,"C.3b.12.vii."]
[null,null,null,null,"C.3b.12.viii.",null,null,"CFDA #:",null,"C.3b.12.viii."]
[null,null,null,null,"C.3b.12.ix.",null,null,"CFDA #:",null,"C.3b.12.ix."]
[null,null,null,null,"C.3b.12.x.",null,null,"CFDA #:",null,"C.3b.12.x."]
[]
[null,null,null,null,"C.3b.13. Total Other HHS Resources (autocalculated)",null,null,null,null,"C.3b.13.",{"$f":"SUM(K33:K42)","v":0},null,null,null,null,null,null,"C.3b.13. Total Other HHS Resources (autocalculated)",null,null,null,null,"C.3b.13.",{"$f":"SUM(X33:X36)","v":0}]
[null,null,"C.3c. Department of Agriculture (USDA)",null,null,null,null,null,null,null,null,null,null,null,null,"C.3c. Department of Agriculture (USDA)"]
[null,null,null,"C.3c.1.",null,"Special Supplemental Nutrition for Women, Infants, and Children (WIC)",null,null,null,"C.3c.1.",null,null,null,null,null,null,"C.3c.1.",null,"Special Supplemental Nutrition for Women, Infants, and Children (WIC)",null,null,null,"C.3c.1.",null,null,null,null,null,null,null,null,null,null,null,null,null,null,null,null,null,{"$f":"AND(K46>0,K46=X46)","v":false}]
[null,null,null,"C.3c.2.",null,"All USDA Non-Food programs (e.g. rural development)",null,null,null,"C.3c.2.",null,null,null,null,null,null,"C.3c.2.",null,"All USDA Non-Food programs (e.g. rural development)",null,null,null,"C.3c.2.",null,null,null,null,null,null,null,null,null,null,null,null,null,null,null,null,null,false]
[null,null,null,"C.3c.3.",null,"All other USDA Food programs",null,null,null,"C.3c.3.",null,null,null,null,null,null,"C.3c.3.",null,"All other USDA Food programs",null,null,null,"C.3c.3.",null,null,null,null,null,null,null,null,null,null,null,null,null,null,null,null,null,false]
[null,null,"C.3d. Department of Housing and Urban Development (HUD)",null,null,null,null,null,null,null,null,null,null,null,null,"C.3d. Department of Housing and Urban Development (HUD)"]
[null,null,null,"C.3d.1.",null,"Community Development Block Grant (CDBG) - Federal, State, and Local",null,null,null,"C.3d.1.",null,null,null,null,null,null,"C.3d.1.",null,"Community Development Block Grant (CDBG) - Federal, State, and Local",null,null,null,"C.3d.1.",null,null,null,null,null,null,null,null,null,null,null,null,null,null,null,null,null,{"$f":"AND(K50>0,K50=X50)","v":false}]
[null,null,null,"C.3d.2.",null,"Section 8",null,null,null,"C.3d.2.",null,null,null,null,null,null,"C.3d.2.",null,"Section 8",null,null,null,"C.3d.2.",null,null,null,null,null,null,null,null,null,null,null,null,null,null,null,null,null,false]
[null,null,null,"C.3d.3.",null,"Section 202",null,null,null,"C.3d.3.",null,null,null,null,null,null,"C.3d.3.",null,"Section 202",null,null,null,"C.3d.3.",null,null,null,null,null,null,null,null,null,null,null,null,null,null,null,null,null,false]
[null,null,null,"C.3d.4.",null,"Home Tenant-Based Rental Assistance (HOME TBRA)",null,null,null,"C.3d.4.",null,null,null,null,null,null,"C.3d.4.",null,"Home Tenant-Based Rental Assistance (HOME TBRA)",null,null,null,"C.3d.4.",null,null,null,null,null,null,null,null,null,null,null,null,null,null,null,null,null,false]
[null,null,null,"C.3d.5.",null,"HOPE for Homeowners Program (H4H)",null,null,null,"C.3d.5.",null,null,null,null,null,null,"C.3d.5.",null,"HOPE for Homeowners Program (H4H)",null,null,null,"C.3d.5.",null,null,null,null,null,null,null,null,null,null,null,null,null,null,null,null,null,false]
[null,null,null,"C.3d.6.",null,"Emergency Solutions Grant (ESG)",null,null,null,"C.3d.6.",null,null,null,null,null,null,"C.3d.6.",null,"Emergency Solutions Grant (ESG)",null,null,null,"C.3d.6.",null,null,null,null,null,null,null,null,null,null,null,null,null,null,null,null,null,false]
[null,null,null,"C.3d.7.",null,"Continuum of Care (CoC)",null,null,null,"C.3d.7.",null,null,null,null,null,null,"C.3d.7.",null,"Continuum of Care (CoC)",null,null,null,"C.3d.7.",null,null,null,null,null,null,null,null,null,null,null,null,null,null,null,null,null,false]
[null,null,null,"C.3d.8.",null,"All other HUD programs, including homeless programs",null,null,null,"C.3d.8.",null,null,null,null,null,null,"C.3d.8.",null,"All other HUD programs, including homeless programs",null,null,null,"C.3d.8.",null,null,null,null,null,null,null,null,null,null,null,null,null,null,null,null,null,false]
[null,null,"C.3e. Department of Labor (DOL)",null,null,null,null,null,null,null,null,null,null,null,null,"C.3e. Department of Labor (DOL)"]
[null,null,null,"C.3e.1.",null,"Workforce Innovation and Opportunity Act (WIOA) *previously WIA",null,null,null,"C.3e.1.",null,null,null,null,null,null,"C.3e.1.",null,"Workforce Innovation and Opportunity Act (WIOA) *previously WIA",null,null,null,"C.3e.1.",null,null,null,null,null,null,null,null,null,null,null,null,null,null,null,null,null,{"$f":"AND(K59>0,K59=X59)","v":false}]
[null,null,null,"C.3e.2.",null,"Other DOL Employment and Training programs ",null,null,null,"C.3e.2.",null,null,null,null,null,null,"C.3e.2.",null,"Other DOL Employment and Training programs ",null,null,null,"C.3e.2.",null,null,null,null,null,null,null,null,null,null,null,null,null,null,null,null,null,false]
[null,null,null,"C.3e.3.",null,"All other DOL programs",null,null,null,"C.3e.3.",null,null,null,null,null,null,"C.3e.3.",null,"All other DOL programs",null,null,null,"C.3e.3.",null,null,null,null,null,null,null,null,null,null,null,null,null,null,null,null,null,false]
[null,null,"C.3f. Corporation for National and Community Service (CNCS) programs",null,null,null,null,null,null,"C.3f.",null,null,null,null,null,"C.3f. Corporation for National and Community Service (CNCS) programs",null,null,null,null,null,null,"C.3f.",null,null,null,null,null,null,null,null,null,null,null,null,null,null,null,null,null,false]
[null,null,"C.3g. Federal Emergency Management Agency (FEMA)",null,null,null,null,null,null,"C.3g.",null,null,null,null,null,"C.3g. Federal Emergency Management Agency (FEMA)",null,null,null,null,null,null,"C.3g.",null,null,null,null,null,null,null,null,null,null,null,null,null,null,null,null,null,false]
[null,null,"C.3h. Department of Transportation",null,null,null,null,null,null,"C.3h.",null,null,null,null,null,"C.3h. Department of Transportation",null,null,null,null,null,null,"C.3h.",null,null,null,null,null,null,null,null,null,null,null,null,null,null,null,null,null,false]
[null,null,"C.3i. Department of Education",null,null,null,null,null,null,"C.3i.",null,null,null,null,null,"C.3i. Department of Education",null,null,null,null,null,null,"C.3i.",null,null,null,null,null,null,null,null,null,null,null,null,null,null,null,null,null,false]
[null,null,"C.3j. Department of Justice",null,null,null,null,null,null,"C.3j.",null,null,null,null,null,"C.3j. Department of Justice",null,null,null,null,null,null,"C.3j.",null,null,null,null,null,null,null,null,null,null,null,null,null,null,null,null,null,false]
[null,null,"C.3k. Department of Treasury ",null,null,null,null,null,null,"C.3k.",null,null,null,null,null,"C.3k. Department of Treasury ",null,null,null,null,null,null,"C.3k.",null,null,null,null,null,null,null,null,null,null,null,null,null,null,null,null,null,false]
[null,null,"C.3l. Other Federal Resources",null,null,null,{"$f":"IF(AND(OR(AND(F69<>\"\",I69<>\"\",K69<>\"\"),AND(F69=\"\",I69=\"\",K69=\"\"), AND(F69=\"\",I69=\"\",K69=0)), OR(AND(F70<>\"\",I70<>\"\",K70<>\"\"),AND(F70=\"\",I70=\"\",K70=\"\"), AND(F70=\"\",I70=\"\",K70=0) ), OR(AND(F71<>\"\",I71<>\"\",K71<>\"\"),AND(F71=\"\",I71=\"\",K71=\"\"), AND(F71=\"\",I71=\"\",K71=0)), OR(AND(F72<>\"\",I72<>\"\",K72<>\"\"),AND(F72=\"\",I72=\"\",K72=\"\"), AND(F72=\"\",I72=\"\",K72=0))),\"\",\"ENTER DESCRIPTION, CFDA#, & DOLLAR AMOUNT BELOW\")","v":""},null,null,null,null,null,null,null,null,"C.3l. Other Federal Resources"]
[null,null,null,null,"C.3l.i.",null,null,"CFDA #:",null,"C.3l.i.",null,null,null,null,null,null,null,"C.3l.i.",null,null,"CFDA #:",null,"C.3l.i.",null,null,null,null,null,null,null,null,null,null,null,null,null,null,null,null,null,{"$f":"AND(K69>0,K69=X69)","v":false}]
[null,null,null,null,"C.3l.ii.",null,null,"CFDA #:",null,"C.3l.ii.",null,null,null,null,null,null,null,"C.3l.ii.",null,null,"CFDA #:",null,"C.3l.ii.",null,null,null,null,null,null,null,null,null,null,null,null,null,null,null,null,null,false]
[null,null,null,null,"C.3l.iii.",null,null,"CFDA #:",null,"C.3l.iii.",null,null,null,null,null,null,null,"C.3l.iii.",null,null,"CFDA #:",null,"C.3l.iii.",null,null,null,null,null,null,null,null,null,null,null,null,null,null,null,null,null,false]
[null,null,null,null,"C.3l.iv.",null,null,"CFDA #:",null,"C.3l.iv.",null,null,null,null,null,null,null,"C.3l.iv.",null,null,"CFDA #:",null,"C.3l.iv.",null,null,null,null,null,null,null,null,null,null,null,null,null,null,null,null,null,false]
[null,null,null,null,"C.3l.v.",null,null,"CFDA #:",null,"C.3l.v."]
[null,null,null,null,"C.3l.vi.",null,null,"CFDA #:",null,"C.3l.vi."]
[null,null,null,null,"C.3l.vii.",null,null,"CFDA #:",null,"C.3l.vii."]
[null,null,null,null,"C.3l.viii.",null,null,"CFDA #:",null,"C.3l.viii."]
[null,null,null,null,"C.3l.ix.",null,null,"CFDA #:",null,"C.3l.ix."]
[null,null,null,null,"C.3l.x.",null,null,"CFDA #:",null,"C.3l.x."]
[]
[null,null,"C.3m. Total Other Federal Resources (autocalculated)",null,null,null,null,null,null,"C.3m.",{"$f":"SUM(K69:K78)","v":0},null,null,null,null,"C.3m. Total Other Federal Resources (autocalculated)",null,null,null,null,null,null,"C.3m.",{"$f":"SUM(X69:X72)","v":0}]
[null,null,"C.3n. Total: Non-CSBG Federal Resources Allocated (autocalculated)",null,null,null,null,null,null,"C.3n.",{"$f":"SUM(K19,K21:K31,K44,K46:K48,K50:K57,K59:K67,K80)","v":0},null,null,null,null,"C.3n. Total: Non-CSBG Federal Resources Allocated (autocalculated)",null,null,null,null,null,null,"C.3.n.",{"$f":"SUM(X19,X21:X30,X44,X46:X48,X50:X57,X59:X67,X80)","v":0}]
[]
[]
[null,null,"C.4.  State Resources Allocated",null,null,null,null,null,null,null,null,null,null,null,null,"C.4.  State Resources Allocated"]
[]
[null,null,null,"C.4a.",null,"State appropriated funds used for  same purpose as Federal CSBG funds",null,null,null,"C.4a.",null,null,null,null,null,null,"C.4a.",null,"State appropriated funds used for same purpose as Federal CSBG funds",null,null,null,"C.4a.",null,null,null,null,null,null,null,null,null,null,null,null,null,null,null,null,null,{"$f":"AND(K86>0,K86=X86)","v":false}]
[null,null,null,"C.4b.",null,"State Housing and Homeless programs (include housing tax credits)",null,null,null,"C.4b.",null,null,null,null,null,null,"C.4b.",null,"State Housing and Homeless programs (include housing tax credits)",null,null,null,"C.4b.",null,null,null,null,null,null,null,null,null,null,null,null,null,null,null,null,null,false]
[null,null,null,"C.4c.",null,"State Nutrition programs",null,null,null,"C.4c.",null,null,null,null,null,null,"C.4c.",null,"State Nutrition programs",null,null,null,"C.4c.",null,null,null,null,null,null,null,null,null,null,null,null,null,null,null,null,null,false]
[null,null,null,"C.4d.",null,"State Early Childhood Programs (e.g. Head Start, Day Care)",null,null,null,"C.4d.",null,null,null,null,null,null,"C.4d.",null,"State Early Childhood Programs (e.g. Head Start, Day Care)",null,null,null,"C.4d.",null,null,null,null,null,null,null,null,null,null,null,null,null,null,null,null,null,false]
[null,null,null,"C.4e.",null,"State Energy programs",null,null,null,"C.4e.",null,null,null,null,null,null,"C.4e.",null,"State Energy programs",null,null,null,"C.4e.",null,null,null,null,null,null,null,null,null,null,null,null,null,null,null,null,null,false]
[null,null,null,"C.4f.",null,"State Health programs",null,null,null,"C.4f.",null,null,null,null,null,null,"C.4f.",null,"State Health programs",null,null,null,"C.4f.",null,null,null,null,null,null,null,null,null,null,null,null,null,null,null,null,null,false]
[null,null,null,"C.4g.",null,"State Youth Development programs",null,null,null,"C.4g.",null,null,null,null,null,null,"C.4g.",null,"State Youth Development programs",null,null,null,"C.4g.",null,null,null,null,null,null,null,null,null,null,null,null,null,null,null,null,null,false]
[null,null,null,"C.4h.",null,"State Employment and Training programs",null,null,null,"C.4h.",null,null,null,null,null,null,"C.4h.",null,"State Employment and Training programs",null,null,null,"C.4h.",null,null,null,null,null,null,null,null,null,null,null,null,null,null,null,null,null,false]
[null,null,null,"C.4i.",null,"State Senior programs",null,null,null,"C.4i.",null,null,null,null,null,null,"C.4i.",null,"State Senior programs",null,null,null,"C.4i.",null,null,null,null,null,null,null,null,null,null,null,null,null,null,null,null,null,false]
[null,null,null,"C.4j.",null,"State Transportation programs",null,null,null,"C.4j.",null,null,null,null,null,null,"C.4j.",null,"State Transportation programs",null,null,null,"C.4j.",null,null,null,null,null,null,null,null,null,null,null,null,null,null,null,null,null,false]
[null,null,null,"C.4k.",null,"State Education programs",null,null,null,"C.4k.",null,null,null,null,null,null,"C.4k.",null,"State Education programs",null,null,null,"C.4k.",null,null,null,null,null,null,null,null,null,null,null,null,null,null,null,null,null,false]
[null,null,null,"C.4l.",null,"State Community, Rural and Economic Development programs",null,null,null,"C.4l.",null,null,null,null,null,null,"C.4l.",null,"State Community, Rural and Economic Development programs",null,null,null,"C.4l.",null,null,null,null,null,null,null,null,null,null,null,null,null,null,null,null,null,false]
[null,null,null,"C.4m.",null,"State Family Development programs",null,null,null,"C.4m.",null,null,null,null,null,null,"C.4m.",null,"State Family Development programs",null,null,null,"C.4m.",null,null,null,null,null,null,null,null,null,null,null,null,null,null,null,null,null,false]
[null,null,null,"C.4n.",null,"Other State Resources",null,{"$f":"IF(AND(OR(AND(F100<>\"\",K100<>\"\"), AND(F100=\"\",K100=\"\"), AND(F100=\"\", K100=0)), OR(AND(F101<>\"\",K101<>\"\"), AND(F101=\"\",K101=\"\"), AND(F101=\"\", K101=0)), OR(AND(F102<>\"\",K102<>\"\"), AND(F102=\"\",K102=\"\"), AND(F102=\"\", K102=0) ), OR(AND(F103<>\"\",K103<>\"\"), AND(F103=\"\",K103=\"\"), AND(F103=\"\", K103=0))),\"\",\"ENTER DESCRIPTION & DOLLAR AMOUNT BELOW\")","v":""},null,null,null,null,null,null,null,null,"C.4n.",null,"Other State Resources"]
[null,null,null,null,"C.4n.i.",null,null,null,null,"C.4n.i.",null,null,null,null,null,null,null,"C.4n.i.",null,null,null,null,"C.4n.i.",null,null,null,null,null,null,null,null,null,null,null,null,null,null,null,null,null,{"$f":"AND(K100>0,K100=X100)","v":false}]
[null,null,null,null,"C.4n.ii.",null,null,null,null,"C.4n.ii.",null,null,null,null,null,null,null,"C.4n.ii.",null,null,null,null,"C.4n.ii.",null,null,null,null,null,null,null,null,null,null,null,null,null,null,null,null,null,false]
[null,null,null,null,"C.4n.iii.",null,null,null,null,"C.4n.iii.",null,null,null,null,null,null,null,"C.4n.iii.",null,null,null,null,"C.4n.iii.",null,null,null,null,null,null,null,null,null,null,null,null,null,null,null,null,null,false]
[null,null,null,null,"C.4n.iv.",null,null,null,null,"C.4n.iv.",null,null,null,null,null,null,null,"C.4n.iv.",null,null,null,null,"C.4n.iv.",null,null,null,null,null,null,null,null,null,null,null,null,null,null,null,null,null,false]
[null,null,null,null,"C.4n.v.",null,null,null,null,"C.4n.v."]
[null,null,null,null,"C.4n.vi.",null,null,null,null,"C.4n.vi."]
[null,null,null,null,"C.4n.vii.",null,null,null,null,"C.4n.vii."]
[null,null,null,null,"C.4n.viii.",null,null,null,null,"C.4n.viii."]
[null,null,null,null,"C.4n.ix.",null,null,null,null,"C.4n.ix."]
[null,null,null,null,"C.4n.x.",null,null,null,null,"C.4n.x."]
[null,null,null,null,"C.4o. Total Other State Resources (autocalculated)",null,null,null,null,"C.4o.",{"$f":"SUM(K100:K109)","v":0},null,null,null,null,null,null,"C.4o. Total Other State Resources (autocalculated)",null,null,null,null,"C.4o.",{"$f":"SUM(X100:X103)","v":0}]
[]
[null,null,"C.4p. Total: State Resources Allocated (autocalculated)",null,null,null,null,null,null,"C.4p.",{"$f":"SUM(K86:K98,K110)","v":0},null,null,null,null,"C.4p. Total: State Resources Allocated (autocalculated)",null,null,null,null,null,null,"C.4p.",{"$f":"SUM(X86:X98,X110)","v":0}]
[null,null,"C.4q.","If any of these resources were also reported under Item C.3n. (Federal Resources), please estimate the amount.",null,null,null,null,null,"C.4q.",null,null,null,null,null,"C.4q.","If any of these resources were also reported under Item C.3n. (Federal Resources), please estimate the amount.",null,null,null,null,null,"C.4q.",null,null,null,null,null,null,null,null,null,null,null,null,null,null,null,null,null,{"$f":"AND(K113>0,K113=X113)","v":false}]
[]
[]
[null,null,"C.5. Local Resources Allocated",null,null,null,null,null,null,null,null,null,null,null,null,"C.5. Local Resources Allocated"]
[]
[null,null,null,"C.5a.",null,"Amount of unrestricted funds appropriated by local government",null,null,null,"C.5a.",null,null,null,null,null,null,"C.5a.",null,"Amount of unrestricted funds appropriated by local government",null,null,null,"C.5a.",null,null,null,null,null,null,null,null,null,null,null,null,null,null,null,null,null,{"$f":"AND(K118>0,K118=X118)","v":false}]
[null,null,null,"C.5b.",null,"Amount of restricted funds appropriated by local government",null,null,null,"C.5b.",null,null,null,null,null,null,"C.5b.",null,"Amount of restricted funds appropriated by local government",null,null,null,"C.5b.",null,null,null,null,null,null,null,null,null,null,null,null,null,null,null,null,null,false]
[null,null,null,"C.5c.",null,"Value of Contract Services",null,null,null,"C.5c.",null,null,null,null,null,null,"C.5c.",null,"Value of Contract Services",null,null,null,"C.5c.",null,null,null,null,null,null,null,null,null,null,null,null,null,null,null,null,null,false]
[null,null,null,"C.5d.",null,"Value of in-kind goods/services received from local government",null,null,null,"C.5d.",null,null,null,null,null,null,"C.5d.",null,"Value of in-kind goods/services received from local government",null,null,null,"C.5d.",null,null,null,null,null,null,null,null,null,null,null,null,null,null,null,null,null,false]
[]
[null,null,"C.5e. Total: Local Resources Allocated (autocalculated)",null,null,null,null,null,null,"C.5e.",{"$f":"SUM(K118:K121)","v":0},null,null,null,null,"C.5e. Total: Local Resources Allocated (autocalculated)",null,null,null,null,null,null,"C.5e.",{"$f":"SUM(X118:X121)","v":0}]
[]
[null,null,"C.5f.","If any of these resources were also reported under Item C.3n. or C.4p. (Federal or State Resources), please estimate the amount.",null,null,null,null,null,"C.5f.",null,null,null,null,null,"C.5f.","If any of these resources were also reported under Item C.3n. or C.4p. (Federal or State Resources), please estimate the amount.",null,null,null,null,null,"C.5f.",null,null,null,null,null,null,null,null,null,null,null,null,null,null,null,null,null,{"$f":"AND(K125>0,K125=X125)","v":false}]
[]
[]
[null,null,"C.6. Private Sector Resources Allocated",null,null,null,null,null,null,null,null,null,null,null,null,"C.6. Private Sector Resources Allocated"]
[]
[null,null,null,"C.6a.",null,"Funds from foundations, corporations, United Way, other nonprofits",null,null,null,"C.6a.",null,null,null,null,null,null,"C.6a.",null,"Funds from foundations, corporations, United Way, other nonprofits",null,null,null,"C.6a.",null,null,null,null,null,null,null,null,null,null,null,null,null,null,null,null,null,{"$f":"AND(K130>0,K130=X130)","v":false}]
[null,null,null,"C.6b.",null,"Other donated funds",null,null,null,"C.6b.",null,null,null,null,null,null,"C.6b.",null,"Other donated funds",null,null,null,"C.6b.",null,null,null,null,null,null,null,null,null,null,null,null,null,null,null,null,null,false]
[null,null,null,"C.6c.",null,"Value of other donated items, food, clothing, furniture, etc.",null,null,null,"C.6c.",null,null,null,null,null,null,"C.6c.",null,"Value of other donated items, food, clothing, furniture, etc.",null,null,null,"C.6c.",null,null,null,null,null,null,null,null,null,null,null,null,null,null,null,null,null,false]
[null,null,null,"C.6d.",null,"Value of in-kind services received from businesses",null,null,null,"C.6d.",null,null,null,null,null,null,"C.6d.",null,"Value of in-kind services received from businesses",null,null,null,"C.6d.",null,null,null,null,null,null,null,null,null,null,null,null,null,null,null,null,null,false]
[null,null,null,"C.6e.",null,"Payments by clients for services",null,null,null,"C.6e.",null,null,null,null,null,null,"C.6e.",null,"Payments by clients for services",null,null,null,"C.6e.",null,null,null,null,null,null,null,null,null,null,null,null,null,null,null,null,null,false]
[null,null,null,"C.6f.",null,"Payments by private entities for goods or services for low income ",null,null,null,"C.6f.",null,null,null,null,null,null,"C.6f.",null,"Payments by private entities for goods or services for low income ",null,null,null,"C.6f.",null,null,null,null,null,null,null,null,null,null,null,null,null,null,null,null,null,false]
[null,null,null,null,null,"clients or communities",null,null,null,null,null,null,null,null,null,null,null,null,"clients or communities"]
[]
[null,null,"C.6g. Total: Private Sector Resources Allocated (autocalculated)",null,null,null,null,null,null,"C.6g.",{"$f":"SUM(K130:K134,K135)","v":0},null,null,null,null,"C.6g. Total: Private Sector Resources Allocated (autocalculated)",null,null,null,null,null,null,"C.6g.",{"$f":"SUM(X130:X134,X135)","v":0}]
[]
[null,null,"C.6h.","If any of these resources were also reported under Item C.3n., C.4p. or C.5e. (Federal, State or Local Resources), please estimate the amount.",null,null,null,null,null,"C.6h.",null,null,null,null,null,"C.6h.","If any of these resources were also reported under Item C.3n., C.4p. or C.5e. (Federal, State or Local Resources), please estimate the amount.",null,null,null,null,null,"C.6h.",null,null,null,null,null,null,null,null,null,null,null,null,null,null,null,null,null,{"$f":"AND(K140>0,K140=X140)","v":false}]
[]
[]
[]
[null,null,"C.7. Total Non-CSBG Resources Allocated: (Federal, State, Local & Private)*",null,null,null,null,null,null,"C.7.",{"$f":"SUM((K81+K112+K123+K138)-(K113+K125+K140))","v":0},null,null,null,null,"C.7. Total Non-CSBG Resources Allocated: (Federal, State, Local & Private)*",null,null,null,null,null,null,"C.7.",{"$f":"SUM((X81+X112+X123+X138)-(X113+X125+X140))","v":0}]
[null,null,"C.8. Total Resources in CSBG Eligible Entity (including CSBG)*",null,null,null,null,null,null,"C.8.",{"$f":"SUM((K81+K112+K123+K138)-(K113+K125+K140)+K14)","v":0},null,null,null,null,"C.8. Total Resources in CSBG Eligible Entity (including CSBG)*",null,null,null,null,null,null,"C.8.",{"$f":"SUM((X81+X112+X123+X138)-(X113+X125+X140)+X14)","v":0}]
[]
[null,null,"Note : * All totals are autocalculated ",null,null,null,null,null,null,null,null,null,null,null,null,"Note : * All totals are autocalculated "]
[]
[]
[]
[]
[]
[]
[]
[]
[]
[]
[]
[]
[]
[null,null,null,null,null,null,null,null,null,null,null,null,null,null,null,null,null,null,null,null,null,null,null,null,null,null,null,null,null,null,null,null,null,null,null,null,null,"hideCol"]

{"sheet":"FNPIs Employment","index":6,"n_rows":80,"n_cols":24,"rows_kept":80,"cut":false,"hidden":false,"merged":[[0,2,0,7],[10,1,10,2],[11,1,11,2],[12,1,12,2],[13,1,13,2],[8,1,8,2],[7,1,7,2],[9,1,9,2],[1,1,1,7],[2,1,2,7],[3,1,3,7],[4,1,4,2],[5,1,5,2],[5,3,5,5],[4,3,4,7],[22,1,22,2],[21,1,21,2],[14,1,14,2],[16,1,16,2],[17,1,17,2],[18,1,18,2],[19,1,19,2],[20,1,20,2]]}
[null,null,{"$f":"\"FY \"&FY&\" CSBG Annual Report\"","v":"FY 2025 CSBG Annual Report"}]
[null,"Module 4, Section A: Individual and Family National Performance Indicators (FNPIs) - Data Entry Form"]
[null,"Goal 1: Individuals and Families with low incomes are stable and achieve economic security."]
[null,"Employment Indicators"]
[null,"Name of CSBG Eligible Entity Reporting:"]
[null,"State:",null,null,null,null,"UEI:"]
[]
[null,"Employment (FNPI 1)",null,"I.) Number of Individuals Served \nin program(s) (#)","II.) Target (#)","III.) Actual Results (#) ","IV.) Percentage Achieving Outcome  \n[III/ I = IV ] (% auto calculated)","V.) Performance Target Accuracy \n(III/II = V] (% auto calculated) ",null,null,null,null,null,null,null,null,null,null,null,null,null,null,"Omit ARC A Tests"]
[null,"FNPI 1a The number of unemployed youth who obtained employment to gain skills or income.",null,null,null,null,{"$f":"IFERROR(F9/D9,\"\")","v":""},{"$f":"IFERROR(F9/E9,\"\")","v":""},null,null,null,null,null,null,null,null,null,null,null,null,null,null,true]
[null,"FNPI 1b The number of unemployed adults who obtained employment (up to a living wage).",null,null,null,null,"","",null,null,null,null,null,null,null,null,null,null,null,null,null,null,true]
[null,"FNPI 1c The number of unemployed adults who obtained and maintained employment for at least 90 days \n(up to a living wage). ",null,null,null,null,"",""]
[null,"FNPI 1d The number of unemployed adults who obtained and maintained employment for at least 180 days \n(up to a living wage).",null,null,null,null,"",""]
[null,"FNPI 1e The number of unemployed adults who obtained employment (with a living wage or higher).",null,null,null,null,"",""]
[null,"FNPI 1f The number of unemployed adults who obtained and maintained employment for at least 90 days \n(with a living wage or higher). ",null,null,null,null,"",""]
[null,"FNPI 1g The number of unemployed adults who obtained and maintained employment for at least 180 days \n(with a living wage or higher). ",null,null,null,null,"",""]
[]
[null,"Employment (FNPI 1)",null,"I.) Number of Individuals Served \nin program(s) (#)","II.) Target (#)","III.) Actual Results (#) ","IV.) Percentage Achieving Outcome  \n[III/ I = IV ] (% auto calculated)","V.) Performance Target Accuracy \n(III/II = V] (% auto calculated) "]
[null,"FNPI 1h The number of employed participants in a career-advancement related program who entered or transitioned into a position that provided increased income and/or benefits.",null,null,null,null,{"$f":"IFERROR(F18/D18,\"\")","v":""},{"$f":"IFERROR(F18/E18,\"\")","v":""}]
[null,"FNPI 1h.1 The number of employed participants in a career advancement related program who increased income from employment through wage or salary amount increase.",null,null,null,null,{"$f":"IFERROR(F19/D19,\"\")","v":""},{"$f":"IFERROR(F19/E19,\"\")","v":""},null,null,null,null,null,null,null,null,null,null,null,null,null,null,true]
[null,"FNPI 1h.2 The number of employed participants in a career advancement related program who increased income from employment through hours worked increase.",null,null,null,null,{"$f":"IFERROR(F20/D20,\"\")","v":""},{"$f":"IFERROR(F20/E20,\"\")","v":""},null,null,null,null,null,null,null,null,null,null,null,null,null,null,true]
[null,"FNPI 1h.3 The number of employed participants in a career advancement related program who increased benefits related to employment.",null,null,null,null,{"$f":"IFERROR(F21/D21,\"\")","v":""},{"$f":"IFERROR(F21/E21,\"\")","v":""},null,null,null,null,null,null,null,null,null,null,null,null,null,null,true]
[]
[null,"Other Employment Outcome Indicator (FNPI 1z)\n\nPlease briefly describe the other indicator and specify the units used (number of individuals or households)",null,"I.) Number of Participants Served \nin program(s) (#)","II.) Target (#)","III.) Actual Results (#) ","IV.) Percentage Achieving Outcome  \n[III/ I = IV ] (% auto calculated)","V.) Performance Target Accuracy \n(III/II = V] (% auto calculated) "]
[null,"FNPI 1z.1",null,null,null,null,{"$f":"IFERROR(F24/D24,\"\")","v":""},{"$f":"IFERROR(F24/E24,\"\")","v":""}]
[null,"FNPI 1z.2",null,null,null,null,{"$f":"IFERROR(F25/D25,\"\")","v":""},{"$f":"IFERROR(F25/E25,\"\")","v":""}]
[null,"FNPI 1z.3",null,null,null,null,{"$f":"IFERROR(F26/D26,\"\")","v":""},{"$f":"IFERROR(F26/E26,\"\")","v":""}]
[null,"FNPI 1z.4",null,null,null,null,{"$f":"IFERROR(F27/D27,\"\")","v":""},{"$f":"IFERROR(F27/E27,\"\")","v":""}]
[null,"FNPI 1z.5",null,null,null,null,{"$f":"IFERROR(F28/D28,\"\")","v":""},{"$f":"IFERROR(F28/E28,\"\")","v":""}]
[]
[]
[]
[]
[]
[]
[]
[]
[]
[]
[]
[]
[]
[]
[]
[]
[]
[]
[]
[]
[]
[null,null,null,null,null,null,null,null,null,null,null,null,null,null,null,null,null,null,null,null,null,1]
[]
[]
[]
[]
[]
[]
[]
[]
[]
[]
[]
[]
[]
[]
[]
[]
[]
[]
[]
[]
[]
[]
[]
[]
[]
[]
[]
[]
[]
[null,null,null,null,null,null,null,null,null,null,null,null,null,null,null,null,null,null,null,null,null,null,null,"hideCol"]

{"sheet":"Services Employment","index":7,"n_rows":80,"n_cols":24,"rows_kept":80,"cut":false,"hidden":false,"merged":[[0,1,0,2],[1,1,1,2],[14,1,14,2],[17,1,17,2],[24,1,24,2],[27,1,27,2],[7,1,7,2],[2,1,2,2],[3,1,3,2],[4,2,4,4]]}
[null,{"$f":"\"FY \" & FY & \" CSBG Annual Report\"","v":"FY 2025 CSBG Annual Report"}]
[null,"Module 4, Section B: Individual and Family Services - \nData Entry Form"]
[null,"Goal 1: Individuals and Families with low-incomes are stable and achieve economic security."]
[null,"Employment Services"]
[null,"Name of CSBG Eligible Entity Reporting:",{"$f":"M4AgencyName","v":0}]
[null,"State:",{"$f":"M4StateName","v":0},"UEI:",{"$f":"M4UEI","v":0}]
[null,"Employment Services (SRV 1)","Unduplicated Number of \nIndividuals Served"]
[null,"Skills Training and Opportunities for Experience (SRV 1a-f)"]
[null,"SRV 1a Vocational Training "]
[null,"SRV 1b On-the-Job and other Work Experience "]
[null,"SRV 1c Youth Summer Work Placements"]
[null,"SRV 1d Apprenticeship/Internship"]
[null,"SRV 1e Self-Employment Skills Training  "]
[null,"SRV 1f Job Readiness Training  "]
[null,"Career Counseling (SRV 1g-h)"]
[null,"SRV 1g Workshops"]
[null,"SRV 1h Coaching "]
[null,"Job Search (SRV 1i-n)"]
[null,"SRV 1i Coaching "]
[null,"SRV 1j Resume Development "]
[null,"SRV 1k Interview Skills Training "]
[null,"SRV 1l Job Referrals"]
[null,"SRV 1m Job Placements"]
[null,"SRV 1n Pre-employment physicals, background checks, etc."]
[null,"Post Employment Supports (SRV 1o-p)"]
[null,"SRV 1o Coaching "]
[null,"SRV 1p Interactions with employers "]
[null,"Employment Supplies (SRV 1q)"]
[null,"SRV 1q Employment Supplies"]
[]
[]
[]
[]
[]
[]
[]
[]
[]
[]
[]
[]
[]
[]
[]
[]
[]
[]
[]
[]
[]
[]
[]
[]
[]
[]
[]
[]
[]
[]
[]
[]
[]
[]
[]
[]
[]
[]
[]
[]
[]
[]
[]
[]
[]
[]
[]
[]
[]
[]
[null,null,null,null,null,null,null,null,null,null,null,null,null,null,null,null,null,null,null,null,null,null,null,"hideCol"]

{"sheet":"FNPIs Education","index":8,"n_rows":80,"n_cols":26,"rows_kept":80,"cut":false,"hidden":false,"merged":[[0,2,0,7],[8,1,8,2],[1,1,1,7],[2,1,2,7],[3,2,3,7],[7,1,7,2],[4,1,4,2],[4,3,4,7],[5,1,5,2],[5,3,5,5],[21,1,21,2],[22,1,22,2],[23,1,23,2],[25,1,25,2],[9,1,9,2],[10,1,10,2],[14,1,14,2],[18,1,18,2],[19,1,19,2],[20,1,20,2],[11,1,11,2],[12,1,12,2],[13,1,13,2],[15,1,15,2],[16,1,16,2],[17,1,17,2]]}
[null,null,{"$f":"\"FY \" & FY & \" CSBG Annual Report\"","v":"FY 2025 CSBG Annual Report"}]
[null,"Module 4, Section A: Individual and Family National Performance Indicators (FNPIs) - Data Entry Form"]
[null,"Goal 1: Individuals and Families with low incomes are stable and achieve economic security."]
[null,null,"Education and Cognitive Development Indicators"]
[null,"Name of CSBG Eligible Entity Reporting:",null,{"$f":"M4AgencyName","v":0}]
[null,"State:",null,{"$f":"M4StateName","v":0},null,null,"UEI:",{"$f":"M4UEI","v":0}]
[]
[null,"Education and Cognitive Development (FNPI 2)\n",null,"I.) Number of Individuals Served \nin program(s) (#)","II.) Target (#)","III.) Actual Results (#) ","IV.) Percentage Achieving Outcome  \n[III/ I = IV ] (% auto calculated)","V.) Performance Target Accuracy \n(III/II = V] (% auto calculated) ",null,null,null,null,null,null,null,null,null,null,null,null,null,null,null,null,null,"Omit ARC A Tests"]
[null,"FNPI 2a The number of children (0 to 5) who demonstrated improved emergent literacy skills.",null,null,null,null,{"$f":"IFERROR(F9/D9,\"\")","v":""},{"$f":"IFERROR(F9/E9,\"\")","v":""},null,null,null,null,null,null,null,null,null,null,null,null,null,null,null,null,null,true]
[null,"FNPI 2b The number of children (0 to 5) who demonstrated skills for school readiness. ",null,null,null,null,"","",null,null,null,null,null,null,null,null,null,null,null,null,null,null,null,null,null,true]
[null,"FNPI 2c The number of children and youth who demonstrated improved positive approaches toward learning, including improved attention skills. (auto total).",null,{"$f":"SUM(D12:D14)","v":0},{"$f":"SUM(E12:E14)","v":0},{"$f":"SUM(F12:F14)","v":0},"",""]
[null,"FNPI 2c.1 Early Childhood Education (ages 0-5): The number of children and youth who demonstrated improved positive approaches toward learning, including improved attention skills.",null,null,null,null,"","",null,null,null,null,null,null,null,null,null,null,null,null,null,null,null,null,null,true]
[null,"FNPI 2c.2  1st grade - 8th grade: The number of children and youth who demonstrated improved positive approaches toward learning, including improved attention skills.",null,null,null,null,"","",null,null,null,null,null,null,null,null,null,null,null,null,null,null,null,null,null,true]
[null,"FNPI 2c.3  9th grade - 12th grade: The number of children and youth who demonstrated improved positive approaches toward learning, including improved attention skills.",null,null,null,null,"","",null,null,null,null,null,null,null,null,null,null,null,null,null,null,null,null,null,true]
[null,"FNPI 2d The number of children and youth who are achieving at basic grade level (academic, social, and other school success skills). (auto total)",null,{"$f":"SUM(D16:D18)","v":0},{"$f":"SUM(E16:E18)","v":0},{"$f":"SUM(F16:F18)","v":0},"",""]
[null,"FNPI 2d.1 Early Childhood Education (ages 0-5): The number of children and youth who are achieving at basic grade level (academic, social, and other school success skills).",null,null,null,null,"","",null,null,null,null,null,null,null,null,null,null,null,null,null,null,null,null,null,true]
[null,"FNPI 2d.2 1st grade – 8th grade: The number of children and youth who are achieving at basic grade level (academic, social, and other school success skills).",null,null,null,null,"","",null,null,null,null,null,null,null,null,null,null,null,null,null,null,null,null,null,true]
[null,"FNPI 2d.3 9th grade – 12th grade: The number of children and youth who are achieving at basic grade level (academic, social, and other school success skills).",null,null,null,null,"","",null,null,null,null,null,null,null,null,null,null,null,null,null,null,null,null,null,true]
[null,"FNPI 2e The number of parents/caregivers who improved their home environments. ",null,null,null,null,"",""]
[null,"FNPI 2f The number of adults who demonstrated improved basic education.",null,null,null,null,"",""]
[null,"FNPI 2g The number of individuals who obtained a high school diploma and/or obtained an equivalency certificate or diploma.",null,null,null,null,"",""]
[null,"FNPI 2h The number of individuals who obtained a recognized credential, certificate, or degree relating to the achievement of educational or vocational skills.",null,null,null,null,"",""]
[null,"FNPI 2i The number of individuals who obtained an Associate’s degree.",null,null,null,null,"",""]
[null,"FNPI 2j The number of individuals who obtained a Bachelor’s degree.",null,null,null,null,"",""]
[]
[null,"Other Education and Cognitive Development Outcome Indicator (FNPI 2z)",null,"I.) Number of Individuals Served \nin program(s) (#)","II.) Target (#)","III.) Actual Results (#) ","IV.) Percentage Achieving Outcome  \n[III/ I = IV ] (% auto calculated)","V.) Performance Target Accuracy \n(III/II = V] (% auto calculated) "]
[null,"FNPI 2z.1",null,null,null,null,{"$f":"IFERROR(F27/D27,\"\")","v":""},{"$f":"IFERROR(F27/E27,\"\")","v":""}]
[null,"FNPI 2z.2",null,null,null,null,{"$f":"IFERROR(F28/D28,\"\")","v":""},{"$f":"IFERROR(F28/E28,\"\")","v":""}]
[null,"FNPI 2z.3",null,null,null,null,{"$f":"IFERROR(F29/D29,\"\")","v":""},{"$f":"IFERROR(F29/E29,\"\")","v":""}]
[null,"FNPI 2z.4",null,null,null,null,{"$f":"IFERROR(F30/D30,\"\")","v":""},{"$f":"IFERROR(F30/E30,\"\")","v":""}]
[null,"FNPI 2z.5",null,null,null,null,{"$f":"IFERROR(F31/D31,\"\")","v":""},{"$f":"IFERROR(F31/E31,\"\")","v":""}]
[]
[]
[]
[]
[]
[]
[]
[]
[]
[]
[]
[]
[]
[]
[]
[]
[]
[]
[]
[]
[]
[]
[]
[]
[]
[]
[]
[]
[]
[]
[]
[]
[]
[]
[]
[]
[]
[]
[]
[]
[]
[]
[]
[]
[]
[]
[]
[]
[null,null,null,null,null,null,null,null,null,null,null,null,null,null,null,null,null,null,null,null,null,null,null,"hideCol"]

{"sheet":"Services Education","index":9,"n_rows":80,"n_cols":26,"rows_kept":80,"cut":false,"hidden":false,"merged":[[0,1,0,2],[27,1,27,2],[37,1,37,2],[39,1,39,2],[41,1,41,2],[1,1,1,2],[2,1,2,2],[7,1,7,2],[18,1,18,2],[20,1,20,2],[4,2,4,4],[3,1,3,2]]}
[null,{"$f":"\"FY \" & FY & \" CSBG Annual Report\"","v":"FY 2025 CSBG Annual Report"}]
[null,"Module 4, Section B: Individual and Family Services - \nData Entry Form"]
[null,"Goal 1: Individuals and Families with low-incomes are stable and achieve economic security."]
[null,"Education and Cognitive Development Services"]
[null,"Name of CSBG Eligible Entity Reporting:",{"$f":"M4AgencyName","v":0}]
[null,"State:",{"$f":"M4StateName","v":0},"UEI:",{"$f":"M4UEI","v":0}]
[null,"Education and Cognitive Development Services (SRV 2)","Unduplicated Number of \nIndividuals Served"]
[null,"Child/Young Adult Education Programs (SRV 2a-j)"]
[null,"SRV 2a Early Head Start "]
[null,"SRV 2b Head Start"]
[null,"SRV 2c Other Early-Childhood (0-5 yr. old) Education "]
[null,"SRV 2d K-12 Education "]
[null,"SRV 2e K-12 Support Services"]
[null,"SRV 2f Financial Literacy Education"]
[null,"SRV 2g Literacy/English Language Education"]
[null,"SRV 2h College-Readiness Preparation/Support  "]
[null,"SRV 2i Other Post Secondary Preparation"]
[null,"SRV 2j Other Post Secondary Support"]
[null,"School Supplies (SRV 2k)"]
[null,"SRV 2k School Supplies"]
[null,"Extra-curricular Programs (SRV 2l-q)"]
[null,"SRV 2l Before and After School Activities"]
[null,"SRV 2m Summer Youth Recreational Activities"]
[null,"SRV 2n Summer Education Programs"]
[null,"SRV 2o Behavior Improvement Programs (attitude, self-esteem, Dress-for-Success, etc.)"]
[null,"SRV 2p Mentoring"]
[null," SRV 2q Leadership Training"]
[null,"Adult Education Programs (SRV 2r-z)"]
[null,"SRV 2r Adult Literacy Classes"]
[null,"SRV 2s English Language Classes"]
[null,"SRV 2t Basic Education Classes  "]
[null,"SRV 2u High School Equivalency Classes"]
[null," SRV 2v Leadership Training"]
[null,"SRV 2w Parenting Supports (may be a part of the early childhood programs identified above)"]
[null,"SRV 2x Applied Technology Classes"]
[null,"SRV 2y Post-Secondary Education Preparation"]
[null,"SRV 2z Financial Literacy Education"]
[null," Post-Secondary Education Supports (SRV 2aa)"]
[null,"SRV 2aa College applications, text books, computers, etc.",null,null,null,null,null,null,null,null,null,null,null,null,null,null,null,null,null,null,null,null,null,null,null,true]
[null,"Financial Aid Assistance (SRV 2bb)"]
[null,"SRV 2bb Scholarships"]
[null,"Home Visits (SVR 2cc)"]
[null,"SRV 2cc Home Visits"]
[]
[]
[]
[]
[]
[]
[]
[]
[]
[]
[]
[]
[]
[]
[]
[]
[]
[]
[]
[]
[]
[]
[]
[]
[]
[]
[]
[]
[]
[]
[]
[]
[]
[]
[]
[]
[null,null,null,null,null,null,null,null,null,null,null,null,null,null,null,null,null,null,null,null,null,null,null,"hideCol"]

{"sheet":"FNPIs Income","index":10,"n_rows":80,"n_cols":24,"rows_kept":80,"cut":false,"hidden":false,"merged":[[0,2,0,7],[8,1,8,2],[1,1,1,7],[2,1,2,7],[3,1,3,7],[7,1,7,2],[4,1,4,2],[4,3,4,7],[5,1,5,2],[5,3,5,5],[16,1,16,2],[19,1,19,2],[9,1,9,2],[10,1,10,2],[11,1,11,2],[12,1,12,2],[14,1,14,2],[15,1,15,2],[13,1,13,2]]}
[null,null,{"$f":"\"FY \" & FY & \" CSBG Annual Report\"","v":"FY 2025 CSBG Annual Report"}]
[null,"Module 4, Section A: Individual and Family National Performance Indicators (FNPIs) - Data Entry Form"]
[null,"Goal 1: Individuals and Families with low incomes are stable and achieve economic security."]
[null,"Income and Asset Building Indicators"]
[null,"Name of CSBG Eligible Entity Reporting:",null,{"$f":"M4AgencyName","v":0}]
[null,"State:",null,{"$f":"M4StateName","v":0},null,null,"UEI:",{"$f":"M4UEI","v":0}]
[]
[null,"Income and Asset Building (FNPI 3)",null,"I.) Number of Individuals Served \nin program(s) (#)","II.) Target (#)","III.) Actual Results (#) ","IV.) Percentage Achieving Outcome  \n[III/ I = IV ] (% auto calculated)","V.) Performance Target Accuracy \n(III/II = V] (% auto calculated) "]
[null,"FNPI 3a The number of individuals who achieved and maintained capacity to meet basic needs for 90 days.",null,null,null,null,{"$f":"IFERROR(F9/D9,\"\")","v":""},{"$f":"IFERROR(F9/E9,\"\")","v":""}]
[null,"FNPI 3b The number of individuals who achieved and maintained capacity to meet basic needs for 180 days.",null,null,null,null,"",""]
[null,"FNPI 3c The number of individuals who opened a savings account or IDA.",null,null,null,null,"",""]
[null,"FNPI 3d The number of individuals who increased their savings.",null,null,null,null,"",""]
[null,"FNPI 3e The number of individuals who used their savings to purchase an asset.",null,null,null,null,"",""]
[null,"FNPI 3f The number of individuals who purchased a home.",null,null,null,null,"",""]
[null,"FNPI 3g The number of individuals who improved their credit scores. ",null,null,null,null,"",""]
[null,"FNPI 3h The number of individuals who increased their net worth. ",null,null,null,null,"",""]
[null,"FNPI 3i The number of individuals engaged with the Community Action Agency who report improved financial well-being.",null,null,null,null,"",""]
[]
[]
[null,"Other Income and Asset Building Outcome Indicator (FNPI 3z) ",null,"I.) Number of Individuals Served \nin program(s) (#)","II.) Target (#)","III.) Actual Results (#) ","IV.) Percentage Achieving Outcome  \n[III/ I = IV ] (% auto calculated)","V.) Performance Target Accuracy \n(III/II = V] (% auto calculated) "]
[null,"FNPI 3z.1",null,null,null,null,{"$f":"IFERROR(F21/D21,\"\")","v":""},{"$f":"IFERROR(F21/E21,\"\")","v":""}]
[null,"FNPI 3z.2",null,null,null,null,{"$f":"IFERROR(F22/D22,\"\")","v":""},{"$f":"IFERROR(F22/E22,\"\")","v":""}]
[null,"FNPI 3z.3",null,null,null,null,{"$f":"IFERROR(F23/D23,\"\")","v":""},{"$f":"IFERROR(F23/E23,\"\")","v":""}]
[null,"FNPI 3z.4",null,null,null,null,{"$f":"IFERROR(F24/D24,\"\")","v":""},{"$f":"IFERROR(F24/E24,\"\")","v":""}]
[null,"FNPI 3z.5",null,null,null,null,{"$f":"IFERROR(F25/D25,\"\")","v":""},{"$f":"IFERROR(F25/E25,\"\")","v":""}]
[]
[]
[]
[]
[]
[]
[]
[]
[]
[]
[]
[]
[]
[]
[]
[]
[]
[]
[]
[]
[]
[]
[]
[]
[]
[]
[]
[]
[]
[]
[]
[]
[]
[]
[]
[]
[]
[]
[]
[]
[]
[]
[]
[]
[]
[]
[]
[]
[]
[]
[]
[]
[]
[]
[null,null,null,null,null,null,null,null,null,null,null,null,null,null,null,null,null,null,null,null,null,null,null,"hideCol"]

{"sheet":"Services Income","index":11,"n_rows":80,"n_cols":24,"rows_kept":80,"cut":false,"hidden":false,"merged":[[25,1,25,2],[0,1,0,2],[21,1,21,2],[1,1,1,2],[2,1,2,2],[3,1,3,2],[7,1,7,2],[14,1,14,2],[4,2,4,4]]}
[null,{"$f":"\"FY \" & FY & \" CSBG Annual Report\"","v":"FY 2025 CSBG Annual Report"}]
[null,"Module 4, Section B: Individual and Family Services - \nData Entry Form"]
[null,"Goal 1: Individuals and Families with low incomes are stable and achieve economic security."]
[null,"Income and Asset Building Services"]
[null,"Name of CSBG Eligible Entity Reporting:",{"$f":"M4AgencyName","v":0}]
[null,"State:",{"$f":"M4StateName","v":0},"UEI:",{"$f":"M4UEI","v":0}]
[null,"Income and Asset Building Services (SRV 3)","Unduplicated Number of \nIndividuals Served"]
[null,"Training and Counseling Services (SRV 3a-f)"]
[null,"SRV 3a Financial Capability Skills Training"]
[null,"SRV 3b Financial Coaching/Counseling "]
[null,"SRV 3c Financial Management Programs (including budgeting, credit management, credit repair, credit counseling, etc.)   "]
[null,"SRV 3d First-time Homebuyer Counseling"]
[null,"SRV 3e Foreclosure Prevention Counseling"]
[null,"SRV 3f Small Business Start-Up and Development Counseling Sessions/Classes"]
[null,"Benefit Coordination and Advocacy (SRV 3g-l)"]
[null,"SRV 3g Child Support Payments"]
[null,"SRV 3h Health Insurance"]
[null,"SRV 3i Social Security/SSI Payments"]
[null,"SRV 3j Veteran's Benefits"]
[null,"SRV 3k TANF Benefits"]
[null,"SRV 3l SNAP Benefits"]
[null,"Asset Building (SRV 3m-o)"]
[null,"SRV 3m Saving Accounts/IDAs and other asset building accounts"]
[null,"SRV 3n Other financial products (IRA accounts, MyRA, other retirement accounts, etc.)"]
[null,"SRV 3o VITA, EITC, or Other Tax Preparation programs"]
[null,"SRVs 3p Loans And Grants (SRV 3p-q)"]
[null,"SRV 3p Micro-loans"]
[null,"SRV 3q Business incubator/business development loans"]
[]
[]
[]
[]
[]
[]
[]
[]
[]
[]
[]
[]
[]
[]
[]
[]
[]
[]
[]
[]
[]
[]
[]
[]
[]
[]
[]
[]
[]
[]
[]
[]
[]
[]
[]
[]
[]
[]
[]
[]
[]
[]
[]
[]
[]
[]
[]
[]
[]
[]
[]
[null,null,null,null,null,null,null,null,null,null,null,null,null,null,null,null,null,null,null,null,null,null,null,"hideCol"]

{"sheet":"FNPIs Housing","index":12,"n_rows":80,"n_cols":24,"rows_kept":80,"cut":false,"hidden":false,"merged":[[0,2,0,7],[8,1,8,2],[1,1,1,7],[2,1,2,7],[3,1,3,7],[7,1,7,2],[4,1,4,2],[4,3,4,7],[5,1,5,2],[5,3,5,5],[15,1,15,2],[17,1,17,2],[9,1,9,2],[10,1,10,2],[11,1,11,2],[12,1,12,2],[13,1,13,2],[14,1,14,2]]}
[null,null,{"$f":"\"FY \" & FY & \" CSBG Annual Report\"","v":"FY 2025 CSBG Annual Report"}]
[null,"Module 4, Section A: Individual and Family National Performance Indicators (FNPIs) - Data Entry Form"]
[null,"Goal 1: Individuals and Families with low incomes are stable and achieve economic security."]
[null,"Housing Indicators"]
[null,"Name of CSBG Eligible Entity Reporting:",null,{"$f":"M4AgencyName","v":0}]
[null,"State:",null,{"$f":"M4StateName","v":0},null,null,"UEI:",{"$f":"M4UEI","v":0}]
[]
[null,"Housing (FNPI 4)",null,"I.) Number of Individuals Served \nin program(s) (#)","II.) Target (#)","III.) Actual Results (#) ","IV.) Percentage Achieving Outcome  \n[III/ I = IV ] (% auto calculated)","V.) Performance Target Accuracy \n(III/II = V] (% auto calculated) "]
[null,"FNPI 4a The number of individuals experiencing homelessness who obtained safe temporary shelter.",null,null,null,null,{"$f":"IFERROR(F9/D9,\"\")","v":""},{"$f":"IFERROR(F9/E9,\"\")","v":""}]
[null,"FNPI 4b The number of individuals who obtained safe and affordable housing.",null,null,null,null,"",""]
[null,"FNPI 4c The number of individuals who maintained safe and affordable housing for 90 days.",null,null,null,null,"",""]
[null,"FNPI 4d The number of individuals who maintained safe and affordable housing for 180 days. ",null,null,null,null,"",""]
[null,"FNPI 4e The number of individuals who avoided eviction.",null,null,null,null,"",""]
[null,"FNPI 4f The number of individuals who avoided foreclosure.",null,null,null,null,"",""]
[null,"FNPI 4g The number of individuals who experienced improved health and safety due to improvements within their home (e.g. reduction or elimination of lead, radon, carbon dioxide and/or fire hazards or electrical issues, etc).",null,null,null,null,"",""]
[null,"FNPI 4h The number of individuals with improved energy efficiency and/or energy burden reduction in their homes.",null,null,null,null,"",""]
[]
[null,"Other Housing Outcome Indicator (FNPI 4z)",null,"I.) Number of Participants Served \nin program(s) (#)","II.) Target (#)","III.) Actual Results (#) ","IV.) Percentage Achieving Outcome  \n[III/ I = IV ] (% auto calculated)","V.) Performance Target Accuracy \n(III/II = V] (% auto calculated) "]
[null,"FNPI 4z.1",null,null,null,null,{"$f":"IFERROR(F19/D19,\"\")","v":""},{"$f":"IFERROR(F19/E19,\"\")","v":""}]
[null,"FNPI 4z.2",null,null,null,null,{"$f":"IFERROR(F20/D20,\"\")","v":""},{"$f":"IFERROR(F20/E20,\"\")","v":""}]
[null,"FNPI 4z.3",null,null,null,null,{"$f":"IFERROR(F21/D21,\"\")","v":""},{"$f":"IFERROR(F21/E21,\"\")","v":""}]
[null,"FNPI 4z.4",null,null,null,null,{"$f":"IFERROR(F22/D22,\"\")","v":""},{"$f":"IFERROR(F22/E22,\"\")","v":""}]
[null,"FNPI 4z.5",null,null,null,null,{"$f":"IFERROR(F23/D23,\"\")","v":""},{"$f":"IFERROR(F23/E23,\"\")","v":""}]
[]
[]
[]
[]
[]
[]
[]
[]
[]
[]
[]
[]
[]
[]
[]
[]
[]
[]
[]
[]
[]
[]
[]
[]
[]
[]
[]
[]
[]
[]
[]
[]
[]
[]
[]
[]
[]
[]
[]
[]
[]
[]
[]
[]
[]
[]
[]
[]
[]
[]
[]
[]
[]
[]
[]
[]
[null,null,null,null,null,null,null,null,null,null,null,null,null,null,null,null,null,null,null,null,null,null,null,"hideCol"]

{"sheet":"Services Housing","index":13,"n_rows":80,"n_cols":24,"rows_kept":80,"cut":false,"hidden":false,"merged":[[0,1,0,2],[22,1,22,2],[27,1,27,2],[29,1,29,2],[1,1,1,2],[2,1,2,2],[3,1,3,2],[7,1,7,2],[13,1,13,2],[17,1,17,2],[4,2,4,4]]}
[null,{"$f":"\"FY \" & FY & \" CSBG Annual Report\"","v":"FY 2025 CSBG Annual Report"}]
[null,"Module 4, Section B: Individual and Family Services - Data Entry Form"]
[null,"Goal 1: Individuals and Families with low incomes are stable and achieve economic security."]
[null,"Housing Services"]
[null,"Name of CSBG Eligible Entity Reporting:",{"$f":"M4AgencyName","v":0}]
[null,"State:",{"$f":"M4StateName","v":0},"UEI:",{"$f":"M4UEI","v":0}]
[null,"Housing Services (SRV 4)","Unduplicated Number of \nIndividuals Served",null,null,null,null,null,null,null,null,null,null,null,null,null,null,null,null,null,"Omit ARC A Tests"]
[null,"Housing Payment Assistance (SRV 4a-e)"]
[null,"SRV 4a Financial Capability Skill Training "]
[null,"SRV 4b Financial Coaching/Counseling "]
[null,"SRV 4c Rent Payments (includes Emergency Rent Payments)"]
[null,"SRV 4d Deposit Payments"]
[null,"SRV 4e Mortgage Payments (includes Emergency Mortgage Payments)"]
[null,"Eviction Prevention Services (SRV 4f-h)"]
[null,"SRV 4f Eviction Counseling "]
[null,"SRV 4g Landlord/Tenant Mediations"]
[null,"SRV 4h Landlord/Tenant Rights Education "]
[null,"Utility Payment Assistance (SRV 4i-l)"]
[null,"SRV 4i Utility Payments (LIHEAP-includes Emergency Utility Payments)"]
[null,"SRV 4j Utility Deposits"]
[null,"SRV 4k Utility Arrears Payments"]
[null,"SRV 4l Level Billing Assistance"]
[null,"Housing Placement/Rapid Re-housing (SRV 4m-p)"]
[null,"SRV 4m Temporary Housing Placement (includes Emergency Shelters)"]
[null,"SRV 4n Transitional Housing Placements"]
[null,"SRV 4o Permanent Housing Placements "]
[null,"SRV 4p Rental Counseling "]
[null,"Housing Maintenance & Improvements (SRV 4q)"]
[null,"SRV 4q Home Repairs (e.g. structural, appliance, heating systems. etc.) (Including Emergency Home Repairs)"]
[null,"Weatherization Services (SRV 4r-t)"]
[null,"SRV 4r Independent-living Home Improvements (e.g. ramps, tub and shower grab bars, handicap accessible modifications, etc.)"]
[null,"SRV 4s Healthy Homes Services(e.g. reduction or elimination of lead, radon, carbon monoxide and/or fire hazards or electrical issues, etc.)"]
[null,"SRV 4t Energy Efficiency Improvements (e.g. insulation, air sealing, furnace repair, etc.)"]
[]
[]
[]
[]
[]
[]
[]
[]
[]
[]
[]
[]
[]
[]
[]
[]
[]
[]
[]
[]
[]
[]
[]
[]
[]
[]
[]
[]
[]
[]
[]
[]
[]
[]
[]
[]
[]
[]
[]
[]
[]
[]
[]
[]
[]
[]
[null,null,null,null,null,null,null,null,null,null,null,null,null,null,null,null,null,null,null,null,null,null,null,"hideCol"]

{"sheet":"FNPIs Health","index":14,"n_rows":80,"n_cols":26,"rows_kept":80,"cut":false,"hidden":false,"merged":[[0,2,0,7],[8,1,8,2],[1,1,1,7],[2,1,2,7],[3,1,3,7],[7,1,7,2],[4,1,4,2],[4,3,4,7],[5,1,5,2],[5,3,5,5],[15,1,15,2],[16,1,16,2],[19,1,19,2],[20,1,20,2],[9,1,9,2],[10,1,10,2],[11,1,11,2],[12,1,12,2],[13,1,13,2],[14,1,14,2],[17,1,17,2],[18,1,18,2]]}
[null,null,{"$f":"\"FY \" & FY & \" CSBG Annual Report\"","v":"FY 2025 CSBG Annual Report"}]
[null,"Module 4, Section A: Individual and Family National Performance Indicators (FNPIs) - Data Entry Form"]
[null,"Goal 1: Individuals and Families with low incomes are stable and achieve economic security."]
[null,"Health and Social/Behavioral Development Indicators"]
[null,"Name of CSBG Eligible Entity Reporting:",null,{"$f":"M4AgencyName","v":0}]
[null,"State:",null,{"$f":"M4StateName","v":0},null,null,"UEI:",{"$f":"M4UEI","v":0}]
[]
[null,"Health and Social/Behavioral Development (FNPI 5)",null,"I.) Number of Individuals Served \nin program(s) (#)","II.) Target (#)","III.) Actual Results (#) ","IV.) Percentage Achieving Outcome  \n[III/ I = IV ] (% auto calculated)","V.) Performance Target Accuracy \n(III/II = V] (% auto calculated) ",null,null,null,null,null,null,null,null,null,null,null,null,null,null,null,null,null,"Omit ARC A Tests"]
[null,"FNPI 5a The number of individuals who demonstrated increased nutrition skills (e.g. cooking, shopping, and growing food). ",null,null,null,null,{"$f":"IFERROR(F9/D9,\"\")","v":""},{"$f":"IFERROR(F9/E9,\"\")","v":""}]
[null,"FNPI 5b The number of individuals who demonstrated improved physical health and well-being.",null,null,null,null,"",""]
[null,"FNPI 5c The number of individuals who demonstrated improved mental and behavioral health and well-being. ",null,null,null,null,"",""]
[null,"FNPI 5d The number of individuals who improved skills related to the adult role of parents/ caregivers. ",null,null,null,null,"",""]
[null,"FNPI 5e The number of parents/caregivers who demonstrated increased sensitivity and responsiveness in their interactions with their children. ",null,null,null,null,"",""]
[null,"FNPI 5f The number of seniors (65+) who maintained an independent living situation.",null,null,null,null,"","",null,null,null,null,null,null,null,null,null,null,null,null,null,null,null,null,null,true]
[null,"FNPI 5g The number of individuals with disabilities who maintained an independent living situation.",null,null,null,null,"","",null,null,null,null,null,null,null,null,null,null,null,null,null,null,null,null,null,true]
[null,"FNPI 5h The number of individuals with a chronic illness who maintained an independent living situation.",null,null,null,null,"",""]
[null,"FNPI 5i The number of individuals with no recidivating event for six months.",null,{"$f":"SUM(D18:D19)","v":0},{"$f":"SUM(E18:E19)","v":0},{"$f":"SUM(F18:F19)","v":0},"",""]
[null,"FNPI 5i.1 The number of youth (ages 14-17) with no recidivating event for six months.",null,null,null,null,"","",null,null,null,null,null,null,null,null,null,null,null,null,null,null,null,null,null,true]
[null,"FNPI 5i.2 The number of adults (ages 18+) with no recidivating event for six months.",null,null,null,null,"","",null,null,null,null,null,null,null,null,null,null,null,null,null,null,null,null,null,true]
[]
[null,"Other Health and Social/Behavioral Development Outcome Indicator (FNPI 5z)",null,"I.) Number of Individuals Served \nin program(s) (#)","II.) Target (#)","III.) Actual Results (#) ","IV.) Percentage Achieving Outcome  \n[III/ I = IV ] (% auto calculated)","V.) Performance Target Accuracy \n(III/II = V] (% auto calculated) "]
[null,"FNPI 5z.1",null,null,null,null,{"$f":"IFERROR(F22/D22,\"\")","v":""},{"$f":"IFERROR(F22/E22,\"\")","v":""}]
[null,"FNPI 5z.2",null,null,null,null,{"$f":"IFERROR(F23/D23,\"\")","v":""},{"$f":"IFERROR(F23/E23,\"\")","v":""}]
[null,"FNPI 5z.3",null,null,null,null,{"$f":"IFERROR(F24/D24,\"\")","v":""},{"$f":"IFERROR(F24/E24,\"\")","v":""}]
[null,"FNPI 5z.4",null,null,null,null,{"$f":"IFERROR(F25/D25,\"\")","v":""},{"$f":"IFERROR(F25/E25,\"\")","v":""}]
[null,"FNPI 5z.5",null,null,null,null,{"$f":"IFERROR(F26/D26,\"\")","v":""},{"$f":"IFERROR(F26/E26,\"\")","v":""}]
[]
[]
[]
[]
[]
[]
[]
[]
[]
[]
[]
[]
[]
[]
[]
[]
[]
[]
[]
[]
[]
[]
[]
[]
[]
[]
[]
[]
[]
[]
[]
[]
[]
[]
[]
[]
[]
[]
[]
[]
[]
[]
[]
[]
[]
[]
[]
[]
[]
[]
[]
[]
[]
[null,null,null,null,null,null,null,null,null,null,null,null,null,null,null,null,null,null,null,null,null,null,null,"hideCol"]

{"sheet":"Services Health","index":15,"n_rows":80,"n_cols":28,"rows_kept":80,"cut":false,"hidden":false,"merged":[[0,1,0,2],[55,1,55,2],[1,1,1,2],[2,1,2,2],[3,1,3,2],[7,1,7,2],[18,1,18,2],[24,1,24,2],[27,1,27,2],[35,1,35,2],[40,1,40,2],[45,1,45,2],[51,1,51,2],[4,2,4,4]]}
[null,{"$f":"\"FY \" & FY & \" CSBG Annual Report\"","v":"FY 2025 CSBG Annual Report"}]
[null,"Module 4, Section B: Individual and Family Services - \nData Entry Form"]
[null,"Goal 1: Individuals and Families with low incomes are stable and achieve economic security."]
[null,"Health and Social/Behavioral Development"]
[null,"Name of CSBG Eligible Entity Reporting:",{"$f":"M4AgencyName","v":0}]
[null,"State:",{"$f":"M4StateName","v":0},"UEI:",{"$f":"M4UEI","v":0}]
[null,"Health and Social/Behavioral Development Services (SRV 5)","Unduplicated Number of \nIndividuals Served"]
[null,"Health Services, Screening and Assessments (SRV 5a-j)"]
[null,"SRV 5a Immunizations"]
[null,"SRV 5b Physicals"]
[null,"SRV 5c Developmental Delay Screening"]
[null,"SRV 5d Vision  Screening"]
[null,"SRV 5e Prescription Payments"]
[null,"SRV 5f Doctor Visit Payments"]
[null,"SRV 5g Maternal/Child Health"]
[null,"SRV 5h Nursing Care Sessions"]
[null," SRV 5i In-Home Affordable Seniors/Disabled Care Sessions\n(Nursing, Chores, Personal Care Services) "]
[null,"SRV 5j Health Insurance Options Counseling"]
[null,"Reproductive Health Services (SRV 5k-o)"]
[null,"SRV 5k Coaching Sessions"]
[null,"SRV 5l Family Planning Classes"]
[null,"SRV 5m Contraceptives"]
[null,"SRV 5n STI/HIV Prevention Counseling Sessions"]
[null,"SRV 5o STI/HIV Screenings"]
[null,"Wellness Education (SRV 5p-q)"]
[null,"SRV 5p Wellness Classes (stress reduction, medication management, mindfulness, etc.)"]
[null,"SRV 5q Exercise/Fitness "]
[null,"Mental/Behavioral Health (SRV 5r-x)"]
[null,"SRV 5r Detoxification Sessions"]
[null,"SRV 5s Substance Abuse Screenings"]
[null,"SRV 5t Substance Abuse Counseling "]
[null,"SRV 5u Mental Health Assessments"]
[null,"SRV 5v Mental Health Counseling "]
[null,"SRV 5w Crisis Response/Call-In Responses"]
[null,"SRV 5x Domestic Violence Programs"]
[null,"Support Groups (SRV 5y-aa)"]
[null,"SRV 5y Substance Abuse Support Group Meetings"]
[null,"SRV 5z Domestic Violence Support Group Meetings"]
[null,"SRV 5aa Mental Health Support Group Meetings"]
[null,"Health and Social/Behavioral Development Services (Cont'd.)","Unduplicated Number of \nIndividuals Served"]
[null,"Dental Services, Screenings and Exams (SRV 5bb-ee)"]
[null,"SRV 5bb Adult Dental Screening/Exams"]
[null,"SRV 5cc Adult Dental Services (including Emergency Dental Procedures)"]
[null,"SRV 5dd Child Dental Screenings/Exams"]
[null,"SRV 5ee Child Dental Services (including Emergency Dental Procedures)"]
[null,"Nutrition and Food/Meals (SRV 5ff-jj)"]
[null,"SRV 5ff Skills Classes (Gardening, Cooking, Nutrition)"]
[null,"SRV 5gg Community Gardening Activities",null,null,null,null,null,null,null,null,null,null,null,null,null,null,null,null,null,null,null,null,null,null,null,null,null,true]
[null,"SRV 5hh Incentives (e.g. gift card for food preparation, rewards for participation, etc.)"]
[null,"SRV 5ii Prepared Meals",null,null,null,null,null,null,null,null,null,null,null,null,null,null,null,null,null,null,null,null,null,null,null,null,null,true]
[null,"SRV 5jj Food Distribution (Food Bags/Boxes, Food Share Program, Bags of Groceries)  ",null,null,null,null,null,null,null,null,null,null,null,null,null,null,null,null,null,null,null,null,null,null,null,null,null,true]
[null,"Family Skills Development (SRV 5kk-mm)"]
[null,"SRV 5kk Family Mentoring Sessions"]
[null,"SRV 5ll Life Skills Coaching Sessions"]
[null,"SRV 5mm Parenting Classes"]
[null,"Emergency Hygiene Assistance (SRV 5nn-oo)"]
[null,"SRV 5nn Kits/boxes",null,null,null,null,null,null,null,null,null,null,null,null,null,null,null,null,null,null,null,null,null,null,null,null,null,true]
[null,"SRV 5oo Hygiene Facility Utilizations (e.g. showers, toilets, sinks)",null,null,null,null,null,null,null,null,null,null,null,null,null,null,null,null,null,null,null,null,null,null,null,null,null,true]
[]
[]
[]
[]
[]
[]
[]
[]
[]
[]
[]
[]
[]
[]
[]
[]
[]
[]
[]
[]
[]
[null,null,null,null,null,null,null,null,null,null,null,null,null,null,null,null,null,null,null,null,null,null,null,"hideCol"]

{"sheet":"FNPIs Civic Eng. & Comm. Inv.","index":16,"n_rows":80,"n_cols":24,"rows_kept":80,"cut":false,"hidden":false,"merged":[[0,2,0,7],[13,1,13,2],[1,1,1,7],[2,1,2,7],[3,1,3,7],[7,1,7,2],[8,1,8,2],[4,1,4,2],[4,3,4,7],[5,1,5,2],[5,3,5,5],[9,1,9,2],[10,1,10,2],[11,1,11,2]]}
[null,null,{"$f":"\"FY \" & FY & \" CSBG Annual Report\"","v":"FY 2025 CSBG Annual Report"}]
[null,"Module 4, Section A: Individual and Family National Performance Indicators (FNPIs) - Data Entry Form"]
[null,"Goal 1: Individuals and Families with low incomes are stable and achieve economic security."]
[null,"Civic Engagement and Community Involvement Indicators"]
[null,"Name of CSBG Eligible Entity Reporting:",null,{"$f":"M4AgencyName","v":0}]
[null,"State:",null,{"$f":"M4StateName","v":0},null,null,"UEI:",{"$f":"M4UEI","v":0}]
[]
[null,"Civic Engagement and Community Involvement Indicators (FNPI 6)",null,"I.) Number of Individuals Served \nin program(s) (#)","II.) Target (#)","III.) Actual Results (#) ","IV.) Percentage Achieving Outcome  \n[III/ I = IV ] (% auto calculated)","V.) Performance Target Accuracy \n(III/II = V] (% auto calculated) ",null,null,null,null,null,null,null,null,null,null,null,null,null,null,null,"Omit ARC A Tests"]
[null,"FNPI 6a The number of individuals who increased skills, knowledge, and abilities to enable them to work with Community Action to improve conditions in the community. ",null,null,null,null,{"$f":"IFERROR(F9/D9,\"\")","v":""},{"$f":"IFERROR(F9/E9,\"\")","v":""}]
[null,"FNPI 6a.1  The number of Community Action program participants who improved their leadership skills to enable them to work with Community Action to improve conditions in the community.",null,null,null,null,{"$f":"IFERROR(F10/D10,\"\")","v":""},{"$f":"IFERROR(F10/E10,\"\")","v":""},null,null,null,null,null,null,null,null,null,null,null,null,null,null,null,true]
[null,"FNPI 6a.2 The number of Community Action program participants who improved their social networks to enable them to work with Community Action to improve conditions in the community.",null,null,null,null,{"$f":"IFERROR(F11/D11,\"\")","v":""},{"$f":"IFERROR(F11/E11,\"\")","v":""},null,null,null,null,null,null,null,null,null,null,null,null,null,null,null,true]
[null,"FNPI 6a.3 The number of Community Action program participants who gained other skills, knowledge and abilities to enhance their social networks to enable them to work with Community Action to improve conditions in the community.",null,null,null,null,{"$f":"IFERROR(F12/D12,\"\")","v":""},{"$f":"IFERROR(F12/E12,\"\")","v":""},null,null,null,null,null,null,null,null,null,null,null,null,null,null,null,true]
[]
[null,"Other Civic Engagement and Community Involvement Outcome Indicator (FNPI 6z)",null,"I.) Number of Individuals Served \nin program(s) (#)","II.) Target (#)","III.) Actual Results (#) ","IV.) Percentage Achieving Outcome  \n[III/ I = IV ] (% auto calculated)","V.) Performance Target Accuracy \n(III/II = V] (% auto calculated) "]
[null,"FNPI 6z.1",null,null,null,null,{"$f":"IFERROR(F15/D15,\"\")","v":""},{"$f":"IFERROR(F15/E15,\"\")","v":""}]
[null,"FNPI 6z.2",null,null,null,null,{"$f":"IFERROR(F16/D16,\"\")","v":""},{"$f":"IFERROR(F16/E16,\"\")","v":""}]
[null,"FNPI 6z.3",null,null,null,null,{"$f":"IFERROR(F17/D17,\"\")","v":""},{"$f":"IFERROR(F17/E17,\"\")","v":""}]
[null,"FNPI 6z.4",null,null,null,null,{"$f":"IFERROR(F18/D18,\"\")","v":""},{"$f":"IFERROR(F18/E18,\"\")","v":""}]
[null,"FNPI 6z.5",null,null,null,null,{"$f":"IFERROR(F19/D19,\"\")","v":""},{"$f":"IFERROR(F19/E19,\"\")","v":""}]
[]
[]
[]
[]
[]
[]
[]
[]
[]
[]
[]
[]
[]
[]
[]
[]
[]
[]
[]
[]
[]
[]
[]
[]
[]
[]
[]
[]
[]
[]
[]
[]
[]
[]
[]
[]
[]
[]
[]
[]
[]
[]
[]
[]
[]
[]
[]
[]
[]
[]
[]
[]
[]
[]
[]
[]
[]
[]
[]
[]
[null,null,null,null,null,null,null,null,null,null,null,null,null,null,null,null,null,null,null,null,null,null,null,"hideCol"]

{"sheet":"Services Civic Eng. & Comm Inv.","index":17,"n_rows":80,"n_cols":24,"rows_kept":80,"cut":false,"hidden":false,"merged":[[1,1,1,2],[2,1,2,2],[3,1,3,2],[4,2,4,4],[0,1,0,2]]}
[null,{"$f":"\"FY \" & FY & \" CSBG Annual Report\"","v":"FY 2025 CSBG Annual Report"}]
[null,"Module 4, Section B: Individual and Family Services - Data Entry Form"]
[null,"Goal 1: Individuals and Families with low-incomes are stable and achieve economic security."]
[null,"Civic Engagement and Community Involvement"]
[null,"Name of CSBG Eligible Entity Reporting:",{"$f":"M4AgencyName","v":0}]
[null,"State:",{"$f":"M4StateName","v":0},"UEI:",{"$f":"M4UEI","v":0}]
[null,"Civic Engagement and Community Involvement Services (SRV 6a-f)","Unduplicated Number of \nIndividuals Served"]
[null,"SRV 6a Voter Education and Access"]
[null,"Leadership Training"]
[null,"SRV 6b Leadership Training"]
[null,"SRV 6c Tri-partite Board Membership"]
[null,"SRV 6d Citizenship Classes"]
[null,"SRV 6e Getting Ahead Classes"]
[null,"SRV 6f Volunteer Training "]
[]
[]
[]
[]
[]
[]
[]
[]
[]
[]
[]
[]
[]
[]
[]
[]
[]
[]
[]
[]
[]
[]
[]
[]
[]
[]
[]
[]
[]
[]
[]
[]
[]
[]
[]
[]
[]
[]
[]
[]
[]
[]
[]
[]
[]
[]
[]
[]
[]
[]
[]
[]
[]
[]
[]
[]
[]
[]
[]
[]
[]
[]
[]
[]
[]
[null,null,null,null,null,null,null,null,null,null,null,null,null,null,null,null,null,null,null,null,null,null,null,"hideCol"]

{"sheet":"FNPIs Across Multiple Domains","index":18,"n_rows":80,"n_cols":24,"rows_kept":80,"cut":false,"hidden":false,"merged":[[0,2,0,7],[10,1,10,2],[1,1,1,7],[2,1,2,7],[3,1,3,7],[7,1,7,2],[8,1,8,2],[4,1,4,2],[4,3,4,7],[5,1,5,2],[5,3,5,5]]}
[null,null,{"$f":"\"FY \" & FY & \" CSBG Annual Report\"","v":"FY 2025 CSBG Annual Report"}]
[null,"Module 4, Section A: Individual and Family National Performance Indicators (FNPIs) - Data Entry Form"]
[null,"Goal 1: Individuals and Families with low incomes are stable and achieve economic security."]
[null,"Outcomes Achieved Across One or More Domains"]
[null,"Name of CSBG Eligible Entity Reporting:",null,{"$f":"M4AgencyName","v":0}]
[null,"State:",null,{"$f":"M4StateName","v":0},null,null,"UEI:",{"$f":"M4UEI","v":0}]
[]
[null,"Outcomes Achieved Across One or More Domains (FNPI 7)",null,"I.) Number of Individuals Served \nin program(s) (#)","II.) Target (#)","III.) Actual Results (#) ","IV.) Percentage Achieving Outcome  \n[III/ I = IV ] (% auto calculated)","V.) Performance Target Accuracy \n(III/II = V] (% auto calculated) "]
[null,"FNPI 7a The number of individuals who achieved one or more outcomes in the identified National Performance Indicators in one or more domains.",null,null,null,null,{"$f":"IFERROR(F9/D9,\"\")","v":""},{"$f":"IFERROR(F9/E9,\"\")","v":""}]
[]
[null,"Other Outcome Indicator (FNPI 7z)",null,"I.) Number of Individuals Served \nin program(s) (#)","II.) Target (#)","III.) Actual Results (#) ","IV.) Percentage Achieving Outcome  \n[III/ I = IV ] (% auto calculated)","V.) Performance Target Accuracy \n(III/II = V] (% auto calculated) "]
[null,"FNPI 7z.1",null,null,null,null,{"$f":"IFERROR(F12/D12,\"\")","v":""},{"$f":"IFERROR(F12/E12,\"\")","v":""}]
[null,"FNPI 7z.2",null,null,null,null,{"$f":"IFERROR(F13/D13,\"\")","v":""},{"$f":"IFERROR(F13/E13,\"\")","v":""}]
[null,"FNPI 7z.3",null,null,null,null,{"$f":"IFERROR(F14/D14,\"\")","v":""},{"$f":"IFERROR(F14/E14,\"\")","v":""}]
[null,"FNPI 7z.4",null,null,null,null,{"$f":"IFERROR(F15/D15,\"\")","v":""},{"$f":"IFERROR(F15/E15,\"\")","v":""}]
[null,"FNPI 7z.5",null,null,null,null,{"$f":"IFERROR(F16/D16,\"\")","v":""},{"$f":"IFERROR(F16/E16,\"\")","v":""}]
[]
[]
[]
[]
[]
[]
[]
[]
[]
[]
[]
[]
[]
[]
[]
[]
[]
[]
[]
[]
[]
[]
[]
[]
[]
[]
[]
[]
[]
[]
[]
[]
[]
[]
[]
[]
[]
[]
[]
[]
[]
[]
[]
[]
[]
[]
[]
[]
[]
[]
[]
[]
[]
[]
[]
[]
[]
[]
[]
[]
[]
[]
[]
[null,null,null,null,null,null,null,null,null,null,null,null,null,null,null,null,null,null,null,null,null,null,null,"hideCol"]

{"sheet":"Services Multiple Domains","index":19,"n_rows":80,"n_cols":26,"rows_kept":80,"cut":false,"hidden":false,"merged":[[0,1,0,2],[11,1,11,2],[1,1,1,2],[2,1,2,2],[3,1,3,2],[7,1,7,2],[9,1,9,2],[4,2,4,4],[26,1,26,2],[28,1,28,2],[30,1,30,2],[13,1,13,2],[15,1,15,2],[18,1,18,2],[20,1,20,2],[24,1,24,2]]}
[null,{"$f":"\"FY \" & FY & \" CSBG Annual Report\"","v":"FY 2025 CSBG Annual Report"}]
[null,"Module 4, Section B: Individual and Family Services - Data Entry Form"]
[null,"Goal 1: Individuals and Families with low-incomes are stable and achieve economic security."]
[null,"Services Supporting Multiple Domains"]
[null,"Name of CSBG Eligible Entity Reporting:",{"$f":"M4AgencyName","v":0}]
[null,"State:",{"$f":"M4StateName","v":0},"UEI:",{"$f":"M4UEI","v":0}]
[null,"Services Supporting Multiple Domains (SRV 7)","Unduplicated Number of \nIndividuals Served"]
[null,"Case Management (SRV 7a)"]
[null,"SRV 7a Case Management"]
[null,"Eligibility Determinations (SRV 7b)"]
[null,"SRV 7b Eligibility Determinations"]
[null,"Referrals (SRV 7c)"]
[null,"SRV 7c Referrals"]
[null,"Transportation Services (SRV 7d)"]
[null,"SRV 7d Transportation Services (e.g. bus passes, bus transport, support for auto purchase or repair; including emergency services)"]
[null,"Childcare (SRV 7e-f)"]
[null,"SRV 7e Child Care subsidies"]
[null,"SRV 7f Child Care payments"]
[null,"Eldercare (SRV 7g)"]
[null,"SRV 7g Day Centers"]
[null,"Identification Documents (SRV 7h-j)"]
[null,"SRV 7h Birth Certificate "]
[null,"SRV 7i Social Security Card "]
[null,"SRV 7j Driver's License "]
[null,"Re-Entry Services (SRV 7k)"]
[null,"SRV 7k Criminal Record Expungements"]
[null,"Legal Assistance (includes emergency legal assistance) (SRV 7l)"]
[null,"SRV 7l Legal Assistance "]
[null,"Emergency Clothing Assistance (SRV 7m)"]
[null,"SRV 7m Emergency Clothing Assistance"]
[null,"Mediation/Customer Advocacy Interventions (debt forgiveness, negotiations or issues with landlords, coordinating with other services or government) (SRV 7n)"]
[null,"SRV 7n Mediation/Customer Advocacy Interventions",null,null,null,null,null,null,null,null,null,null,null,null,null,null,null,null,null,null,null,null,null,null,null,true]
[]
[]
[]
[]
[]
[]
[]
[]
[]
[]
[]
[]
[]
[]
[]
[]
[]
[]
[]
[]
[]
[]
[]
[]
[]
[]
[]
[]
[]
[]
[]
[]
[]
[]
[]
[]
[]
[]
[]
[]
[]
[]
[]
[]
[]
[]
[]
[null,null,null,null,null,null,null,null,null,null,null,null,null,null,null,null,null,null,null,null,null,null,null,"hideCol"]

{"sheet":"Characteristics","index":20,"n_rows":190,"n_cols":30,"rows_kept":190,"cut":false,"hidden":false,"merged":[[1,1,1,13],[0,2,0,13],[3,2,3,4],[3,5,3,13],[4,2,4,4],[4,5,4,9],[4,11,4,13],[168,2,168,6],[58,9,59,13],[2,2,2,14],[18,9,18,13],[32,9,33,13],[35,2,36,6],[43,9,44,13],[51,2,52,6],[53,2,54,6],[55,2,56,6],[146,2,146,5],[66,1,66,6],[79,2,80,8],[81,2,82,8],[83,2,83,8],[8,2,8,13],[101,2,102,5],[102,8,103,13],[85,2,85,13],[105,7,106,13],[115,2,116,5],[126,9,127,13],[128,2,129,5],[143,9,144,13],[160,9,160,10],[149,9,149,10],[150,9,150,10],[151,9,151,10],[152,9,152,10],[153,9,153,10],[154,9,154,10],[155,9,155,10],[156,9,156,10],[157,9,157,10],[158,9,158,10],[159,9,159,10],[150,2,150,6],[181,9,181,10],[182,9,182,10],[175,9,175,10],[176,9,176,10],[177,9,177,10],[178,9,178,10],[179,9,179,10],[180,9,180,10],[174,9,174,10],[161,9,161,10],[162,9,162,10],[163,9,163,10],[164,9,164,10],[167,9,167,10],[168,9,168,10],[169,9,169,10],[170,9,170,10],[171,9,171,10],[172,9,172,10],[173,9,173,10]]}
[null,null,{"$f":"\"FY \" & FY & \" CSBG Annual Report\"","v":"FY 2025 CSBG Annual Report"}]
[null,"Module 4, Section C: All Characteristics Report - Data Entry Form"]
[null,null,"Goal 1: Individuals and Families with low-incomes are stable and achieve economic security."]
[null,null,"Name of CSBG Eligible Entity Reporting:",null,null,{"$f":"M4AgencyName","v":0}]
[null,null,"State:",null,null,{"$f":"M4StateName","v":0},null,null,null,null,"UEI:",{"$f":"M4UEI","v":0}]
[null,null,null,null,null,null,null,null,null,null,null,null,{"$f":"\"FY \" & (FY-1)","v":"FY 2024"}]
[null,"A. Total unduplicated number of all INDIVIDUALS about whom one or more characteristics were obtained:"]
[null,"B. Total unduplicated number of all HOUSEHOLDS about whom one or more characteristics were obtained:"]
[null,null,{"$f":"IF(AND(N7=\"\",SUM(G14+N16+G33+N30+N41+F49+G49+N56+G60+E64+F64+G64+E66+F66+G66+G77)>0,SUM(G14+N16+G33+N30+N41+F49+G49+N56+G60+E64+F64+G64+E66+F66+G66+G77)<100000000),\"INDIVIDUAL LEVEL CHARACTERISTICS CANNOT BE REPORTED UNLESS THE TOTAL UNDUPLICATED NUMBER OF ALL INDIVIDUALS IS REPORTED IN ITEM A\",IF(AND(N7=0,SUM(G14+N16+G33+N30+N41+F49+G49+N56+G60+E64+F64+G64+E66+F66+G66+G77)>0,SUM(G14+N16+G33+N30+N41+F49+G49+N56+G60+E64+F64+G64+E66+F66+G66+G77)<100000000),\"INDIVIDUAL LEVEL CHARACTERISTICS CANNOT BE REPORTED UNLESS THE TOTAL UNDUPLICATED NUMBER OF ALL INDIVIDUALS IS REPORTED IN ITEM A\",\"\"))","v":""},null,null,null,null,null,null,null,null,null,null,null,null,null,null,null,null,"A. Total unduplicated individuals"]
[null,"C. INDIVIDUAL LEVEL CHARACTERISTICS",null,null,null,null,null,null,null,null,null,null,null,null,null,"ERROR: TOTAL COUNT CANNOT BE GREATER THAN THE TOTAL UNDUPLICATED NUMBER OF ALL INDIVIDUALS (ITEM A)",null,null,null,"B. Total unduplicated households"]
[null,"1. Sex",null,null,null,null,"Number of Individuals",null,"6. Ethnicity/Race",null,null,null,null,"Number of Individuals",null,"ERROR: TOTAL COUNT SHOULD NOT BE LESS THAN THE TOTAL UNDUPLICATED NUMBER OF ALL INDIVIDUALS (ITEM A)",null,null,null,"C.1a Gender: Male"]
[null,"a.","Male",null,null,null,null,null,"a. Ethnicity",null,null,null,null,null,null,"ERROR: MALE/FEMALE COUNT CANNOT BE GREATER THAN THE TOTAL UNDUPLICATED NUMBER OF ALL INDIVIDUALS (ITEM A)",null,null,null,"C.1b Gender: Female"]
[null,"b.","Female",null,null,null,null,null,null,"a.1. Hispanic, Latino or Spanish Origins",null,null,null,null,null,null,null,null,null,"C.1c Gender: Other"]
[null,"c.","TOTAL (auto calculated)",null,null,null,{"$f":"SUM(G12:G13)","v":0},null,null,"a.2. Not Hispanic, Latino or Spanish Origins",null,null,null,null,null,null,null,null,null,"C.1d Gender: Unknown/not reported"]
[null,null,null,null,null,null,null,null,null,"a.3. Unknown/not reported",null,null,null,null,null,null,null,null,null,"C.2a Age: 0-5"]
[null,null,null,null,null,null,null,{"$f":"IF(AND(OR('Deprecated Fields'!B18=P10,'Deprecated Fields'!B18=P11)),1,0)","v":0},null,"a.4. TOTAL (auto calculated)",null,null,null,{"$f":"SUM(N13:N15)","v":0},{"$f":"IF(AND(OR(J19=P10,J19=P11)),1,0)","v":0},null,null,null,null,"C.2b Age: 6-13"]
[null,null,null,null,null,null,null,null,null,null,null,null,null,null,null,null,null,null,null,"C.2c Age: 14-17"]
[null,null,null,null,null,null,null,null,null,"Section C.6a Status",null,null,null,null,null,null,null,null,null,"C.2d Age: 18-24"]
[null,null,null,null,null,null,null,null,null,{"$f":"IF(AND(N16<>0,N16>N7,N7<>\"\",N7<>0,N7>0,N7<100000000,N16>0,N16<100000000),P10,IF(AND(N16<>0,N16<N7,N7>0,N7<100000000,N16>0,N16<100000000),P11,\"\"))","v":""},null,null,null,null,null,null,null,null,null,"C.2e Age: 25-44"]
[null,null,null,null,null,null,null,null,null,null,null,null,null,null,null,null,null,null,null,"C.2f Age: 45-54"]
[null,"2. Age",null,null,null,null,"Number of Individuals",null,"b. Race",null,null,null,null,null,null,null,null,null,null,"C.2g Age: 55-59"]
[null,"a.","0-5",null,null,null,null,null,null,"b.1. American Indian or Alaska Native",null,null,null,null,null,null,null,null,null,"C.2h Age: 60-64"]
[null,"b.","6-13",null,null,null,null,null,null,"b.2. Asian",null,null,null,null,null,null,null,null,null,"C.2i Age: 65-74"]
[null,"c.","14-17",null,null,null,null,null,null,"b.3. Black or African American",null,null,null,null,null,null,null,null,null,"C.2j Age: 75+"]
[null,"d.","18-24",null,null,null,null,null,null,"b.4. Native Hawaiian and Other Pacific Islander ",null,null,null,null,null,null,null,null,null,"C.2k Age: Unknown/not reported"]
[null,"e.","25-44",null,null,null,null,null,null,"b.5. White",null,null,null,null,null,null,null,null,null,"C.3a Grades 0-8 [ages 14-24]"]
[null,"f.","45-54",null,null,null,null,null,null,"b.6. Other",null,null,null,null,null,null,null,null,null,"C.3b Grades 9-12/Non-graduate [ages 14-24]"]
[null,"g.","55-59",null,null,null,null,null,null,"b.7. Multi-race (two or more of the above)",null,null,null,null,null,null,null,null,null,"C.3c High school graduate/equivalency diploma [ages 14-24]"]
[null,"h.","60-64",null,null,null,null,null,null,"b.8. Unknown/not reported",null,null,null,null,null,null,null,null,null,"C.3d 12 grade + Some Post-Secondary [ages 14-24]"]
[null,"i.","65-74",null,null,null,null,null,null,"b.9. TOTAL (auto calculated)",null," ",null,{"$f":"SUM(N22:N29)","v":0},{"$f":"IF(AND(OR(J33=P10,J33=P11)),1,0)","v":0},null,null,null,null,"C.3e 2 or 4 years college graduate [ages 14-24]"]
[null,"j.","75+",null,null,null,null,null,null,null,null,null,null,null,null,null,null,null,null,"C.3f Graduate of other post-secondary school [ages 14-24]"]
[null,"k.","Unknown/not reported",null,null,null,null,null,null,"Section C.6b Status",null,null,null,null,null,null,null,null,null,"C.3g Unknown/not reported [ages 14-24]"]
[null,"l.","TOTAL (auto calculated)",null,null,null,{"$f":"SUM(G22:G32)","v":0},{"$f":"IF(AND(OR(C36=P10,C36=P11)),1,0)","v":0},null,{"$f":"IF(AND(N30<>0,N30>N7,N7<>\"\",N7<>0,N7>0,N7<100000000,N30>0,N30<100000000),P10,IF(AND(N30<>0,N30<N7,N7<>\"\",N7<>0,N7>0,N7<100000000,N30>0,N30<100000000),P11,\"\"))","v":""},null,null,null,null,null,null,null,null,null,"C.4a Youth ages 14-24 neither working nor in school"]
[null,null,null,null,null,null,null,null,null,null,null,null,null,null,null,null,null,null,null,"C.5a Disabling condition: Yes"]
[null,null,"Section C.2 Status",null,null,null,null,null,null,null,null,null,null,null,null,null,null,null,null,"C.5a Disabling condition: No"]
[null,null,{"$f":"IF(AND(G33>N7,N7<>\"\",N7<>0,G33<>0,N7>0,N7<100000000,G33<>0,G33>0,G33<100000000),P10, IF(AND(G33<N7,N7<>\"\",N7<>0,G33<>0,N7>0,N7<100000000,G33<>0,G33>0,G33<100000000),P11,\"\"))","v":""},null,null,null,null,null,"7. Military Status",null,null,null,null,"Number of Individuals",null,null,null,null,null,"C.5a Disabling condition: Unknown"]
[null,null,null,null,null,null,null,null,"a. Veteran",null,null,null,null,null,null,null,null,null,null,"C.5b Health insurance: Yes"]
[null,null,null,null,null,null,null,null,"b. Active Military",null,null,null,null,null,null,null,null,null,null,"C.5b Health insurance: No"]
[null,"3. Education Levels ",null,null,null,null,"Number of Individuals",null,"c. Never Served in the Military"]
[null,null,null,null,null,"[ages 14-24]","[ages 25+]",null,"d. Unknown/not reported",null,null,null,null,null,null,null,"TOTAL NUMBER OF INDIVIDUALS REPORTING MILITARY STATUS IS GREATER THAN INDIVIDUALS REPORTED AS 18+ (SUM OF C.2d THROUGH C.2j)",null,null,"C.5b Health insurance: Unknown"]
[null,"a.","Grades 0-8",null,null,null,null,null,"e. TOTAL (auto calculated)",null,null,null,null,{"$f":"SUM(N37:N40)","v":0},null,null,"TOTAL NUMBER OF INDIVIDUALS REPORTING WORK STATUS IS GREATER THAN INDIVIDUALS REPORTED AS 18+ (SUM OF C.2d THROUGH C.2j)",null,null,"C.5c.1 Health insurance: Medicaid"]
[null,"b.","Grades 9-12/Non-Graduate",null,null,null,null,null,null,null,null,null,null,null,null,null,null,null,null,"C.5c.2 Health insurance: Medicare"]
[null,"c.","High School Graduate",null,null,null,null,null,null,"Section C.7 Status",null,null,null,null,null,null,null,null,null,"C.5c.3 Health insurance: State Children's Health Insurance Program"]
[null,"d.","GED/Equivalency Diploma",null,null,null,null,null,null,{"$f":"IF(AND(N41<>0,N41>N7,N7<>0,N7<>\"\",N7<100000000,N41>0,N41<100000000),P10,IF(AND(N41<>0,N41>SUM(G25:G31),N7<100000000,N41>0,N41<100000000),\"TOTAL NUMBER OF INDIVIDUALS REPORTING MILITARY STATUS IS GREATER THAN INDIVIDUALS REPORTED AS 18+ (SUM OF C.2d THROUGH C.2j)\",\"\"))","v":""},null,null,null,null,null,null,null,null,null,"C.5c.4 Health insurance: State Health Insurance for Adults"]
[null,"e.","12 grade + Some Post-Secondary",null,null,null,null,null,null,null,null,null,null,null,null,null,null,null,null,"C.5c.5 Health insurance: Military Health Care"]
[null,"f.","2 or 4 years College Graduate",null,null,null,null,null,null,null,null,null,null,null,null,null,null,null,null,"C.5c.6 Health insurance: Direct-Purchase"]
[null,"g.","Graduate of other post-secondary school ",null,null,null,null,null,"8. Work Status (Individuals 18+)",null,null,null,null,"Number of Individuals",null,null,null,null,null,"C.5c.7 Health insurance: Employment Based"]
[null,"h.","Unknown/not reported",null,null,null,null,null,"a. Employed Full-Time",null,null,null,null,null,null,null,null,null,null,"C.5c.8 Health insurance: Unknown/not reported"]
[null,"i.","TOTAL (auto calculated)",null,{"$f":"IF(OR(C52<>\"\",C54<>\"\"),1,0)","v":0},{"$f":"SUM(F41:F48)","v":0},{"$f":"SUM(G41:G48)","v":0},{"$f":"IF(OR(C52<>\"\",C56<>\"\"),1,0)","v":0},"b. Employed Part-Time",null,null,null,null,null,null,null,null,null,null,"C.6a.1 Ethnicity: Hispanic, Latino, or Spanish origins"]
[null,null,null,null,null,null,null,null,"c. Migrant or Seasonal Farm Worker",null,null,null,null,null,null,null,null,null,null,"C.6a.2 Ethnicity: Not Hispanic, Latino or Spanish origins"]
[null,null,"Section C.3 Status",null,null,null,null,null,"d. Unemployed (Short-Term, 6 months or less)",null,null,null,null,null,null,null,null,null,null,"C.6a.3 Ethnicity: Unknown/not reported"]
[null,null,{"$f":"IF(AND(F49+G49>N7,N7<>\"\",N7<>0,N7>0,N7<100000000,F49+G49>0,F49+G49<100000000),\"ERROR:  C.3h [ages 14-24] + C.3h [ages 25+] CANNOT BE GREATER THAN THE TOTAL UNDUPLICATED NUMBER OF ALL INDIVIDUALS (ITEM A)\",\"\")","v":""},null,null,null,null,null,"e. Unemployed (Long-Term, more than 6 months) ",null,null,null,null,null,null,null,null,null,null,"C.6b.1 Race: American Indian or Alaska Native"]
[null,null,null,null,null,null,null,null,"f. Unemployed (Not in Labor Force)",null,null,null,null,null,null,null,null,null,null,"C.6b.2 Race: Asian"]
[null,null,{"$f":"IF(AND(F49>G24+G25,F49<>0,F49>0,F49<100000000),\"ERROR: THE TOTAL NUMBER OF INDIVIDUALS REPORTED IN EDUCATION LEVELS FOR C.3i [ages 14-24] EXCEEDS THE SUM OF C.2c & C.2d\",IF(AND(F49<G24+G25,F49<>0,F49>0,F49<100000000),\"ERROR: THE TOTAL NUMBER OF INDIVIDUALS REPORTED IN EDUCATION LEVELS FOR C.3i. [ages 14-24] IS LESS THAN THE SUM OF C.2c & C.2d\",\"\"))","v":""},null,null,null,null,null,"g.","Retired",null,null,null,null,null,null,null,null,null,"C.6b.3 Race: Black or African American"]
[null,null,null,null,null,null,null,null,"h.","Unkown/not reported",null,null,null,null,null,null,null,null,null,"C.6b.4 Race: Native Hawaiian and other Pacific Islander"]
[null,null,{"$f":"IF(AND(G49>G26+G27+G28+G29+G30+G31,G49<>0,G49>0,G49<100000000),\"ERROR: THE TOTAL NUMBER OF INDIVIDUALS REPORTED IN EDUCATION LEVELS FOR C.3i [ages 25+] EXCEEDS THE SUM OF C.2e THROUGH C.2j\",IF(AND(G49<G26+G27+G28+G29+G30+G31,G49<>0,G49>0,G49<100000000),\"ERROR: THE TOTAL NUMBER OF INDIVIDUALS REPORTED IN EDUCATION LEVELS FOR C.3i. [ages 25+] IS LESS THAN THE SUM OF C.2e THROUGH C.2j\",\"\"))","v":""},null,null,null,null,null,"i.","Total (autocalculated)",null,null,null,{"$f":"SUM(N48:N55)","v":0},null,null,null,null,null,"C.6b.5 Race: White"]
[null,null,null,null,null,null,null,null,null,null,null,null,null,null,null,null,null,null,null,"C.6b.6 Race: Other"]
[null,null,null,null,null,null,null,null,null,"Section C.8 Status",null,null,null,null,null,null,null,null,null,"C.6b.7 Race: Multi-race"]
[null,"4. Disconnected Youth",null,null,null,null,"Number of Individuals",null,null,{"$f":"IF(AND(N56<>0,N56>N7,N7<>\"\",N7<>\"\",N7<100000000,N56>0,N56<100000000),P10, IF(AND(N56<>0,N56>SUM(G25:G31),N7<100000000,N56>0,N56<100000000),\"TOTAL NUMBER OF INDIVIDUALS REPORTING WORK STATUS IS GREATER THAN INDIVIDUALS REPORTED AS 18+ (SUM OF C.2d THROUGH C.2j)\",\"\"))","v":""},null,null,null,null,null,null,null,null,null,"C.6b.8 Race: Unknown/not reported"]
[null,"a. Youth ages 14-24 who are neither working or in school ",null,null,null,null,null,null,null,null,null,null,null,null,null,null,null,null,null,"C.7a Military Status: Veteran"]
[null,null,null,null,null,null,null,null,null,null,null,null,null,null,null,null,null,null,null,"C.7b Military Status: Active Military"]
[null,"5. Health",null,null,null,null,"Number of Individuals",null,null,null,null,null,null,null,null,null,null,null,null,"C.7c Military Status: Unknown/not reported"]
[null,null,null,null,"Yes","No","Unknown",null,null,null,null,null,null,null,null,null,null,null,null,"C.8a Work Status: Employed full-time"]
[null,"a. Disabling Condition",null,null,null,null,null,{"$f":"SUM(E64:G64)","v":0},null,null,null,null,null,null,null,null,null,null,null,"C.8b Work Status: Employed part-time"]
[null,null,null,null,"Yes","No","Unknown",null,null,null,null,null,null,null,null,null,null,null,null,"C.8c Work Status: Migrant seasonal farm worker"]
[null,"b. Health Insurance*",null,null,null,null,null,{"$f":"SUM(E66:G66)","v":0},null,null,null,null,null,null,null,null,null,null,null,"C.8d Work Status: Unemployed (Short-term, 6 months or less)"]
[null,"*If an individual reported that they had Health Insurance please identify the source of health insurance below.",null,null,null,null,null,null,null,null,null,null,null,null,null,null,null,null,null,"C.8e Work Status: Unemployed (Long-term, more than 6 months)"]
[null,null,"Health Insurance Sources",null,null,null,null,null,null,null,null,null,null,null,null,null,null,null,null,"C.8f Work Status: Unemployed (not in labor force)"]
[null,null,"c.1. Medicaid",null,null,null,null,null,null,null,null,null,null,null,null,null,null,null,null,"C.8g Work Status: Retired"]
[null,null,"c.2. Medicare",null,null,null,null,null,null,null,null,null,null,null,null,null,null,null,null,"C.8h Work Status: Unknown/not reported"]
[null,null,"c.3. State Children’s Health Insurance Program",null,null,null,null,null,null,null,null,null,null,null,null,null,null,null,null,"C.3a Grades 0-8 [ages 25+]"]
[null,null,"c.4. State Health Insurance for Adults",null,null,null,null,null,null,null,null,null,null,null,null,null,null,null,null,"C.3b Grades 9-12/Non-graduate [ages 25+]"]
[null,null,"c.5. Military Health Care",null,null,null,null,null,null,null,null,null,null,null,null,null,null,null,null,"C.3c High school graduate/equivalency diploma [ages 25+]"]
[null,null,"c.6. Direct-Purchase",null,null,null,null,null,null,null,null,null,null,null,null,null,null,null,null,"C.3d 12 grade + Some Post-Secondary [ages 25+]"]
[null,null,"c.7. Employment Based",null,null,null,null,null,null,null,null,null,null,null,null,null,null,null,null,"C.3e 2 or 4 years college graduate [ages 25+]"]
[null,null,"c.8. Unknown/not reported",null,null,null,null,null,null,null,null,null,null,null,null,null,null,null,null,"C.3f Graduate of other post-secondary school [ages 25+]"]
[null,null,"c.9. TOTAL (auto calculated)",null,null,null,{"$f":"SUM(G69:G76)","v":0},{"$f":"IF(C84= \"ERROR: TOTAL COUNT OF INSURANCE SOURCES (C.5.c.9) IS LESS THAN C.5b[Yes]\",1,0)","v":0},null,null,null,null,null,null,null,null,null,null,null,"C.3g Unknown/not reported [ages 25+]"]
[null,null,null,null,null,null,null,null,null,null,null,null,null,null,null,null,null,null,null,"D.9a Household Type: Single Person"]
[null,null,"Section C.5 Status",null,null,null,null,null,null,null,null,null,null,null,null,null,null,null,null,"D.9b Household Type: Two Adults NO Children"]
[null,null,{"$f":"IF(AND(E64+F64+G64>N7,N7<>\"\",H64<>0,N7<>0,N7>0,N7<100000000,H64>0,H64<100000000),\"ERROR: SUM OF INDIVIDUALS REPORTED IN DISABLING CONDITION C.5a DATA FIELDS CANNOT BE GREATER THAN THE TOTAL UNDUPLICATED NUMBER OF ALL INDIVIDUALS (ITEM A)\",IF(AND(E64+F64+G64<N7,H64<>0,N7>0,N7<100000000,H64>0,H64<100000000),\"ERROR: SUM OF INDIVIDUALS REPORTED IN DISABLING CONDITION C.5a DATA FIELDS IS LESS THAN THE TOTAL UNDUPLICATED NUMBER OF ALL INDIVIDUALS (ITEM A)\",\"\"))","v":""},null,null,null,null,null,null,null,null,null,null,null,null,null,null,null,null,"D.9c Household Type: Single Parent Female"]
[null,null,null,null,null,null,null,null,null,null,null,null,null,null,null,null,null,null,null,"D.9d Household Type: Single Parent Male"]
[null,null,{"$f":"IF(AND(H66<>0,E66+F66+G66>N7,N7<>\"\",N7<>0,N7>0,N7<100000000,H66>0,H66<100000000),\"ERROR: SUM OF INDIVIDUALS REPORTED IN HEALTH INSURANCE C.5b DATA FIELDS CANNOT BE GREATER THAN THE TOTAL UNDUPLICATED NUMBER OF ALL INDIVIDUALS (ITEM A)\",IF(AND(H66<>0,E66+F66+G66<N7,N7<>\"\",N7<>0,N7>0,N7<100000000,H66>0,H66<100000000),\"ERROR: SUM OF INDIVIDUALS REPORTED IN HEALTH INSURANCE C.5b DATA FIELDS IS LESS THAN THE TOTAL UNDUPLICATED NUMBER OF ALL INDIVIDUALS (ITEM A)\",\"\"))","v":""},null,null,null,null,null,null,null,null,null,null,null,null,null,null,null,null,"D.9e Household Type: Two Parent Household"]
[null,null,null,null,null,null,null,null,null,null,null,null,null,null,null,null,null,null,null,"D.9f Household Type: Non-Related Adults with Children"]
[null,null,{"$f":"IF(AND(G77<>0,G77<E66,G77>0,G77<100000000),\"ERROR: TOTAL COUNT OF INSURANCE SOURCES (C.5.c.9) IS LESS THAN C.5b[Yes]\",IF(AND(G77<>0,G77>0,G77<100000000,OR(E66=\"\",E66=0)),\"ERROR: C.5b[Yes] MUST BE GREATER THAN ZERO\",\"\"))","v":""},null,null,null,null,null,null,null,null,null,null,null,null,null,null,null,null,"D.9g Multigenerational Household"]
[null,null,null,null,null,null,null,null,null,null,null,null,null,null,null,"ERROR:  TOTAL COUNT GREATER THAN ITEM B",null,null,null,"D.9h Household Type: Other"]
[null,null,{"$f":"IF(AND(N8=\"\",SUM(F99,N99,F113,F126,F144,P117,P133)>0,SUM(F99,N99,F113,F126,F144,P117,P133)<100000000),\"IN ITEM B (TOP OF THIS TAB), YOU MUST REPORT THE UNDUPLICATED NUMBER OF HOUSEHOLDS ABOUT WHOM CHARACTERISTICS WERE OBTAINED (ITEM B)\",IF(AND(N8=0,SUM(F99,N99,F113,F126,F144,P117,P133)>0,SUM(F99,N99,F113,F126,F144,P117,P133)<100000000),\"IN ITEM B (TOP OF THIS TAB), YOU MUST REPORT THE UNDUPLICATED NUMBER OF HOUSEHOLDS ABOUT WHOM CHARACTERISTICS WERE OBTAINED (ITEM B)\",\"\"))","v":""},null,null,null,null,null,null,null,null,null,null,null,null,"ERROR: TOTAL COUNT LESS THAN ITEM B",null,null,null,"D.9i Household Type: Unknown/not reported"]
[null,null,null,null,null,null,null,null,null,null,null,null,null,null,null,null,null,null,null,"D.10a Household Size: Single Person"]
[null,"D. HOUSEHOLD LEVEL CHARACTERISTICS",null,null,null,null,null,null,null,null,null,null,null,null,null,null,null,null,null,"D.10b Household Size: Two"]
[null,"9. Household Type",null,null,null,"Number of Households",null,"13. Sources of Household Income",null,null,null,null,null,"Number of Households",null,null,null,null,null,"D.10c Household Size: Three"]
[null,"a. Single Person",null,null,null,null,null,"a. Income from Employment Only ",null,null,null,null,null,null,null,null,null,null,null,"D.10d Household Size: Four"]
[null,"b. Two Adults NO Children",null,null,null,null,null,"b. Income from Employment and Other Income Source  ",null,null,null,null,null,null,{"$f":"IF(OR(N91<0,N91>99999999),1,0)","v":0},null,null,null,null,"D.10e Household Size: Five"]
[null,"c. Single Parent Female",null,null,null,null,null,"c. Income from Employment, Other Income Source, and Non-Cash Benefits",null,null,null,null,null,null,{"$f":"IF(OR(N92<0,N92>99999999),1,0)","v":0},null,null,null,null,"D.10f Household Size: Six or more"]
[null,"d. Single Parent Male",null,null,null,null,null,"d. Income from Employment and Non-Cash Benefits",null,null,null,null,null,null,{"$f":"IF(OR(N93<0,N93>99999999),1,0)","v":0},null,null,null,null,"D.10g Household Size: Unknown/not reported"]
[null,"e. Two Parent Household",null,null,null,null,null,"e. Other Income Source Only",null,null,null,null,null,null,{"$f":"IF(OR(N94<0,N94>99999999),1,0)","v":0},null,null,null,null,"D.11a Housing: Own"]
[null,"f. Non-related Adults with Children",null,null,null,null,null,"f. Other Income Source and Non-Cash Benefits",null,null,null,null,null,null,{"$f":"IF(OR(N95<0,N95>99999999),1,0)","v":0},null,null,null,null,"D.11b Housing: Rent"]
[null,"g. Multigenerational Household",null,null,null,null,null,"g. No Income",null,null,null,null,null,null,null,null,null,null,null,"D.11c Housing: Other permanent housing"]
[null,"h. Other",null,null,null,null,null,"h. Non-Cash Benefits Only",null,null,null,null,null,null,{"$f":"IF(OR(N97<0,N97>99999999),1,0)","v":0},null,null,null,null,"D.11d Housing: Homeless"]
[null,"i. Unknown/not reported",null,null,null,null,null,"i. Unknown/not reported",null,null,null,null,null,null,null,null,null,null,null,"D.11e Housing: Other"]
[null,null,"j. TOTAL (auto calculated)",null,null,{"$f":"SUM(F90:F98)","v":0},{"$f":"IF(C102<>\"\",1,0)","v":0},"j. TOTAL (auto calculated)",null,null,null,null,null,{"$f":"SUM(N90:N98)","v":0},null,null,null,null,null,"D.11f Housing: Unknown/not reported"]
[null,null,null,null,null,null,null,null,null,null,null,null,null,null,{"$f":"IF(I103<>\"\",1,0)","v":0},null,null,null,null,"D.12a Level of Household Income: Up to 50%"]
[null,null,"Section D.9 Status",null,null,null,null,null,null,null,null,null,null,null,null,null,null,null,null,"D.12b Level of Household Income: 51% to 75%"]
[null,null,{"$f":"IF(AND(F99<>0,F99>N8,N8<>\"\",N8<>0,N8>0,N8<100000000,F99>0,F99<100000000),\"ERROR:  TOTAL HOUSEHOLD TYPE COUNT CANNOT BE GREATER THAN THE UNDUPLICATED NUMBER OF HOUSEHOLDS REPORTED IN ITEM B\",IF(AND(F99<>0,F99<N8,N8<>\"\",N8<>0,N8>0,N8<100000000,F99>0,F99<100000000),\"ERROR: HOUSEHOLD TYPE TOTAL COUNT LESS THAN THE UNDUPLICATED NUMBER OF HOUSEHOLDS REPORTED IN ITEM B\",\"\"))","v":""},null,null,null,null,null,"Section D.13 Status",null,null,null,null,null,null,null,null,null,null,"D.12c Level of Household Income: 76% to 100%"]
[null,null,null,null,null,null,null,null,{"$f":"IF(AND(N99<>0,N99>N8,N8<>\"\",N8<>0,N8>0,N8<100000000,N99>0,FN99<100000000),\"ERROR:  TOTAL SOURCES OF HOUSEHOLD INCOME COUNT CANNOT BE GREATER THAN THE UNDUPLICATED NUMBER OF HOUSEHOLDS REPORTED IN ITEM B\",IF(AND(N99<>0,N99<N8,N8<>\"\",N8<>0,N8>0,N8<100000000,N99>0,FN99<100000000),\"ERROR: SOURCES OF HOUSEHOLD INCOME TOTAL COUNT LESS THAN THE UNDUPLICATED NUMBER OF HOUSEHOLDS REPORTED IN ITEM B\",\"\"))","v":""},null,null,null,null,null,null,null,null,null,null,"D.12d Level of Household Income: 101% to 125%"]
[null,null,null,null,null,null,null,null,null,null,null,null,null,null,null,null,null,null,null,"D.12e Level of Household Income: 126% to 150%"]
[null,"10. Household Size",null,null,null,"Number of Households",null,null,null,null,null,null,null,null,null,null,null,null,null,"D.12f Level of Household Income: 151% to 175%"]
[null,"a. Single Person",null,null,null,null,null,"Below, please report the types of Other income and/or non-cash benefits received by the households who reported sources other than employment ",null,null,null,null,null,null,null,null,null,null,null,"D.12g Level of Household Income: 176% to 200%"]
[null,"b. Two",null,null,null,null,null,null,null,null,null,null,null,null,null,null,null,null,null,"D.12h Level of Household Income: 201% to 250%"]
[null,"c. Three",null,null,null,null,null,null,null,null,null,null,null,null,null,null,null,null,null,"D.12i Level of Household Income: 251% and over"]
[null,"d. Four",null,null,null,null,null,null,null,"14. Other Income Source",null,null,null,"Number of Households",null,null,null,null,null,"D.12j Level of Household Income: Unknown/not reported"]
[null,"e. Five",null,null,null,null,null,null,null,"a. TANF",null,null,null,null,{"$f":"IF(AND(N110>N$91+N$92+N$94+N$95,O91<>1,O92<>1,O94<>1,O95<>1),1,0)","v":0},null,null,null,null,"D.13a Sources of Household Income: Income from Employment Only"]
[null,"f. Six or more",null,null,null,null,null,null,null,"b. Supplemental Security Income (SSI)",null,null,null,null,{"$f":"IF(AND(N111>N$91+N$92+N$94+N$95,O91<>1,O92<>1,O94<>1,O95<>1),1,0)","v":0},null,null,null,null,"D.13b Sources of Household Income: Income from Employment and Other Income Source"]
[null,"g. Unknown/not reported",null,null,null,null,null,null,null,"c. Social Security Disability Income (SSDI)",null,null,null,null,{"$f":"IF(AND(N112>N$91+N$92+N$94+N$95,O91<>1,O92<>1,O94<>1,O95<>1),1,0)","v":0},null,null,null,null,"D.13c Sources of Household Income: Income from Employment, Other Income Source, and Non-Cash Benefits"]
[null,"h. TOTAL (auto calculated)",null,null,null,{"$f":"SUM(F106:F112)","v":0},{"$f":"IF(C116<>\"\",1,0)","v":0},null,null,"d. VA Service-Connected Disability Compensation",null,null,null,null,{"$f":"IF(AND(N113>N$91+N$92+N$94+N$95,O91<>1,O92<>1,O94<>1,O95<>1),1,0)","v":0},null,null,null,null,"D.13d Sources of Household Income: Income from Employment and Non-Cash Benefits"]
[null,null,null,null,null,null,null,null,null,"e. VA Non-Service Connected Disability Pension",null,null,null,null,{"$f":"IF(AND(N114>N$91+N$92+N$94+N$95,O91<>1,O92<>1,O94<>1,O95<>1),1,0)","v":0},null,null,null,null,"D.13e Sources of Household Income: Other Income Source Only"]
[null,null,"Section D.10 Status",null,null,null,null,null,null,"f. Private Disability Insurance",null,null,null,null,{"$f":"IF(AND(N115>N$91+N$92+N$94+N$95,O91<>1,O92<>1,O94<>1,O95<>1),1,0)","v":0},null,null,null,null,"D.13f Sources of Household Income: Other Income Source and Non-Cash Benefits"]
[null,null,{"$f":"IF(AND(F113<>0,F113>N8,N8<>\"\",N8<>0,N8>0,N8<100000000,F113>0,F113<100000000),\"ERROR:  TOTAL HOUSEHOLD SIZE COUNT CANNOT BE GREATER THAN THE UNDUPLICATED NUMBER OF HOUSEHOLDS REPORTED IN ITEM B\",IF(AND(F113<>0,F113<N8,N8<>0,N8>0,N8>0,N8<100000000,F113>0,F113<100000000),\"ERROR: HOUSEHOLD SIZE TOTAL COUNT LESS THAN THE UNDUPLICATED NUMBER OF HOUSEHOLDS REPORTED IN ITEM B\",\"\"))","v":""},null,null,null,null,null,null,"g. Worker’s Compensation",null,null,null,null,{"$f":"IF(AND(N116>N$91+N$92+N$94+N$95,O91<>1,O92<>1,O94<>1,O95<>1),1,0)","v":0},null,null,null,null,"D.13g Sources of Household Income: No Income"]
[null,null,null,null,null,null,null,null,null,"h. Retirement Income from Social Security",null,null,null,null,{"$f":"IF(AND(N117>N$91+N$92+N$94+N$95,O91<>1,O92<>1,O94<>1,O95<>1),1,0)","v":0},{"$f":"SUM(N110:N124)","v":0},null,null,null,"D.13h Sources of Household Income: Non-Cash Benefits Only"]
[null,null,null,null,null,null,null,null,null,"i. Pension",null,null,null,null,{"$f":"IF(AND(N118>N$91+N$92+N$94+N$95,O91<>1,O92<>1,O94<>1,O95<>1),1,0)","v":0},null,null,null,null,"D.13i Sources of Household Income: Unknown/not reported"]
[null,"11. Housing ",null,null,null,"Number of Households",null,null,null,"j. Child Support",null,null,null,null,{"$f":"IF(AND(N119>N$91+N$92+N$94+N$95,O91<>1,O92<>1,O94<>1,O95<>1),1,0)","v":0},null,null,null,null,"D.14a Other Income Source: TANF"]
[null,"a. Own",null,null,null,null,null,null,null,"k. Alimony or other Spousal Support",null,null,null,null,{"$f":"IF(AND(N120>N$91+N$92+N$94+N$95,O91<>1,O92<>1,O94<>1,O95<>1),1,0)","v":0},null,null,null,null,"D.14b Other Income Source: Supplemental Security Income (SSI)"]
[null,"b. Rent",null,null,null,null,null,null,null,"l. Unemployment Insurance",null,null,null,null,{"$f":"IF(AND(N121>N$91+N$92+N$94+N$95,O91<>1,O92<>1,O94<>1,O95<>1),1,0)","v":0},null,null,null,null,"D.14c Other Income Source: Social Security Disability Income (SSDI)"]
[null,"c. Other permanent housing",null,null,null,null,null,null,null,"m. EITC",null,null,null,null,{"$f":"IF(AND(N122>N$91+N$92+N$94+N$95,O91<>1,O92<>1,O94<>1,O95<>1),1,0)","v":0},null,null,null,null,"D.14d Other Income Source: VA Service-Connected Disability Compensation"]
[null,"d. Homeless",null,null,null,null,null,null,null,"n. Other",null,null,null,null,{"$f":"IF(AND(N123>N$91+N$92+N$94+N$95,O91<>1,O92<>1,O94<>1,O95<>1),1,0)","v":0},null,null,null,null,"D.14e Other Income Source: VA Non-Service Connected Disability Pension"]
[null,"e. Other",null,null,null,null,null,null,null,"o. Unknown/not reported",null,null,null,null,{"$f":"IF(AND(N124>N$91+N$92+N$94+N$95,O91<>1,O92<>1,O94<>1,O95<>1),1,0)","v":0},null,null,null,null,"D.14f Other Income Source: Private Disability Insurance"]
[null,"f. Unknown/not reported",null,null,null,null,null,null,null,null,null,null,null,{"$f":"SUM(Characteristics!N110:N124)","v":0},{"$f":"IF(N133>N92+N93+N95+N97,1,0)","v":0},null,null,null,null,"D.14g Other Income Source: Worker's Compensation"]
[null,"g. TOTAL (auto calculated)",null,null,null,{"$f":"SUM(F120:F125)","v":0},{"$f":"IF(C129<>\"\",1,0)","v":0},null,null,"Section D.14 Status",null,null,null,null,{"$f":"IF(N134>N92+N93+N95+N97,1,0)","v":0},null,null,null,null,"D.14h Other Income Source: Retirement Income from Social Security"]
[null,null,null,null,null,null,null,null,null,{"$f":"IF(SUM(O110:O124)>0,\"NO ITEM IN OTHER INCOME SOURCE (SECTION 14) CAN BE GREATER THAN THE SUM OF D.13b, D.13c, D.13e, & D.13f.\",\"\")","v":""},null,null,null,null,{"$f":"IF(N135>N92+N93+N95+N97,1,0)","v":0},null,null,null,null,"D.14i Other Income Source: Pension"]
[null,null,"Section D.11 Status",null,null,null,null,null,null,null,null,null,null,null,{"$f":"IF(N136>N92+N93+N95+N97,1,0)","v":0},null,null,null,null,"D.14j Other Income Source: Child Support"]
[null,null,{"$f":"IF(AND(F126<>0,F126>N8,N8<>\"\",N8<>0,N8<>0,N8>0,N8<100000000,F126>0,F126<100000000),\"ERROR:  TOTAL HOUSING COUNT CANNOT BE GREATER THAN THE UNDUPLICATED NUMBER OF HOUSEHOLDS REPORTED IN ITEM B\", IF(AND(F126<>0,F126<N8,N8<>\"\",N8<>0,N8<>0,N8>0,N8<100000000,F126>0,F126<100000000),\"ERROR: HOUSING TOTAL COUNT LESS THAN THE UNDUPLICATED NUMBER OF HOUSEHOLDS REPORTED IN ITEM B\",\"\"))","v":""},null,null,null,null,null,null,null,null,null,null,null,{"$f":"IF(N137>N92+N93+N95+N97,1,0)","v":0},null,null,null,null,"D.14k Other Income Source: Alimony"]
[null,null,null,null,null,null,null,null,null,"15. Non-Cash Benefits",null,null,null,"Number of Households",{"$f":"IF(N138>N92+N93+N95+N97,1,0)","v":0},null,null,null,null,"D.14l Other Income Source: Unemployment Insurance"]
[null,null,null,null,null,null,null,null,null,"a. SNAP",null,null,null,null,{"$f":"IF(AND(N131>N92+N93+N95+N97,O92<>1,O93<>1,O95<>1,O97<>1),1,0)","v":0},null,null,null,null,"D.14m Other Income Source: EITC"]
[null,"12. Level of Household Income",null,null,null,"Number of Households",null,null,null,"b. WIC",null,null,null,null,{"$f":"IF(AND(N132>N92+N93+N95+N97,O92<>1,O93<>1,O95<>1,O97<>1),1,0)","v":0},null,null,null,null,"D.14n Other Income Source: Other"]
[null,"(% of HHS Guideline)",null,null,null,null,null,null,null,"c. LIHEAP",null,null,null,null,{"$f":"IF(AND(N133>N92+N93+N95+N97,O92<>1,O93<>1,O95<>1,O97<>1),1,0)","v":0},{"$f":"SUM(N131:N141)","v":0},null,null,null,"D.14o Other Income Source: Unknown/not reported"]
[null,"a. Up to 50%",null,null,null,null,null,null,null,"d. Housing Choice Voucher",null,null,null,null,{"$f":"IF(AND(N134>N92+N93+N95+N97,O92<>1,O93<>1,O95<>1,O97<>1),1,0)","v":0},null,null,null,null,"D.15a Non-Cash Benefits: SNAP"]
[null,"b. 51% to 75%  ",null,null,null,null,null,null,null,"e. Public Housing",null,null,null,null,{"$f":"IF(AND(N135>N92+N93+N95+N97,O92<>1,O93<>1,O95<>1,O97<>1),1,0)","v":0},null,null,null,null,"D.15b Non-Cash Benefits: WIC"]
[null,"c. 76% to 100%",null,null,null,null,null,null,null,"f. Permanent Supportive Housing",null,null,null,null,{"$f":"IF(AND(N136>N92+N93+N95+N97,O92<>1,O93<>1,O95<>1,O97<>1),1,0)","v":0},null,null,null,null,"D.15c Non-Cash Benefits: LIHEAP"]
[null,"d. 101% to 125%",null,null,null,null,null,null,null,"g. HUD-VASH",null,null,null,null,{"$f":"IF(AND(N137>N92+N93+N95+N97,O92<>1,O93<>1,O95<>1,O97<>1),1,0)","v":0},null,null,null,null,"D.15d Non-Cash Benefits: Housing Choice Voucher"]
[null,"e. 126% to 150%",null,null,null,null,null,null,null,"h. Childcare Voucher",null,null,null,null,{"$f":"IF(AND(N138>N92+N93+N95+N97,O92<>1,O93<>1,O95<>1,O97<>1),1,0)","v":0},null,null,null,null,"D.15e Non-Cash Benefits: Public Housing"]
[null,"f. 151% to 175%",null,null,null,null,null,null,null,"i. Affordable Care Act Subsidy",null,null,null,null,{"$f":"IF(AND(N139>N92+N93+N95+N97,O92<>1,O93<>1,O95<>1,O97<>1),1,0)","v":0},null,null,null,null,"D.15f Non-Cash Benefits: Permanent Supportive Housing"]
[null,"g. 176% to 200%",null,null,null,null,null,null,null,"j. Other",null,null,null,null,{"$f":"IF(AND(N140>N92+N93+N95+N97,O92<>1,O93<>1,O95<>1,O97<>1),1,0)","v":0},null,null,null,null,"D.15g Non-Cash Benefits: HUD-VASH"]
[null,"h. 201% to 250%",null,null,null,null,null,null,null,"k. Unknown/not reported",null,null,null,null,{"$f":"IF(AND(N141>N92+N93+N95+N97,O92<>1,O93<>1,O95<>1,O97<>1),1,0)","v":0},null,null,null,null,"D.15h Non-Cash Benefits: Childcare Voucher"]
[null,"i. 251% and over",null,null,null,null,null,null,null,null,null,null,null,{"$f":"SUM(Characteristics!N131:N141)","v":0},{"$f":"IF(N150>N106+N108+N110+N112,1,0)","v":0},null,null,null,null,"D.15i Non-Cash Benefits: Affordable Care Act Subsidy"]
[null,"j. Unknown/not reported",null,null,null,null,null,null,null,"Section D.15 Status",null,null,null,null,null,null,null,null,null,"D.15j Non-Cash Benefits: Other"]
[null,"k. TOTAL (auto calculated)",null,null,null,{"$f":"SUM(F134:F143)","v":0},{"$f":"IF(C147<>\"\",1,0)","v":0},null,null,{"$f":"IF(SUM(O131:O141)>0,\"NO ITEM IN NON CASH BENEFITS (SECTION 15) CAN BE GREATER THAN THE SUM OF D.13c, D.13d,  D.13f, and D.13h.  \",\"\")","v":""},null,null,null,null,null,null,null,null,null,"D.15k Non-Cash Benefits: Unknown/not reported"]
[]
[null,null,"Section D.12 Status"]
[null,null,{"$f":"IF(AND(F144<>0,F144>N8,N8<>\"\",N8<>0,N8>0,N8<100000000,F144>0,F144<100000000),\"ERROR:  TOTAL LEVEL OF HOUSEHOLD INCOME COUNT CANNOT BE GREATER THAN THE UNDUPLICATED NUMBER OF HOUSEHOLDS REPORTED IN ITEM B\", IF(AND(F144<>0,F144<N8,N8<>\"\",N8<>0,N8>0,N8<100000000,F144>0,F144<100000000),\"ERROR: LEVEL OF HOUSEHOLD INCOME TOTAL COUNT LESS THAN THE UNDUPLICATED NUMBER OF HOUSEHOLDS REPORTED IN ITEM B\",\"\"))","v":""}]
[]
[null,"E. Number of Individuals Who May or May Not be Included in the Totals Above   (due to data collection system integration barriers) "]
[null,null,"a. Please list the unduplicated number of INDIVIDUALS served in each program*:",null,null,null,null,null,null,"Program Name",null,"Number of Individuals"]
[null,null,{"$f":"IF(J166<>L166,\"ENTRY INCOMPLETE: Enter Program Name and Number of Individuals Served\", \"\")","v":""}]
[]
[]
[]
[]
[]
[]
[]
[]
[]
[]
[]
[]
[]
[]
[null,null,null,null,null,null,null,null,null,{"$f":"COUNTIF(J151:J165,\"\")","v":15},null,{"$f":"COUNTIF(L151:L165,\"\")","v":15}]
[null,"F. Number of Households Who May or May Not be Included in the Totals Above   (due to data collection system integration barriers) "]
[null,null,"a. Please list the unduplicated number of HOUSEHOLDS served in each program*:",null,null,null,null,null,null,"Program Name",null,"Number of Households"]
[null,null,{"$f":"IF(J184<>L184,\"ENTRY INCOMPLETE: Enter Program Name and Number of Households Served\",\"\")","v":""}]
[]
[]
[]
[]
[]
[]
[]
[]
[]
[]
[]
[]
[]
[]
[null,null,null,null,null,null,null,null,null,{"$f":"COUNTIF(J169:J183,\"\")","v":15},null,{"$f":"COUNTIF(L169:L183,\"\")","v":15}]
[]
[]
[]
[]
[]
[null,null,null,null,null,null,null,null,null,null,null,null,null,null,null,null,null,null,null,null,null,null,null,null,null,null,null,null,null,"hideCol"]

{"sheet":"Error Messages","index":21,"n_rows":121,"n_cols":6,"rows_kept":121,"cut":false,"hidden":false,"merged":[]}
["ERROR ID","INCLUDED/EXCLUDED DATAPOINTS","VALIDATION TRIGGER","MESSAGE DESCRIPTION","ACTION REQUIRED","ADDITIONAL STATUS MESSAGE"]
["ERR_ACR_001","Included Datapoints: \nAll as a single group","All Characteristics Datapoints = 0 or Blank","WARNING: No data reported\n","There is no data reported for any Module 4, Section C Characteristics datapoint.  If correct as initially submitted, please confirm and provide an explanation.  If not correct, please complete the applicable datapoints under the Characteristics section.","There is no data reported for any Module 4, Section C Characteristics datapoint.\nIf correct as initially submitted, please confirm and provide an explanation.\nIf not correct, please complete the applicable datapoints under the Characteristics section."]
["ERR_ACR_002","Included Datapoints: \nAll as a single group","All Characteristics CY Datapoints = PY Datapoints\n","WARNING: Other","The current year's data is the same as the previous year's data for all Module 4, Section C Characteristics datapoints.  If correct as initially submitted, please confirm and provide an explanation.  If not correct, please update all applicable datapoints to provide data for the current year.","The current year's data is the same as the previous year's data for all Module 4, Section C Characteristics datapoints.\nIf correct as initially submitted, please confirm and provide an explanation.\nIf not correct, please update all applicable datapoints to provide data for the current year."]
["ERR_ACR_003","ACR A.","Two Conditions\n1) ACR A. = 0 or Blank\n2) At least 1 ACR C. datapoint > 0","ERROR: Missing data","If there are Individual Level Characteristic reported (C.1.  through C.8.), then Total Individuals (ACR A.) must be completed.  Please provide the total unduplicated number of individuals about whom one or more characteristic were obtain.","If there are Individual Level Characteristic reported (C.1. through C.8.), then Total Individuals (ACR A.) must be completed.\nPlease provide the total unduplicated number of individuals about whom one or more characteristic were obtain."]
["ERR_ACR_004","ACR A.","CY is ≥ or ≤ 100% PY Datapoint ","WARNING: Significant difference between current and previous year","ACR A.  is either at least 100% more or 100% less than the previous year's value.  If correct as initially submitted, please confirm and provide an explanation.  If incorrect, please revise.","ACR A. is either at least 100% more or 100% less than the previous year's value.\nIf correct as initially submitted, please confirm and provide an explanation.\nIf incorrect, please revise."]
["ERR_ACR_005","ACR B.","Two Conditions\n1) ACR B. = 0 or Blank\n2) At least 1 ACR D. datapoint > 0","ERROR: Missing data","If there are Household Level Characteristic reported (ACR D.9.  through ACR D.15.), then Total Households (ACR B.) must be completed.  Please provide the total unduplicated number of households about whom one or more characteristic were obtained.","If there are Household Level Characteristic reported (ACR D.9. through ACR D.15.), then Total Households (ACR B.) must be completed.\nPlease provide the total unduplicated number of households about whom one or more characteristic were obtained.\n"]
["ERR_ACR_006","ACR B.","CY is ≥ or ≤ 100% PY Datapoint ","WARNING: Significant difference between current and previous year","ACR B.  is either at least 100% more or 100% less than the previous year's value.  If correct as initially submitted, please confirm and provide an explanation.  If incorrect, please revise.","ACR B. is either at least 100% more or 100% less than the previous year's value.\nIf correct as initially submitted, please confirm and provide an explanation.\nIf incorrect, please revise."]
["ERR_ACR_007","ACR B.","ACR B. = 75% or More of ACR A.\nARC B < ARC A","WARNING: Irregularity between related datapoints","Total Households (ACR B.) is close to what was reported for Total Individuals (ACR A.). Please review these two datapoints. If correct as initially submitted, please confirm and provide an explanation. If incorrect, please revise.","Total Households (ACR B.) is close to what was reported for Total Individuals (ACR A.). \nPlease review these two datapoints.   If correct as initially submitted, please confirm and provide an explanation. \nIf incorrect, please revise."]
["ERR_ACR_008","ACR C.","Two Conditions\n1) ACR A. > 0 \n2) All ACR C. datapoint are Blank","ERROR: Missing data","If Total Individuals (ACR A.) is reported, then Individual Level Characteristic datapoints must be completed (ACR C.1.  through ACR C.8.).  Please complete the applicable ACR C.  datapoints.  If one or more Indivdual Characteristics Category was not collected for any or all individuals, please report these households under Unknown/Not Reported.","If Total Individuals (ACR A.) is reported, then Individual Level Characteristic datapoints must be completed (ACR C.1. through ACR C.8.).\nPlease complete the applicable ACR C. datapoints.\nIf one or more Indivdual Characteristics Category was not collected for any or all individuals, please report these households under Unknown/Not Reported."]
["ERR_ACR_009","Excluded Datapoints: \nACR C.1c. \nACR C.3i. Both totals\nACR C.4a. \nACR C.5c.9.\nACR C.7e. \nACR C.8i.","ACR C. Characteristic Total (e.g., ACR C.2l.)  ≠ ACR A.","ERROR: Subset datapoint not equal to primary datapoint\n","The Characteristic Category total must equal Total Individuals (ACR A.).  Please review all values reported under the characteristic category and revise as necessary so that this datapoint is the same as Total Individuals (ACR A).  If this data is not collected for any or all individuals, please report the difference under Unknown/Not Reported.","The Characteristic Category total must equal Total Individuals (ACR A.).\nPlease review all values reported under the characteristic category and \nrevise as necessary so that this datapoint is the same as Total Individuals (ACR A).\nIf this data is not collected for any or all individuals, \nplease report the difference under Unknown/Not Reported.\n"]
["ERR_ACR_010","ACR C.3i. [ages 14-24]","ACR C.3i. [ages 14-24] ≠  Sum of ACR C.2c. through ACR C.2d.","ERROR: Subset datapoint not equal to primary datapoint\n","The total reported under Education Levels [ages 14-24] must equal the total number of individuals aged 14-24.  Please review all values reported under ACR C3.  [ages 14-24] and revise as necessary to obtain a total that is equal to the number reported for the sum of ACR C2.c.  through ACR C2.d.  If this data is not collected for any or all individuals, please report the difference under Unknown/Not Reported.","The total reported under Education Levels [ages 14-24] must equal the total number of individuals aged 14-24.\nPlease review all values reported under ACR C3. [ages 14-24] and revise as necessary to obtain a total that is equal to the number reported for the sum of ACR C2.c. through ACR C2.d.\nIf this data is not collected for any or all individuals, please report the difference under Unknown/Not Reported."]
["ERR_ACR_011","ACR C.3i. [ages 25+]","ACR C.3i. [ages 25+] ≠  Sum of ACR C.2e. through ACR C.2j.","ERROR: Subset datapoint not equal to primary datapoint\n","The total reported under Education Levels [ages 25+] must equal the total number of individuals aged 25 and older.  Please review all values reported under ACR C3.  [ages 25+] and revise as necessary to obtain a total that is equal to the number reported for the sum of ACR C2.e.  through ACR C2.j.  If this data is not collected for any or all individuals, please report the difference under Unknown/Not Reported.","The total reported under Education Levels [ages 25+] must equal the total number of individuals aged 25 and older.\nPlease review all values reported under ACR C3. [ages 25+] and revise as necessary to obtain a total that is equal to the number reported for the sum of ACR C2.e. through ACR C2.j.\nIf this data is not collected for any or all individuals, please report the difference under Unknown/Not Reported."]
["ERR_ACR_012","ACR C.4a.","ACR C.4a. > Sum of ACR C.2c. through ACR C.2d.","ERROR: Subset datapoint not equal to primary datapoint\n","ACR 4a.  cannot exceed the sum of ACR 2c.  through ACR 2d.  Please review these datapoints to determine which one(s) needs revision.  Make the necessary corrections so that the number reported under Disconnected Youth is not larger than the number of individuals aged 14-24.","ACR 4a. cannot exceed the sum of ACR 2c. through ACR 2d.\nPlease review these datapoints to determine which one(s) needs revision.\nMake the necessary corrections so that the number reported under Disconnected Youth is not larger than the number of individuals aged 14-24."]
["ERR_ACR_013","ACR C.5b. Yes","Two Conditions\n1) At least one ACR C.5c.1. through ACR C.5c.8. Characteristic Datapoint > 0\n2) ACR C.5b. Yes = 0 or blank\n\n","ERROR: Missing data","If one or more ACR C.5c.1.  through ACR C.5c.8.  datapoints are completed, then ACR C.5b.  Yes must be completed.  Please enter an unduplicated number of individuals that indicated they had health insurance for ACR 5b.  Yes.","If one or more ACR C.5c.1. through ACR C.5c.8. datapoints are completed, then ACR C.5b. Yes must be completed.\nPlease enter an unduplicated number of individuals that indicated they had health insurance for ACR 5b. Yes.\n"]
["ERR_ACR_014","ACR C.5c.","Two Conditions \n1) ACR C.5b. Yes > 0 \n2) No ACR C.5c. Characteristic Datapoint > 0","ERROR: Missing data","If ACR C.5b.  Yes is completed, then one or more ACR C.5c.1.  through ACR C.5c.8.  datapoints must be completed.  Please enter the types of health insurance individuals reported that they have under the applicable Health Insurance Sources datapoints.  If this data is not collected for any or all individuals, please report the difference under Unknown/Not Reported.","If ACR C.5b. Yes is completed, then one or more ACR C.5c.1. through ACR C.5c.8. datapoints must be completed.\nPlease enter the types of health insurance individuals reported that they have under the applicable Health Insurance Sources datapoints.\nIf this data is not collected for any or all individuals, please report the difference under Unknown/Not Reported."]
["ERR_ACR_015","Included Datapoints: \nACR C.5c.1. through ACR C.5c.8.","ACR  C.5c.{}.> ACR C.5b. Yes","ERROR: Subset datapoint larger than the primary datapoint","The Health Insurance Source type cannot exceed the total number of individuals reporting that they have health insurance (ACR C.5b.  Yes).  Please review these two datapoints to determine which one(s) needs revision.  Make the necessary corrections so that the number reported for the datapoint is not larger than the number of individuals report as having health insurance (ACR C.5b.  Yes).","The Health Insurance Source type cannot exceed the total number of individuals reporting that they have health insurance (ACR C.5b. Yes).\nPlease review these two datapoints to determine which one(s) needs revision.\nMake the necessary corrections so that the number reported for the datapoint is not larger than the number of individuals report as having health insurance (ACR C.5b. Yes)."]
["ERR_ACR_016","ACR C.5c.9.","ACR C.5c.9. < ACR C.5b. Yes","ERROR: Subset datapoint less than the primary datapoint","ACR C.5c.9.  must be equal to or larger than ACR C.5b.  Yes.  Please review all values reported under these datapoints and update as needed so that the number reported under Health Insurance Yes is not less than the total number of individuals reported under Health Insurance Sources total.","ACR C.5c.9. must be equal to or larger than ACR C.5b. Yes.\nPlease review all values reported under these datapoints and update as needed so that the number reported under \nHealth Insurance Yes is not less than the total number of individuals reported under Health Insurance Sources total.\n"]
["ERR_ACR_017","ACR C.5c.9.","ACR C.5c.9. = ACR A.","WARNING: Irregularity between related datapoints","ACR C.5c.9.  is the same number as ACR A.  Health Insurance Sources (ACR C.5c.) should only be reported for individuals that were included under ACR 5b.  Yes.  Please review the ACR C.5c.  datapoints to ensure that only those who have health insurance (ACR C.5b.  Yes) are included.  If correct as initially submitted, please confirm and provide an explanation.  If incorrect, please revise one or more datapoints under ACR C.5c.  .  to exclude individuals that either do not have health insurance and/or the characteristic as not obtained.","ACR C.5c.9. is the same number as ACR A.\nHealth Insurance Sources (ACR C.5c.) should only be reported for individuals that were included under ACR 5b. Yes\nPlease review the ACR C.5c. datapoints to ensure that only those who have health insurance (ACR C.5b. Yes) are included.\nIf correct as initially submitted, please confirm and provide an explanation.\nIf incorrect, please revise one or more datapoints under ACR C.5c. \nto exclude individuals that either do not have health insurance and/or the characteristic as not obtained."]
["ERR_ACR_018","Included Datapoints \nACR 7e.\nACR 8i.","ACR C. Characteristic Total (e.g., ACR C.7e.)  ≠ Sum of ACR C.2d. through ACR C.2j.","ERROR: Subset datapoint not equal to primary datapoint\n","The total reported for this datapoint must equal the total number of individuals aged 18 and older.  Please review all values reported the Characteristic Category and revise as necessary to obtain a total that is equal to the number reported for the sum of ACR C2.d.  through ACR C2.j.  If this data is not collected for any or all individuals, please report the difference under Unknown/Not Reported.","The total reported for this datapoint must equal the total number of individuals aged 18 and older.\nPlease review all values reported the Characteristic Category and revise as necessary to obtain a total that is equal to the number reported for the sum of ACR C2.d. through ACR C2.j.\nIf this data is not collected for any or all individuals, please report the difference under Unknown/Not Reported."]
["ERR_ACR_019","ACR D.","Two Conditions\n1) ACR B. > 0 \n2) All ACR D. datapoint >are Blank","ERROR: Missing data","If Total Households (ACR B.) is reported, then Household Level Characteristic datapoints must be completed (ACR D.9.  through ACR D.15.).  Please complete the applicable ACR D.  datapoints.  If one or more Household Characteristics Category was not collected for any or all hosueholds, please report these households under Unknown/Not Reported.","If Total Households (ACR B.)  is reported, then Household Level Characteristic datapoints must be completed (ACR D.9. through ACR D.15.).\nPlease complete the applicable ACR D. datapoints.\nIf one or more Household Characteristics Category was not collected for any or all hosueholds, please report these households under Unknown/Not Reported."]
["ERR_ACR_020","Included Datapoints: \nAll ACR D. with a Total","ACR C. Characteristic Total (e.g., ACR C.2l.)  ≠ ACR B.","ERROR: Subset datapoint not equal to primary datapoint\n","The Characteristic Category total must equal Total Households (ACR B.).  Please review all values reported under the characteristic category and revise as necessary so that this datapoint is the same as Total Households (ACR B).  If this data is not collected for any or all households, please report the difference under Unknown/Not Reported.","The Characteristic Category total must equal Total Households (ACR B.).\nPlease review all values reported under the characteristic category and revise as necessary so that this datapoint is the same as Total Households (ACR B).\nIf this data is not collected for any or all households, please report the difference under Unknown/Not Reported."]
["ERR_ACR_021","ACR D.10a.","ACR 10a. ≠ ACR 9a.","ERROR: Subset datapoint not equal to primary datapoint\n","ACR D.10a.  should equal ACR D.9a.  Please review these two data points to determine which one (or both) needs corrected.  Please make the necessary revision(s) so that the number of Single Person household type equals the Single Person household size.","ACR D.10a. should equal ACR D.9a. Please review these two data points to determine which one (or both) needs corrected.\nPlease make the necessary revision(s) so that the number of Single Person household type equals the Single Person household size."]
["ERR_ACR_022","ACR D.13.","Five Conditions\n1) At least one ACR D.14a. through ACR D.14o. Characteristic Datapoint > 0\n2) ACR D.13b. = 0 or Blank \n3) ACR D.13c. = 0 or Blank\n4) ACR D.13e. = 0 or Blank\n5) ACR D.13f. = 0 or Blank\n\n","ERROR: Missing data","If one or more D.14a.  through D.14o.  datapoints are completed, then at least of the Other Income Source options under ACR D.13.  must be completed.  Please enter an unduplicated number of households that indicated they had non-employment source of income in the applicable ACR D.13b., ACR D.13c., ACR D.13e.  and/or ACR D.14f.  datapoints.","If one or more D.14a. through D.14o. datapoints are completed, then at least of the Other Income Source options under ACR D.13. must be completed.\nPlease enter an unduplicated number of households that indicated they had non-employment source of income in the applicable ACR D.13b., ACR D.13c., ACR D.13e. and/or ACR D.14f. datapoints."]
["ERR_ACR_023","ACR D.13.","Five Conditions\n1) At least one ACR D.15a. through ACR D.15k. Characteristic Datapoint > 0\n2) ACR D.13c. = 0 or Blank \n3) ACR D.13d. = 0 or Blank\n4) ACR D.13f. = 0 or Blank\n5) ACR D.13h. = 0 or Blank\n\n","ERROR: Missing data","If one or more D.15a.  through D.15k.  datapoints are completed, then at least of the Non-Cash Benefits options under ACR D.13.  must be completed.  Please enter an unduplicated number of households that indicated they had non-employment source of income in the applicable ACR D.13c., ACR D.13d., ACR D.13f.  and/or ACR D.14h.  datapoints.","If one or more D.15a. through D.15k. datapoints are completed, then at least of the Non-Cash Benefits options under ACR D.13. must be completed.\nPlease enter an unduplicated number of households that indicated they had non-employment source of income in the applicable ACR D.13c., ACR D.13d., ACR D.13f. and/or ACR D.14h. datapoints."]
["ERR_ACR_024","ACR D.14a.","ACR D.14{} > Sum of ACR D.13b., D.13c., D.13e., and D.13f.","ERROR: Subset datapoint larger than the primary datapoint","The datapoint cannot exceed the sum of D.13b., D.13c., D.13e., and D.13f.  Please review these datapoints and determine which one(s) need revision.  Please make the necessary revisions so that the household number reported under this datapoint is not larger than the number of households that have reported having Other Income Source under D.13.","The datapoint cannot exceed the sum of D.13b., D.13c., D.13e., and D.13f.\nPlease review these datapoints and determine which one(s) need revision.\nPlease make the necessary revisions so that the household number reported under this datapoint is not larger than the number of households that have reported having Other Income Source under D.13."]
["ERR_ACR_025","ACR D.14.","Sum of ACR D.14a. through ACR D.14o. < Sum of ACR D.13b., ACR D.13c., ACR D.13e., and ACR D.13f.","ERROR: Subset datapoint less than the primary datapoint","The sum of ACR D.14a.  through ACR D.14o.  must be equal to or larger than the sum of ACR D.13b., ACR D.13c., ACR D.13e., and ACR D.13f.  Please review all values reported under these datapoints and update as needed so that households reported under Other Income Source (ACR D.14.) is not less than aggregated number of households reported having Employment and Other Income, Employment, Other Income, and Non-Cash Benefits, Other Income Only, and Other Income and Non-Cash Benefits under Sources of Household Income (ACR D.13.).  If this data is not collected for any or all households, please report the difference under Unknown/Not Reported.","The sum of ACR D.14a. through ACR D.14o. must be equal to or larger than the sum of ACR D.13b., ACR D.13c., ACR D.13e., and ACR D.13f.\nPlease review all values reported under these datapoints and update as needed so that households reported under Other Income Source (ACR D.14.) \nis not less than aggregated number of households reported having Employment and Other Income, Employment, Other Income, and \nNon-Cash Benefits, Other Income Only,  and Other Income and Non-Cash Benefits under Sources of Household Income (ACR D.13.).\nIf this data is not collected for any or all households, please report the difference under Unknown/Not Reported."]
["ERR_ACR_026","ACR D.15a.","ACR D.15{} > Sum of ACR D.13c., ACR D.13d., ACR D.13f., and ACR D.13h.","ERROR: Subset datapoint larger than the primary datapoint","The datapoint cannot exceed the sum of ACR D.13c., ACR D.13d., ACR D.13f., and ACR D.13h.  Please review these datapoints and determine which one(s) need revision.  Please make the necessary revisions so that the household number reported for this datapoint is not larger than the number of households that have reported having Non-Cash Benefits under D.13.","The datapoint cannot exceed the sum of ACR D.13c., ACR D.13d., ACR D.13f., and ACR D.13h.\nPlease review these datapoints and determine which one(s) need revision.\nPlease make the necessary revisions so that the household number reported for this datapoint is not larger than the number of households that have reported having Non-Cash Benefits under D.13."]
["ERR_ACR_027","ACR D.15.","Sum of ACR D.15a. through ACR D.15k. < Sum of ACR D.13., ACR D.13d., ACR D.13f., and ACR D.13h.","ERROR: Subset datapoint less than the primary datapoint","The sum of ACR D.15a.  through ACR D.15k.  must be equal to or larger than the sum of ACR D.13c., ACR D.13d., ACR D.13f., and ACR D.13h.  Please review all values reported under these datapoints and update as needed so that households reported under Other Income Source (ACR D.14.) is not less than aggregated number of households reported having Employment and Other Income, Employment, Other Income, and Non-Cash Benefits, Other Income Only, and Other Income and Non-Cash Benefits under Sources of Household Income (ACR D.13.).  If this data is not collected for any or all households, please report the difference under Unknown/Not Reported.","The sum of ACR D.15a. through ACR D.15k. must be equal to or larger than the sum of  ACR D.13c., ACR D.13d., ACR D.13f., and ACR D.13h.\nPlease review all values reported under these datapoints and update as needed so that households reported under Other Income Source (ACR D.14.) \nis not less than aggregated number of households reported having Employment and Other Income, Employment, Other Income, and \nNon-Cash Benefits, Other Income Only,  and Other Income and Non-Cash Benefits under Sources of Household Income (ACR D.13.).\nIf this data is not collected for any or all households, please report the difference under Unknown/Not Reported."]
["ERR_ACR_028","Included Datapoints: \nACR E1. through ACR E.10.\nACR F1. through ACR F.10.","Two Conditions\n1) Program Name Not Blank\n2) Number of Individuals = 0","ERROR: Missing data","The agency has listed a Program Name but has not provided a value for Number of Individuals.  Please review and correct either by providing the number served or deleting the program name if entered in error.","The agency has listed a Program Name but has not provided a value for Number of Individuals.\nPlease review and correct either by providing the number served or deleting the program name if entered in error."]
["ERR_ACR_029","Included Datapoints: \nACR E1. through ACR E.10.\nACR F1. through ACR F.11.","Two Conditions\n1) Program Name Is Blank\n2) Number of Individuals > 0","ERROR: Missing data","The agency has listed a value for Number of Individuals but has not listed a Program Name.  Please review and correct either by providing the program name or deleting the number served if entered in error.","The agency has listed a value for Number of Individuals but has not listed a Program Name.\nPlease review and correct either by providing the program name or deleting the number served if entered in error."]
["ERR_ACR_030","ACR C.1c. \n","ACR C.1c  > ACR A.","ERROR: Subset datapoint larger than primary datapoint\n","Sex total (ACR C.1c.) cannot exceed Total Individuals (ACR A.). Please review all values reported under Sex and revise as necessary so that this datapoint is not larger than Total Individuals (ACR A).","Sex total (ACR C.1c.) cannot exceed Total Individuals (ACR A.). \nPlease review all values reported under Sex and revise as necessary so that this datapoint is not larger than Total Individuals (ACR A)."]
["ERR_ACR_031","ACR B.","ARC B > ARC A"," ERROR: Subset datapoint larger than the primary datapoint","Total Households (ACR B.) is is larger than what was reported for Total Individuals (ACR A.). Please review these two datapoints and determine which one (or both) is incorrect. Please make the necessary changes so that ACR B. is not larger than ACR A.","Total Households (ACR B.) is is larger than what was reported for Total Individuals (ACR A.). \nPlease review these two datapoints and determine which one (or both) is incorrect. \nPlease make the necessary changes so that ACR B. is not larger than ACR A."]
["ERR_ACR_032","ACR C.5a.","ARC 5a  Yes + No + Unknown <> ARC A","ERROR: Subset datapoint not equal to primary datapoint ","The total of Yes, No and Unknown must equal Total Individuals (ACR A.).  Please review all values reported under the characteristic category and revise as necessary so that the total is the same as Total Individuals (ACR A).  If this data is not collected for any or all individuals, please report the difference under Unknown/Not Reported.","The total of Yes, No and Unknown must equal Total Individuals (ACR A.).\nPlease review all values reported under the characteristic category and revise as necessary so that the total is the same as Total Individuals (ACR A).\nIf this data is not collected for any or all individuals, please report the difference under Unknown/Not Reported."]
["ERR_ACR_033","ACR C.5b.","ARC 5b  Yes + No + Unknown <> ARC A","ERROR: Subset datapoint not equal to primary datapoint ","The total of Yes, No and Unknown must equal Total Individuals (ACR A.).  Please review all values reported under the characteristic category and revise as necessary so that the total is the same as Total Individuals (ACR A).  If this data is not collected for any or all individuals, please report the difference under Unknown/Not Reported.","The total of Yes, No and Unknown must equal Total Individuals (ACR A.).\nPlease review all values reported under the characteristic category and revise as necessary so that the total is the same as Total Individuals (ACR A).\nIf this data is not collected for any or all individuals, please report the difference under Unknown/Not Reported."]
["ERR_FNPI_001","Included Datapoints: \nAll as a single group","All FNPI Datapoints (all columns) = 0 or Blank","WARNING: No data reported\n","There is no data reported for any Module 4, Section A FNPIs datapoint.  If correct as initially submitted, please confirm and provide an explanation.  If not correct, please complete the applicable datapoints for the FNPIs section.","There is no data reported for any Module 4, Section A FNPIs datapoint.\nIf correct as initially submitted, please confirm and provide an explanation.\nIf not correct, please complete the applicable datapoints for the FNPIs section."]
["ERR_FNPI_002","Included Datapoints: \nAll as a single group","All FNPI CY Datapoints = PY Datapoints","WARNING: Other","The current year's data is the same as the previous year's data for all Module 4, Section A FNPIs datapoints.  If correct as initially submitted, please confirm and provide an explanation.  If not correct, please update all applicable datapoints to provide data for the current year.","The current year's data is the same as the previous year's data for all Module 4, Section A FNPIs datapoints.\nIf correct as initially submitted, please confirm and provide an explanation.\nIf not correct, please update all applicable datapoints to provide data for the current year."]
["ERR_FNPI_003","Included Datapoints: \nAll datapoints for the domain as a single group","Two Conditions \n1) At least 1 SRV for the Domain  > 0\n2) All FNPI Columns for the same Domain = 0 or Blank ","WARNING: Irregularity between related datapoints","There is at least one service reported for the {domain} domain but no outcomes have been reported for it.  If correct as initially submitted, please confirm.  If not correct, please report on all applicable FNPIs for the domain.","There is at least one service reported for the {domain} domain but no outcomes have been reported for it.\nIf correct as initially submitted, please confirm.\nIf not correct, please report on all applicable FNPIs for the domain.\n"]
["ERR_FNPI_004","Excluded Datapoints: \nFNPI 1a. \nFNPI 1h.1. through FNPI 1h.3. \nFNPI 2a. \nFNPI 2b. \nFNPI 2c.1. through FNPI 2c.3. \nFNPI 2d.1. through FNPI 2d.3. \nFNPI 5f.\nFNPI 5g. \nFNPI 5i.1. through FNPI 5i.2. \nFNPI 6a.1. through FNPI 6a.3.","FNPI Column I > ACR A.","WARNING: Irregularity between related datapoints","Individuals Served (Column I) is larger than Total Individuals (ACR A).  This means more individuals worked towards the outcome than was reported for the All Characteristics Report.  If correct as initially submitted, please confirm and provide an explanation.  If not correct, please revise Individuals Served (Column I) to report the correct number.","Individuals Served (Column I) is larger than Total Individuals (ACR A).\nThis means more individuals worked towards the outcome than was reported for the All Characteristics Report.\nIf correct as initially submitted, please confirm and provide an explanation.\nIf not correct, please revise Individuals Served (Column I) to report the correct number."]
["ERR_FNPI_005","Excluded Datapoints: \nFNPI 1a. \nFNPI 1h.1. through FNPI 1h.3. \nFNPI 2a. \nFNPI 2b. \nFNPI 2c.1. through FNPI 2c.3. \nFNPI 2d.1. through FNPI 2d.3. \nFNPI 5f.\nFNPI 5g. \nFNPI 5i.1. through FNPI 5i.2. \nFNPI 6a.1. through FNPI 6a.3.","FNPI Column I = ACR A.","WARNING: Irregularity between related datapoints","Individuals Served (Column I) is the same number as Total Individuals (ACR A).  This means all individuals reported for the All Characteristics Report worked towards the outcome.  If correct as initially submitted, please confirm and provide an explanation.  If not correct, please revise Individuals Served (Column I) to report the correct number.","Individuals Served (Column I) is the same number as Total Individuals (ACR A).\nThis means all individuals reported for the All Characteristics Report worked towards the outcome.\nIf correct as initially submitted, please confirm and provide an explanation.\nIf not correct, please revise Individuals Served (Column I) to report the correct number."]
["ERR_FNPI_006","Excluded Datapoints: \nFNPI 1a. \nFNPI 1h.1. through FNPI 1h.3. \nFNPI 2a. \nFNPI 2b. \nFNPI 2c.1. through FNPI 2c.3. \nFNPI 2d.1. through FNPI 2d.3. \nFNPI 5f.\nFNPI 5g. \nFNPI 5i.1. through FNPI 5i.2. \nFNPI 6a.1. through FNPI 6a.3.","FNPI Column III > ACR A.","WARNING: Irregularity between related datapoints","Actual Results (Column III) is larger than Total Individuals (ACR A).  This means more individuals achieved the outcome than was reported for the All Characteristics Report.  If correct as initially submitted, please confirm and provide an explanation.  If not correct, please revise Actual Results (Column III) to report the correct number.","Actual Results (Column III) is larger than Total Individuals (ACR A).\nThis means more individuals achieved the outcome than was reported for the All Characteristics Report.\nIf correct as initially submitted, please confirm and provide an explanation.\nIf not correct, please revise Actual Results (Column III) to report the correct number."]
["ERR_FNPI_007","Excluded Datapoints: \nFNPI 1a. \nFNPI 1h.1. through FNPI 1h.3. \nFNPI 2a. \nFNPI 2b. \nFNPI 2c.1. through FNPI 2c.3. \nFNPI 2d.1. through FNPI 2d.3. \nFNPI 5f.\nFNPI 5g. \nFNPI 5i.1. through FNPI 5i.2. \nFNPI 6a.1. through FNPI 6a.3.","FNPI Column III = ACR A.","WARNING: Irregularity between related datapoints","Actual Results (Column I) is the same number as Total Individuals (ACR A).  This means all individuals reported for the All Characteristics Report achieved the outcome.  If correct as initially submitted, please confirm and provide an explanation.  If not correct, please revise Actual Results (Column III) to report the correct number.","Actual Results (Column I) is the same number as Total Individuals (ACR A).\nThis means all individuals reported for the All Characteristics Report achieved the outcome.\nIf correct as initially submitted, please confirm and provide an explanation.\n If not correct, please revise Actual Results (Column III) to report the correct number."]
["ERR_FNPI_008","Included Datapoints: \nAll FNPI Column Is as individual datapoints","Two Conditions \n1) FNPI Column II > 0 OR FNPI Column III > 0\n2) FNPI Column I = Blank","ERROR: Missing data","Individuals Served (Column I) cannot be blank.  You must enter a number 0 or larger.","Individuals Served (Column I) cannot be blank.\nYou must enter a number 0 or larger."]
["ERR_FNPI_009","Included Datapoints: \nAll FNPI Column IIs as individual datapoints","Two Conditions \n1) FNPI Column I > 0 OR FNPI Column III > 0\n2) FNPI Column II = Blank","ERROR: Missing data","Target (Column II) cannot be blank.  You must enter a number 0 or larger.","Target (Column II) cannot be blank.\nYou must enter a number 0 or larger."]
["ERR_FNPI_010","Included Datapoints: \nAll FNPI Column IIIs as individual datapoints","Two Conditions \n1) FNPI Column I > 0 OR FNPI Column II > 0\n2) FNPI Column III = Blank","ERROR: Missing data","Actual Results (Column III) cannot be blank.  You must enter a number 0 or larger.","Actual Results (Column III) cannot be blank.\nYou must enter a number 0 or larger."]
["ERR_FNPI_011","Included Datapoints: \nAll datapoints for the domain as a single group","Column I = Column III","WARNING: Irregularity between related datapoints","Actual Results (Column III) is the same number as Individuals Served (Column I).  This means that all individuals who worked towards the outcome achieved it.  If correct as initially submitted, please confirm and provide an explanation.  If not correct, please revise either (both) the Individuals Served (Column I) or (and) Actual Results (Column III) to report the correct number(s).","Actual Results (Column III) is the same number as Individuals Served (Column I).\nThis means that all individuals who worked towards the outcome achieved it.\nIf correct as initially submitted, please confirm and provide an explanation.\nIf not correct, please revise either (both) the Individuals Served (Column I) or (and) Actual Results (Column III) to report the correct number(s)."]
["ERR_FNPI_012","Included Datapoints: \nAll FNPI Column IIs as individual datapoints","Three Conditions \n1) FNPI Column I > 0\n2) FNPI Column II = 0","WARNING: Irregularity between related datapoints","Target (Column II) is not reported.  If correct as initially submitted, please confirm and provide an explanation.  If incorrect, please provide a target.","Target (Column II) is not reported.\nIf correct as initially submitted, please confirm and provide an explanation.\nIf incorrect, please provide a target."]
["ERR_FNPI_013","Included Datapoints: \nAll FNPI Column IIIs as individual datapoints","Two Conditions \n1) FNPI Column I > 0\n2) FNPI Column III = 0","WARNING: Irregularity between related datapoints","The FNPI shows Individuals Served (Column I), but no Actual Results (Column III), indicating that no one achieved the outcome.  If there are individuals who achieved this outcome, please report under Actual Results (Column III).  If this is accurate as reported, the agency may choose not to report this data by removing data reported for Individuals Served (Column I) and Target (Column II), or provide a comment explaining the accuracy of the data.","The FNPI shows Individuals Served (Column I), but no Actual Results (Column III), indicating that no one achieved the outcome. \nIf there are individuals who achieved this outcome, please report under Actual Results (Column III). \nIf this is accurate as reported, the agency may choose not to report this data by removing data reported for Individuals Served (Column I) and Target (Column II), \nor provide a comment explaining the accuracy of the data.\nIf the agency wants to report on this FNPI as initially submitted, please provide an explanation as to why Actual Results (Column III) is 0.\nIf a number should have been reported for Actual Results (Column III), please make the necessary revisions to provide an updated Actual Results (Column III) number.\n"]
["ERR_FNPI_014","Included Datapoints: \nAll FNPIs as individual datapoints","FNPI Column I < FNPI Column III","ERROR: Dependent datapoint larger than the primary one","The FNPI shows Individuals Served (Column I), but no Actual Results (Column III), indicating that no one achieved the outcome. If there are individuals who achieved this outcome, please report under Actual Results (Column III). If this is accurate as reported, the agency may choose not to report this data by removing data reported for Individuals Served (Column I) and Target (Column II), or provide a comment explaining the accuracy of the data.","The FNPI shows Individuals Served (Column I), but no Actual Results (Column III), indicating that no one achieved the outcome.\nIf there are individuals who achieved this outcome, please report under Actual Results (Column III).\nIf this is accurate as reported, the agency may choose not to report this data by removing data reported for \nIndividuals Served (Column I) and Target (Column II), or provide a comment explaining the accuracy of the data."]
["ERR_FNPI_015","Included Datapoints: \nAll Z indicators as individual datapoints","Two Conditions \n1) Description = Blank or 0\n2) FNPI Column I OR Column III > 0\n","ERROR: Missing data","A description is required if there is data reported for Individuals Served (Column I) and/or Actual Results (Column III).  Please provide description of the result being measured for this indicator.","A description is required if there is data reported for Individuals Served (Column I) and/or Actual Results (Column III).\nPlease provide description of the result being measured for this indicator."]
["ERR_FNPI_016","Included Datapoints: \nFNPI 1h. \nFNPI 6a.","Three Conditions \n1) Primary Datapoint Column I > 0 OR Primary Datapoint III > 0\n2) All Subset Datapoint Column Is = 0 or Blank\n3) All Subset Datapoint Column IIIs = 0 or Blank","WARNING: Irregularity between related datapoints","Please review the subset datapoints.  If the agency can report how specifically an individual worked towards and/or achieved the primary datapoint as listed in the subset datapoints, please consider including them under the applicable subset datapoints.  If not reporting under the subset datapoints, please provide an explanation.","Please review the subset datapoints.\nIf the agency can report how specifically an individual worked towards and/or achieved the primary datapoint \nas listed in the subset datapoints, please consider including them under the applicable subset datapoints.\nIf not reporting under the subset datapoints, please provide an explanation.\n"]
["ERR_FNPI_017","FNPI 1a.","FNPI 1a. Column I > Sum of ACR C.2c. and ACR C.2d.","WARNING: Irregularity between related datapoints","The datapoint is specific to youth ages 14-24.  The agency is reporting more youths for Individuals Served (Column I) than what was reported for the sum of ACR C.2c.  and ACR C.2d.  If correct as initially submitted, please confirm and provide an explanation.  If incorrect, please revise Individuals Served (Column I) to report the correct number.","The datapoint is specific to youth ages 14-24.\nThe agency is reporting more youths for Individuals Served (Column I) than what was reported for the sum of ACR C.2c. and ACR C.2d.\nIf correct as initially submitted, please confirm and provide an explanation.\nIf incorrect, please revise Individuals Served (Column I) to report the correct number."]
["ERR_FNPI_018","FNPI 1a.","FNPI 1a. Column III > Sum of ACR C.2c. and ACR C.2d.","WARNING: Irregularity between related datapoints","The datapoint is specific to youth ages 14-24.  The agency is reporting more youths for Actual Results (Column III) than what was reported for the sum of ACR C.2c.  and ACR C.2d.  If correct as initially submitted, please confirm and provide an explanation.  If incorrect, please revise Actual Results (Column III) to report the correct number.","The datapoint is specific to youth ages 14-24.\nThe agency is reporting more youths for Actual Results (Column III) than what was reported for the sum of ACR C.2c. and ACR C.2d.\nIf correct as initially submitted, please confirm and provide an explanation.\nIf incorrect, please revise Actual Results (Column III) to report the correct number."]
["ERR_FNPI_019","Included Datapoints: \nFNPI 1h.1. through FNPI 1h.3.\nFNPI 6a.1. through FNPI 6a.3.","Primary Datapoint Column I < Subset Datapoint  Column I\n","ERROR: Dependent datapoint larger than the primary one","The subset datapoint's Individual Served (Column I) exceeds the primary datapoint's Individual Served (Column I).  Please review the reported values for these datapoints to determine which one (or both) needs revision.  Please make all necessary corrections so that the subset datapoint's value is not larger than the primary datapoint's value.","The subset datapoint's Individual Served (Column I) exceeds the primary datapoint's Individual Served (Column I).\nPlease review the reported values for these datapoints to determine which one (or both) needs revision.\nPlease make all necessary corrections so that the subset datapoint's value is not larger than the primary datapoint's value."]
["ERR_FNPI_020","Included Datapoints: \nFNPI 1h. \nFNPI 6a.","Primary Datapoint Column II < Subset Datapoint  Column II\n","ERROR: Dependent datapoint larger than the primary one","The subset datapoint's Target (Column II) exceeds the primary datapoint's Target Served (Column II).  Please review the reported values for these datapoints to determine which one (or both) needs revision.  Please make all necessary corrections so that the subset datapoint's value is not larger than the primary datapoint's value.","The subset datapoint's Target (Column II) exceeds the primary datapoint's Target Served (Column II).\nPlease review the reported values for these datapoints to determine which one (or both) needs revision.\nPlease make all necessary corrections so that the subset datapoint's value is not larger than the primary datapoint's value."]
["ERR_FNPI_021","Included Datapoints: \nFNPI 1h. \nFNPI 6a.","Primary Datapoint Column III < Subset Datapoint  Column III\n","ERROR: Dependent datapoint larger than the primary one","The subset datapoint's Actual Results (Column III) exceeds the primary datapoint's Actual Results (Column III).  Please review the reported values for these datapoints to determine which one (or both) needs revision.  Please make all necessary corrections so that the subset datapoint's value is not larger than the primary datapoint's value.","The subset datapoint's Actual Results (Column III) exceeds the primary datapoint's Actual Results (Column III).\nPlease review the reported values for these datapoints to determine which one (or both) needs revision.\nPlease make all necessary corrections so that the subset datapoint's value is not larger than the primary datapoint's value."]
["ERR_FNPI_022","Included Datapoints: \nFNPI 2a. \nFNPI 2b.\nFNPI 2c.1. \nFNPI 2d.1.","Column I > ACR C.2a.","WARNING: Irregularity between related datapoints","The datapoint is specific to children aged 0-5.  More children are reported for Individuals Served (Column I) than what was reported for ACR C.2a.  If correct as initially submitted, please confirm and provide an explanation.  If incorrect, please revise Individuals Served (Column I) to report the correct number.","The datapoint is specific to children aged 0-5.\nMore children are reported for Individuals Served (Column I) than what was reported for ACR C.2a.\nIf correct as initially submitted, please confirm and provide an explanation.\nIf incorrect, please revise Individuals Served (Column I) to report the correct number."]
["ERR_FNPI_023","Included Datapoints: \nFNPI 2a. \nFNPI 2b.\nFNPI 2c.1. \nFNPI 2d.1.","Column III > ACR C.2a.","WARNING: Irregularity between related datapoints","The datapoint is specific to children aged 0-5.  More children are reported for Actual Results (Column III) than what was reported for ACR C.2a.  If correct as initially submitted, please confirm and provide an explanation.  If incorrect, please revise Actual Results (Column III) to report the correct number.","The datapoint is specific to children aged 0-5.\nMore children are reported for Actual Results (Column III) than what was reported for ACR C.2a. \nIf correct as initially submitted, please confirm and provide an explanation.\nIf incorrect, please revise Actual Results (Column III) to report the correct number."]
["ERR_FNPI_024","FNPI 5f.","Column I > Sum of ACR C.2i. and ACR C.2j.","WARNING: Irregularity between related datapoints","FNPI 5f. is specific to seniors aged 65+.  More seniors are reported for Individuals Served (Column I) than what was reported for the sum of ACR C.2i.  through ACR C.2j.  If correct as initially submitted, please confirm and provide an explanation.  If incorrect, please revise Individuals Served (Column I) to report the correct number.","FNPI 5f. is specific to seniors aged 65+.\nMore seniors are reported for Individuals Served (Column I) than what was reported for the sum of ACR C.2i. through ACR C.2j.\nIf correct as initially submitted, please confirm and provide an explanation.\nIf incorrect, please revise Individuals Served (Column I) to report the correct number."]
["ERR_FNPI_025","FNPI 5f.","Column III > Sum of ACR C.2i. and ACR C.2j.","WARNING: Irregularity between related datapoints","FNPI 5f. is specific to seniors aged 65+. More individuals aged 65+ are reported for Actual Results (Column III) than what was reported for the sum of ACR C.2i. and ACR C.2j. If correct as initially submitted, please confirm and provide an explanation. If incorrect, please revise the Actual Results (Column III) to report the correct numbers.\n","FNPI 5f. is specific to seniors aged 65+. \nMore individuals aged 65+ are reported for Actual Results (Column III) than what was reported for the sum of ACR C.2i. and ACR C.2j. \nIf correct as initially submitted, please confirm and provide an explanation. \nIf incorrect, please revise the Actual Results (Column III) to report the correct numbers.\n"]
["ERR_FNPI_026","FNPI 5g.","FNPI 5g. Column I > ACR 5a. Yes","WARNING: Irregularity between related datapoints","The datapoint is specific to individuals with a disability.  More individuals with a disability are reported for Individuals Served (Column I) than what was reported for ACR C.5a.  Yes.  If correct as initially submitted, please confirm and provide an explanation.  If incorrect, please revise Individuals Served (Column I) to report the correct number.","The datapoint is specific to individuals with a disability.\nMore individuals with a disability are reported for Individuals Served (Column I) than what was reported for ACR C.5a. Yes.\nIf correct as initially submitted, please confirm and provide an explanation.\nIf incorrect, please revise Individuals Served (Column I) to report the correct number."]
["ERR_FNPI_027","FNPI 5g.","FNPI 5g. Column III > ACR 5a. Yes","WARNING: Irregularity between related datapoints","The datapoint is specific to individuals with a disability.  More individuals with a disability are reported for Actual Results (Column III) than what was reported for ACR C.5a.  Yes.  If correct as initially submitted, please confirm and provide an explanation.  If incorrect, please revise Actual Results (Column III) to report the correct number.","The datapoint is specific to individuals with a disability.\nMore individuals with a disability are reported for Actual Results (Column III) than what was reported for ACR C.5a. Yes.\nIf correct as initially submitted, please confirm and provide an explanation.\nIf incorrect, please revise Actual Results (Column III) to report the correct number."]
["ERR_FNPI_028","FNPI 5i.1.","FNPI 5i.1. Column I > ACR C.2c.","WARNING: Irregularity between related datapoints","The datapoint is specific to youths aged 14-17.  More youths are reported for Individuals Served (Column I) than what was reported for ACR C.2c.  If correct as initially submitted, please confirm and provide an explanation.  If incorrect, please revise Individuals Served (Column I) to report the correct number.","The datapoint is specific to youths aged 14-17.\nMore youths are reported for Individuals Served (Column I) than what was reported for ACR C.2c.\nIf correct as initially submitted, please confirm and provide an explanation.\nIf incorrect, please revise Individuals Served (Column I) to report the correct number."]
["ERR_FNPI_029","FNPI 5i.1.","FNPI 5i.1. Column III > ACR C.2c.","WARNING: Irregularity between related datapoints","The datapoint is specific to youths aged 14-17.  More youths are reported for Actual Results (Column III) than what was reported for ACR C.2c.  If correct as initially submitted, please confirm and provide an explanation.  If incorrect, please revise Actual Results (Column III) to report the correct number.","The datapoint is specific to youths aged 14-17.\nMore youths are reported for Actual Results (Column III) than what was reported for ACR C.2c.\nIf correct as initially submitted, please confirm and provide an explanation.\nIf incorrect, please revise Actual Results (Column III) to report the correct number."]
["ERR_FNPI_030","FNPI 7a.","At least one FNPI 1a. through FNPI 6a.3. Column I > FNPI 7a. Column I\n\n\n","WARNING: Irregularity between related datapoints","Individuals Served (Column I) should not be less than Individuals Served (Column I) of the FNPI with the highest number.  If correct as initially submitted, please confirm and provide an explanation.  If incorrect, please revise Individuals Served (Column I) to report the correct number.","Individuals Served (Column I) should not be less than Individuals Served (Column I) of the FNPI with the highest number.\nIf correct as initially submitted, please confirm and provide an explanation.\nIf incorrect, please revise Individuals Served (Column I) to report the correct number."]
["ERR_FNPI_031","FNPI 7a.","At least one FNPI 1a. through FNPI 6a.3. Column III > FNPI 7a. Column III\n\n","WARNING: Irregularity between related datapoints","Actual Results (Column III) should not be less than Actual Results (Column III) of the FNPI with the highest number.  If correct as initially submitted, please confirm and provide an explanation.  If incorrect, please revise Actual Results (Column III) to report the correct number.","Actual Results (Column III) should not be less than Actual Results (Column III) of the FNPI with the highest number.\nIf correct as initially submitted, please confirm and provide an explanation.\nIf incorrect, please revise Actual Results (Column III) to report the correct number."]
["ERR_M2A_001","Included Datapoints: \nAll as a single group","All Expenditures Datapoints = 0 or Blank","WARNING: No data reported\n","There is no data reported for any Module 2, Section A Expenditures datapoint.  If correct as initially submitted, please confirm and provide an explanation.  If not correct, please complete the applicable datapoints for the Expenditures section.","There is no data reported for any Module 2, Section A Expenditures datapoint.\nIf correct as initially submitted, please confirm and provide an explanation.\nIf not correct, please complete the applicable datapoints for the Expenditures section."]
["ERR_M2A_002","Included Datapoints: \nAll as a single group","All Expenditures CY Datapoints = PY Datapoints\n\n","WARNING: Other","The current year's data is the same as the previous year's data for all Module 2, Section A Expenditures datapoints.  If correct as initially submitted, please confirm and provide an explanation.  If not correct, please update all applicable datapoints to provide data for the current year.","The current year's data is the same as the previous year's data for all Module 2, Section A Expenditures datapoints.\nIf correct as initially submitted, please confirm and provide an explanation.\nIf not correct, please update all applicable datapoints to provide data for the current year."]
["ERR_M2A_003","A.1.","A.1a., AND A.1b. AND A.1c. = Unchecked or Blank","ERROR: Missing data","One selection must be made for A.1.  Please choose the appropriate option that corresponds with the correct reporting period.  Please contact the State CSBG Office if you have any questions about what should be selected for A.1.","One selection must be made for A.1.\nPlease choose the appropriate option that corresponds with the correct reporting period.\nPlease contact the State CSBG Office if you have any questions about what should be selected for A.1."]
["ERR_M2A_004","A.1.","More than one option selected (e.g., A.1a. AND A.1b. Selected)","ERROR: Issue with reporting period","Only one reporting period should be selected for A.1.  Please review and uncheck the one(s) that is incorrect.  Please follow up with your State CSBG Office if you have any questions about which reporting period should be used when completing the CSBG Annual Report.","Only one reporting period should be selected for A.1.\nPlease review and uncheck the one(s) that is incorrect.\nPlease follow up with your State CSBG Office if you have any questions about which reporting period should be used when completing the CSBG Annual Report."]
["ERR_M2A_005","Included Datapoints: \nA.2a. through A.3.","Three Conditions \n1) PY Datapoint = 0\n2) CY Datapoint ≥ 100,000.00\n3) At least one or more PY Expenditure datapoint > 0","WARNING: Significant difference between current and previous year","Current year value is larger than $0.00, while the previous year's value was $0.00. Please review the reported information. If correct as initially submitted, please confirm and provide an explanation. If incorrect, please revise.","Current year value is larger than $0.00, while the previous year's value was $0.00. \nPlease review the reported information. If correct as initially submitted, please confirm and provide an explanation. \nIf incorrect, please revise."]
["ERR_M2A_006","Included Datapoints: \nA.2a. through A.3.","Two Conditions \n1) CY Datapoint = 0\n2) PY Datapoint ≥ 100,000.00","WARNING: Significant difference between current and previous year","Current year value is $0.00, while the previous year's value was larger than $0.00. Please review the reported information. If correct as initially submitted, please confirm and provide an explanation. If incorrect, please revise.","Current year value is $0.00, while the previous year's value was larger than $0.00. Please review the reported information. If correct as initially submitted, please confirm and provide an explanation. If incorrect, please revise."]
["ERR_M2A_007","Included Datapoints: \nA.2a. through A.3.","Three Conditions \n1) CY Datapoint > 0 AND PY Datapoint > 0\n2) CY is ≥ 100% OR is ≤ 50% PY Datapoint \n3) Difference Between CY and PY Datapoints ≥ 100,000.00\n","WARNING: Significant difference between current and previous year","Current year value is either at least 100% more than or 50% less than the previous year's value. If correct as initially submitted, please confirm and provide an explanation. If incorrect, please revise.","Current year value is either at least 100% more than or 50% less than the previous year's value. \nIf correct as initially submitted, please confirm and provide an explanation. If incorrect, please revise."]
["ERR_M2A_008","Included Datapoints: \nA.2a. through A.2k.","Three Conditions \n1) Only one datapoint between A.2a. through A.2j. > 0\n2) All other A.2a. through A.2j datapoints = 0 or Blank \n3) CY A.2a. through A.2j. datapoints are not consistent with PY A.2a. through A.2j. datapoints (not same amounts but if the same datapoint between the CY and PY are both > 0 and all other datapoints = 0 or blank) \n\n","WARNING: Other","100% of CSBG expenditures were reported in this domain.  Please review.  If correct as initially submitted, please confirm and provide an explanation.  If not correct, please correctly categorize the agency's CSBG expenditures in the applicable domains (A.2.a.  through A.2j.).","100% of CSBG expenditures were reported in this domain.\nPlease review.  If correct as initially submitted, please confirm and provide an explanation.\nIf not correct, please correctly categorize the agency's CSBG expenditures in the applicable domains (A.2.a. through A.2j.)."]
["ERR_M2A_009","A.3.","Two Conditions\n1) At least one option selected for A.4.1.\n2) A.2i. = 0 or Blank\n\n","ERROR: Missing data","If one or more Agency Capacity Building activities are selected for A.4.1., then an expenditure amount must be reported for A.2i.  Please review these datapoints.  If the agency used CSBG funds towards the capacity building activities listed for A.4., then report the amount of CSBG expenditures used.  If the agency did not use CSBG funds for agency capacity building, then uncheck the box(es) for A.4.1.  and, if applicable, remove any text listed for A.4.1.oth.","If one or more Agency Capacity Building activities are selected for A.4.1., then an expenditure amount must be reported for A.2i\nPlease review these datapoints.\nIf the agency used CSBG funds towards the capacity building activities listed for A.4., then report the amount of CSBG expenditures used.\nIf the agency did not use CSBG funds for agency capacity building, then uncheck the box(es) for A.4.1\nand, if applicable, remove any text listed for A.4.1.oth."]
["ERR_M2A_010","A.3.","A.3. > A.2k.","ERROR: Subset datapoint larger than the primary datapoint","A.3.  cannot exceed A.2k.  Please review these two datapoints to determine which one (or both) needs to be corrected.  Make the necessary corrections so that CSBG monies used towards administration is not larger than the Total CSBG Expenditures.  If A.2k is incorrect, one or more amounts reported for A.2a.  through A.2j.  may need revision to obtain the correct CSBG Expenditures total.","A.3. cannot exceed A.2k.\nPlease review these two datapoints to determine which one (or both) needs to be corrected.\nMake the necessary corrections so that CSBG monies used towards administration is not larger than the Total CSBG Expenditures.\nIf A.2k is incorrect, one or more amounts reported for A.2a. through A.2j. may need revision to obtain the correct CSBG Expenditures total."]
["ERR_M2A_011","A.3.","Two Conditions\n1) A.2i. > 0\n2) A.4.1. blank/all options unchecked","ERROR: Missing data","If there are expenditures reported for A.2i., then one or more capacity building activity must be selected for A.4.1.  Please review these datapoints.  If the agency expended CSBG funds for capacity building activities as reported for A.2i., please check the appropriate option(s) for A.4.1.  If Other is selected, then a description also must be entered into A.4.1.oth.  If the agency did not expend CSBG funds for capacity building activities, then please delete the amount entered in A.2i.","If there are expenditures reported for A.2i., then one or more capacity building activity must be selected for A.4.1.\nPlease review these datapoints.\nIf the agency expended CSBG funds for capacity building activities as reported for A.2i., please check the appropriate option(s) for A.4.1.\nIf Other is selected, then a description also must be entered into A.4.1.oth.\nIf the agency did not expend CSBG funds for capacity building activities, then please delete the amount entered in A.2i."]
["ERR_M2A_012","A.4.1.\n","Three Conditions\n1) Text entered into A.4.oth.\n2) Other blank/unchecked for A.4.1.","ERROR: Missing data","If there is data reported for A.4.1.oth., then Other should be selected for A.4.1.  Please review these datapoints.  If the agency expended CSBG funds for capacity building activities that are best captured for other, please check Other for A.4.1.  If the agency did not expend CSBG funds for this purpose, please delete the data entered for A.4.1.oth.","If there is data reported for A.4.1.oth., then Other should be selected for A.4.1.\nPlease review these datapoints.\nIf the agency expended CSBG funds for capacity building activities that are best captured for other, please check Other for A.4.1.\nIf the agency did not expend CSBG funds for this purpose, please delete the data entered for A.4.1.oth."]
["ERR_M2A_013","A.4.1.oth.\n","Two Conditions\n1) Other selected for A.4.1.\n2) A.4.1.oth. blank\n\n\n\n","ERROR: Missing data","If Other is selected for A.4.1., then a description must be reported for A.4.1.oth. If the agency expended CSBG funds for capacity building activities that are best captured by Other as initially submitted, please enter a description of these for A.4.1.oth. If the agency did not expend CSBG funds for this purpose, please unselect Other for A.4.1.","If Other is selected for A.4.1., then a description must be reported for A.4.1.oth. \nIf the agency expended CSBG funds for capacity building activities that are best captured by Other as initially submitted, please enter a description of these for A.4.1.oth. \nIf the agency did not expend CSBG funds for this purpose, please unselect Other for A.4.1."]
["ERR_M2B_001","Included Datapoints: \nAll as a single group","All Capacity Datapoints = 0 or Blank","WARNING: No data reported\n","There is no data reported for any Module 2, Section B Capacity datapoint.  If correct as initially submitted, please confirm and provide an explanation.  If not correct, please complete the applicable datapoints for the Capacity section.","There is no data reported for any Module 2, Section B Capacity datapoint.\nIf correct as initially submitted, please confirm and provide an explanation.\nIf not correct, please complete the applicable datapoints for the Capacity section."]
["ERR_M2B_002","Included Datapoints:  \nAll as a single group","All Capacity CY Datapoints = PY Datapoints","WARNING: Other","The current year's data is the same as the previous year's data for all Module 2, Section B Capacity datapoints.  If correct as initially submitted, please confirm and provide an explanation.  If not correct, please update all applicable datapoints to provide data for the current year.","The current year's data is the same as the previous year's data for all Module 2, Section B Capacity datapoints.\nIf correct as initially submitted, please confirm and provide an explanation.\nIf not correct, please update all applicable datapoints to provide data for the current year."]
["ERR_M2B_003","B.3a.1.","B.3a.1. > B.3a.\n\n\n\n","ERROR: Subset datapoint larger than the primary datapoint","B.3a.1.  cannot exceed B.3a.  Please review these two datapoints and determine which one (or both) needs to be corrected.  Please make the necessary revision(s) so that the number of volunteer hours donated by individuals with low-incomes is not larger than the total number of all volunteer hours donated.","B.3a.1. cannot exceed B.3a.\nPlease review these two datapoints and determine which one (or both) needs to be corrected.\nPlease make the necessary revision(s) so that the number of volunteer hours donated by individuals with low-incomes is not larger than the total number of all volunteer hours donated."]
["ERR_M2B_004","B.4g.","Two Conditions\n1) B.4g. = 0 or Blank \n2) B.4g.1. > 0 OR B.4g.2. > 0 OR B.4g.3. > 0 OR B.4g.4. > 0\n\n","ERROR: Missing data","If there is data for one or more of the B.4g.1.  through B.4g.4.  subset datapoints, therefore B.4g.  must also be completed.  Please provide an unduplicated number of staff that have a Home Energy Professionals Certification.  If no staff held an Home Energy Professionals certification, please delete the data from the subset datapoints (B.4g.1.  through B.4g.4.).","If there is data for one or more of the B.4g.1. through B.4g.4. subset datapoints, therefore B.4g. must also be completed.\nPlease provide an unduplicated number of staff that have a Home Energy Professionals Certification.\nIf no staff held an Home Energy Professionals certification, please delete the data from the subset datapoints (B.4g.1. through B.4g.4.)."]
["ERR_M2B_005","B.4g.","Two Conditions\n1) B.4g. > 0\n2) B.4g.1. = Blank or 0 AND B.4g.2. = Blank or  0 AND B.4g.3. = Blank or 0 AND B.4g.4. = Blank or 0","WARNING: Irregularity between related datapoints","Please review the subset datapoints.  If the agency can report the specific energy professional certifications listed in the subset datapoints, please consider including them under the applicable subset datapoints.  If not reporting under the subset datapoints, please provide an explanation.","Please review the subset datapoints.\nIf the agency can report the specific energy professional certifications listed in the subset datapoints, \nplease consider including them under the applicable subset datapoints.\nIf not reporting under the subset datapoints, please provide an explanation."]
["ERR_M2B_006","Included Datapoints: \nB.4g.1. through B.4g.4.","B.4g.{ }. > B.4g.","ERROR: Subset datapoint larger than the primary datapoint","{}  cannot exceed B.4g.  Please review these two datapoints and determine which one (or both) needs to be corrected.  Please make the necessary revision(s) so that the number of staff listed in the subset datapoint is not larger than the number of staff with one or more Home Energy Professional Certifications.","{} cannot exceed B.4g.\nPlease review these two datapoints and determine which one (or both) needs to be corrected.\nPlease make the necessary revision(s) so that the number of staff listed in the subset datapoint is not larger than the number of staff with one or more Home Energy Professional Certifications."]
["ERR_M2B_007","B.4m.","Two Conditions\n1) B.4m.oth. not blank\n2) B.4m. = 0 or Blank\n\n","ERROR: Missing data","If there is data reported for B.4m.oth., then B.4m. must also be completed. Please enter a number of staff who hold one or more of the certifications that was listed for Other. If there were no Other certifications that should be captured for B.4m., then please delete the text from B.4m.oth.","If there is data reported for B.4m.oth., then B.4m. must also be completed. \nPlease enter a number of staff who hold one or more of the certifications that was listed for Other. \nIf there were no Other certifications that should be captured for B.4m., then please delete the text from B.4m.oth."]
["ERR_M2B_008","B.4m.oth.\n   ","Two Conditions\n1) B.4m. > 0\n2) B.4m.oth. blank\n\n","ERROR: Missing data","If there is data reported for B.4m., then B.4m.oth.  must also be completed.  Please provide a list of other certifications staff hold.  If staff did not hold certifications best captured for Other, then please delete the data from B.4m.","If there is data reported for B.4m., then B.4m.oth. must also be completed.\nPlease provide a list of other certifications staff hold.\nIf staff did not hold certifications best captured for Other, then please delete the data from B.4m."]
["ERR_M2C_001","Included Datapoints: \nAll as a single group","All Resouces Datapoints = 0 or Blank","WARNING: No data reported\n","There is no data reported for any Module 2, Section C Resources datapoint.  If correct as initially submitted, please confirm and provide an explanation.  If not correct, please complete the applicable datapoints for the Resources section.","There is no data reported for any Module 2, Section C Resources datapoint.\nIf correct as initially submitted, please confirm and provide an explanation.\nIf not correct, please complete the applicable datapoints for the Resources section."]
["ERR_M2C_002","Included Datapoints: \nAll as a single group","All Resources CY Datapoints = PY Datapoints","WARNING: Other","The current year's data is the same as the previous year's data for all Module 2, Section C Resources datapoints.  If correct as initially submitted, please confirm and provide an explanation.  If not correct, please update all applicable datapoints to provide data for the current year.","The current year's data is the same as the previous year's data for all Module 2, Section C Resources datapoints.\nIf correct as initially submitted, please confirm and provide an explanation.\nIf not correct, please update all applicable datapoints to provide data for the current year."]
["ERR_M2C_003","Included Datapoints: \nC.3b.12.i. through C.3b.12.iv. \nC.3l.i. through C.3l.iv.","Four Conditions\n1) CY CFDA # = PY CFDA #\n2) CY Datapoint > 0 AND PY Datapoint > 0\n3) CY is ≥ 100% OR is ≤ 50% PY Datapoint \n4) Difference Between CY and PY Datapoints ≥ 100,000.00\n","WARNING: Significant difference between current and previous year","CFDA # {number entered by agency}'s value is either at least 100% more than or 50% less than the previous year's value.  If correct as initially submitted, please confirm and provide an explanation.  If incorrect, please revise.","CFDA # {number entered by agency}'s value is either at least 100% more than or 50% less than the previous year's value.\nIf correct as initially submitted, please confirm and provide an explanation.\nIf incorrect, please revise."]
["ERR_M2C_004","Included Datapoints: \nC.3b.12.i. through C.3b.12.iv. \nC.3l.i. through C.3l.iv.","CFDA # matches the CFDA # of a non-other option","WARNING: Better fit with another datapoint","CFDA # {number entered by agency} can be better captured under {appropriate C datapoint}.  Please revise to report the resource in the appropriate datapoint.  If not revising, please provide an explanation.","CFDA # {number entered by agency} can be better captured under {appropriate C datapoint}.\nPlease revise to report the resource in the appropriate datapoint.\nIf not revising, please provide an explanation."]
["ERR_M2C_005","Excluded Datapoints: \nC.2.\nC.3b.12.i. through C.3b.12.iv. \nC.3b.13. \nC.3l.i. through C.3l.iv. \nC.3m. \nC.3n.  \nC.4n.i. through C.4n.iv. \nC.4o. \nC.4p. \nC.4q. \nC.5e. \nC.5f. \nC.6g. \nC.6h. \nC.7. \nC.8.","Three Conditions\n1) PY Datapoint = 0\n2) CY Datapoint ≥ 100,000.00\n3) At least one or more PY Resources datapoint > 0","WARNING: Significant difference between current and previous year","Current year value is larger than $0.00, while the previous year's value was $0.00.  Please review the reported information.  If correct as initially submitted, please confirm and provide an explanation.  If incorrect, please revise.","Current year value is larger than $0.00, while the previous year's value was $0.00.\nPlease review the reported information.\nIf correct as initially submitted, please confirm and provide an explanation.\nIf incorrect, please revise."]
["ERR_M2C_006","Excluded Datapoints: \nC.2.\nC.3b.12.i. through C.3b.12.iv. \nC.3b.13. \nC.3l.i. through C.3l.iv. \nC.3m. \nC.3n.  \nC.4n.i. through C.4n.iv. \nC.4o. \nC.4p. \nC.4q. \nC.5e. \nC.5f. \nC.6g. \nC.6h. \nC.7. \nC.8.","Two Conditions\n1) CY Datapoint = 0\n2) PY Datapoint ≥ 100,000.00","WARNING: Significant difference between current and previous year","Current year value is $0.00, while the previous year's value was larger than $0.00.  Please review the reported information.  If correct as initially submitted, please confirm and provide an explanation.  If incorrect, please revise.","Current year value is $0.00, while the previous year's value was larger than $0.00.\nPlease review the reported information.\nIf correct as initially submitted, please confirm and provide an explanation.\nIf incorrect, please revise."]
["ERR_M2C_007","Excluded Datapoints: \nC.2.\nC.3b.12.i. through C.3b.12.iv. \nC.3b.13. \nC.3l.i. through C.3l.iv. \nC.3m. \nC.3n.  \nC.4n.i. through C.4n.iv. \nC.4o. \nC.4p. \nC.4q. \nC.5e. \nC.5f. \nC.6g. \nC.6h. \nC.7. \nC.8.","Three Conditions\n1) CY Datapoint > 0 AND PY Datapoint > 0\n2) CY is ≥ 100% OR is ≤ 50% PY Datapoint \n3) Difference Between CY and PY Datapoints ≥ 100,000.00\n","WARNING: Significant difference between current and previous year ","Current year value is either at least 100% more than or 50% less than the previous year's value.  If correct as initially submitted, please confirm and provide an explanation.  If incorrect, please revise.","Current year value is either at least 100% more than or 50% less than the previous year's value.\nIf correct as initially submitted, please confirm and provide an explanation.\nIf incorrect, please revise."]
["ERR_M2C_008","Included Datapoints: \nC.4n.i. through C.4n.iv.","One field is not blank but the other one is blank","ERROR: Missing data\n","The datapoint requires a description of the other resource and an allocated amount.  Please provide the missing information.","The datapoint requires a description of the other resource and an allocated amount.\nPlease provide the missing information."]
["ERR_M2C_009","Included Datapoints: \nC.3b.12.i. through C.3b.12.iv. \nC.3l.i. through C.3l.iv.","If one or two fields are not blank but not all three are completed","ERROR: Missing data\n","The datapoint requires a description of the other resource, a CFDA # in the correct format, and an allocated amount.  Please provide the missing and/or correctly formatted information.","The datapoint requires a description of the other resource, a CFDA # in the correct format, and an allocated amount.\nPlease provide the missing and/or correctly formatted information."]
["ERR_M2C_010","C.2.","C.2. = blank or 0","ERROR: Missing data\n","The agency should report the amount of CSBG funds were allocated during the FY.","The agency should report the amount of CSBG funds were allocated during the FY."]
["ERR_M2C_011","C.3a.","Three Conditions\n1) C.3a. = 0\n2) C.3b.1. = 0\n3) SRV 4t. > 0","WARNING: Irregularity between related datapoints","There are LIHEAP Fuel Assistance services (SRV 4i.) but there are no LIHEAP – Fuel Assistance resources reported for C.3b.1. If correct as initially submitted, please confirm and provide an explanation. If the agency received federal LIHEAP – Fuel Assistance funds to fund this service, please add the amount allocated for C.3b.1. to reflect this.","There are LIHEAP Fuel Assistance services (SRV 4i.) but there are no LIHEAP – Fuel Assistance resources reported for C.3b.1. \nIf correct as initially submitted, please confirm and provide an explanation. \nIf the agency received federal LIHEAP – Fuel Assistance funds to fund this service, please add the amount allocated for C.3b.1. to reflect this."]
["ERR_M2C_012","C.3b.2.","Three Conditions\n1) C.3a. = 0\n2) C.3b.2. = 0\n3) SRV 4t. > 0","WARNING: Irregularity between related datapoints","There are Weatherization services for Module 4 but there are no Weatherization resources reported for C.3a.  or C.3b.2.  If correct as initially submitted, please confirm and provide an explanation.  If the agency received federal Weatherization funds from either DOE or LIHEAP to fund these services, please add the amount allocated for C.3a.  and/or C.3b.2.  to reflect this.","There are Weatherization services for Module 4 but there are no Weatherization resources reported for C.3a. or C.3b.2.\nIf correct as initially submitted, please confirm and provide an explanation.\nIf the agency received federal Weatherization funds from either DOE or LIHEAP to fund these services, please add the amount allocated for C.3a. and/or C.3b.2. to reflect this."]
["ERR_M2C_013","C.3b.3.","Two Conditions\n1) C.3b.3. = 0\n2) SRV 2b. > 0","WARNING: Irregularity between related datapoints","There are Head Start services for Module 4 (SRV 2b.) but there are no Head Start resources reported for C.3b.3.  If correct as initially submitted, please confirm and provide an explanation.  If the agency received federal Head Start funds to fund this service, please add the amount allocated for C.3b.3.  to reflect this.","There are Head Start services for Module 4 (SRV 2b.) but there are no Head Start resources reported for C.3b.3.\nIf correct as initially submitted, please confirm and provide an explanation.\nIf the agency received federal Head Start funds to fund this service, please add the amount allocated for C.3b.3. to reflect this."]
["ERR_M2C_014","C.3b.4.","Two Conditions\n1) C.3b.4. = 0\n2) SRV 2a. > 0","WARNING: Irregularity between related datapoints","There are Early Head Start services for Module 4 (SRV 2a.) but there are no Early Head Start resources reported for C.3b.4.  If correct as initially submitted, please confirm and provide an explanation.  If the agency received federal Early Head Start funds to fund this service, please add the amount allocated for C.3b.4.  to reflect this.","There are Early Head Start services for Module 4 (SRV 2a.) but there are no Early Head Start resources reported for C.3b.4.\nIf correct as initially submitted, please confirm and provide an explanation.\nIf the agency received federal Early Head Start funds to fund this service, please add the amount allocated for C.3b.4. to reflect this."]
["ERR_M2C_015","C.3n. ","C.4q. > C.3n.","ERROR: Subset datapoint larger than the primary datapoint","C.4q.  cannot exceed C.3n.  Please review the values reported for these two datapoints to determine which one (or both) needs to be revised so that the estimated duplicative amount reported for State Resources is not larger than the total amount reported for Federal Resources.","C.4q. cannot exceed C.3n.\nPlease review the values reported for these two datapoints to determine which one (or both) needs to be revised so that the \nestimated duplicative amount reported for State Resources is not larger than the total amount reported for Federal Resources."]
["ERR_M2C_016","C.3n. ","Sum of C.4q. + C.5f. > C.3n.","ERROR: Subset datapoint larger than the primary datapoint","The sum of C.4q.  and C.5f.  cannot exceed C.3n.  Please review the values reported for these datapoints to determine which one (or both) needs to be revised so that the estimated duplicative amount reported for Local Resources is not larger than the total amount reported for Federal Resources and State Resources.","The sum of C.4q. and C.5f. cannot exceed C.3n.\nPlease review the values reported for these datapoints to determine which one (or both) needs to be revised so that the estimated \nduplicative amount reported for Local Resources is not larger than the total amount reported for Federal Resources and State Resources."]
["ERR_M2C_017","C.3n. ","Sum of C.4q. + C.5f. + C.6h. > C.3n.","ERROR: Subset datapoint larger than the primary datapoint","The sum of C.4q., C.5f., and C.6h.  cannot exceed C.3n.  Please review the values reported for these datapoints to determine which one (or both) needs to be revised so that the estimated duplicative amount reported for Private Resources Sector is not larger than the total amount reported for Federal Resources, State Resources, and Local Resources.","The sum of C.4q., C.5f., and C.6h. cannot exceed C.3n.\nPlease review the values reported for these datapoints to determine which one (or both) needs to be revised so that the estimated \nduplicative amount reported for Private Resources Sector is not larger than the total amount reported for Federal Resources, State Resources, and Local Resources."]
["ERR_M2C_018","C.4q.","C.4q. > C.4p.","ERROR: Subset datapoint larger than the primary datapoint","C.4q.  cannot exceed C.4p.  Please review the values reported for these two datapoints to determine which one (or both) needs to be revised so that the estimated duplicative amount reported is not larger than the total amount reported for Total State Resources.  If C.4p.  is incorrect and needs to be revised, one or more amounts reported for State Resources may need to be revised to obtain a new value for C.4p.","C.4q. cannot exceed C.4p.\nPlease review the values reported for these two datapoints to determine which one (or both) needs to be revised so that the estimated \nduplicative amount reported is not larger than the total amount reported for Total State Resources.\nIf C.4p. is incorrect and needs to be revised, one or more amounts reported for State Resources may need to be revised to obtain a new value for C.4p."]
["ERR_M2C_019","C.4q.","C.4q. > C.3n.","ERROR: Subset datapoint larger than the primary datapoint","C.4q.  cannot exceed C.3n.  Please review the values reported for these two datapoints to determine which one (or both) needs to be revised so that the estimated duplicative amount reported is not larger than the total amount reported for Total Federal Resources.","C.4q. cannot exceed C.3n.\nPlease review the values reported for these two datapoints to determine which one (or both) needs to be revised so that the estimated \nduplicative amount reported is not larger than the total amount reported for Total Federal Resources.\n"]
["ERR_M2C_020","C.5f. ","C.5f. > C.5e.","ERROR: Subset datapoint larger than the primary datapoint","C.5f.  cannot exceed C.5e.  Please review the values reported for these two datapoints to determine which one (or both) needs to be revised so that the estimated duplicative amount reported is not larger than the total amount reported for Total Local Resources.  If C.5e.  is incorrect and needs to be revised, one or more amounts reported for Local Resources may need to be revised to obtain a new value for C.5e.","C.5f. cannot exceed C.5e.\nPlease review the values reported for these two datapoints to determine which one (or both) needs to be revised so that the estimated \nduplicative amount reported is not larger than the total amount reported for Total Local Resources.\nIf C.5e. is incorrect and needs to be revised, one or more amounts reported for Local Resources may need to be revised to obtain a new value for C.5e."]
["ERR_M2C_021","C.5f. ","C.5f. > Sum of C.3n. + C.4p.\n","ERROR: Subset datapoint larger than the primary datapoint","C.5f.  cannot exceed the sum of C.3n.  and C.4p.  Please review the values reported for these datapoints to determine which one (or more) needs to be revised so that the estimated duplicative amount reported is not larger than the aggregate total amount reported for Total Federal Resources and Total State Resources.","C.5f. cannot exceed the sum of C.3n. and C.4p.\nPlease review the values reported for these datapoints to determine which one (or more) needs to be revised so that the estimated \nduplicative amount reported is not larger than the aggregate total amount reported for Total Federal Resources and Total State Resources.\n"]
["ERR_M2C_022","C.6h.","C.6h. > C.6g.","ERROR: Subset datapoint larger than the primary datapoint","C.6h.  cannot exceed C.6g.  Please review the values reported for these two datapoints to determine which one (or both) needs to be revised so that the estimated duplicative amount reported is not larger than the total amount reported for Total State Resources.  If C.6g.  is incorrect and needs to be revised, one or more amounts reported for Private Section Resources may need to be revised to obtain a new value for C.6g.","C.6h. cannot exceed C.6g.\nPlease review the values reported for these two datapoints to determine which one (or both) needs to be revised so that the estimated \nduplicative amount reported is not larger than the total amount reported for Total State Resources.\nIf C.6g. is incorrect and needs to be revised, one or more amounts reported for Private Section Resources may need to be revised to obtain a new value for C.6g."]
["ERR_M2C_023","C.6h.","C.6h. > Sum of C.3n., C.4p., and C.6g.\n","ERROR: Subset datapoint larger than the primary datapoint","C.6h.  cannot exceed the sum of C.3n., C.4p., and C.5e.  Please review the values reported for these datapoints to determine which one (or more) needs to be revised so that the estimated duplicative amount reported is not larger than the aggregate total amount reported for Total Federal Resources, Total State Resources, and Total Local Resources.","C.6h. cannot exceed the sum of C.3n., C.4p., and C.5e.\nPlease review the values reported for these datapoints to determine which one (or more) needs to be revised so that the estimated duplicative\namount reported is not larger than the aggregate total amount reported for Total Federal Resources, Total State Resources, and Total Local Resources.\n"]
["ERR_SRV_001","Included Datapoints: \nAll as a single group","Excludes the Section Header Datapoints.All Services Datapoints = 0 or Blank","WARNING: No data reported\n","There is no data reported for any datapoint for Module 4, Section B Services.  If correct as initially submitted, please confirm and provide an explanation.  If not correct, please complete the applicable datapoints for the Services section.","There is no data reported for any datapoint for Module 4, Section B Services.\nIf correct as initially submitted, please confirm and provide an explanation.\nIf not correct, please complete the applicable datapoints for the Services section."]
["ERR_SRV_002","Included Datapoints: \nAll as a single group","All Services CY Datapoints = PY Datapoints","WARNING: Other","The current year's data is the same as the previous year's data for all datapoints for Module 2, Section C Resources.  If correct as initially submitted, please confirm and provide an explanation.  If not correct, please update all applicable datapoints to provide data for the current year.","The current year's data is the same as the previous year's data for all datapoints for Module 2, Section C Resources.\nIf correct as initially submitted, please confirm and provide an explanation.\nIf not correct, please update all applicable datapoints to provide data for the current year."]
["ERR_SRV_003","Included Datapoints: \nAll datapoints for the domain as a single group","Two Conditions\n1) At least one FNPI under Domain > 0 (e.g., FNPI 1a. > 0)\n2) All services for the domain = 0 or blank (e.g., none of the Employment services are completed)","WARNING: Irregularity between related datapoints","There is at least one FNPI reported for this domain but there are no services reported for it.  Please review.  If correct as initially submitted, please confirm and provide an explanation.  If incorrect, please report on all applicable services that led to the outcomes being reported for this domain.","There is at least one FNPI reported for this domain but there are no services reported for it.\nPlease review.  If correct as initially submitted, please confirm and provide an explanation.\nIf incorrect, please report on all applicable services that led to the outcomes being reported for this domain."]
["ERR_SRV_004","Included Datapoints: \nAll datapoints for the domain as a single group","Two Conditions\n1) M2_A.2 Domain Datapoint > 0 (e.g., A.2a.)\n2) All services for the domain = 0 or blank (e.g., none of the Employment services are completed)","WARNING: Irregularity between related datapoints","CSBG expenditures are reported for this domain but there are no services reported for it.  Please review.  If correct as initially submitted, please confirm and provide an explanation.  If incorrect, the agency should report on all applicable services that CSBG funds were used towards.","CSBG expenditures are reported for this domain but there are no services reported for it.\nPlease review.  If correct as initially submitted, please confirm and provide an explanation.\nIf incorrect, the agency should report on all applicable services that CSBG funds were used towards."]
["ERR_SRV_005","Excluded Datapoints: \nSRV 1l.\nSRV 1p.\nSRV 1q.\nSRV 2k.\nSRV 2l.\nSRV 2aa.\nSRV 4m.\nSRV 5m.\nSRV 5o.\nSRV 5w.\nSRV 5gg.\nSRV 5ii.\nSRV 5jj.\nSRV 5nn.\nSRV 5oo. \nSRV 7b. \nSRV 7c.\nSRV 7d.\nSRV 7n.","Two Conditions \nService # = ACR A.\nService is not one of the exclusions\nACR A > 0","WARNING: Irregularity between related datapoints","Individuals Served is the same number as Total Individuals (ACR A).  This means all individuals reported for the All Characteristics Report received the service.  If correct as initially submitted, please confirm and provide an explanation.  If not correct, please revise to report the correct number.","Individuals Served is the same number as Total Individuals (ACR A).\nThis means all individuals reported for the All Characteristics Report received the service.\nIf correct as initially submitted, please confirm and provide an explanation.\nIf not correct, please revise to report the correct number."]
["ERR_SRV_006","Excluded Datapoints: \nSRV 1l.\nSRV 1p.\nSRV 1q.\nSRV 2k.\nSRV 2l.\nSRV 2aa.\nSRV 4m.\nSRV 5m.\nSRV 5o.\nSRV 5w.\nSRV 5gg.\nSRV 5ii.\nSRV 5jj.\nSRV 5nn.\nSRV 5oo. \nSRV 7c.\nSRV 7d.\nSRV 7n.","Two Conditions \nService # > ACR A.\nService is not one of the exclusions\nACR A > 0","WARNING: Irregularity between related datapoints","Individuals Served is larger than Total Individuals (ACR A).  This means that more individuals reported than was reported for the All Characteristics Report received the service.  If correct as initially submitted, please confirm and provide an explanation.  If not correct, please revise to report the correct number.","Individuals Served is larger than Total Individuals (ACR A).\nThis means that more individuals reported than was reported for the All Characteristics Report received the service.\nIf correct as initially submitted, please confirm and provide an explanation.\nIf not correct, please revise to report the correct number."]
["ERR_SRV_007","Included Datapoints: \nSRV 2a. \nSRV 2b. \nSRV 2c.","SRV > ACR C.2a.","WARNING: Irregularity between related datapoints","The datapoint is specific to children aged 0-5.  More children are reported than what was reported for ACR C.2a.  If correct as initially submitted, please confirm and provide an explanation.  If incorrect, please revise to report the correct number.","The datapoint is specific to children aged 0-5.\nMore children are reported than what was reported for ACR C.2a.\nIf correct as initially submitted, please confirm and provide an explanation.\nIf incorrect, please revise to report the correct number."]
["ERR_SRV_008","SRV 2a. ","Two Conditions\n1) M2_C.3b.4. > 0 \n2) SRV 2a. = 0","WARNING: Irregularity between related datapoints","There are funds reported under M2_C.3b.4.  (Early Head Start resources) but there are no services reported under SRV 2a.  Please review these two datapoints.  If the agency received federal Early Head Start funds, please consider adding a service count under SRV 2a.  or explaining why it is unable to do so.  If the agency did not receive these funds, please revise M2_C.3b.4.  to reflect this.","There are funds reported under M2_C.3b.4. (Early Head Start resources) but there are no services reported under SRV 2a.\nPlease review these two datapoints.\nIf the agency received federal Early Head Start funds, please consider adding a service count under SRV 2a. or explaining why it is unable to do so.\nIf the agency did not receive these funds, please revise M2_C.3b.4. to reflect this."]
["ERR_SRV_009","SRV 2b. ","Two Conditions\n1) M2_C.3b.3. > 0 \n2) SRV 2b. = 0","WARNING: Irregularity between related datapoints","There are funds reported under M2_C.3b.3.  (Head Start resources) but there are no services reported under SRV 2b.  Please review these two datapoints.  If the agency received federal Head Start funds, please consider adding a service count under SRV 2b.  or explaining why it is unable to do so.  If the agency did not receive these funds, please revise M2_C.3b.3.  to reflect this.","There are funds reported under M2_C.3b.3. (Head Start resources) but there are no services reported under SRV 2b.\nPlease review these two datapoints.\nIf the agency received federal Head Start funds, please consider adding a service count under SRV 2b. or explaining why it is unable to do so.\nIf the agency did not receive these funds, please revise M2_C.3b.3. to reflect this."]
["ERR_SRV_010","SRV 4i. ","Two Conditions\n1) M2_C.3b.1. > 0 \n2) SRV 4i. = 0","WARNING: Irregularity between related datapoints","There are funds reported under M2_C.3b.1.  (LIHEAP Fuel Assistance) but there are no services reported under SRV 4i.  Please review these datapoints.  If the agency received federal LIHEAP Fuel Assistance funds, please consider adding a service count under Utility Payments (LIHEAP-includes Emergency Utility Payments) or explaining why it is unable to do so.  If the agency did not receive these funds, please revise M2_C.3b.1.  to reflect this.","There are funds reported under M2_C.3b.1. (LIHEAP Fuel Assistance) but there are no services reported under SRV 4i.\nPlease review these datapoints.\nIf the agency received federal LIHEAP Fuel Assistance funds, please consider adding a service count under Utility Payments (LIHEAP-includes Emergency Utility Payments) or explaining why it is unable to do so.\nIf the agency did not receive these funds, please revise M2_C.3b.1. to reflect this."]
["ERR_SRV_011","SRV 4t. ","Two Conditions\n1) M2_C.3a. > 0 OR M2_C.3b.2. > 0 \n2) SRV 4t. = 0","WARNING: Irregularity between related datapoints","There are funds reported under M2_C.3a.  (DOE Weatherization) and/or M2_C.3b.2.  (LIHEAP Weatherization) but there are no services reported under SRV 4t.  Please review these datapoints.  If the agency received federal Weatherization funds from either DOE or LIHEAP, please consider adding a service count under the Energy Efficiency Improvements service or explaining why it is unable to do so.  If the agency did not receive these funds, please revise M2_C.3a.  and/or M2_C.3b.2.  to reflect this.","There are funds reported under M2_C.3a. (DOE Weatherization) and/or M2_C.3b.2. (LIHEAP Weatherization) but there are no services reported under SRV 4t.\nPlease review these datapoints.\nIf the agency received federal Weatherization funds from either DOE or LIHEAP, please consider adding a service count under the Energy Efficiency Improvements service or explaining why it is unable to do so.\nIf the agency did not receive these funds, please revise M2_C.3a. and/or M2_C.3b.2. to reflect this."]
["ERR_SRV_012","Included Datapoints: SRV 2a., SRV 2b., SRV 2c. ","Sum of SRV 2a. AND SRV 2b. AND SRV 2c. > ACR C.2a.","WARNING: Irregularity between related datapoints","SRV 2a., SRV 2b., and SRV 2c. are specific to children aged 0-5. The sum of these three datapoints added together is larger than what was reported for ACR C.2a. If correct as initially submitted, please confirm and provide an explanation. If incorrect, please revise SRV 2a., SRV 2b., and/or SRV 2c. so that these aggregate to be equal to or less than ACR C.2a.","SRV 2a., SRV 2b., and SRV 2c. are specific to children aged 0-5. \nThe sum of these three datapoints added together is larger than what was reported for ACR C.2a. \nIf correct as initially submitted, please confirm and provide an explanation. \nIf incorrect, please revise SRV 2a., SRV 2b., and/or SRV 2c. so that these aggregate to be equal to or less than ACR C.2a."]

{"sheet":"Field Names","index":22,"n_rows":1142,"n_cols":7,"rows_kept":1142,"cut":false,"hidden":false,"merged":[]}
["Range Name (Primary Key)","Datapoint # (Alt Key for Lookup)","Datapoint Label","Module","Tab","Section","Subsection"]
[null,"All_A","Expenditures","M_2","Expenditures","Expenditures","Expenditures"]
["A1_ErrorCell","A.1","Reporting Period ","M_2","Expenditures","Expenditures","Reporting Period"]
["M2A1aJulyToJune","A.1a.","July 1 - June 30","M_2","Expenditures","Expenditures","Reporting Period"]
["M2A1bOctToSept","A.1b.","October 1 - September 30","M_2","Expenditures","Expenditures","Reporting Period"]
["M2A1bJanToDec","A.1c.","January 1 - December 31","M_2","Expenditures","Expenditures","Reporting Period"]
[null,"A.2.","CSBG Expenditures Domains","M_2","Expenditures","Expenditures","CSBG Expenditures Domains"]
["M2A2aEmployment","A.2a.","Employment","M_2","Expenditures","Expenditures","CSBG Expenditures Domains"]
["M2A2bEducation","A.2b.","Education and Cognitive Development","M_2","Expenditures","Expenditures","CSBG Expenditures Domains"]
["M2A2cIncome","A.2c.","Income and Asset Building","M_2","Expenditures","Expenditures","CSBG Expenditures Domains"]
["M2A2dHousing","A.2d.","Housing","M_2","Expenditures","Expenditures","CSBG Expenditures Domains"]
["M2A2eHealth","A.2e.","Health and Social/Behavioral Development","M_2","Expenditures","Expenditures","CSBG Expenditures Domains"]
["M2A2fCivic","A.2f.","Civic Engagement and Community Involvement","M_2","Expenditures","Expenditures","CSBG Expenditures Domains"]
["M2A2gServices","A.2g.","Services Supporting Multiple Domains","M_2","Expenditures","Expenditures","CSBG Expenditures Domains"]
["M2A2hLinkages","A.2h.","Linkages","M_2","Expenditures","Expenditures","CSBG Expenditures Domains"]
["M2A2iCapacity","A.2i.","Agency Capacity Building","M_2","Expenditures","Expenditures","CSBG Expenditures Domains"]
["M2A2jOther","A.2j.","Other ","M_2","Expenditures","Expenditures","CSBG Expenditures Domains"]
["M2A2kTotal","A.2k.","Total CSBG Expenditures","M_2","Expenditures","Expenditures","CSBG Expenditures Domains"]
["M2A3Admin","A.3.","CSBG Funds Used Towards Administration","M_2","Expenditures","Expenditures","CSBG Expenditures Domains"]
["status_M2_A4","A.4.","Agency Capacity Building Activities","M_2","Expenditures","Expenditures","Agency Capacity Building Activities"]
["M2A41CommunityNeeds","A - Community Needs",null,"M_2","Expenditures","Expenditures","Agency Capacity Building Activities"]
["M2A41DataManagement","A - Data Management",null,"M_2","Expenditures","Expenditures","Agency Capacity Building Activities"]
["M2A41Other","A - Other",null,"M_2","Expenditures","Expenditures","Agency Capacity Building Activities"]
["M2A41StrategicPlanning","A - Strategic Planning",null,"M_2","Expenditures","Expenditures","Agency Capacity Building Activities"]
["M2A41Training","A - Training",null,"M_2","Expenditures","Expenditures","Agency Capacity Building Activities"]
["status_M2_A41","A.4.1.","Agency Capacity Building Activities","M_2","Expenditures","Expenditures","Agency Capacity Building Activities"]
["status_M2_A41other","A.4.1.oth.","A.4.1 other","M_2","Expenditures","Expenditures","Agency Capacity Building Activities"]
["M2A41OtherText","A.4.1.oth.","A.4.1 other text","M_2","Expenditures","Expenditures","Agency Capacity Building Activities"]
[null,"All_B","Capacity","M_2","Capacity","Capacity","Capacity"]
["","B.2.","Agency Capacity Building Hours","M_2","Capacity","Capacity","Agency Capacity Building Hours"]
["M2B2aBoard","B.2a.","Hours of Board Members in capacity building activities","M_2","Capacity","Capacity","Agency Capacity Building Hours"]
["M2B2bAgency","B.2b.","Hours of Agency Staff in capacity building activities","M_2","Capacity","Capacity","Agency Capacity Building Hours"]
["","B.3.","Volunteer Hours","M_2","Capacity","Capacity","Volunteer Hours"]
["M2B3aVolHoursDonated","B.3a.","Total number of volunteer hours donated to the agency","M_2","Capacity","Capacity","Volunteer Hours"]
["M2B3a1HoursLI","B.3a.1.","Total number of volunteer hours donated by individuals with low-incomes","M_2","Capacity","Capacity","Volunteer Hours"]
["","B.4.","Staff Certifications","M_2","Capacity","Capacity","Staff Certifications"]
["M2B4aROMATrainers","B.4a.","Number of Nationally Certified ROMA Trainers","M_2","Capacity","Capacity","Staff Certifications"]
["M2B4bROMAImplementers","B.4b.","Number of Nationally Certified ROMA Implementers","M_2","Capacity","Capacity","Staff Certifications"]
["M2B4cCCAP","B.4c.","Number of Certified Community Action Professionals (CCAP)","M_2","Capacity","Capacity","Staff Certifications"]
["M2B4dChild","B.4d.","Number of Staff with a child development certification","M_2","Capacity","Capacity","Staff Certifications"]
["M2B4eFamily","B.4e.","Number of Staff with a family development certification","M_2","Capacity","Capacity","Staff Certifications"]
["M2B4fPathways","B.4f.","Number of Pathways Reviewers","M_2","Capacity","Capacity","Staff Certifications"]
["M2B4gHome","B.4g.","Number of Staff with Home Energy Professional Certifications","M_2","Capacity","Capacity","Staff Certifications"]
["M2B4g1Auditors","B.4g.1.","Number of Energy Auditors","M_2","Capacity","Capacity","Staff Certifications"]
["M2B4g2Retrofit","B.4g.2.","Number of Retrofit Installer Technicians","M_2","Capacity","Capacity","Staff Certifications"]
["M2B4g3Crew","B.4g.3.","Number of Crew Leaders","M_2","Capacity","Capacity","Staff Certifications"]
["M2B4g4QCI","B.4g.4.","Number of Quality Control Inspectors (QCI)","M_2","Capacity","Capacity","Staff Certifications"]
["M2B4hLEED","B.4h.","Number of LEED Risk Certified assessors","M_2","Capacity","Capacity","Staff Certifications"]
["M2B4iBPI","B.4i.","Number of Building Performance Institute (BPI) certified professionals","M_2","Capacity","Capacity","Staff Certifications"]
["M2B4jCLASS","B.4j.","Number of Classroom Assessment Scoring System (CLASS) certified professionals","M_2","Capacity","Capacity","Staff Certifications"]
["M2B4kHQS","B.4k.","Number of Certified Housing Quality Standards (HQS) Inspectors","M_2","Capacity","Capacity","Staff Certifications"]
["M2B4lAICP","B.4l.","Number of American Institute of Certified Planners (AICP)","M_2","Capacity","Capacity","Staff Certifications"]
["M2B4mOther","B.4m.","Other","M_2","Capacity","Capacity","Staff Certifications"]
["M2B4mSpecify","B.4m.oth.","{agency defined description}","M_2","Capacity","Capacity","Staff Certifications"]
["","B.5.","Partnerships","M_2","Capacity","Capacity","Partnerships"]
["M2B5aNonProfit","B.5a.","Non-Profit","M_2","Capacity","Capacity","Partnerships"]
["M2B5bFaith","B.5b.","Faith Based","M_2","Capacity","Capacity","Partnerships"]
["M2B5cLocal","B.5c.","Local Government","M_2","Capacity","Capacity","Partnerships"]
["M2B5dState","B.5d.","State Government","M_2","Capacity","Capacity","Partnerships"]
["M2B5eFederal","B.5e.","Federal Government","M_2","Capacity","Capacity","Partnerships"]
["M2B5fForProfit","B.5f.","For-Profit Business or Corporation","M_2","Capacity","Capacity","Partnerships"]
["M2B5gConsortiums","B.5g.","Consortiums/Collaborations","M_2","Capacity","Capacity","Partnerships"]
["M2B5hSchools","B.5h.","School Districts","M_2","Capacity","Capacity","Partnerships"]
["M2B5iPostSecondary","B.5i.","Institutions of Post-Secondary Education/Training","M_2","Capacity","Capacity","Partnerships"]
["M2B5jBanks","B.5j.","Financial/Banking Institutions","M_2","Capacity","Capacity","Partnerships"]
["M2B5kHealth","B.5k.","Health Service Organizations","M_2","Capacity","Capacity","Partnerships"]
["M2B5lStatewide","B.5l.","Statewide Associations or Collaborations","M_2","Capacity","Capacity","Partnerships"]
[null,"All_C","Resources","M_2","Resources","Resources","Resources"]
["M2C2AmtAllocated","C.2.","CSBG Allocation","M_2","Resources","Resources","Federal Resources Allocated"]
["All_C.3_Status_1","C.3.","Federal Resources Allocated","M_2","Resources","Resources","Federal Resources Allocated"]
["M2C3aDOEWx","C.3a.","Weatherization (DOE)","M_2","Resources","Resources","Federal Resources Allocated"]
["","C.3b.","Health and Human Services (HHS)","M_2","Resources","Resources","Health and Human Services (HHS)"]
["M2C3b1LIHEAPAssist","C.3b.1.","LIHEAP - Fuel Assistance","M_2","Resources","Resources","Health and Human Services (HHS)"]
["M2C3b2LIHEAPWx","C.3b.2.","LIHEAP - Weatherization","M_2","Resources","Resources","Health and Human Services (HHS)"]
["M2C3b3HeadStart","C.3b.3.","Head Start","M_2","Resources","Resources","Health and Human Services (HHS)"]
["M2C3b4EarlyHeadStart","C.3b.4.","Early Head Start","M_2","Resources","Resources","Health and Human Services (HHS)"]
["M2C3b5OlderAmericans","C.3b.5.","Older Americans Act","M_2","Resources","Resources","Health and Human Services (HHS)"]
["M2C3b6SSBG","C.3b.6.","Social Services Block Grant (SSBG)","M_2","Resources","Resources","Health and Human Services (HHS)"]
["M2C3b7MedicareMedicaid","C.3b.7.","Medicare/Medicaid","M_2","Resources","Resources","Health and Human Services (HHS)"]
["M2C3b8AFI","C.3b.8.","Assets for Independence (AFI)","M_2","Resources","Resources","Health and Human Services (HHS)"]
["M2C3b9TANF","C.3b.9.","Temporary Assistance for Needy Families (TANF)","M_2","Resources","Resources","Health and Human Services (HHS)"]
["M2C3b10CCDBG","C.3b.10.","Child Care Development Block Grant (CCDBG)","M_2","Resources","Resources","Health and Human Services (HHS)"]
["M2C3b11CED","C.3b.11.","Community Economic Development (CED)","M_2","Resources","Resources","Health and Human Services (HHS)"]
["","C.3b.12.","Other HHS Resources","M_2","Resources","Resources","Other HHS Resources"]
["M2C3b12iOtherHHSDollar","C.3b.12.i.","Other HHS – Allocated Amount","M_2","Resources","Resources","Other HHS Resources"]
["M2C3b12iOtherHHSCFDA","C.3b.12.i.","Other HHS – CFDA #","M_2","Resources","Resources","Other HHS Resources"]
["M2C3b12iOtherHHSName","C.3b.12.i.","Other HHS - Description","M_2","Resources","Resources","Other HHS Resources"]
["M2C3b12iiOtherHHSDollar","C.3b.12.ii.","Other HHS – Allocated Amount","M_2","Resources","Resources","Other HHS Resources"]
["M2C3b12iiOtherHHSCFDA","C.3b.12.ii.","Other HHS – CFDA #","M_2","Resources","Resources","Other HHS Resources"]
["M2C3b12iiOtherHHSName","C.3b.12.ii.","Other HHS - Description","M_2","Resources","Resources","Other HHS Resources"]
["M2C3b12iiiOtherHHSDollar","C.3b.12.iii.","Other HHS – Allocated Amount","M_2","Resources","Resources","Other HHS Resources"]
["M2C3b12iiiOtherHHSCFDA","C.3b.12.iii.","Other HHS – CFDA #","M_2","Resources","Resources","Other HHS Resources"]
["M2C3b12iiiOtherHHSName","C.3b.12.iii.","Other HHS - Description","M_2","Resources","Resources","Other HHS Resources"]
["M2C3b12ivOtherHHSDollar","C.3b.12.iv.","Other HHS – Allocated Amount","M_2","Resources","Resources","Other HHS Resources"]
["M2C3b12ivOtherHHSCFDA","C.3b.12.iv.","Other HHS – CFDA #","M_2","Resources","Resources","Other HHS Resources"]
["M2C3b12ivOtherHHSName","C.3b.12.iv.","Other HHS - Description","M_2","Resources","Resources","Other HHS Resources"]
["M2C3b13TotalHHS","C.3b.13. ","Total Other HHS Resources","M_2","Resources","Resources","Other HHS Resources"]
["","C.3c.","Department of Agriculture (USDA)","M_2","Resources","Resources","Department of Agriculture (USDA)"]
["M2C3c1WIC","C.3c.1.","Special Supplemental Nutrition for Women, Infants, and Children (WIC)","M_2","Resources","Resources","Department of Agriculture (USDA)"]
["M2C3c2USDANonFood","C.3c.2.","All USDA Non-Food programs","M_2","Resources","Resources","Department of Agriculture (USDA)"]
["M2C3c3USDAFood","C.3c.3.","All other USDA Food programs","M_2","Resources","Resources","Department of Agriculture (USDA)"]
["","C.3d.","Department of Housing and Urban Development (HUD)","M_2","Resources","Resources","Department of Housing and Urban Development (HUD)"]
["M2C3d1CDBG","C.3d.1.","Community Development Block Grant (CDBG)","M_2","Resources","Resources","Department of Housing and Urban Development (HUD)"]
["M2C3d2Sect8","C.3d.2.","Section 8","M_2","Resources","Resources","Department of Housing and Urban Development (HUD)"]
["M2C3d3Sect202","C.3d.3.","Section 202","M_2","Resources","Resources","Department of Housing and Urban Development (HUD)"]
["M2C3d4HOMETBRA","C.3d.4.","Home Tenant-Based Rental Assistance (HOME TBRA)","M_2","Resources","Resources","Department of Housing and Urban Development (HUD)"]
["M2C3d5H4H","C.3d.5.","HOPE for Homeowners Program (H4H)","M_2","Resources","Resources","Department of Housing and Urban Development (HUD)"]
["M2C3d6ESG","C.3d.6.","Emergency Solutions Grant (ESG)","M_2","Resources","Resources","Department of Housing and Urban Development (HUD)"]
["M2C3d7ContinuumCare","C.3d.7.","Continuum of Care (CoC)","M_2","Resources","Resources","Department of Housing and Urban Development (HUD)"]
["M2C3d8TotalHUD","C.3d.8.","All other HUD programs","M_2","Resources","Resources","Department of Housing and Urban Development (HUD)"]
["","C.3e.","Department of Labor (DOL)","M_2","Resources","Resources","Department of Labor (DOL)"]
["M2C3eWIOA","C.3e.1.","Workforce Innovation and Opportunity Act (WIOA)","M_2","Resources","Resources","Department of Labor (DOL)"]
["M2C3eEmploymentTraining","C.3e.2.","Other DOL Employment and Training programs","M_2","Resources","Resources","Department of Labor (DOL)"]
["M2C3eTotalDOL","C.3e.3.","All other DOL programs","M_2","Resources","Resources","Department of Labor (DOL)"]
["M2C3fCNCS","C.3f.","Corporation for National and Community Service (CNCS) programs","M_2","Resources","Resources","Other Departments"]
["M2C3gFEMA","C.3g.","Federal Emergency Management Agency (FEMA)","M_2","Resources","Resources","Other Departments"]
["M2C3hTransportation","C.3h.","Department of Transportation C.3i. Department of Education","M_2","Resources","Resources","Other Departments"]
["M2C3iEducation","C.3i","Department of Education","M_2","Resources","Resources","Other Departments"]
["M2C3jJustice","C.3j.","Department of Justice","M_2","Resources","Resources","Other Departments"]
["M2C3kTreasury","C.3k.","Department of Treasury","M_2","Resources","Resources","Other Departments"]
["","C.3l.","Other Federal Resources","M_2","Resources","Resources","Other Federal Resources"]
["M2C3liOtherFedName","C.3l.i.","Other Federal - Description","M_2","Resources","Resources","Other Federal Resources"]
["M2C3liOtherFedCFDA","C.3l.i.","Other Federal – CFDA #","M_2","Resources","Resources","Other Federal Resources"]
["M2C3liOtherFedDollar","C.3l.i.","Other Federal – Allocated Amount","M_2","Resources","Resources","Other Federal Resources"]
["M2C3liiOtherFedName","C.3l.ii.","Other Federal - Description","M_2","Resources","Resources","Other Federal Resources"]
["M2C3liiOtherFedCFDA","C.3l.ii.","Other Federal – CFDA #","M_2","Resources","Resources","Other Federal Resources"]
["M2C3liiOtherFedDollar","C.3l.ii.","Other Federal – Allocated Amount","M_2","Resources","Resources","Other Federal Resources"]
["M2C3liiiOtherFedName","C.3l.iii.","Other Federal - Description","M_2","Resources","Resources","Other Federal Resources"]
["M2C3liiiOtherFedCFDA","C.3l.iii.","Other Federal – CFDA #","M_2","Resources","Resources","Other Federal Resources"]
["M2C3liiiOtherFedDollar","C.3l.iii.","Other Federal – Allocated Amount","M_2","Resources","Resources","Other Federal Resources"]
["M2C3livOtherFedName","C.3l.iv.","Other Federal - Description","M_2","Resources","Resources","Other Federal Resources"]
["M2C3livOtherFedCFDA","C.3l.iv.","Other Federal – CFDA #","M_2","Resources","Resources","Other Federal Resources"]
["M2C3livOtherFedDollar","C.3l.iv.","Other Federal – Allocated Amount","M_2","Resources","Resources","Other Federal Resources"]
["M2C3mTotalOtherFed","C.3m.","Total Other Federal Resources","M_2","Resources","Resources","Other Federal Resources"]
["M2C3nTotalFedNonCSBG","C.3n.","Total Non-CSBG Federal Resources Allocated","M_2","Resources","Resources","Other Federal Resources"]
["","C.4.","State Resources Allocated","M_2","Resources","Resources","State Resources Allocated"]
["M2C4aStateCSBG","C.4a.","State appropriated funds used for the same purpose as Federal CSBG funds","M_2","Resources","Resources","State Resources Allocated"]
["M2C4bStateHousing","C.4b.","State Housing and Homeless programs","M_2","Resources","Resources","State Resources Allocated"]
["M2C4cStateNutrition","C.4c.","State Nutrition programs","M_2","Resources","Resources","State Resources Allocated"]
["M2C4dStateEarlyChild","C.4d.","State Early Childhood Programs","M_2","Resources","Resources","State Resources Allocated"]
["M2C4eStateEnergy","C.4e.","State Energy programs","M_2","Resources","Resources","State Resources Allocated"]
["M2C4fStateHealth","C.4f.","State Health programs","M_2","Resources","Resources","State Resources Allocated"]
["M2C4gStateYouthDev","C.4g.","State Youth Development programs","M_2","Resources","Resources","State Resources Allocated"]
["M2C4hStateEmploymentTraining","C.4h.","State Employment and Training programs","M_2","Resources","Resources","State Resources Allocated"]
["M2C4iStateSenior","C.4i.","State Senior programs","M_2","Resources","Resources","State Resources Allocated"]
["M2C4jStateTransportation","C.4j.","State Transportation programs","M_2","Resources","Resources","State Resources Allocated"]
["M2C4kStateEducation","C.4k.","State Education programs","M_2","Resources","Resources","State Resources Allocated"]
["M2C4lStateRuralEcon","C.4l.","State Community, Rural and Economic Development programs","M_2","Resources","Resources","State Resources Allocated"]
["M2C4mStateFamilyDev","C.4m.","State Family Development programs","M_2","Resources","Resources","State Resources Allocated"]
["","C.4n.","Other State Resources","M_2","Resources","Resources","Other State Resources"]
["M2C4niOtherStateName","C.4n.i.","Other State - Description","M_2","Resources","Resources","Other State Resources"]
["M2C4niOtherStateDollar","C.4n.i.","Other State – Allocated Amount","M_2","Resources","Resources","Other State Resources"]
["M2C4niiOtherStateName","C.4n.ii.","Other State - Description","M_2","Resources","Resources","Other State Resources"]
["M2C4niiOtherStateDollar","C.4n.ii.","Other State – Allocated Amount","M_2","Resources","Resources","Other State Resources"]
["M2C4niiiOtherStateName","C.4n.iii.","Other State - Description","M_2","Resources","Resources","Other State Resources"]
["M2C4niiiOtherStateDollar","C.4n.iii.","Other State – Allocated Amount","M_2","Resources","Resources","Other State Resources"]
["M2C4nivOtherStateName","C.4n.iv.","Other State - Description","M_2","Resources","Resources","Other State Resources"]
["M2C4nivOtherStateDollar","C.4n.iv.","Other State – Allocated Amount","M_2","Resources","Resources","Other State Resources"]
["M2C4oOtherStateTotal","C.4o.","Total Other State Resources","M_2","Resources","Resources","Other State Resources"]
["M2C4pTotalState","C.4p.","Total State Resources Allocated","M_2","Resources","Resources","Other State Resources"]
["M2C4qStateFedEst","C.4q.","State Resources also reported for Federal Resources","M_2","Resources","Resources","Other State Resources"]
[null,"C.5.","Local Resources Allocated","M_2","Resources","Resources","Local Resources Allocated"]
["M2C5aLocalUnrestricted","C.5a.","Amount of unrestricted funds appropriated by local government","M_2","Resources","Resources","Local Resources Allocated"]
["M2C5bLocalRestricted","C.5b.","Amount of restricted funds appropriated by local government","M_2","Resources","Resources","Local Resources Allocated"]
["M2C5cLocalContractServ","C.5c.","Value of Contract Services","M_2","Resources","Resources","Local Resources Allocated"]
["M2C5dLocalInKind","C.5d.","Value of in-kind goods/services received from local government","M_2","Resources","Resources","Local Resources Allocated"]
["M2C5eTotalLocal","C.5e.","Total Local Resources Allocated","M_2","Resources","Resources","Local Resources Allocated"]
["M2C5fLocalFedEst","C.5f.","Local Resources also reported for Federal and/or State Resources","M_2","Resources","Resources","Local Resources Allocated"]
["","C.6.","Private Sector Resources  Allocated","M_2","Resources","Resources","Private Sector Resources  Allocated"]
["M2C6aPrivateFoundations","C.6a.","Funds from foundations, corporations, United Way, other nonprofits","M_2","Resources","Resources","Private Sector Resources  Allocated"]
["M2C6bPrivateOtherDonated","C.6b.","Other donated funds","M_2","Resources","Resources","Private Sector Resources  Allocated"]
["M2C6cPrivateValueOther","C.6c.","Value of other donated items, food, clothing, furniture, etc.","M_2","Resources","Resources","Private Sector Resources  Allocated"]
["M2C6dPrivateInKind","C.6d.","Value of in-kind services received from businesses","M_2","Resources","Resources","Private Sector Resources  Allocated"]
["M2C6ePrivateClientPayments","C.6e.","Payments by clients for services","M_2","Resources","Resources","Private Sector Resources  Allocated"]
["M2C6fPrivateEntityGoods","C.6f.","Payments by private entities for goods or services for low income clients or communities","M_2","Resources","Resources","Private Sector Resources  Allocated"]
["M2C6gTotalPrivate","C.6g.","Total: Private Sector Resources Allocated","M_2","Resources","Resources","Private Sector Resources  Allocated"]
["M2C6hPrivateFedEst","C.6h.","Private Resources also reported for Federal, State and/or Local Resources","M_2","Resources","Resources","Private Sector Resources  Allocated"]
["M2C7TotalNonCSBG","C.7.","Total Non-CSBG Resources Allocated","M_2","Resources","Resources","Private Sector Resources  Allocated"]
["M2C8TotalWithCSBG","C.8.","Total Resources in CSBG Eligible Entity","M_2","Resources","Resources","Private Sector Resources  Allocated"]
[null,"All_FNPIs","Employment","M_4","FNPIs","FNPIs","FNPIs"]
["","All_FNPI1","Employment","M_4","FNPIs Employment","FNPIs","Employment"]
["","FNPI 1a.","The number of unemployed youth who obtained employment to gain skills or income.","M_4","FNPIs Employment","FNPIs","Employment"]
["M4A1aEmployYouthPart","FNPI 1a.","The number of unemployed youth who obtained employment to gain skills or income.","M_4","FNPIs Employment","FNPIs","Employment"]
["M4A1aEmployYouthTarget","FNPI 1a.","The number of unemployed youth who obtained employment to gain skills or income.","M_4","FNPIs Employment","FNPIs","Employment"]
["M4A1aEmployYouthResults","FNPI 1a.","The number of unemployed youth who obtained employment to gain skills or income.","M_4","FNPIs Employment","FNPIs","Employment"]
["M4A1aEmployYouthOutcome","FNPI 1a.","The number of unemployed youth who obtained employment to gain skills or income.","M_4","FNPIs Employment","FNPIs","Employment"]
["M4A1aEmployYouthAccuracy","FNPI 1a.","The number of unemployed youth who obtained employment to gain skills or income.","M_4","FNPIs Employment","FNPIs","Employment"]
["","FNPI 1b.","The number of unemployed adults who obtained employment (up to a living wage).","M_4","FNPIs Employment","FNPIs","Employment"]
["M4A1bEmployAdultWagePart","FNPI 1b.","The number of unemployed adults who obtained employment (up to a living wage).","M_4","FNPIs Employment","FNPIs","Employment"]
["M4A1bEmployAdultWageTarget","FNPI 1b.","The number of unemployed adults who obtained employment (up to a living wage).","M_4","FNPIs Employment","FNPIs","Employment"]
["M4A1bEmployAdultWageResults","FNPI 1b.","The number of unemployed adults who obtained employment (up to a living wage).","M_4","FNPIs Employment","FNPIs","Employment"]
["M4A1bEmployAdultWageOutcome","FNPI 1b.","The number of unemployed adults who obtained employment (up to a living wage).","M_4","FNPIs Employment","FNPIs","Employment"]
["M4A1bEmployAdultWageAccuracy","FNPI 1b.","The number of unemployed adults who obtained employment (up to a living wage).","M_4","FNPIs Employment","FNPIs","Employment"]
["","FNPI 1c.","The number of unemployed adults who obtained and maintained employment for at least 90 days (up to a living wage).","M_4","FNPIs Employment","FNPIs","Employment"]
["M4A1cEmployAdultWage90daysPart","FNPI 1c.","The number of unemployed adults who obtained and maintained employment for at least 90 days (up to a living wage).","M_4","FNPIs Employment","FNPIs","Employment"]
["M4A1cEmployAdultWage90daysTarget","FNPI 1c.","The number of unemployed adults who obtained and maintained employment for at least 90 days (up to a living wage).","M_4","FNPIs Employment","FNPIs","Employment"]
["M4A1cEmployAdultWage90daysResults","FNPI 1c.","The number of unemployed adults who obtained and maintained employment for at least 90 days (up to a living wage).","M_4","FNPIs Employment","FNPIs","Employment"]
["M4A1cEmployAdultWage90daysOutcome","FNPI 1c.","The number of unemployed adults who obtained and maintained employment for at least 90 days (up to a living wage).","M_4","FNPIs Employment","FNPIs","Employment"]
["M4A1cEmployAdultWage90daysAccuracy","FNPI 1c.","The number of unemployed adults who obtained and maintained employment for at least 90 days (up to a living wage).","M_4","FNPIs Employment","FNPIs","Employment"]
["","FNPI 1d.","The number of unemployed adults who obtained and maintained employment for at least 180 days (up to a living wage).","M_4","FNPIs Employment","FNPIs","Employment"]
["M4A1dEmployAdultWage180daysPart","FNPI 1d.","The number of unemployed adults who obtained and maintained employment for at least 180 days (up to a living wage).","M_4","FNPIs Employment","FNPIs","Employment"]
["M4A1dEmployAdultWage180daysTarget","FNPI 1d.","The number of unemployed adults who obtained and maintained employment for at least 180 days (up to a living wage).","M_4","FNPIs Employment","FNPIs","Employment"]
["M4A1dEmployAdultWage180daysResults","FNPI 1d.","The number of unemployed adults who obtained and maintained employment for at least 180 days (up to a living wage).","M_4","FNPIs Employment","FNPIs","Employment"]
["M4A1dEmployAdultWage180daysOutcome","FNPI 1d.","The number of unemployed adults who obtained and maintained employment for at least 180 days (up to a living wage).","M_4","FNPIs Employment","FNPIs","Employment"]
["M4A1dEmployAdultWage180daysAccuracy","FNPI 1d.","The number of unemployed adults who obtained and maintained employment for at least 180 days (up to a living wage).","M_4","FNPIs Employment","FNPIs","Employment"]
["","FNPI 1e.","The number of unemployed adults who obtained employment (with a living wage or higher).","M_4","FNPIs Employment","FNPIs","Employment"]
["M4A1eEmployAdultAbovePart","FNPI 1e.","The number of unemployed adults who obtained employment (with a living wage or higher).","M_4","FNPIs Employment","FNPIs","Employment"]
["M4A1eEmployAdultAboveTarget","FNPI 1e.","The number of unemployed adults who obtained employment (with a living wage or higher).","M_4","FNPIs Employment","FNPIs","Employment"]
["M4A1eEmployAdultAboveResults","FNPI 1e.","The number of unemployed adults who obtained employment (with a living wage or higher).","M_4","FNPIs Employment","FNPIs","Employment"]
["M4A1eEmployAdultAboveOutcome","FNPI 1e.","The number of unemployed adults who obtained employment (with a living wage or higher).","M_4","FNPIs Employment","FNPIs","Employment"]
["M4A1eEmployAdultAboveAccuracy","FNPI 1e.","The number of unemployed adults who obtained employment (with a living wage or higher).","M_4","FNPIs Employment","FNPIs","Employment"]
["","FNPI 1f.","The number of unemployed adults who obtained and maintained employment for at least 90 days (with a living wage or higher).","M_4","FNPIs Employment","FNPIs","Employment"]
["M4A1fEmployAdultAbove90daysPart","FNPI 1f.","The number of unemployed adults who obtained and maintained employment for at least 90 days (with a living wage or higher).","M_4","FNPIs Employment","FNPIs","Employment"]
["M4A1fEmployAdultAbove90daysTarget","FNPI 1f.","The number of unemployed adults who obtained and maintained employment for at least 90 days (with a living wage or higher).","M_4","FNPIs Employment","FNPIs","Employment"]
["M4A1fEmployAdultAbove90daysResults","FNPI 1f.","The number of unemployed adults who obtained and maintained employment for at least 90 days (with a living wage or higher).","M_4","FNPIs Employment","FNPIs","Employment"]
["M4A1fEmployAdultAbove90daysOutcome","FNPI 1f.","The number of unemployed adults who obtained and maintained employment for at least 90 days (with a living wage or higher).","M_4","FNPIs Employment","FNPIs","Employment"]
["M4A1fEmployAdultAbove90daysAccuracy","FNPI 1f.","The number of unemployed adults who obtained and maintained employment for at least 90 days (with a living wage or higher).","M_4","FNPIs Employment","FNPIs","Employment"]
["","FNPI 1g.","The number of unemployed adults who obtained and maintained employment for at least 180 days (with a living wage or higher).","M_4","FNPIs Employment","FNPIs","Employment"]
["M4A1gEmployAdultAbove180daysPart","FNPI 1g.","The number of unemployed adults who obtained and maintained employment for at least 180 days (with a living wage or higher).","M_4","FNPIs Employment","FNPIs","Employment"]
["M4A1gEmployAdultAbove180daysTarget","FNPI 1g.","The number of unemployed adults who obtained and maintained employment for at least 180 days (with a living wage or higher).","M_4","FNPIs Employment","FNPIs","Employment"]
["M4A1gEmployAdultAbove180daysResults","FNPI 1g.","The number of unemployed adults who obtained and maintained employment for at least 180 days (with a living wage or higher).","M_4","FNPIs Employment","FNPIs","Employment"]
["M4A1gEmployAdultAbove180daysOutcome","FNPI 1g.","The number of unemployed adults who obtained and maintained employment for at least 180 days (with a living wage or higher).","M_4","FNPIs Employment","FNPIs","Employment"]
["M4A1gEmployAdultAbove180daysAccuracy","FNPI 1g.","The number of unemployed adults who obtained and maintained employment for at least 180 days (with a living wage or higher).","M_4","FNPIs Employment","FNPIs","Employment"]
[null,"FNPI 1h.","The number of employed participants in a career-advancement related program who entered or transitioned into a position that provided increased income and/or benefits.","M_4","FNPIs Employment","FNPIs","Employment"]
["M4A1hCareerAdvPart","FNPI 1h.","The number of employed participants in a career-advancement related program who entered or transitioned into a position that provided increased income and/or benefits.","M_4","FNPIs Employment","FNPIs","Employment"]
["M4A1hCareerAdvTarget","FNPI 1h.","The number of employed participants in a career-advancement related program who entered or transitioned into a position that provided increased income and/or benefits.","M_4","FNPIs Employment","FNPIs","Employment"]
["M4A1hCareerAdvResults","FNPI 1h.","The number of employed participants in a career-advancement related program who entered or transitioned into a position that provided increased income and/or benefits.","M_4","FNPIs Employment","FNPIs","Employment"]
["M4A1hCareerAdvOutcome","FNPI 1h.","The number of employed participants in a career-advancement related program who entered or transitioned into a position that provided increased income and/or benefits.","M_4","FNPIs Employment","FNPIs","Employment"]
["M4A1hCareerAdvAccuracy","FNPI 1h.","The number of employed participants in a career-advancement related program who entered or transitioned into a position that provided increased income and/or benefits.","M_4","FNPIs Employment","FNPIs","Employment"]
["","FNPI 1h.1.","Of those reported for 1h., the number of employed participants who increased income from employment through wage or salary amount increase.","M_4","FNPIs Employment","FNPIs","Employment"]
["M4A1h1CareerAdvIncPart","FNPI 1h.1.","Of those reported for 1h., the number of employed participants who increased income from employment through wage or salary amount increase.","M_4","FNPIs Employment","FNPIs","Employment"]
["M4A1h1CareerAdvIncTarget","FNPI 1h.1.","Of those reported for 1h., the number of employed participants who increased income from employment through wage or salary amount increase.","M_4","FNPIs Employment","FNPIs","Employment"]
["M4A1h1CareerAdvIncResults","FNPI 1h.1.","Of those reported for 1h., the number of employed participants who increased income from employment through wage or salary amount increase.","M_4","FNPIs Employment","FNPIs","Employment"]
["M4A1h1CareerAdvIncOutcome","FNPI 1h.1.","Of those reported for 1h., the number of employed participants who increased income from employment through wage or salary amount increase.","M_4","FNPIs Employment","FNPIs","Employment"]
["M4A1h1CareerAdvIncAccuracy","FNPI 1h.1.","Of those reported for 1h., the number of employed participants who increased income from employment through wage or salary amount increase.","M_4","FNPIs Employment","FNPIs","Employment"]
[null,"FNPI 1h.2.","Of those reported for 1h., the number of employed participants who increased income from employment through hours worked increase.","M_4","FNPIs Employment","FNPIs","Employment"]
["M4A1h2CareerAdvHoursPart","FNPI 1h.2.","Of those reported for 1h., the number of employed participants who increased income from employment through hours worked increase.","M_4","FNPIs Employment","FNPIs","Employment"]
["M4A1h2CareerAdvHoursTarget","FNPI 1h.2.","Of those reported for 1h., the number of employed participants who increased income from employment through hours worked increase.","M_4","FNPIs Employment","FNPIs","Employment"]
["M4A1h2CareerAdvHoursResults","FNPI 1h.2.","Of those reported for 1h., the number of employed participants who increased income from employment through hours worked increase.","M_4","FNPIs Employment","FNPIs","Employment"]
["M4A1h2CareerAdvHoursOutcome","FNPI 1h.2.","Of those reported for 1h., the number of employed participants who increased income from employment through hours worked increase.","M_4","FNPIs Employment","FNPIs","Employment"]
["M4A1h2CareerAdvHoursAccuracy","FNPI 1h.2.","Of those reported for 1h., the number of employed participants who increased income from employment through hours worked increase.","M_4","FNPIs Employment","FNPIs","Employment"]
[null,"FNPI 1h.3.","Of those reported for 1h., the number of employed participants who increased benefits related to employment.","M_4","FNPIs Employment","FNPIs","Employment"]
["M4A1h3CareerAdvBensPart","FNPI 1h.3.","Of those reported for 1h., the number of employed participants who increased benefits related to employment.","M_4","FNPIs Employment","FNPIs","Employment"]
["M4A1h3CareerAdvBensTarget","FNPI 1h.3.","Of those reported for 1h., the number of employed participants who increased benefits related to employment.","M_4","FNPIs Employment","FNPIs","Employment"]
["M4A1h3CareerAdvBensResults","FNPI 1h.3.","Of those reported for 1h., the number of employed participants who increased benefits related to employment.","M_4","FNPIs Employment","FNPIs","Employment"]
["M4A1h3CareerAdvBensOutcome","FNPI 1h.3.","Of those reported for 1h., the number of employed participants who increased benefits related to employment.","M_4","FNPIs Employment","FNPIs","Employment"]
["M4A1h3CareerAdvBensAccuracy","FNPI 1h.3.","Of those reported for 1h., the number of employed participants who increased benefits related to employment.","M_4","FNPIs Employment","FNPIs","Employment"]
["M4A1z1OtherEmploy1Name","FNPI 1z.1.","Z Indicator","M_4","FNPIs Employment","FNPIs","Employment"]
["M4A1zOtherEmploy1Part","FNPI 1z.1.","Z Indicator","M_4","FNPIs Employment","FNPIs","Employment"]
["M4A1zOtherEmploy1Target","FNPI 1z.1.","Z Indicator","M_4","FNPIs Employment","FNPIs","Employment"]
["M4A1zOtherEmploy1Results","FNPI 1z.1.","Z Indicator","M_4","FNPIs Employment","FNPIs","Employment"]
["M4A1zOtherEmploy1Outcome","FNPI 1z.1.","Z Indicator","M_4","FNPIs Employment","FNPIs","Employment"]
["M4A1zOtherEmploy1Accuracy","FNPI 1z.1.","Z Indicator","M_4","FNPIs Employment","FNPIs","Employment"]
["M4A1zOtherEmploy2Name","FNPI 1z.2.","Z Indicator","M_4","FNPIs Employment","FNPIs","Employment"]
["M4A1zOtherEmploy2Part","FNPI 1z.2.","Z Indicator","M_4","FNPIs Employment","FNPIs","Employment"]
["M4A1zOtherEmploy2Target","FNPI 1z.2.","Z Indicator","M_4","FNPIs Employment","FNPIs","Employment"]
["M4A1zOtherEmploy2Results","FNPI 1z.2.","Z Indicator","M_4","FNPIs Employment","FNPIs","Employment"]
["M4A1zOtherEmploy2Outcome","FNPI 1z.2.","Z Indicator","M_4","FNPIs Employment","FNPIs","Employment"]
["M4A1zOtherEmploy2Accuracy","FNPI 1z.2.","Z Indicator","M_4","FNPIs Employment","FNPIs","Employment"]
["M4A1zOtherEmploy3Name","FNPI 1z.3.","Z Indicator","M_4","FNPIs Employment","FNPIs","Employment"]
["M4A1zOtherEmploy3Part","FNPI 1z.3.","Z Indicator","M_4","FNPIs Employment","FNPIs","Employment"]
["M4A1zOtherEmploy3Target","FNPI 1z.3.","Z Indicator","M_4","FNPIs Employment","FNPIs","Employment"]
["M4A1zOtherEmploy3Results","FNPI 1z.3.","Z Indicator","M_4","FNPIs Employment","FNPIs","Employment"]
["M4A1zOtherEmploy3Outcome","FNPI 1z.3.","Z Indicator","M_4","FNPIs Employment","FNPIs","Employment"]
["M4A1zOtherEmploy3Accuracy","FNPI 1z.3.","Z Indicator","M_4","FNPIs Employment","FNPIs","Employment"]
["M4A1zOtherEmploy4Name","FNPI 1z.4.","Z Indicator","M_4","FNPIs Employment","FNPIs","Employment"]
["M4A1zOtherEmploy4Part","FNPI 1z.4.","Z Indicator","M_4","FNPIs Employment","FNPIs","Employment"]
["M4A1zOtherEmploy4Target","FNPI 1z.4.","Z Indicator","M_4","FNPIs Employment","FNPIs","Employment"]
["M4A1zOtherEmploy4Results","FNPI 1z.4.","Z Indicator","M_4","FNPIs Employment","FNPIs","Employment"]
["M4A1zOtherEmploy4Outcome","FNPI 1z.4.","Z Indicator","M_4","FNPIs Employment","FNPIs","Employment"]
["M4A1zOtherEmploy4Accuracy","FNPI 1z.4.","Z Indicator","M_4","FNPIs Employment","FNPIs","Employment"]
["M4A1zOtherEmploy5Name","FNPI 1z.5.","Z Indicator","M_4","FNPIs Employment","FNPIs","Employment"]
["M4A1zOtherEmploy5Part","FNPI 1z.5.","Z Indicator","M_4","FNPIs Employment","FNPIs","Employment"]
["M4A1zOtherEmploy5Target","FNPI 1z.5.","Z Indicator","M_4","FNPIs Employment","FNPIs","Employment"]
["M4A1zOtherEmploy5Results","FNPI 1z.5.","Z Indicator","M_4","FNPIs Employment","FNPIs","Employment"]
["M4A1zOtherEmploy5Outcome","FNPI 1z.5.","Z Indicator","M_4","FNPIs Employment","FNPIs","Employment"]
["M4A1zOtherEmploy5Accuracy","FNPI 1z.5.","Z Indicator","M_4","FNPIs Employment","FNPIs","Employment"]
[null,"All_FNPI2","Education and Cognitive Development","M_4","FNPIs Education","FNPIs","Education and Cognitive Development"]
["","FNPI 2a.","The number of children (0 to 5) who demonstrated improved emergent literacy skills.","M_4","FNPIs Education","FNPIs","Education and Cognitive Development"]
["M4A2aChildLitSkillsPart","FNPI 2a.","The number of children (0 to 5) who demonstrated improved emergent literacy skills.","M_4","FNPIs Education","FNPIs","Education and Cognitive Development"]
["M4A2aChildLitSkillsTarget","FNPI 2a.","The number of children (0 to 5) who demonstrated improved emergent literacy skills.","M_4","FNPIs Education","FNPIs","Education and Cognitive Development"]
["M4A2aChildLitSkillsResults","FNPI 2a.","The number of children (0 to 5) who demonstrated improved emergent literacy skills.","M_4","FNPIs Education","FNPIs","Education and Cognitive Development"]
["M4A2aChildLitSkillsOutcome","FNPI 2a.","The number of children (0 to 5) who demonstrated improved emergent literacy skills.","M_4","FNPIs Education","FNPIs","Education and Cognitive Development"]
["M4A2aChildLitSkillsAccuracy","FNPI 2a.","The number of children (0 to 5) who demonstrated improved emergent literacy skills.","M_4","FNPIs Education","FNPIs","Education and Cognitive Development"]
["","FNPI 2b.","The number of children (0 to 5) who demonstrated skills for school readiness.","M_4","FNPIs Education","FNPIs","Education and Cognitive Development"]
["M4A2bChildSchoolReadyPart","FNPI 2b.","The number of children (0 to 5) who demonstrated skills for school readiness.","M_4","FNPIs Education","FNPIs","Education and Cognitive Development"]
["M4A2bChildSchoolReadyTarget","FNPI 2b.","The number of children (0 to 5) who demonstrated skills for school readiness.","M_4","FNPIs Education","FNPIs","Education and Cognitive Development"]
["M4A2bChildSchoolReadyResults","FNPI 2b.","The number of children (0 to 5) who demonstrated skills for school readiness.","M_4","FNPIs Education","FNPIs","Education and Cognitive Development"]
["M4A2bChildSchoolReadyOutcome","FNPI 2b.","The number of children (0 to 5) who demonstrated skills for school readiness.","M_4","FNPIs Education","FNPIs","Education and Cognitive Development"]
["M4A2bChildSchoolReadyAccuracy","FNPI 2b.","The number of children (0 to 5) who demonstrated skills for school readiness.","M_4","FNPIs Education","FNPIs","Education and Cognitive Development"]
["","FNPI 2c.","The number of children and youth who demonstrated improved positive approaches toward learning, including improved attention skills.","M_4","FNPIs Education","FNPIs","Education and Cognitive Development"]
["M4A2cPosLearnPart","FNPI 2c.","The number of children and youth who demonstrated improved positive approaches toward learning, including improved attention skills.","M_4","FNPIs Education","FNPIs","Education and Cognitive Development"]
["M4A2cPosLearnTarget","FNPI 2c.","The number of children and youth who demonstrated improved positive approaches toward learning, including improved attention skills.","M_4","FNPIs Education","FNPIs","Education and Cognitive Development"]
["M4A2cPosLearnResults","FNPI 2c.","The number of children and youth who demonstrated improved positive approaches toward learning, including improved attention skills.","M_4","FNPIs Education","FNPIs","Education and Cognitive Development"]
["M4A2cPosLearnOutcome","FNPI 2c.","The number of children and youth who demonstrated improved positive approaches toward learning, including improved attention skills.","M_4","FNPIs Education","FNPIs","Education and Cognitive Development"]
["M4A2cPosLearnAccuracy","FNPI 2c.","The number of children and youth who demonstrated improved positive approaches toward learning, including improved attention skills.","M_4","FNPIs Education","FNPIs","Education and Cognitive Development"]
["","FNPI 2c.1.","Demonstrated improved positive approaches toward learning - Early Childhood Education (ages 0-5).","M_4","FNPIs Education","FNPIs","Education and Cognitive Development"]
["M4A2c1PosLearnAge0to5Part","FNPI 2c.1.","Demonstrated improved positive approaches toward learning - Early Childhood Education (ages 0-5).","M_4","FNPIs Education","FNPIs","Education and Cognitive Development"]
["M4A2c1PosLearnAge0to5Target","FNPI 2c.1.","Demonstrated improved positive approaches toward learning - Early Childhood Education (ages 0-5).","M_4","FNPIs Education","FNPIs","Education and Cognitive Development"]
["M4A2c1PosLearnAge0to5Results","FNPI 2c.1.","Demonstrated improved positive approaches toward learning - Early Childhood Education (ages 0-5).","M_4","FNPIs Education","FNPIs","Education and Cognitive Development"]
["M4A2c1PosLearnAge0to5Outcome","FNPI 2c.1.","Demonstrated improved positive approaches toward learning - Early Childhood Education (ages 0-5).","M_4","FNPIs Education","FNPIs","Education and Cognitive Development"]
["M4A2c1PosLearnAge0to5Accuracy","FNPI 2c.1.","Demonstrated improved positive approaches toward learning - Early Childhood Education (ages 0-5).","M_4","FNPIs Education","FNPIs","Education and Cognitive Development"]
[null,"FNPI 2c.2.","Demonstrated improved positive approaches toward learning - 1st grade-8th grade.","M_4","FNPIs Education","FNPIs","Education and Cognitive Development"]
["M4A2c2PosLearnGrade1to8Part","FNPI 2c.2.","Demonstrated improved positive approaches toward learning - 1st grade-8th grade.","M_4","FNPIs Education","FNPIs","Education and Cognitive Development"]
["M4A2c2PosLearnGrade1to8Target","FNPI 2c.2.","Demonstrated improved positive approaches toward learning - 1st grade-8th grade.","M_4","FNPIs Education","FNPIs","Education and Cognitive Development"]
["M4A2c2PosLearnGrade1to8Results","FNPI 2c.2.","Demonstrated improved positive approaches toward learning - 1st grade-8th grade.","M_4","FNPIs Education","FNPIs","Education and Cognitive Development"]
["M4A2c2PosLearnGrade1to8Outcome","FNPI 2c.2.","Demonstrated improved positive approaches toward learning - 1st grade-8th grade.","M_4","FNPIs Education","FNPIs","Education and Cognitive Development"]
["M4A2c2PosLearnGrade1to8Accuracy","FNPI 2c.2.","Demonstrated improved positive approaches toward learning - 1st grade-8th grade.","M_4","FNPIs Education","FNPIs","Education and Cognitive Development"]
[null,"FNPI 2c.3.","Demonstrated improved positive approaches toward learning - 9th grade-12th grade.","M_4","FNPIs Education","FNPIs","Education and Cognitive Development"]
["M4A2c3PosLearnGrade9to12Part","FNPI 2c.3.","Demonstrated improved positive approaches toward learning - 9th grade-12th grade.","M_4","FNPIs Education","FNPIs","Education and Cognitive Development"]
["M4A2c3PosLearnGrade9to12Target","FNPI 2c.3.","Demonstrated improved positive approaches toward learning - 9th grade-12th grade.","M_4","FNPIs Education","FNPIs","Education and Cognitive Development"]
["M4A2c3PosLearnGrade9to12Results","FNPI 2c.3.","Demonstrated improved positive approaches toward learning - 9th grade-12th grade.","M_4","FNPIs Education","FNPIs","Education and Cognitive Development"]
["M4A2c3PosLearnGrade9to12Outcome","FNPI 2c.3.","Demonstrated improved positive approaches toward learning - 9th grade-12th grade.","M_4","FNPIs Education","FNPIs","Education and Cognitive Development"]
["M4A2c3PosLearnGrade9to12Accuracy","FNPI 2c.3.","Demonstrated improved positive approaches toward learning - 9th grade-12th grade.","M_4","FNPIs Education","FNPIs","Education and Cognitive Development"]
[null,"FNPI 2d.","The number of children and youth who are achieving at basic grade level.","M_4","FNPIs Education","FNPIs","Education and Cognitive Development"]
["M4A2dBasicLevelPart","FNPI 2d.","The number of children and youth who are achieving at basic grade level.","M_4","FNPIs Education","FNPIs","Education and Cognitive Development"]
["M4A2dBasicLevelTarget","FNPI 2d.","The number of children and youth who are achieving at basic grade level.","M_4","FNPIs Education","FNPIs","Education and Cognitive Development"]
["M4A2dBasicLevelResults","FNPI 2d.","The number of children and youth who are achieving at basic grade level.","M_4","FNPIs Education","FNPIs","Education and Cognitive Development"]
["M4A2dBasicLevelOutcome","FNPI 2d.","The number of children and youth who are achieving at basic grade level.","M_4","FNPIs Education","FNPIs","Education and Cognitive Development"]
["M4A2dBasicLevelAccuracy","FNPI 2d.","The number of children and youth who are achieving at basic grade level.","M_4","FNPIs Education","FNPIs","Education and Cognitive Development"]
["","FNPI 2d.1.","Achieving at basic grade level - Early Childhood Education (ages 0-5).","M_4","FNPIs Education","FNPIs","Education and Cognitive Development"]
["M4A2d1BasicLevel0to5Part","FNPI 2d.1.","Achieving at basic grade level - Early Childhood Education (ages 0-5).","M_4","FNPIs Education","FNPIs","Education and Cognitive Development"]
["M4A2d1BasicLevel0to5Target","FNPI 2d.1.","Achieving at basic grade level - Early Childhood Education (ages 0-5).","M_4","FNPIs Education","FNPIs","Education and Cognitive Development"]
["M4A2d1BasicLevel0to5Results","FNPI 2d.1.","Achieving at basic grade level - Early Childhood Education (ages 0-5).","M_4","FNPIs Education","FNPIs","Education and Cognitive Development"]
["M4A2d1BasicLevel0to5Outcome","FNPI 2d.1.","Achieving at basic grade level - Early Childhood Education (ages 0-5).","M_4","FNPIs Education","FNPIs","Education and Cognitive Development"]
["M4A2d1BasicLevel0to5Accuracy","FNPI 2d.1.","Achieving at basic grade level - Early Childhood Education (ages 0-5).","M_4","FNPIs Education","FNPIs","Education and Cognitive Development"]
[null,"FNPI 2d.2.","Achieving at basic grade level - 1st grade-8th grade.","M_4","FNPIs Education","FNPIs","Education and Cognitive Development"]
["M4A2d2BasicLevelGrade1to8Part","FNPI 2d.2.","Achieving at basic grade level - 1st grade-8th grade.","M_4","FNPIs Education","FNPIs","Education and Cognitive Development"]
["M4A2d2BasicLevelGrade1to8Target","FNPI 2d.2.","Achieving at basic grade level - 1st grade-8th grade.","M_4","FNPIs Education","FNPIs","Education and Cognitive Development"]
["M4A2d2BasicLevelGrade1to8Results","FNPI 2d.2.","Achieving at basic grade level - 1st grade-8th grade.","M_4","FNPIs Education","FNPIs","Education and Cognitive Development"]
["M4A2d2BasicLevelGrade1to8Outcome","FNPI 2d.2.","Achieving at basic grade level - 1st grade-8th grade.","M_4","FNPIs Education","FNPIs","Education and Cognitive Development"]
["M4A2d2BasicLevelGrade1to8Accuracy","FNPI 2d.2.","Achieving at basic grade level - 1st grade-8th grade.","M_4","FNPIs Education","FNPIs","Education and Cognitive Development"]
[null,"FNPI 2d.3.","Achieving at basic grade level - 9th grade-12th grade.","M_4","FNPIs Education","FNPIs","Education and Cognitive Development"]
["M4A2d3BasicLevelGrade9to12Part","FNPI 2d.3.","Achieving at basic grade level - 9th grade-12th grade.","M_4","FNPIs Education","FNPIs","Education and Cognitive Development"]
["M4A2d3BasicLevelGrade9to12Target","FNPI 2d.3.","Achieving at basic grade level - 9th grade-12th grade.","M_4","FNPIs Education","FNPIs","Education and Cognitive Development"]
["M4A2d3BasicLevelGrade9to12Results","FNPI 2d.3.","Achieving at basic grade level - 9th grade-12th grade.","M_4","FNPIs Education","FNPIs","Education and Cognitive Development"]
["M4A2d3BasicLevelGrade9to12Outcome","FNPI 2d.3.","Achieving at basic grade level - 9th grade-12th grade.","M_4","FNPIs Education","FNPIs","Education and Cognitive Development"]
["M4A2d3BasicLevelGrade9to12Accuracy","FNPI 2d.3.","Achieving at basic grade level - 9th grade-12th grade.","M_4","FNPIs Education","FNPIs","Education and Cognitive Development"]
[null,"FNPI 2e.","The number of parents/caregivers who improved their home environments.","M_4","FNPIs Education","FNPIs","Education and Cognitive Development"]
["M4A2eParentHomeEnvPart","FNPI 2e.","The number of parents/caregivers who improved their home environments.","M_4","FNPIs Education","FNPIs","Education and Cognitive Development"]
["M4A2eParentHomeEnvTarget","FNPI 2e.","The number of parents/caregivers who improved their home environments.","M_4","FNPIs Education","FNPIs","Education and Cognitive Development"]
["M4A2eParentHomeEnvResults","FNPI 2e.","The number of parents/caregivers who improved their home environments.","M_4","FNPIs Education","FNPIs","Education and Cognitive Development"]
["M4A2eParentHomeEnvOutcome","FNPI 2e.","The number of parents/caregivers who improved their home environments.","M_4","FNPIs Education","FNPIs","Education and Cognitive Development"]
["M4A2eParentHomeEnvAccuracy","FNPI 2e.","The number of parents/caregivers who improved their home environments.","M_4","FNPIs Education","FNPIs","Education and Cognitive Development"]
["","FNPI 2f.","The number of adults who demonstrated improved basic education.","M_4","FNPIs Education","FNPIs","Education and Cognitive Development"]
["M4A2fAdultBasicEdPart","FNPI 2f.","The number of adults who demonstrated improved basic education.","M_4","FNPIs Education","FNPIs","Education and Cognitive Development"]
["M4A2fAdultBasicEdTarget","FNPI 2f.","The number of adults who demonstrated improved basic education.","M_4","FNPIs Education","FNPIs","Education and Cognitive Development"]
["M4A2fAdultBasicEdResults","FNPI 2f.","The number of adults who demonstrated improved basic education.","M_4","FNPIs Education","FNPIs","Education and Cognitive Development"]
["M4A2fAdultBasicEdOutcome","FNPI 2f.","The number of adults who demonstrated improved basic education.","M_4","FNPIs Education","FNPIs","Education and Cognitive Development"]
["M4A2fAdultBasicEdAccuracy","FNPI 2f.","The number of adults who demonstrated improved basic education.","M_4","FNPIs Education","FNPIs","Education and Cognitive Development"]
["","FNPI 2g.","The number of individuals who obtained a high school diploma and/or obtained an equivalency certificate or diploma.","M_4","FNPIs Education","FNPIs","Education and Cognitive Development"]
["M4A2gHighSchoolPart","FNPI 2g.","The number of individuals who obtained a high school diploma and/or obtained an equivalency certificate or diploma.","M_4","FNPIs Education","FNPIs","Education and Cognitive Development"]
["M4A2gHighSchoolTarget","FNPI 2g.","The number of individuals who obtained a high school diploma and/or obtained an equivalency certificate or diploma.","M_4","FNPIs Education","FNPIs","Education and Cognitive Development"]
["M4A2gHighSchoolResults","FNPI 2g.","The number of individuals who obtained a high school diploma and/or obtained an equivalency certificate or diploma.","M_4","FNPIs Education","FNPIs","Education and Cognitive Development"]
["M4A2gHighSchoolOutcome","FNPI 2g.","The number of individuals who obtained a high school diploma and/or obtained an equivalency certificate or diploma.","M_4","FNPIs Education","FNPIs","Education and Cognitive Development"]
["M4A2gHighSchoolAccuracy","FNPI 2g.","The number of individuals who obtained a high school diploma and/or obtained an equivalency certificate or diploma.","M_4","FNPIs Education","FNPIs","Education and Cognitive Development"]
["","FNPI 2h.","The number of individuals who obtained a recognized credential, certificate, or degree relating to the achievement of educational or vocational skills.","M_4","FNPIs Education","FNPIs","Education and Cognitive Development"]
["M4A2hEdVocPart","FNPI 2h.","The number of individuals who obtained a recognized credential, certificate, or degree relating to the achievement of educational or vocational skills.","M_4","FNPIs Education","FNPIs","Education and Cognitive Development"]
["M4A2hEdVocTarget","FNPI 2h.","The number of individuals who obtained a recognized credential, certificate, or degree relating to the achievement of educational or vocational skills.","M_4","FNPIs Education","FNPIs","Education and Cognitive Development"]
["M4A2hEdVocResults","FNPI 2h.","The number of individuals who obtained a recognized credential, certificate, or degree relating to the achievement of educational or vocational skills.","M_4","FNPIs Education","FNPIs","Education and Cognitive Development"]
["M4A2hEdVocOutcome","FNPI 2h.","The number of individuals who obtained a recognized credential, certificate, or degree relating to the achievement of educational or vocational skills.","M_4","FNPIs Education","FNPIs","Education and Cognitive Development"]
["M4A2hEdVocAccuracy","FNPI 2h.","The number of individuals who obtained a recognized credential, certificate, or degree relating to the achievement of educational or vocational skills.","M_4","FNPIs Education","FNPIs","Education and Cognitive Development"]
["","FNPI 2i.","The number of individuals who obtained an Associate’s degree.","M_4","FNPIs Education","FNPIs","Education and Cognitive Development"]
["M4A2iAssocDegPart","FNPI 2i.","The number of individuals who obtained an Associate’s degree.","M_4","FNPIs Education","FNPIs","Education and Cognitive Development"]
["M4A2iAssocDegTarget","FNPI 2i.","The number of individuals who obtained an Associate’s degree.","M_4","FNPIs Education","FNPIs","Education and Cognitive Development"]
["M4A2iAssocDegResults","FNPI 2i.","The number of individuals who obtained an Associate’s degree.","M_4","FNPIs Education","FNPIs","Education and Cognitive Development"]
["M4A2iAssocDegOutcome","FNPI 2i.","The number of individuals who obtained an Associate’s degree.","M_4","FNPIs Education","FNPIs","Education and Cognitive Development"]
["M4A2iAssocDegAccuracy","FNPI 2i.","The number of individuals who obtained an Associate’s degree.","M_4","FNPIs Education","FNPIs","Education and Cognitive Development"]
["","FNPI 2j.","The number of individuals who obtained a Bachelor’s degree.","M_4","FNPIs Education","FNPIs","Education and Cognitive Development"]
["M4A2jBachDegPart","FNPI 2j.","The number of individuals who obtained a Bachelor’s degree.","M_4","FNPIs Education","FNPIs","Education and Cognitive Development"]
["M4A2jBachDegTarget","FNPI 2j.","The number of individuals who obtained a Bachelor’s degree.","M_4","FNPIs Education","FNPIs","Education and Cognitive Development"]
["M4A2jBachDegResults","FNPI 2j.","The number of individuals who obtained a Bachelor’s degree.","M_4","FNPIs Education","FNPIs","Education and Cognitive Development"]
["M4A2jBachDegOutcome","FNPI 2j.","The number of individuals who obtained a Bachelor’s degree.","M_4","FNPIs Education","FNPIs","Education and Cognitive Development"]
["M4A2jBachDegAccuracy","FNPI 2j.","The number of individuals who obtained a Bachelor’s degree.","M_4","FNPIs Education","FNPIs","Education and Cognitive Development"]
["M4A2zOtherEdu1Name","FNPI 2z.1.","Z Indicator","M_4","FNPIs Education","FNPIs","Education and Cognitive Development"]
["M4A2zOtherEdu1Part","FNPI 2z.1.","Z Indicator","M_4","FNPIs Education","FNPIs","Education and Cognitive Development"]
["M4A2zOtherEdu1Target","FNPI 2z.1.","Z Indicator","M_4","FNPIs Education","FNPIs","Education and Cognitive Development"]
["M4A2zOtherEdu1Results","FNPI 2z.1.","Z Indicator","M_4","FNPIs Education","FNPIs","Education and Cognitive Development"]
["M4A2zOtherEdu1Outcome","FNPI 2z.1.","Z Indicator","M_4","FNPIs Education","FNPIs","Education and Cognitive Development"]
["M4A2zOtherEdu1Accuracy","FNPI 2z.1.","Z Indicator","M_4","FNPIs Education","FNPIs","Education and Cognitive Development"]
["M4A2zOtherEdu2Name","FNPI 2z.2.","Z Indicator","M_4","FNPIs Education","FNPIs","Education and Cognitive Development"]
["M4A2zOtherEdu2Part","FNPI 2z.2.","Z Indicator","M_4","FNPIs Education","FNPIs","Education and Cognitive Development"]
["M4A2zOtherEdu2Target","FNPI 2z.2.","Z Indicator","M_4","FNPIs Education","FNPIs","Education and Cognitive Development"]
["M4A2zOtherEdu2Results","FNPI 2z.2.","Z Indicator","M_4","FNPIs Education","FNPIs","Education and Cognitive Development"]
["M4A2zOtherEdu2Outcome","FNPI 2z.2.","Z Indicator","M_4","FNPIs Education","FNPIs","Education and Cognitive Development"]
["M4A2zOtherEdu2Accuracy","FNPI 2z.2.","Z Indicator","M_4","FNPIs Education","FNPIs","Education and Cognitive Development"]
["M4A2zOtherEdu3Name","FNPI 2z.3.","Z Indicator","M_4","FNPIs Education","FNPIs","Education and Cognitive Development"]
["M4A2zOtherEdu3Part","FNPI 2z.3.","Z Indicator","M_4","FNPIs Education","FNPIs","Education and Cognitive Development"]
["M4A2zOtherEdu3Target","FNPI 2z.3.","Z Indicator","M_4","FNPIs Education","FNPIs","Education and Cognitive Development"]
["M4A2zOtherEdu3Results","FNPI 2z.3.","Z Indicator","M_4","FNPIs Education","FNPIs","Education and Cognitive Development"]
["M4A2zOtherEdu3Outcome","FNPI 2z.3.","Z Indicator","M_4","FNPIs Education","FNPIs","Education and Cognitive Development"]
["M4A2zOtherEdu3Accuracy","FNPI 2z.3.","Z Indicator","M_4","FNPIs Education","FNPIs","Education and Cognitive Development"]
["M4A2zOtherEdu4Name","FNPI 2z.4.","Z Indicator","M_4","FNPIs Education","FNPIs","Education and Cognitive Development"]
["M4A2zOtherEdu4Part","FNPI 2z.4.","Z Indicator","M_4","FNPIs Education","FNPIs","Education and Cognitive Development"]
["M4A2zOtherEdu4Target","FNPI 2z.4.","Z Indicator","M_4","FNPIs Education","FNPIs","Education and Cognitive Development"]
["M4A2zOtherEdu4Results","FNPI 2z.4.","Z Indicator","M_4","FNPIs Education","FNPIs","Education and Cognitive Development"]
["M4A2zOtherEdu4Outcome","FNPI 2z.4.","Z Indicator","M_4","FNPIs Education","FNPIs","Education and Cognitive Development"]
["M4A2zOtherEdu4Accuracy","FNPI 2z.4.","Z Indicator","M_4","FNPIs Education","FNPIs","Education and Cognitive Development"]
["M4A2zOtherEdu5Name","FNPI 2z.5.","Z Indicator","M_4","FNPIs Education","FNPIs","Education and Cognitive Development"]
["M4A2zOtherEdu5Part","FNPI 2z.5.","Z Indicator","M_4","FNPIs Education","FNPIs","Education and Cognitive Development"]
["M4A2zOtherEdu5Target","FNPI 2z.5.","Z Indicator","M_4","FNPIs Education","FNPIs","Education and Cognitive Development"]
["M4A2zOtherEdu5Results","FNPI 2z.5.","Z Indicator","M_4","FNPIs Education","FNPIs","Education and Cognitive Development"]
["M4A2zOtherEdu5Outcome","FNPI 2z.5.","Z Indicator","M_4","FNPIs Education","FNPIs","Education and Cognitive Development"]
["M4A2zOtherEdu5Accuracy","FNPI 2z.5.","Z Indicator","M_4","FNPIs Education","FNPIs","Education and Cognitive Development"]
[null,"All_FNPI3","Income and Asset Building","M_4","FNPIs Income","FNPIs","Income and Asset Building"]
["","FNPI 3a.","The number of individuals who achieved and maintained capacity to meet basic needs for 90 days.","M_4","FNPIs Income","FNPIs","Income and Asset Building"]
["M4A3aBasicNeeds90Part","FNPI 3a.","The number of individuals who achieved and maintained capacity to meet basic needs for 90 days.","M_4","FNPIs Income","FNPIs","Income and Asset Building"]
["M4A3aBasicNeeds90Target","FNPI 3a.","The number of individuals who achieved and maintained capacity to meet basic needs for 90 days.","M_4","FNPIs Income","FNPIs","Income and Asset Building"]
["M4A3aBasicNeeds90Results","FNPI 3a.","The number of individuals who achieved and maintained capacity to meet basic needs for 90 days.","M_4","FNPIs Income","FNPIs","Income and Asset Building"]
["M4A3aBasicNeeds90Outcome","FNPI 3a.","The number of individuals who achieved and maintained capacity to meet basic needs for 90 days.","M_4","FNPIs Income","FNPIs","Income and Asset Building"]
["M4A3aBasicNeeds90Accuracy","FNPI 3a.","The number of individuals who achieved and maintained capacity to meet basic needs for 90 days.","M_4","FNPIs Income","FNPIs","Income and Asset Building"]
["","FNPI 3b.","The number of individuals who achieved and maintained capacity to meet basic needs for 180 days.","M_4","FNPIs Income","FNPIs","Income and Asset Building"]
["M4A3bBasicNeeds180Part","FNPI 3b.","The number of individuals who achieved and maintained capacity to meet basic needs for 180 days.","M_4","FNPIs Income","FNPIs","Income and Asset Building"]
["M4A3bBasicNeeds180Target","FNPI 3b.","The number of individuals who achieved and maintained capacity to meet basic needs for 180 days.","M_4","FNPIs Income","FNPIs","Income and Asset Building"]
["M4A3bBasicNeeds180Results","FNPI 3b.","The number of individuals who achieved and maintained capacity to meet basic needs for 180 days.","M_4","FNPIs Income","FNPIs","Income and Asset Building"]
["M4A3bBasicNeeds180Outcome","FNPI 3b.","The number of individuals who achieved and maintained capacity to meet basic needs for 180 days.","M_4","FNPIs Income","FNPIs","Income and Asset Building"]
["M4A3bBasicNeeds180Accuracy","FNPI 3b.","The number of individuals who achieved and maintained capacity to meet basic needs for 180 days.","M_4","FNPIs Income","FNPIs","Income and Asset Building"]
["","FNPI 3c.","The number of individuals who opened a savings account or IDA.","M_4","FNPIs Income","FNPIs","Income and Asset Building"]
["M4A3cSavingsAcctPart","FNPI 3c.","The number of individuals who opened a savings account or IDA.","M_4","FNPIs Income","FNPIs","Income and Asset Building"]
["M4A3cSavingsAcctTarget","FNPI 3c.","The number of individuals who opened a savings account or IDA.","M_4","FNPIs Income","FNPIs","Income and Asset Building"]
["M4A3cSavingsAcctResults","FNPI 3c.","The number of individuals who opened a savings account or IDA.","M_4","FNPIs Income","FNPIs","Income and Asset Building"]
["M4A3cSavingsAcctOutcome","FNPI 3c.","The number of individuals who opened a savings account or IDA.","M_4","FNPIs Income","FNPIs","Income and Asset Building"]
["M4A3cSavingsAcctAccuracy","FNPI 3c.","The number of individuals who opened a savings account or IDA.","M_4","FNPIs Income","FNPIs","Income and Asset Building"]
["","FNPI 3d.","The number of individuals who increased their savings.","M_4","FNPIs Income","FNPIs","Income and Asset Building"]
["M4A3dSavingsIncrPart","FNPI 3d.","The number of individuals who increased their savings.","M_4","FNPIs Income","FNPIs","Income and Asset Building"]
["M4A3dSavingsIncrTarget","FNPI 3d.","The number of individuals who increased their savings.","M_4","FNPIs Income","FNPIs","Income and Asset Building"]
["M4A3dSavingsIncrResults","FNPI 3d.","The number of individuals who increased their savings.","M_4","FNPIs Income","FNPIs","Income and Asset Building"]
["M4A3dSavingsIncrOutcome","FNPI 3d.","The number of individuals who increased their savings.","M_4","FNPIs Income","FNPIs","Income and Asset Building"]
["M4A3dSavingsIncrAccuracy","FNPI 3d.","The number of individuals who increased their savings.","M_4","FNPIs Income","FNPIs","Income and Asset Building"]
["","FNPI 3e.","The number of individuals who used their savings to purchase an asset.","M_4","FNPIs Income","FNPIs","Income and Asset Building"]
["M4A3ePurchAssetPart","FNPI 3e.","The number of individuals who used their savings to purchase an asset.","M_4","FNPIs Income","FNPIs","Income and Asset Building"]
["M4A3ePurchAssetTarget","FNPI 3e.","The number of individuals who used their savings to purchase an asset.","M_4","FNPIs Income","FNPIs","Income and Asset Building"]
["M4A3ePurchAssetResults","FNPI 3e.","The number of individuals who used their savings to purchase an asset.","M_4","FNPIs Income","FNPIs","Income and Asset Building"]
["M4A3ePurchAssetOutcome","FNPI 3e.","The number of individuals who used their savings to purchase an asset.","M_4","FNPIs Income","FNPIs","Income and Asset Building"]
["M4A3ePurchAssetAccuracy","FNPI 3e.","The number of individuals who used their savings to purchase an asset.","M_4","FNPIs Income","FNPIs","Income and Asset Building"]
["","FNPI 3f.","The number of individuals who purchased a home.","M_4","FNPIs Income","FNPIs","Income and Asset Building"]
["M4A3fPurchHomePart","FNPI 3f.","The number of individuals who purchased a home.","M_4","FNPIs Income","FNPIs","Income and Asset Building"]
["M4A3fPurchHomeTarget","FNPI 3f.","The number of individuals who purchased a home.","M_4","FNPIs Income","FNPIs","Income and Asset Building"]
["M4A3fPurchHomeResults","FNPI 3f.","The number of individuals who purchased a home.","M_4","FNPIs Income","FNPIs","Income and Asset Building"]
["M4A3fPurchHomeOutcome","FNPI 3f.","The number of individuals who purchased a home.","M_4","FNPIs Income","FNPIs","Income and Asset Building"]
["M4A3fPurchHomeAccuracy","FNPI 3f.","The number of individuals who purchased a home.","M_4","FNPIs Income","FNPIs","Income and Asset Building"]
["","FNPI 3g.","The number of individuals who improved their credit scores.","M_4","FNPIs Income","FNPIs","Income and Asset Building"]
["M4A3gCreditScoreImprPart","FNPI 3g.","The number of individuals who improved their credit scores.","M_4","FNPIs Income","FNPIs","Income and Asset Building"]
["M4A3gCreditScoreImprTarget","FNPI 3g.","The number of individuals who improved their credit scores.","M_4","FNPIs Income","FNPIs","Income and Asset Building"]
["M4A3gCreditScoreImprResults","FNPI 3g.","The number of individuals who improved their credit scores.","M_4","FNPIs Income","FNPIs","Income and Asset Building"]
["M4A3gCreditScoreImprOutcome","FNPI 3g.","The number of individuals who improved their credit scores.","M_4","FNPIs Income","FNPIs","Income and Asset Building"]
["M4A3gCreditScoreImprAccuracy","FNPI 3g.","The number of individuals who improved their credit scores.","M_4","FNPIs Income","FNPIs","Income and Asset Building"]
["","FNPI 3h.","The number of individuals who increased their net worth.","M_4","FNPIs Income","FNPIs","Income and Asset Building"]
["M4A3hNetWorthIncrPart","FNPI 3h.","The number of individuals who increased their net worth.","M_4","FNPIs Income","FNPIs","Income and Asset Building"]
["M4A3hNetWorthIncrTarget","FNPI 3h.","The number of individuals who increased their net worth.","M_4","FNPIs Income","FNPIs","Income and Asset Building"]
["M4A3hNetWorthIncrResults","FNPI 3h.","The number of individuals who increased their net worth.","M_4","FNPIs Income","FNPIs","Income and Asset Building"]
["M4A3hNetWorthIncrOutcome","FNPI 3h.","The number of individuals who increased their net worth.","M_4","FNPIs Income","FNPIs","Income and Asset Building"]
["M4A3hNetWorthIncrAccuracy","FNPI 3h.","The number of individuals who increased their net worth.","M_4","FNPIs Income","FNPIs","Income and Asset Building"]
["","FNPI 3i.","The number of individuals engaged with the Community Action Agency who report improved financial well-being.","M_4","FNPIs Income","FNPIs","Income and Asset Building"]
["M4A3iFinWellBeingImprPart","FNPI 3i.","The number of individuals engaged with the Community Action Agency who report improved financial well-being.","M_4","FNPIs Income","FNPIs","Income and Asset Building"]
["M4A3iFinWellBeingImprTarget","FNPI 3i.","The number of individuals engaged with the Community Action Agency who report improved financial well-being.","M_4","FNPIs Income","FNPIs","Income and Asset Building"]
["M4A3iFinWellBeingImprResults","FNPI 3i.","The number of individuals engaged with the Community Action Agency who report improved financial well-being.","M_4","FNPIs Income","FNPIs","Income and Asset Building"]
["M4A3iFinWellBeingImprOutcome","FNPI 3i.","The number of individuals engaged with the Community Action Agency who report improved financial well-being.","M_4","FNPIs Income","FNPIs","Income and Asset Building"]
["M4A3iFinWellBeingImprAccuracy","FNPI 3i.","The number of individuals engaged with the Community Action Agency who report improved financial well-being.","M_4","FNPIs Income","FNPIs","Income and Asset Building"]
["M4A3zOtherInc1Name","FNPI 3z.1.","Z Indicator","M_4","FNPIs Income","FNPIs","Income and Asset Building"]
["M4A3zOtherInc1Part","FNPI 3z.1.","Z Indicator","M_4","FNPIs Income","FNPIs","Income and Asset Building"]
["M4A3zOtherInc1Target","FNPI 3z.1.","Z Indicator","M_4","FNPIs Income","FNPIs","Income and Asset Building"]
["M4A3zOtherInc1Results","FNPI 3z.1.","Z Indicator","M_4","FNPIs Income","FNPIs","Income and Asset Building"]
["M4A3zOtherInc1Outcome","FNPI 3z.1.","Z Indicator","M_4","FNPIs Income","FNPIs","Income and Asset Building"]
["M4A3zOtherInc1Accuracy","FNPI 3z.1.","Z Indicator","M_4","FNPIs Income","FNPIs","Income and Asset Building"]
["M4A3zOtherInc2Name","FNPI 3z.2.","Z Indicator","M_4","FNPIs Income","FNPIs","Income and Asset Building"]
["M4A3zOtherInc2Part","FNPI 3z.2.","Z Indicator","M_4","FNPIs Income","FNPIs","Income and Asset Building"]
["M4A3zOtherInc2Target","FNPI 3z.2.","Z Indicator","M_4","FNPIs Income","FNPIs","Income and Asset Building"]
["M4A3zOtherInc2Results","FNPI 3z.2.","Z Indicator","M_4","FNPIs Income","FNPIs","Income and Asset Building"]
["M4A3zOtherInc2Outcome","FNPI 3z.2.","Z Indicator","M_4","FNPIs Income","FNPIs","Income and Asset Building"]
["M4A3zOtherInc2Accuracy","FNPI 3z.2.","Z Indicator","M_4","FNPIs Income","FNPIs","Income and Asset Building"]
["M4A3zOtherInc3Name","FNPI 3z.3.","Z Indicator","M_4","FNPIs Income","FNPIs","Income and Asset Building"]
["M4A3zOtherInc3Part","FNPI 3z.3.","Z Indicator","M_4","FNPIs Income","FNPIs","Income and Asset Building"]
["M4A3zOtherInc3Target","FNPI 3z.3.","Z Indicator","M_4","FNPIs Income","FNPIs","Income and Asset Building"]
["M4A3zOtherInc3Results","FNPI 3z.3.","Z Indicator","M_4","FNPIs Income","FNPIs","Income and Asset Building"]
["M4A3zOtherInc3Outcome","FNPI 3z.3.","Z Indicator","M_4","FNPIs Income","FNPIs","Income and Asset Building"]
["M4A3zOtherInc3Accuracy","FNPI 3z.3.","Z Indicator","M_4","FNPIs Income","FNPIs","Income and Asset Building"]
["M4A3zOtherInc4Name","FNPI 3z.4.","Z Indicator","M_4","FNPIs Income","FNPIs","Income and Asset Building"]
["M4A3zOtherInc4Part","FNPI 3z.4.","Z Indicator","M_4","FNPIs Income","FNPIs","Income and Asset Building"]
["M4A3zOtherInc4Target","FNPI 3z.4.","Z Indicator","M_4","FNPIs Income","FNPIs","Income and Asset Building"]
["M4A3zOtherInc4Results","FNPI 3z.4.","Z Indicator","M_4","FNPIs Income","FNPIs","Income and Asset Building"]
["M4A3zOtherInc4Outcome","FNPI 3z.4.","Z Indicator","M_4","FNPIs Income","FNPIs","Income and Asset Building"]
["M4A3zOtherInc4Accuracy","FNPI 3z.4.","Z Indicator","M_4","FNPIs Income","FNPIs","Income and Asset Building"]
["M4A3zOtherInc5Name","FNPI 3z.5.","Z Indicator","M_4","FNPIs Income","FNPIs","Income and Asset Building"]
["M4A3zOtherInc5Part","FNPI 3z.5.","Z Indicator","M_4","FNPIs Income","FNPIs","Income and Asset Building"]
["M4A3zOtherInc5Target","FNPI 3z.5.","Z Indicator","M_4","FNPIs Income","FNPIs","Income and Asset Building"]
["M4A3zOtherInc5Results","FNPI 3z.5.","Z Indicator","M_4","FNPIs Income","FNPIs","Income and Asset Building"]
["M4A3zOtherInc5Outcome","FNPI 3z.5.","Z Indicator","M_4","FNPIs Income","FNPIs","Income and Asset Building"]
["M4A3zOtherInc5Accuracy","FNPI 3z.5.","Z Indicator","M_4","FNPIs Income","FNPIs","Income and Asset Building"]
["","All_FNPI4","Housing","M_4","FNPIs Housing","FNPIs","Housing"]
["","FNPI 4a.","The number of individuals experiencing homelessness who obtained safe temporary shelter.","M_4","FNPIs Housing","FNPIs","Housing"]
["M4A4aTempShelterPart","FNPI 4a.","The number of individuals experiencing homelessness who obtained safe temporary shelter.","M_4","FNPIs Housing","FNPIs","Housing"]
["M4A4aTempShelterTarget","FNPI 4a.","The number of individuals experiencing homelessness who obtained safe temporary shelter.","M_4","FNPIs Housing","FNPIs","Housing"]
["M4A4aTempShelterResults","FNPI 4a.","The number of individuals experiencing homelessness who obtained safe temporary shelter.","M_4","FNPIs Housing","FNPIs","Housing"]
["M4A4aTempShelterOutcome","FNPI 4a.","The number of individuals experiencing homelessness who obtained safe temporary shelter.","M_4","FNPIs Housing","FNPIs","Housing"]
["M4A4aTempShelterAccuracy","FNPI 4a.","The number of individuals experiencing homelessness who obtained safe temporary shelter.","M_4","FNPIs Housing","FNPIs","Housing"]
["","FNPI 4b.","The number of individuals who obtained safe and affordable housing.","M_4","FNPIs Housing","FNPIs","Housing"]
["M4A4bAffordHousingPart","FNPI 4b.","The number of individuals who obtained safe and affordable housing.","M_4","FNPIs Housing","FNPIs","Housing"]
["M4A4bAffordHousingTarget","FNPI 4b.","The number of individuals who obtained safe and affordable housing.","M_4","FNPIs Housing","FNPIs","Housing"]
["M4A4bAffordHousingResults","FNPI 4b.","The number of individuals who obtained safe and affordable housing.","M_4","FNPIs Housing","FNPIs","Housing"]
["M4A4bAffordHousingOutcome","FNPI 4b.","The number of individuals who obtained safe and affordable housing.","M_4","FNPIs Housing","FNPIs","Housing"]
["M4A4bAffordHousingAccuracy","FNPI 4b.","The number of individuals who obtained safe and affordable housing.","M_4","FNPIs Housing","FNPIs","Housing"]
["","FNPI 4c.","The number of individuals who maintained safe and affordable housing for 90 days.","M_4","FNPIs Housing","FNPIs","Housing"]
["M4A4cAffordHousing90Part","FNPI 4c.","The number of individuals who maintained safe and affordable housing for 90 days.","M_4","FNPIs Housing","FNPIs","Housing"]
["M4A4cAffordHousing90Target","FNPI 4c.","The number of individuals who maintained safe and affordable housing for 90 days.","M_4","FNPIs Housing","FNPIs","Housing"]
["M4A4cAffordHousing90Results","FNPI 4c.","The number of individuals who maintained safe and affordable housing for 90 days.","M_4","FNPIs Housing","FNPIs","Housing"]
["M4A4cAffordHousing90Outcome","FNPI 4c.","The number of individuals who maintained safe and affordable housing for 90 days.","M_4","FNPIs Housing","FNPIs","Housing"]
["M4A4cAffordHousing90Accuracy","FNPI 4c.","The number of individuals who maintained safe and affordable housing for 90 days.","M_4","FNPIs Housing","FNPIs","Housing"]
["","FNPI 4d.","The number of individuals who maintained safe and affordable housing for 180 days.","M_4","FNPIs Housing","FNPIs","Housing"]
["M4A4dAffordHousing180Part","FNPI 4d.","The number of individuals who maintained safe and affordable housing for 180 days.","M_4","FNPIs Housing","FNPIs","Housing"]
["M4A4dAffordHousing180Target","FNPI 4d.","The number of individuals who maintained safe and affordable housing for 180 days.","M_4","FNPIs Housing","FNPIs","Housing"]
["M4A4dAffordHousing180Results","FNPI 4d.","The number of individuals who maintained safe and affordable housing for 180 days.","M_4","FNPIs Housing","FNPIs","Housing"]
["M4A4dAffordHousing180Outcome","FNPI 4d.","The number of individuals who maintained safe and affordable housing for 180 days.","M_4","FNPIs Housing","FNPIs","Housing"]
["M4A4dAffordHousing180Accuracy","FNPI 4d.","The number of individuals who maintained safe and affordable housing for 180 days.","M_4","FNPIs Housing","FNPIs","Housing"]
["","FNPI 4e.","The number of individuals who avoided eviction.","M_4","FNPIs Housing","FNPIs","Housing"]
["M4A4eAvoidEvictionPart","FNPI 4e.","The number of individuals who avoided eviction.","M_4","FNPIs Housing","FNPIs","Housing"]
["M4A4eAvoidEvictionTarget","FNPI 4e.","The number of individuals who avoided eviction.","M_4","FNPIs Housing","FNPIs","Housing"]
["M4A4eAvoidEvictionResults","FNPI 4e.","The number of individuals who avoided eviction.","M_4","FNPIs Housing","FNPIs","Housing"]
["M4A4eAvoidEvictionOutcome","FNPI 4e.","The number of individuals who avoided eviction.","M_4","FNPIs Housing","FNPIs","Housing"]
["M4A4eAvoidEvictionAccuracy","FNPI 4e.","The number of individuals who avoided eviction.","M_4","FNPIs Housing","FNPIs","Housing"]
["","FNPI 4f.","The number of individuals who avoided foreclosure.","M_4","FNPIs Housing","FNPIs","Housing"]
["M4A4fAvoidForeclosePart","FNPI 4f.","The number of individuals who avoided foreclosure.","M_4","FNPIs Housing","FNPIs","Housing"]
["M4A4fAvoidForecloseTarget","FNPI 4f.","The number of individuals who avoided foreclosure.","M_4","FNPIs Housing","FNPIs","Housing"]
["M4A4fAvoidForecloseResults","FNPI 4f.","The number of individuals who avoided foreclosure.","M_4","FNPIs Housing","FNPIs","Housing"]
["M4A4fAvoidForecloseOutcome","FNPI 4f.","The number of individuals who avoided foreclosure.","M_4","FNPIs Housing","FNPIs","Housing"]
["M4A4fAvoidForecloseAccuracy","FNPI 4f.","The number of individuals who avoided foreclosure.","M_4","FNPIs Housing","FNPIs","Housing"]
["","FNPI 4g.","The number of individuals who experienced improved health and safety due to improvements within their home.","M_4","FNPIs Housing","FNPIs","Housing"]
["M4A4gHealthSafeImprPart","FNPI 4g.","The number of individuals who experienced improved health and safety due to improvements within their home.","M_4","FNPIs Housing","FNPIs","Housing"]
["M4A4gHealthSafeImprTarget","FNPI 4g.","The number of individuals who experienced improved health and safety due to improvements within their home.","M_4","FNPIs Housing","FNPIs","Housing"]
["M4A4gHealthSafeImprResults","FNPI 4g.","The number of individuals who experienced improved health and safety due to improvements within their home.","M_4","FNPIs Housing","FNPIs","Housing"]
["M4A4gHealthSafeImprOutcome","FNPI 4g.","The number of individuals who experienced improved health and safety due to improvements within their home.","M_4","FNPIs Housing","FNPIs","Housing"]
["M4A4gHealthSafeImprAccuracy","FNPI 4g.","The number of individuals who experienced improved health and safety due to improvements within their home.","M_4","FNPIs Housing","FNPIs","Housing"]
["","FNPI 4h.","The number of individuals with improved energy efficiency and/or energy burden reduction in their homes.","M_4","FNPIs Housing","FNPIs","Housing"]
["M4A4hEnergyEffImprPart","FNPI 4h.","The number of individuals with improved energy efficiency and/or energy burden reduction in their homes.","M_4","FNPIs Housing","FNPIs","Housing"]
["M4A4hEnergyEffImprTarget","FNPI 4h.","The number of individuals with improved energy efficiency and/or energy burden reduction in their homes.","M_4","FNPIs Housing","FNPIs","Housing"]
["M4A4hEnergyEffImprResults","FNPI 4h.","The number of individuals with improved energy efficiency and/or energy burden reduction in their homes.","M_4","FNPIs Housing","FNPIs","Housing"]
["M4A4hEnergyEffImprOutcome","FNPI 4h.","The number of individuals with improved energy efficiency and/or energy burden reduction in their homes.","M_4","FNPIs Housing","FNPIs","Housing"]
["M4A4hEnergyEffImprAccuracy","FNPI 4h.","The number of individuals with improved energy efficiency and/or energy burden reduction in their homes.","M_4","FNPIs Housing","FNPIs","Housing"]
["M4A4zOtherHouse1Name","FNPI 4z.1.","Z Indicator","M_4","FNPIs Housing","FNPIs","Housing"]
["M4A4zOtherHouse1Part","FNPI 4z.1.","Z Indicator","M_4","FNPIs Housing","FNPIs","Housing"]
["M4A4zOtherHouse1Target","FNPI 4z.1.","Z Indicator","M_4","FNPIs Housing","FNPIs","Housing"]
["M4A4zOtherHouse1Results","FNPI 4z.1.","Z Indicator","M_4","FNPIs Housing","FNPIs","Housing"]
["M4A4zOtherHouse1Outcome","FNPI 4z.1.","Z Indicator","M_4","FNPIs Housing","FNPIs","Housing"]
["M4A4zOtherHouse1Accuracy","FNPI 4z.1.","Z Indicator","M_4","FNPIs Housing","FNPIs","Housing"]
["M4A4zOtherHouse2Name","FNPI 4z.2.","Z Indicator","M_4","FNPIs Housing","FNPIs","Housing"]
["M4A4zOtherHouse2Part","FNPI 4z.2.","Z Indicator","M_4","FNPIs Housing","FNPIs","Housing"]
["M4A4zOtherHouse2Target","FNPI 4z.2.","Z Indicator","M_4","FNPIs Housing","FNPIs","Housing"]
["M4A4zOtherHouse2Results","FNPI 4z.2.","Z Indicator","M_4","FNPIs Housing","FNPIs","Housing"]
["M4A4zOtherHouse2Outcome","FNPI 4z.2.","Z Indicator","M_4","FNPIs Housing","FNPIs","Housing"]
["M4A4zOtherHouse2Accuracy","FNPI 4z.2.","Z Indicator","M_4","FNPIs Housing","FNPIs","Housing"]
["M4A4zOtherHouse3Name","FNPI 4z.3.","Z Indicator","M_4","FNPIs Housing","FNPIs","Housing"]
["M4A4zOtherHouse3Part","FNPI 4z.3.","Z Indicator","M_4","FNPIs Housing","FNPIs","Housing"]
["M4A4zOtherHouse3Target","FNPI 4z.3.","Z Indicator","M_4","FNPIs Housing","FNPIs","Housing"]
["M4A4zOtherHouse3Results","FNPI 4z.3.","Z Indicator","M_4","FNPIs Housing","FNPIs","Housing"]
["M4A4zOtherHouse3Outcome","FNPI 4z.3.","Z Indicator","M_4","FNPIs Housing","FNPIs","Housing"]
["M4A4zOtherHouse3Accuracy","FNPI 4z.3.","Z Indicator","M_4","FNPIs Housing","FNPIs","Housing"]
["M4A4zOtherHouse4Name","FNPI 4z.4.","Z Indicator","M_4","FNPIs Housing","FNPIs","Housing"]
["M4A4zOtherHouse4Part","FNPI 4z.4.","Z Indicator","M_4","FNPIs Housing","FNPIs","Housing"]
["M4A4zOtherHouse4Target","FNPI 4z.4.","Z Indicator","M_4","FNPIs Housing","FNPIs","Housing"]
["M4A4zOtherHouse4Results","FNPI 4z.4.","Z Indicator","M_4","FNPIs Housing","FNPIs","Housing"]
["M4A4zOtherHouse4Outcome","FNPI 4z.4.","Z Indicator","M_4","FNPIs Housing","FNPIs","Housing"]
["M4A4zOtherHouse4Accuracy","FNPI 4z.4.","Z Indicator","M_4","FNPIs Housing","FNPIs","Housing"]
["M4A4zOtherHouse5Name","FNPI 4z.5.","Z Indicator","M_4","FNPIs Housing","FNPIs","Housing"]
["M4A4zOtherHouse5Part","FNPI 4z.5.","Z Indicator","M_4","FNPIs Housing","FNPIs","Housing"]
["M4A4zOtherHouse5Target","FNPI 4z.5.","Z Indicator","M_4","FNPIs Housing","FNPIs","Housing"]
["M4A4zOtherHouse5Results","FNPI 4z.5.","Z Indicator","M_4","FNPIs Housing","FNPIs","Housing"]
["M4A4zOtherHouse5Outcome","FNPI 4z.5.","Z Indicator","M_4","FNPIs Housing","FNPIs","Housing"]
["M4A4zOtherHouse5Accuracy","FNPI 4z.5.","Z Indicator","M_4","FNPIs Housing","FNPIs","Housing"]
[null,"All_FNPI5","Health and Social/Behavioral Development","M_4","FNPIs Health","FNPIs","Health and Social/Behavioral Development"]
["","FNPI 5a.","The number of individuals who demonstrated increased nutrition skills.","M_4","FNPIs Health","FNPIs","Health and Social/Behavioral Development"]
["M4A5aNutrSkillIncrPart","FNPI 5a.","The number of individuals who demonstrated increased nutrition skills.","M_4","FNPIs Health","FNPIs","Health and Social/Behavioral Development"]
["M4A5aNutrSkillIncrTarget","FNPI 5a.","The number of individuals who demonstrated increased nutrition skills.","M_4","FNPIs Health","FNPIs","Health and Social/Behavioral Development"]
["M4A5aNutrSkillIncrResults","FNPI 5a.","The number of individuals who demonstrated increased nutrition skills.","M_4","FNPIs Health","FNPIs","Health and Social/Behavioral Development"]
["M4A5aNutrSkillIncrOutcome","FNPI 5a.","The number of individuals who demonstrated increased nutrition skills.","M_4","FNPIs Health","FNPIs","Health and Social/Behavioral Development"]
["M4A5aNutrSkillIncrAccuracy","FNPI 5a.","The number of individuals who demonstrated increased nutrition skills.","M_4","FNPIs Health","FNPIs","Health and Social/Behavioral Development"]
["","FNPI 5b.","The number of individuals who demonstrated improved physical health and well-being.","M_4","FNPIs Health","FNPIs","Health and Social/Behavioral Development"]
["M4A5bPhysHealthImprPart","FNPI 5b.","The number of individuals who demonstrated improved physical health and well-being.","M_4","FNPIs Health","FNPIs","Health and Social/Behavioral Development"]
["M4A5bPhysHealthImprTarget","FNPI 5b.","The number of individuals who demonstrated improved physical health and well-being.","M_4","FNPIs Health","FNPIs","Health and Social/Behavioral Development"]
["M4A5bPhysHealthImprResults","FNPI 5b.","The number of individuals who demonstrated improved physical health and well-being.","M_4","FNPIs Health","FNPIs","Health and Social/Behavioral Development"]
["M4A5bPhysHealthImprOutcome","FNPI 5b.","The number of individuals who demonstrated improved physical health and well-being.","M_4","FNPIs Health","FNPIs","Health and Social/Behavioral Development"]
["M4A5bPhysHealthImprAccuracy","FNPI 5b.","The number of individuals who demonstrated improved physical health and well-being.","M_4","FNPIs Health","FNPIs","Health and Social/Behavioral Development"]
["","FNPI 5c.","The number of individuals who demonstrated improved mental and behavioral health and well-being.","M_4","FNPIs Health","FNPIs","Health and Social/Behavioral Development"]
["M4A5cMentHealthImprPart","FNPI 5c.","The number of individuals who demonstrated improved mental and behavioral health and well-being.","M_4","FNPIs Health","FNPIs","Health and Social/Behavioral Development"]
["M4A5cMentHealthImprTarget","FNPI 5c.","The number of individuals who demonstrated improved mental and behavioral health and well-being.","M_4","FNPIs Health","FNPIs","Health and Social/Behavioral Development"]
["M4A5cMentHealthImprResults","FNPI 5c.","The number of individuals who demonstrated improved mental and behavioral health and well-being.","M_4","FNPIs Health","FNPIs","Health and Social/Behavioral Development"]
["M4A5cMentHealthImprOutcome","FNPI 5c.","The number of individuals who demonstrated improved mental and behavioral health and well-being.","M_4","FNPIs Health","FNPIs","Health and Social/Behavioral Development"]
["M4A5cMentHealthImprAccuracy","FNPI 5c.","The number of individuals who demonstrated improved mental and behavioral health and well-being.","M_4","FNPIs Health","FNPIs","Health and Social/Behavioral Development"]
["","FNPI 5d.","The number of individuals who improved skills related to the adult role of parents/caregivers.","M_4","FNPIs Health","FNPIs","Health and Social/Behavioral Development"]
["M4A5dAdultRoleSkillsImprPart","FNPI 5d.","The number of individuals who improved skills related to the adult role of parents/caregivers.","M_4","FNPIs Health","FNPIs","Health and Social/Behavioral Development"]
["M4A5dAdultRoleSkillsImprTarget","FNPI 5d.","The number of individuals who improved skills related to the adult role of parents/caregivers.","M_4","FNPIs Health","FNPIs","Health and Social/Behavioral Development"]
["M4A5dAdultRoleSkillsImprResults","FNPI 5d.","The number of individuals who improved skills related to the adult role of parents/caregivers.","M_4","FNPIs Health","FNPIs","Health and Social/Behavioral Development"]
["M4A5dAdultRoleSkillsImprOutcome","FNPI 5d.","The number of individuals who improved skills related to the adult role of parents/caregivers.","M_4","FNPIs Health","FNPIs","Health and Social/Behavioral Development"]
["M4A5dAdultRoleSkillsImprAccuracy","FNPI 5d.","The number of individuals who improved skills related to the adult role of parents/caregivers.","M_4","FNPIs Health","FNPIs","Health and Social/Behavioral Development"]
["","FNPI 5e.","The number of parents/caregivers who demonstrated increased sensitivity and responsiveness in their interactions with their children.","M_4","FNPIs Health","FNPIs","Health and Social/Behavioral Development"]
["M4A5eSensRespIncrPart","FNPI 5e.","The number of parents/caregivers who demonstrated increased sensitivity and responsiveness in their interactions with their children.","M_4","FNPIs Health","FNPIs","Health and Social/Behavioral Development"]
["M4A5eSensRespIncrTarget","FNPI 5e.","The number of parents/caregivers who demonstrated increased sensitivity and responsiveness in their interactions with their children.","M_4","FNPIs Health","FNPIs","Health and Social/Behavioral Development"]
["M4A5eSensRespIncrResults","FNPI 5e.","The number of parents/caregivers who demonstrated increased sensitivity and responsiveness in their interactions with their children.","M_4","FNPIs Health","FNPIs","Health and Social/Behavioral Development"]
["M4A5eSensRespIncrOutcome","FNPI 5e.","The number of parents/caregivers who demonstrated increased sensitivity and responsiveness in their interactions with their children.","M_4","FNPIs Health","FNPIs","Health and Social/Behavioral Development"]
["M4A5eSensRespIncrAccuracy","FNPI 5e.","The number of parents/caregivers who demonstrated increased sensitivity and responsiveness in their interactions with their children.","M_4","FNPIs Health","FNPIs","Health and Social/Behavioral Development"]
["","FNPI 5f.","The number of seniors (65+) who maintained an independent living situation.","M_4","FNPIs Health","FNPIs","Health and Social/Behavioral Development"]
["M4A5fSensIndLivingPart","FNPI 5f.","The number of seniors (65+) who maintained an independent living situation.","M_4","FNPIs Health","FNPIs","Health and Social/Behavioral Development"]
["M4A5fSensIndLivingTarget","FNPI 5f.","The number of seniors (65+) who maintained an independent living situation.","M_4","FNPIs Health","FNPIs","Health and Social/Behavioral Development"]
["M4A5fSensIndLivingResults","FNPI 5f.","The number of seniors (65+) who maintained an independent living situation.","M_4","FNPIs Health","FNPIs","Health and Social/Behavioral Development"]
["M4A5fSensIndLivingOutcome","FNPI 5f.","The number of seniors (65+) who maintained an independent living situation.","M_4","FNPIs Health","FNPIs","Health and Social/Behavioral Development"]
["M4A5fSensIndLivingAccuracy","FNPI 5f.","The number of seniors (65+) who maintained an independent living situation.","M_4","FNPIs Health","FNPIs","Health and Social/Behavioral Development"]
["","FNPI 5g.","The number of individuals with disabilities who maintained an independent living situation.","M_4","FNPIs Health","FNPIs","Health and Social/Behavioral Development"]
["M4A5gDisIndLivingPart","FNPI 5g.","The number of individuals with disabilities who maintained an independent living situation.","M_4","FNPIs Health","FNPIs","Health and Social/Behavioral Development"]
["M4A5gDisIndLivingTarget","FNPI 5g.","The number of individuals with disabilities who maintained an independent living situation.","M_4","FNPIs Health","FNPIs","Health and Social/Behavioral Development"]
["M4A5gDisIndLivingResults","FNPI 5g.","The number of individuals with disabilities who maintained an independent living situation.","M_4","FNPIs Health","FNPIs","Health and Social/Behavioral Development"]
["M4A5gDisIndLivingOutcome","FNPI 5g.","The number of individuals with disabilities who maintained an independent living situation.","M_4","FNPIs Health","FNPIs","Health and Social/Behavioral Development"]
["M4A5gDisIndLivingAccuracy","FNPI 5g.","The number of individuals with disabilities who maintained an independent living situation.","M_4","FNPIs Health","FNPIs","Health and Social/Behavioral Development"]
["","FNPI 5h.","The number of individuals with a chronic illness who maintained an independent living situation.","M_4","FNPIs Health","FNPIs","Health and Social/Behavioral Development"]
["M4A5hIllIndLivingPart","FNPI 5h.","The number of individuals with a chronic illness who maintained an independent living situation.","M_4","FNPIs Health","FNPIs","Health and Social/Behavioral Development"]
["M4A5hIllIndLivingTarget","FNPI 5h.","The number of individuals with a chronic illness who maintained an independent living situation.","M_4","FNPIs Health","FNPIs","Health and Social/Behavioral Development"]
["M4A5hIllIndLivingResults","FNPI 5h.","The number of individuals with a chronic illness who maintained an independent living situation.","M_4","FNPIs Health","FNPIs","Health and Social/Behavioral Development"]
["M4A5hIllIndLivingOutcome","FNPI 5h.","The number of individuals with a chronic illness who maintained an independent living situation.","M_4","FNPIs Health","FNPIs","Health and Social/Behavioral Development"]
["M4A5hIllIndLivingAccuracy","FNPI 5h.","The number of individuals with a chronic illness who maintained an independent living situation.","M_4","FNPIs Health","FNPIs","Health and Social/Behavioral Development"]
["","FNPI 5i.","The number of individuals with no recidivating event for six months.","M_4","FNPIs Health","FNPIs","Health and Social/Behavioral Development"]
["M4A5iNoRecidEventPart","FNPI 5i.","The number of individuals with no recidivating event for six months.","M_4","FNPIs Health","FNPIs","Health and Social/Behavioral Development"]
["M4A5iNoRecidEventTarget","FNPI 5i.","The number of individuals with no recidivating event for six months.","M_4","FNPIs Health","FNPIs","Health and Social/Behavioral Development"]
["M4A5iNoRecidEventResults","FNPI 5i.","The number of individuals with no recidivating event for six months.","M_4","FNPIs Health","FNPIs","Health and Social/Behavioral Development"]
["M4A5iNoRecidEventOutcome","FNPI 5i.","The number of individuals with no recidivating event for six months.","M_4","FNPIs Health","FNPIs","Health and Social/Behavioral Development"]
["M4A5iNoRecidEventAccuracy","FNPI 5i.","The number of individuals with no recidivating event for six months.","M_4","FNPIs Health","FNPIs","Health and Social/Behavioral Development"]
[null,"FNPI 5i.1.","No recidivating event for six months - Youth (ages 14-17).","M_4","FNPIs Health","FNPIs","Health and Social/Behavioral Development"]
["M4A5i1NoRecidEventYouthPart","FNPI 5i.1.","No recidivating event for six months - Youth (ages 14-17).","M_4","FNPIs Health","FNPIs","Health and Social/Behavioral Development"]
["M4A5i1NoRecidEventYouthTarget","FNPI 5i.1.","No recidivating event for six months - Youth (ages 14-17).","M_4","FNPIs Health","FNPIs","Health and Social/Behavioral Development"]
["M4A5i1NoRecidEventYouthResults","FNPI 5i.1.","No recidivating event for six months - Youth (ages 14-17).","M_4","FNPIs Health","FNPIs","Health and Social/Behavioral Development"]
["M4A5i1NoRecidEventYouthOutcome","FNPI 5i.1.","No recidivating event for six months - Youth (ages 14-17).","M_4","FNPIs Health","FNPIs","Health and Social/Behavioral Development"]
["M4A5i1NoRecidEventYouthAccuracy","FNPI 5i.1.","No recidivating event for six months - Youth (ages 14-17).","M_4","FNPIs Health","FNPIs","Health and Social/Behavioral Development"]
[null,"FNPI 5i.2.","No recidivating event for six months - Adults (ages 18+).","M_4","FNPIs Health","FNPIs","Health and Social/Behavioral Development"]
["M4A5i2NoRecidEventAdultPart","FNPI 5i.2.","No recidivating event for six months - Adults (ages 18+).","M_4","FNPIs Health","FNPIs","Health and Social/Behavioral Development"]
["M4A5i2NoRecidEventAdultTarget","FNPI 5i.2.","No recidivating event for six months - Adults (ages 18+).","M_4","FNPIs Health","FNPIs","Health and Social/Behavioral Development"]
["M4A5i2NoRecidEventAdultResults","FNPI 5i.2.","No recidivating event for six months - Adults (ages 18+).","M_4","FNPIs Health","FNPIs","Health and Social/Behavioral Development"]
["M4A5i2NoRecidEventAdultOutcome","FNPI 5i.2.","No recidivating event for six months - Adults (ages 18+).","M_4","FNPIs Health","FNPIs","Health and Social/Behavioral Development"]
["M4A5i2NoRecidEventAdultAccuracy","FNPI 5i.2.","No recidivating event for six months - Adults (ages 18+).","M_4","FNPIs Health","FNPIs","Health and Social/Behavioral Development"]
["M4A5zOtherHealth1Name","FNPI 5z.1.","Z Indicator","M_4","FNPIs Health","FNPIs","Health and Social/Behavioral Development"]
["M4A5zOtherHealth1Part","FNPI 5z.1.","Z Indicator","M_4","FNPIs Health","FNPIs","Health and Social/Behavioral Development"]
["M4A5zOtherHealth1Target","FNPI 5z.1.","Z Indicator","M_4","FNPIs Health","FNPIs","Health and Social/Behavioral Development"]
["M4A5zOtherHealth1Results","FNPI 5z.1.","Z Indicator","M_4","FNPIs Health","FNPIs","Health and Social/Behavioral Development"]
["M4A5zOtherHealth1Outcome","FNPI 5z.1.","Z Indicator","M_4","FNPIs Health","FNPIs","Health and Social/Behavioral Development"]
["M4A5zOtherHealth1Accuracy","FNPI 5z.1.","Z Indicator","M_4","FNPIs Health","FNPIs","Health and Social/Behavioral Development"]
["M4A5zOtherHealth2Name","FNPI 5z.2.","Z Indicator","M_4","FNPIs Health","FNPIs","Health and Social/Behavioral Development"]
["M4A5zOtherHealth2Part","FNPI 5z.2.","Z Indicator","M_4","FNPIs Health","FNPIs","Health and Social/Behavioral Development"]
["M4A5zOtherHealth2Target","FNPI 5z.2.","Z Indicator","M_4","FNPIs Health","FNPIs","Health and Social/Behavioral Development"]
["M4A5zOtherHealth2Results","FNPI 5z.2.","Z Indicator","M_4","FNPIs Health","FNPIs","Health and Social/Behavioral Development"]
["M4A5zOtherHealth2Outcome","FNPI 5z.2.","Z Indicator","M_4","FNPIs Health","FNPIs","Health and Social/Behavioral Development"]
["M4A5zOtherHealth2Accuracy","FNPI 5z.2.","Z Indicator","M_4","FNPIs Health","FNPIs","Health and Social/Behavioral Development"]
["M4A5zOtherHealth3Name","FNPI 5z.3.","Z Indicator","M_4","FNPIs Health","FNPIs","Health and Social/Behavioral Development"]
["M4A5zOtherHealth3Part","FNPI 5z.3.","Z Indicator","M_4","FNPIs Health","FNPIs","Health and Social/Behavioral Development"]
["M4A5zOtherHealth3Target","FNPI 5z.3.","Z Indicator","M_4","FNPIs Health","FNPIs","Health and Social/Behavioral Development"]
["M4A5zOtherHealth3Results","FNPI 5z.3.","Z Indicator","M_4","FNPIs Health","FNPIs","Health and Social/Behavioral Development"]
["M4A5zOtherHealth3Outcome","FNPI 5z.3.","Z Indicator","M_4","FNPIs Health","FNPIs","Health and Social/Behavioral Development"]
["M4A5zOtherHealth3Accuracy","FNPI 5z.3.","Z Indicator","M_4","FNPIs Health","FNPIs","Health and Social/Behavioral Development"]
["M4A5zOtherHealth4Name","FNPI 5z.4.","Z Indicator","M_4","FNPIs Health","FNPIs","Health and Social/Behavioral Development"]
["M4A5zOtherHealth4Part","FNPI 5z.4.","Z Indicator","M_4","FNPIs Health","FNPIs","Health and Social/Behavioral Development"]
["M4A5zOtherHealth4Target","FNPI 5z.4.","Z Indicator","M_4","FNPIs Health","FNPIs","Health and Social/Behavioral Development"]
["M4A5zOtherHealth4Results","FNPI 5z.4.","Z Indicator","M_4","FNPIs Health","FNPIs","Health and Social/Behavioral Development"]
["M4A5zOtherHealth4Outcome","FNPI 5z.4.","Z Indicator","M_4","FNPIs Health","FNPIs","Health and Social/Behavioral Development"]
["M4A5zOtherHealth4Accuracy","FNPI 5z.4.","Z Indicator","M_4","FNPIs Health","FNPIs","Health and Social/Behavioral Development"]
["M4A5zOtherHealth5Name","FNPI 5z.5.","Z Indicator","M_4","FNPIs Health","FNPIs","Health and Social/Behavioral Development"]
["M4A5zOtherHealth5Part","FNPI 5z.5.","Z Indicator","M_4","FNPIs Health","FNPIs","Health and Social/Behavioral Development"]
["M4A5zOtherHealth5Target","FNPI 5z.5.","Z Indicator","M_4","FNPIs Health","FNPIs","Health and Social/Behavioral Development"]
["M4A5zOtherHealth5Results","FNPI 5z.5.","Z Indicator","M_4","FNPIs Health","FNPIs","Health and Social/Behavioral Development"]
["M4A5zOtherHealth5Outcome","FNPI 5z.5.","Z Indicator","M_4","FNPIs Health","FNPIs","Health and Social/Behavioral Development"]
["M4A5zOtherHealth5Accuracy","FNPI 5z.5.","Z Indicator","M_4","FNPIs Health","FNPIs","Health and Social/Behavioral Development"]
["","All_FNPI6","Civic Engagement and Community Involvement","M_4","FNPIs Civic Eng. & Comm. Inv.","FNPIs","Civic Engagement and Community Involvement"]
["","FNPI 6a.","The number of individuals who increased skills, knowledge, and abilities to enable them to work with Community Action to improve conditions in the community.","M_4","FNPIs Civic Eng. & Comm. Inv.","FNPIs","Civic Engagement and Community Involvement"]
["M4A6aImprCommCondPart","FNPI 6a.","The number of individuals who increased skills, knowledge, and abilities to enable them to work with Community Action to improve conditions in the community.","M_4","FNPIs Civic Eng. & Comm. Inv.","FNPIs","Civic Engagement and Community Involvement"]
["M4A6aImprCommCondTarget","FNPI 6a.","The number of individuals who increased skills, knowledge, and abilities to enable them to work with Community Action to improve conditions in the community.","M_4","FNPIs Civic Eng. & Comm. Inv.","FNPIs","Civic Engagement and Community Involvement"]
["M4A6aImprCommCondResults","FNPI 6a.","The number of individuals who increased skills, knowledge, and abilities to enable them to work with Community Action to improve conditions in the community.","M_4","FNPIs Civic Eng. & Comm. Inv.","FNPIs","Civic Engagement and Community Involvement"]
["M4A6aImprCommCondOutcome","FNPI 6a.","The number of individuals who increased skills, knowledge, and abilities to enable them to work with Community Action to improve conditions in the community.","M_4","FNPIs Civic Eng. & Comm. Inv.","FNPIs","Civic Engagement and Community Involvement"]
["M4A6aImprCommCondAccuracy","FNPI 6a.","The number of individuals who increased skills, knowledge, and abilities to enable them to work with Community Action to improve conditions in the community.","M_4","FNPIs Civic Eng. & Comm. Inv.","FNPIs","Civic Engagement and Community Involvement"]
[null,"FNPI 6a.1.","Of those reported for 6a., the number of Community Action program participants who improved their leadership skills.","M_4","FNPIs Civic Eng. & Comm. Inv.","FNPIs","Civic Engagement and Community Involvement"]
["M4A6a1ImprLeadSkillsPart","FNPI 6a.1.","Of those reported for 6a., the number of Community Action program participants who improved their leadership skills.","M_4","FNPIs Civic Eng. & Comm. Inv.","FNPIs","Civic Engagement and Community Involvement"]
["M4A6a1ImprLeadSkillsTarget","FNPI 6a.1.","Of those reported for 6a., the number of Community Action program participants who improved their leadership skills.","M_4","FNPIs Civic Eng. & Comm. Inv.","FNPIs","Civic Engagement and Community Involvement"]
["M4A6a1ImprLeadSkillsResults","FNPI 6a.1.","Of those reported for 6a., the number of Community Action program participants who improved their leadership skills.","M_4","FNPIs Civic Eng. & Comm. Inv.","FNPIs","Civic Engagement and Community Involvement"]
["M4A6a1ImprLeadSkillsOutcome","FNPI 6a.1.","Of those reported for 6a., the number of Community Action program participants who improved their leadership skills.","M_4","FNPIs Civic Eng. & Comm. Inv.","FNPIs","Civic Engagement and Community Involvement"]
["M4A6a1ImprLeadSkillsAccuracy","FNPI 6a.1.","Of those reported for 6a., the number of Community Action program participants who improved their leadership skills.","M_4","FNPIs Civic Eng. & Comm. Inv.","FNPIs","Civic Engagement and Community Involvement"]
[null,"FNPI 6a.2.","Of those reported for 6a., the number of Community Action program participants who improved their social networks.","M_4","FNPIs Civic Eng. & Comm. Inv.","FNPIs","Civic Engagement and Community Involvement"]
["M4A6a2ImprSocNetworkPart","FNPI 6a.2.","Of those reported for 6a., the number of Community Action program participants who improved their social networks.","M_4","FNPIs Civic Eng. & Comm. Inv.","FNPIs","Civic Engagement and Community Involvement"]
["M4A6a2ImprSocNetworkTarget","FNPI 6a.2.","Of those reported for 6a., the number of Community Action program participants who improved their social networks.","M_4","FNPIs Civic Eng. & Comm. Inv.","FNPIs","Civic Engagement and Community Involvement"]
["M4A6a2ImprSocNetworkResults","FNPI 6a.2.","Of those reported for 6a., the number of Community Action program participants who improved their social networks.","M_4","FNPIs Civic Eng. & Comm. Inv.","FNPIs","Civic Engagement and Community Involvement"]
["M4A6a2ImprSocNetworkOutcome","FNPI 6a.2.","Of those reported for 6a., the number of Community Action program participants who improved their social networks.","M_4","FNPIs Civic Eng. & Comm. Inv.","FNPIs","Civic Engagement and Community Involvement"]
["M4A6a2ImprSocNetworkAccuracy","FNPI 6a.2.","Of those reported for 6a., the number of Community Action program participants who improved their social networks.","M_4","FNPIs Civic Eng. & Comm. Inv.","FNPIs","Civic Engagement and Community Involvement"]
[null,"FNPI 6a.3.","Of those reported for 6a., the number of Community Action program participants who gained other skills, knowledge, and abilities to enhance their ability to engage.","M_4","FNPIs Civic Eng. & Comm. Inv.","FNPIs","Civic Engagement and Community Involvement"]
["M4A6a3EnhanceEngAbilityPart","FNPI 6a.3.","Of those reported for 6a., the number of Community Action program participants who gained other skills, knowledge, and abilities to enhance their ability to engage.","M_4","FNPIs Civic Eng. & Comm. Inv.","FNPIs","Civic Engagement and Community Involvement"]
["M4A6a3EnhanceEngAbilityTarget","FNPI 6a.3.","Of those reported for 6a., the number of Community Action program participants who gained other skills, knowledge, and abilities to enhance their ability to engage.","M_4","FNPIs Civic Eng. & Comm. Inv.","FNPIs","Civic Engagement and Community Involvement"]
["M4A6a3EnhanceEngAbilityResults","FNPI 6a.3.","Of those reported for 6a., the number of Community Action program participants who gained other skills, knowledge, and abilities to enhance their ability to engage.","M_4","FNPIs Civic Eng. & Comm. Inv.","FNPIs","Civic Engagement and Community Involvement"]
["M4A6a3EnhanceEngAbilityOutcome","FNPI 6a.3.","Of those reported for 6a., the number of Community Action program participants who gained other skills, knowledge, and abilities to enhance their ability to engage.","M_4","FNPIs Civic Eng. & Comm. Inv.","FNPIs","Civic Engagement and Community Involvement"]
["M4A6a3EnhanceEngAbilityAccuracy","FNPI 6a.3.","Of those reported for 6a., the number of Community Action program participants who gained other skills, knowledge, and abilities to enhance their ability to engage.","M_4","FNPIs Civic Eng. & Comm. Inv.","FNPIs","Civic Engagement and Community Involvement"]
["M4A6zOtherCivic1Name","FNPI 6z.1.","Z Indicator","M_4","FNPIs Civic Eng. & Comm. Inv.","FNPIs","Civic Engagement and Community Involvement"]
["M4A6zOtherCivic1Part","FNPI 6z.1.","Z Indicator","M_4","FNPIs Civic Eng. & Comm. Inv.","FNPIs","Civic Engagement and Community Involvement"]
["M4A6zOtherCivic1Target","FNPI 6z.1.","Z Indicator","M_4","FNPIs Civic Eng. & Comm. Inv.","FNPIs","Civic Engagement and Community Involvement"]
["M4A6zOtherCivic1Results","FNPI 6z.1.","Z Indicator","M_4","FNPIs Civic Eng. & Comm. Inv.","FNPIs","Civic Engagement and Community Involvement"]
["M4A6zOtherCivic1Outcome","FNPI 6z.1.","Z Indicator","M_4","FNPIs Civic Eng. & Comm. Inv.","FNPIs","Civic Engagement and Community Involvement"]
["M4A6zOtherCivic1Accuracy","FNPI 6z.1.","Z Indicator","M_4","FNPIs Civic Eng. & Comm. Inv.","FNPIs","Civic Engagement and Community Involvement"]
["M4A6zOtherCivic2Name","FNPI 6z.2.","Z Indicator","M_4","FNPIs Civic Eng. & Comm. Inv.","FNPIs","Civic Engagement and Community Involvement"]
["M4A6zOtherCivic2Part","FNPI 6z.2.","Z Indicator","M_4","FNPIs Civic Eng. & Comm. Inv.","FNPIs","Civic Engagement and Community Involvement"]
["M4A6zOtherCivic2Target","FNPI 6z.2.","Z Indicator","M_4","FNPIs Civic Eng. & Comm. Inv.","FNPIs","Civic Engagement and Community Involvement"]
["M4A6zOtherCivic2Results","FNPI 6z.2.","Z Indicator","M_4","FNPIs Civic Eng. & Comm. Inv.","FNPIs","Civic Engagement and Community Involvement"]
["M4A6zOtherCivic2Outcome","FNPI 6z.2.","Z Indicator","M_4","FNPIs Civic Eng. & Comm. Inv.","FNPIs","Civic Engagement and Community Involvement"]
["M4A6zOtherCivic2Accuracy","FNPI 6z.2.","Z Indicator","M_4","FNPIs Civic Eng. & Comm. Inv.","FNPIs","Civic Engagement and Community Involvement"]
["M4A6zOtherCivic3Name","FNPI 6z.3.","Z Indicator","M_4","FNPIs Civic Eng. & Comm. Inv.","FNPIs","Civic Engagement and Community Involvement"]
["M4A6zOtherCivic3Part","FNPI 6z.3.","Z Indicator","M_4","FNPIs Civic Eng. & Comm. Inv.","FNPIs","Civic Engagement and Community Involvement"]
["M4A6zOtherCivic3Target","FNPI 6z.3.","Z Indicator","M_4","FNPIs Civic Eng. & Comm. Inv.","FNPIs","Civic Engagement and Community Involvement"]
["M4A6zOtherCivic3Results","FNPI 6z.3.","Z Indicator","M_4","FNPIs Civic Eng. & Comm. Inv.","FNPIs","Civic Engagement and Community Involvement"]
["M4A6zOtherCivic3Outcome","FNPI 6z.3.","Z Indicator","M_4","FNPIs Civic Eng. & Comm. Inv.","FNPIs","Civic Engagement and Community Involvement"]
["M4A6zOtherCivic3Accuracy","FNPI 6z.3.","Z Indicator","M_4","FNPIs Civic Eng. & Comm. Inv.","FNPIs","Civic Engagement and Community Involvement"]
["M4A6zOtherCivic4Name","FNPI 6z.4.","Z Indicator","M_4","FNPIs Civic Eng. & Comm. Inv.","FNPIs","Civic Engagement and Community Involvement"]
["M4A6zOtherCivic4Part","FNPI 6z.4.","Z Indicator","M_4","FNPIs Civic Eng. & Comm. Inv.","FNPIs","Civic Engagement and Community Involvement"]
["M4A6zOtherCivic4Target","FNPI 6z.4.","Z Indicator","M_4","FNPIs Civic Eng. & Comm. Inv.","FNPIs","Civic Engagement and Community Involvement"]
["M4A6zOtherCivic4Results","FNPI 6z.4.","Z Indicator","M_4","FNPIs Civic Eng. & Comm. Inv.","FNPIs","Civic Engagement and Community Involvement"]
["M4A6zOtherCivic4Outcome","FNPI 6z.4.","Z Indicator","M_4","FNPIs Civic Eng. & Comm. Inv.","FNPIs","Civic Engagement and Community Involvement"]
["M4A6zOtherCivic4Accuracy","FNPI 6z.4.","Z Indicator","M_4","FNPIs Civic Eng. & Comm. Inv.","FNPIs","Civic Engagement and Community Involvement"]
["M4A6zOtherCivic5Name","FNPI 6z.5.","Z Indicator","M_4","FNPIs Civic Eng. & Comm. Inv.","FNPIs","Civic Engagement and Community Involvement"]
["M4A6zOtherCivic5Part","FNPI 6z.5.","Z Indicator","M_4","FNPIs Civic Eng. & Comm. Inv.","FNPIs","Civic Engagement and Community Involvement"]
["M4A6zOtherCivic5Target","FNPI 6z.5.","Z Indicator","M_4","FNPIs Civic Eng. & Comm. Inv.","FNPIs","Civic Engagement and Community Involvement"]
["M4A6zOtherCivic5Results","FNPI 6z.5.","Z Indicator","M_4","FNPIs Civic Eng. & Comm. Inv.","FNPIs","Civic Engagement and Community Involvement"]
["M4A6zOtherCivic5Outcome","FNPI 6z.5.","Z Indicator","M_4","FNPIs Civic Eng. & Comm. Inv.","FNPIs","Civic Engagement and Community Involvement"]
["M4A6zOtherCivic5Accuracy","FNPI 6z.5.","Z Indicator","M_4","FNPIs Civic Eng. & Comm. Inv.","FNPIs","Civic Engagement and Community Involvement"]
["","All_FNPI7","Services Supporting Multiple Domains","M_4","FNPIs Across Multiple Domains","FNPIs","Services Supporting Multiple Domains"]
["","FNPI 7a.","The number of individuals who achieved one or more outcomes in the identified NPIs in one or more domains.","M_4","FNPIs Across Multiple Domains","FNPIs","Services Supporting Multiple Domains"]
["M4A7aMoreOutcomesPart","FNPI 7a.","The number of individuals who achieved one or more outcomes in the identified NPIs in one or more domains.","M_4","FNPIs Across Multiple Domains","FNPIs","Services Supporting Multiple Domains"]
["M4A7aMoreOutcomesTarget","FNPI 7a.","The number of individuals who achieved one or more outcomes in the identified NPIs in one or more domains.","M_4","FNPIs Across Multiple Domains","FNPIs","Services Supporting Multiple Domains"]
["M4A7aMoreOutcomesResults","FNPI 7a.","The number of individuals who achieved one or more outcomes in the identified NPIs in one or more domains.","M_4","FNPIs Across Multiple Domains","FNPIs","Services Supporting Multiple Domains"]
["M4A7aMoreOutcomesOutcome","FNPI 7a.","The number of individuals who achieved one or more outcomes in the identified NPIs in one or more domains.","M_4","FNPIs Across Multiple Domains","FNPIs","Services Supporting Multiple Domains"]
["M4A7aMoreOutcomesAccuracy","FNPI 7a.","The number of individuals who achieved one or more outcomes in the identified NPIs in one or more domains.","M_4","FNPIs Across Multiple Domains","FNPIs","Services Supporting Multiple Domains"]
["M4A7zOtherMult1Name","FNPI 7z.1.","Z Indicator","M_4","FNPIs Across Multiple Domains","FNPIs","Services Supporting Multiple Domains"]
["M4A7zOtherMult1Part","FNPI 7z.1.","Z Indicator","M_4","FNPIs Across Multiple Domains","FNPIs","Services Supporting Multiple Domains"]
["M4A7zOtherMult1Target","FNPI 7z.1.","Z Indicator","M_4","FNPIs Across Multiple Domains","FNPIs","Services Supporting Multiple Domains"]
["M4A7zOtherMult1Results","FNPI 7z.1.","Z Indicator","M_4","FNPIs Across Multiple Domains","FNPIs","Services Supporting Multiple Domains"]
["M4A7zOtherMult1Outcome","FNPI 7z.1.","Z Indicator","M_4","FNPIs Across Multiple Domains","FNPIs","Services Supporting Multiple Domains"]
["M4A7zOtherMult1Accuracy","FNPI 7z.1.","Z Indicator","M_4","FNPIs Across Multiple Domains","FNPIs","Services Supporting Multiple Domains"]
["M4A7zOtherMult2Name","FNPI 7z.2.","Z Indicator","M_4","FNPIs Across Multiple Domains","FNPIs","Services Supporting Multiple Domains"]
["M4A7zOtherMult2Part","FNPI 7z.2.","Z Indicator","M_4","FNPIs Across Multiple Domains","FNPIs","Services Supporting Multiple Domains"]
["M4A7zOtherMult2Target","FNPI 7z.2.","Z Indicator","M_4","FNPIs Across Multiple Domains","FNPIs","Services Supporting Multiple Domains"]
["M4A7zOtherMult2Results","FNPI 7z.2.","Z Indicator","M_4","FNPIs Across Multiple Domains","FNPIs","Services Supporting Multiple Domains"]
["M4A7zOtherMult2Outcome","FNPI 7z.2.","Z Indicator","M_4","FNPIs Across Multiple Domains","FNPIs","Services Supporting Multiple Domains"]
["M4A7zOtherMult2Accuracy","FNPI 7z.2.","Z Indicator","M_4","FNPIs Across Multiple Domains","FNPIs","Services Supporting Multiple Domains"]
["M4A7zOtherMult3Name","FNPI 7z.3.","Z Indicator","M_4","FNPIs Across Multiple Domains","FNPIs","Services Supporting Multiple Domains"]
["M4A7zOtherMult3Part","FNPI 7z.3.","Z Indicator","M_4","FNPIs Across Multiple Domains","FNPIs","Services Supporting Multiple Domains"]
["M4A7zOtherMult3Target","FNPI 7z.3.","Z Indicator","M_4","FNPIs Across Multiple Domains","FNPIs","Services Supporting Multiple Domains"]
["M4A7zOtherMult3Results","FNPI 7z.3.","Z Indicator","M_4","FNPIs Across Multiple Domains","FNPIs","Services Supporting Multiple Domains"]
["M4A7zOtherMult3Outcome","FNPI 7z.3.","Z Indicator","M_4","FNPIs Across Multiple Domains","FNPIs","Services Supporting Multiple Domains"]
["M4A7zOtherMult3Accuracy","FNPI 7z.3.","Z Indicator","M_4","FNPIs Across Multiple Domains","FNPIs","Services Supporting Multiple Domains"]
["M4A7zOtherMult4Name","FNPI 7z.4.","Z Indicator","M_4","FNPIs Across Multiple Domains","FNPIs","Services Supporting Multiple Domains"]
["M4A7zOtherMult4Part","FNPI 7z.4.","Z Indicator","M_4","FNPIs Across Multiple Domains","FNPIs","Services Supporting Multiple Domains"]
["M4A7zOtherMult4Target","FNPI 7z.4.","Z Indicator","M_4","FNPIs Across Multiple Domains","FNPIs","Services Supporting Multiple Domains"]
["M4A7zOtherMult4Results","FNPI 7z.4.","Z Indicator","M_4","FNPIs Across Multiple Domains","FNPIs","Services Supporting Multiple Domains"]
["M4A7zOtherMult4Outcome","FNPI 7z.4.","Z Indicator","M_4","FNPIs Across Multiple Domains","FNPIs","Services Supporting Multiple Domains"]
["M4A7zOtherMult4Accuracy","FNPI 7z.4.","Z Indicator","M_4","FNPIs Across Multiple Domains","FNPIs","Services Supporting Multiple Domains"]
["M4A7zOtherMult5Name","FNPI 7z.5.","Z Indicator","M_4","FNPIs Across Multiple Domains","FNPIs","Services Supporting Multiple Domains"]
["M4A7zOtherMult5Part","FNPI 7z.5.","Z Indicator","M_4","FNPIs Across Multiple Domains","FNPIs","Services Supporting Multiple Domains"]
["M4A7zOtherMult5Target","FNPI 7z.5.","Z Indicator","M_4","FNPIs Across Multiple Domains","FNPIs","Services Supporting Multiple Domains"]
["M4A7zOtherMult5Results","FNPI 7z.5.","Z Indicator","M_4","FNPIs Across Multiple Domains","FNPIs","Services Supporting Multiple Domains"]
["M4A7zOtherMult5Outcome","FNPI 7z.5.","Z Indicator","M_4","FNPIs Across Multiple Domains","FNPIs","Services Supporting Multiple Domains"]
["M4A7zOtherMult5Accuracy","FNPI 7z.5.","Z Indicator","M_4","FNPIs Across Multiple Domains","FNPIs","Services Supporting Multiple Domains"]
[null,"All_SRVs","Services","M_4","Services","Services","Services"]
["","All_SRV1","Employment","M_4","Services Employment","Services","Employment"]
["M4B1aSkillsVocational","SRV 1a.","Vocational Training","M_4","Services Employment","Services","Employment"]
["M4B1bSkillsOTJ","SRV 1b.","On-the-Job and Other Work Experience","M_4","Services Employment","Services","Employment"]
["M4B1cSkillsYouthSummer","SRV 1c.","Youth Summer Work Placements","M_4","Services Employment","Services","Employment"]
["M4B1dSkillsApprentice","SRV 1d.","Apprenticeship/Internship","M_4","Services Employment","Services","Employment"]
["M4B1eSkillsSelfEmploy","SRV 1e.","Self-Employment Skills Training","M_4","Services Employment","Services","Employment"]
["M4B1fSkillsJobReadiness","SRV 1f.","Job Readiness Training","M_4","Services Employment","Services","Employment"]
["M4B1gCareerWorkshops","SRV 1g.","Workshops","M_4","Services Employment","Services","Employment"]
["M4B1hCareerCoaching","SRV 1h.","Coaching","M_4","Services Employment","Services","Employment"]
["M4B1iJobSearchCoaching","SRV 1i.","Coaching","M_4","Services Employment","Services","Employment"]
["M4B1jJobSearchResume","SRV 1j.","Resume Development","M_4","Services Employment","Services","Employment"]
["M4B1kJobSearchInterview","SRV 1k.","Interview Skills Training","M_4","Services Employment","Services","Employment"]
["M4B1lJobSearchReferral","SRV 1l.","Job Referrals","M_4","Services Employment","Services","Employment"]
["M4B1mJobSearchPlacement","SRV 1m.","Job Placements","M_4","Services Employment","Services","Employment"]
["M4B1nJobSearchBackground","SRV 1n.","Pre-Employment Physicals, Background Checks, etc.","M_4","Services Employment","Services","Employment"]
["M4B1oPostEmployCoaching","SRV 1o.","Coaching","M_4","Services Employment","Services","Employment"]
["M4B1pPostEmployInteraction","SRV 1p.","Interactions with Employers","M_4","Services Employment","Services","Employment"]
["M4B1qEmploySupplies","SRV 1q.","Employment Supplies","M_4","Services Employment","Services","Employment"]
["","All_SRV2","Education and Cognitive Development","M_4","Services Education","Services","Education and Cognitive Development"]
["M4B2aEduEarlyHeadStart","SRV 2a.","Early Head Start","M_4","Services Education","Services","Education and Cognitive Development"]
["M4B2bEduHeadStart","SRV 2b.","Head Start","M_4","Services Education","Services","Education and Cognitive Development"]
["M4B2cEduOtherEarly","SRV 2c.","Other Early-Childhood (0-5 yr old) Education","M_4","Services Education","Services","Education and Cognitive Development"]
["M4B2dEduK12","SRV 2d.","K-12 Education","M_4","Services Education","Services","Education and Cognitive Development"]
["M4B2eEduK12Support","SRV 2e.","K-12 Support Services","M_4","Services Education","Services","Education and Cognitive Development"]
["M4B2fEduFinancialLit","SRV 2f.","Financial Literacy Education","M_4","Services Education","Services","Education and Cognitive Development"]
["M4B2gEduEnglishLit","SRV 2g.","Literacy/English Language Education","M_4","Services Education","Services","Education and Cognitive Development"]
["M4B2hEduCollegeReady","SRV 2h.","College-Readiness Preparation/Support","M_4","Services Education","Services","Education and Cognitive Development"]
["M4B2iEduOtherPostSecPrep","SRV 2i.","Other Post Secondary Preparation","M_4","Services Education","Services","Education and Cognitive Development"]
["M4B2jEduOtherPostSecSup","SRV 2j.","Other Post Secondary Support","M_4","Services Education","Services","Education and Cognitive Development"]
["M4B2kSchoolSupplies","SRV 2k.","School Supplies","M_4","Services Education","Services","Education and Cognitive Development"]
["M4B2lExtraCurrBeforeAfter","SRV 2l.","Before and After School Activities","M_4","Services Education","Services","Education and Cognitive Development"]
["M4B2mExtraCurrSummerRec","SRV 2m.","Summer Youth Recreational Activities","M_4","Services Education","Services","Education and Cognitive Development"]
["M4B2nExtraCurrSummerEdu","SRV 2n.","Summer Education Programs","M_4","Services Education","Services","Education and Cognitive Development"]
["M4B2oExtraCurrBehavior","SRV 2o.","Behavior Improvement Programs","M_4","Services Education","Services","Education and Cognitive Development"]
["M4B2pExtraCurrMentor","SRV 2p.","Mentoring","M_4","Services Education","Services","Education and Cognitive Development"]
["M4B2qExtraCurrLeadership","SRV 2q.","Leadership Training","M_4","Services Education","Services","Education and Cognitive Development"]
["M4B2rAdultEduLit","SRV 2r.","Adult Literacy Classes","M_4","Services Education","Services","Education and Cognitive Development"]
["M4B2sAdultEduEnglish","SRV 2s.","English Language Classes","M_4","Services Education","Services","Education and Cognitive Development"]
["M4B2tAdultEduBasic","SRV 2t.","Basic Education Classes","M_4","Services Education","Services","Education and Cognitive Development"]
["M4B2uAdultEduHighSchool","SRV 2u.","High School Equivalency Classes","M_4","Services Education","Services","Education and Cognitive Development"]
["M4B2vAdultEduLeadership","SRV 2v.","Leadership Training","M_4","Services Education","Services","Education and Cognitive Development"]
["M4B2wAdultEduParenting","SRV 2w.","Parenting Supports","M_4","Services Education","Services","Education and Cognitive Development"]
["M4B2xAdultEduAppliedTech","SRV 2x.","Applied Technology Classes","M_4","Services Education","Services","Education and Cognitive Development"]
["M4B2yAdultEduPostSecPrep","SRV 2y.","Post-Secondary Education Preparation","M_4","Services Education","Services","Education and Cognitive Development"]
["M4B2zAdultEduFinancialLit","SRV 2z.","Financial Literacy Education","M_4","Services Education","Services","Education and Cognitive Development"]
["M4B2aaPostSecEduSupports","SRV 2aa.","College Applications, Textbooks, Computers, etc.","M_4","Services Education","Services","Education and Cognitive Development"]
["M4B2bbFinancialAid","SRV 2bb.","Scholarships","M_4","Services Education","Services","Education and Cognitive Development"]
["M4B2ccHomeVisits","SRV 2cc.","Home Visits","M_4","Services Education","Services","Education and Cognitive Development"]
["","All_SRV3","Income and Asset Building","M_4","Services Income","Services","Income and Asset Building"]
["M4B3aTrainingFinancialCap","SRV 3a.","Financial Capability Skills Training","M_4","Services Income","Services","Income and Asset Building"]
["M4B3bTrainingFinancialCounsel","SRV 3b.","Financial Coaching/Counseling","M_4","Services Income","Services","Income and Asset Building"]
["M4B3cTrainingFinancialMgmt","SRV 3c.","Financial Management Programs","M_4","Services Income","Services","Income and Asset Building"]
["M4B3dTrainingHomebuyer","SRV 3d.","First-Time Homebuyer Counseling","M_4","Services Income","Services","Income and Asset Building"]
["M4B3eTrainingForeclosure","SRV 3e.","Foreclosure Prevention Counseling","M_4","Services Income","Services","Income and Asset Building"]
["M4B3fTrainingSmallBus","SRV 3f.","Small Business Start-Up and Development Counseling Sessions/Classes","M_4","Services Income","Services","Income and Asset Building"]
["M4B3gBenCoordChildSup","SRV 3g.","Child Support Payments","M_4","Services Income","Services","Income and Asset Building"]
["M4B3hBenCoordHealthIns","SRV 3h.","Health Insurance","M_4","Services Income","Services","Income and Asset Building"]
["M4B3iBenCoordSSI","SRV 3i.","Social Security/SSI Payments","M_4","Services Income","Services","Income and Asset Building"]
["M4B3jBenCoordVeterans","SRV 3j.","Veteran's Benefits","M_4","Services Income","Services","Income and Asset Building"]
["M4B3kBenCoordTANF","SRV 3k.","TANF Benefits","M_4","Services Income","Services","Income and Asset Building"]
["M4B3lBenCoordSNAP","SRV 3l.","SNAP Benefits","M_4","Services Income","Services","Income and Asset Building"]
["M4B3mAssetBldgSavings","SRV 3m.","Saving Accounts/IDAs and Other Asset Building Accounts","M_4","Services Income","Services","Income and Asset Building"]
["M4B3nAssetBldgOtherFin","SRV 3n.","Other Financial Products","M_4","Services Income","Services","Income and Asset Building"]
["M4B3oAssetBldgVITA","SRV 3o.","VITA, EITC, or Other Tax Preparation Programs","M_4","Services Income","Services","Income and Asset Building"]
["M4B3pMicroLoans","SRV 3p.","Micro-Loans","M_4","Services Income","Services","Income and Asset Building"]
["M4B3qBusIncubatorLoans","SRV 3q.","Business Incubator/Business Development Loans","M_4","Services Income","Services","Income and Asset Building"]
["","All_SRV4","Housing","M_4","Services Housing","Services","Housing"]
["M4B4aHousePayFinancialCap","SRV 4a.","Financial Capability Skill Training","M_4","Services Housing","Services","Housing"]
["M4B4bHousePayFinancialCounsel","SRV 4b.","Financial Coaching/Counseling","M_4","Services Housing","Services","Housing"]
["M4B4cHousePayRent","SRV 4c.","Rent Payments","M_4","Services Housing","Services","Housing"]
["M4B4dHousePayDeposit","SRV 4d.","Deposit Payments","M_4","Services Housing","Services","Housing"]
["M4B4eHousePayMortgage","SRV 4e.","Mortgage Payments ","M_4","Services Housing","Services","Housing"]
["M4B4fEvictCounseling","SRV 4f.","Eviction Counseling","M_4","Services Housing","Services","Housing"]
["M4B4gEvictLandlordMed","SRV 4g.","Landlord/Tenant Mediations","M_4","Services Housing","Services","Housing"]
["M4B4hEvictLandlordEdu","SRV 4h.","Landlord/Tenant Rights Education","M_4","Services Housing","Services","Housing"]
["M4B4iUtilityPayment","SRV 4i.","Utility Payments","M_4","Services Housing","Services","Housing"]
["M4B4jUtilityDeposit","SRV 4j.","Utility Deposits","M_4","Services Housing","Services","Housing"]
["M4B4kUtilityArrears","SRV 4k.","Utility Arrears Payments","M_4","Services Housing","Services","Housing"]
["M4B4lUtilityLevelBill","SRV 4l.","Level Billing Assistance","M_4","Services Housing","Services","Housing"]
["M4B4mHousePlaceTemp","SRV 4m.","Temporary Housing Placement","M_4","Services Housing","Services","Housing"]
["M4B4nHousePlaceTransition","SRV 4n.","Transitional Housing Placements","M_4","Services Housing","Services","Housing"]
["M4B4oHousePlacePerm","SRV 4o.","Permanent Housing Placements","M_4","Services Housing","Services","Housing"]
["M4B4pHousePlaceRentCouns","SRV 4p.","Rental Counseling","M_4","Services Housing","Services","Housing"]
["M4B4qHouseImproveRepair","SRV 4q.","Home Repairs","M_4","Services Housing","Services","Housing"]
["M4B4rWxIndLiv","SRV 4r.","Independent-Living Home Improvements","M_4","Services Housing","Services","Housing"]
["M4B4sWxHealthyHomes","SRV 4s.","Healthy Homes Services","M_4","Services Housing","Services","Housing"]
["M4B4tWxEE","SRV 4t.","Energy Efficiency Improvements","M_4","Services Housing","Services","Housing"]
["","All_SRV5","Health and Social/Behavioral Development","M_4","Services Health","Services","Health and Social/Behavioral Development"]
["M4B5aHealthServImmun","SRV 5a.","Immunizations","M_4","Services Health","Services","Health and Social/Behavioral Development"]
["M4B5bHealthServPhysical","SRV 5b.","Physicals","M_4","Services Health","Services","Health and Social/Behavioral Development"]
["M4B5cHealthServDevScreen","SRV 5c.","Developmental Delay Screening","M_4","Services Health","Services","Health and Social/Behavioral Development"]
["M4B5dHealthServVisionScreen","SRV 5d.","Vision Screening","M_4","Services Health","Services","Health and Social/Behavioral Development"]
["M4B5eHealthServRxPay","SRV 5e.","Prescription Payments","M_4","Services Health","Services","Health and Social/Behavioral Development"]
["M4B5fHealthServDrPay","SRV 5f.","Doctor Visit Payments","M_4","Services Health","Services","Health and Social/Behavioral Development"]
["M4B5gHealthServMaternalHealth","SRV 5g.","Maternal/Child Health","M_4","Services Health","Services","Health and Social/Behavioral Development"]
["M4B5hHealthServNursing","SRV 5h.","Nursing Care Sessions","M_4","Services Health","Services","Health and Social/Behavioral Development"]
["M4B5iHealthServInHome","SRV 5i.","In-Home Affordable Seniors/Disabled Care Sessions","M_4","Services Health","Services","Health and Social/Behavioral Development"]
["M4B5jHealthServeInsCounsel","SRV 5j.","Health Insurance Options Counseling","M_4","Services Health","Services","Health and Social/Behavioral Development"]
["M4B5kReprodHealthCoach","SRV 5k.","Coaching Sessions","M_4","Services Health","Services","Health and Social/Behavioral Development"]
["M4B5lReprodHealthPlan","SRV 5l.","Family Planning Classes","M_4","Services Health","Services","Health and Social/Behavioral Development"]
["M4B5mReprodHealthContra","SRV 5m.","Contraceptives","M_4","Services Health","Services","Health and Social/Behavioral Development"]
["M4B5nReprodHealthSTIPrev","SRV 5n.","STI/HIV Prevention Counseling Sessions","M_4","Services Health","Services","Health and Social/Behavioral Development"]
["M4B5oReprodHealthSTIScreen","SRV 5o.","STI/HIV Screenings","M_4","Services Health","Services","Health and Social/Behavioral Development"]
["M4B5pWellnessEduClass","SRV 5p.","Wellness Classes","M_4","Services Health","Services","Health and Social/Behavioral Development"]
["M4B5qWellnessEduFitness","SRV 5q.","Exercise/Fitness","M_4","Services Health","Services","Health and Social/Behavioral Development"]
["M4B5rMentalHealthDetox","SRV 5r.","Detoxification Sessions","M_4","Services Health","Services","Health and Social/Behavioral Development"]
["M4B5sMentalHealthSubAbuseScreen","SRV 5s.","Substance Abuse Screenings","M_4","Services Health","Services","Health and Social/Behavioral Development"]
["M4B5tMentalHealthSubAbuseCounsel","SRV 5t.","Substance Abuse Counseling","M_4","Services Health","Services","Health and Social/Behavioral Development"]
["M4B5uMentalHealthAssess","SRV 5u.","Mental Health Assessments","M_4","Services Health","Services","Health and Social/Behavioral Development"]
["M4B5vMentalHealthCounsel","SRV 5v.","Mental Health Counseling","M_4","Services Health","Services","Health and Social/Behavioral Development"]
["M4B5wMentalHealthResponse","SRV 5w.","Crisis Response/Call-In Responses","M_4","Services Health","Services","Health and Social/Behavioral Development"]
["M4B5xMentalHealthDomVio","SRV 5x.","Domestic Violence Programs","M_4","Services Health","Services","Health and Social/Behavioral Development"]
["M4B5ySupportGroupsSubAbuse","SRV 5y.","Substance Abuse Support Group Meetings","M_4","Services Health","Services","Health and Social/Behavioral Development"]
["M4B5zSupportGroupsDomVio","SRV 5z.","Domestic Violence Support Group Meetings","M_4","Services Health","Services","Health and Social/Behavioral Development"]
["M4B5aaSupportGroupsMentalHealth","SRV 5aa.","Mental Health Support Group Meeting","M_4","Services Health","Services","Health and Social/Behavioral Development"]
["M4B5bbDentalAdultScreen","SRV 5bb.","Adult Dental Screening/Exams","M_4","Services Health","Services","Health and Social/Behavioral Development"]
["M4B5ccDentalAdultServ","SRV 5cc.","Adult Dental Services","M_4","Services Health","Services","Health and Social/Behavioral Development"]
["M4B5ddDentalChildScreen","SRV 5dd.","Child Dental Screenings/Exams","M_4","Services Health","Services","Health and Social/Behavioral Development"]
["M4B5eeDentalChildServ","SRV 5ee.","Child Dental Services","M_4","Services Health","Services","Health and Social/Behavioral Development"]
["M4B5ffNutritionSkills","SRV 5ff.","Skills Classes","M_4","Services Health","Services","Health and Social/Behavioral Development"]
["M4B5ggNutritionGardening","SRV 5gg.","Community Gardening Activities","M_4","Services Health","Services","Health and Social/Behavioral Development"]
["M4B5hhNutritionIncentives","SRV 5hh.","Incentives ","M_4","Services Health","Services","Health and Social/Behavioral Development"]
["M4B5iiNutritionPrepMeals","SRV 5ii.","Prepared Meals","M_4","Services Health","Services","Health and Social/Behavioral Development"]
["M4B5jjNutritionFoodDist","SRV 5jj.","Food Distribution","M_4","Services Health","Services","Health and Social/Behavioral Development"]
["M4B5kkFamilySkillMentor","SRV 5kk.","Family Mentoring Sessions","M_4","Services Health","Services","Health and Social/Behavioral Development"]
["M4B5llFamilySkillsLife","SRV 5ll.","Life Skills Coaching Sessions","M_4","Services Health","Services","Health and Social/Behavioral Development"]
["M4B5mmFamilySkillsParent","SRV 5mm.","Parenting Classes","M_4","Services Health","Services","Health and Social/Behavioral Development"]
["M4B5nnEmerHygieneKits","SRV 5nn.","Kits/Boxes","M_4","Services Health","Services","Health and Social/Behavioral Development"]
["M4B5ooEmerHygieneFacility","SRV 5oo.","Hygiene Facility Utilizations","M_4","Services Health","Services","Health and Social/Behavioral Development"]
["","All_SRV6","Civic Engagement and Community Involvement","M_4","Services Civic Eng. & Comm Inv.","Services","Civic Engagement and Community Involvement"]
["M4B6aCivicEngageVoterEdu","SRV 6a.","Voter Education and Access","M_4","Services Civic Eng. & Comm Inv.","Services","Civic Engagement and Community Involvement"]
["M4B6bCivicEngageLeadership","SRV 6b.","Leadership Training","M_4","Services Civic Eng. & Comm Inv.","Services","Civic Engagement and Community Involvement"]
["M4B6cCivicEngageTripartite","SRV 6c.","Tripartite Board Membership","M_4","Services Civic Eng. & Comm Inv.","Services","Civic Engagement and Community Involvement"]
["M4B6dCivicEngageCitizen","SRV 6d.","Citizenship Classes","M_4","Services Civic Eng. & Comm Inv.","Services","Civic Engagement and Community Involvement"]
["M4B6eCivicEngageGetAhead","SRV 6e.","Getting Ahead Classes","M_4","Services Civic Eng. & Comm Inv.","Services","Civic Engagement and Community Involvement"]
["M4B6fCivicEngageVolTrain","SRV 6f.","Volunteer Training","M_4","Services Civic Eng. & Comm Inv.","Services","Civic Engagement and Community Involvement"]
["","All_SRV7","Services Supporting Multiple Domains","M_4","Services Multiple Domains","Services","Services Supporting Multiple Domains"]
["M4B7aCaseMgmt","SRV 7a.","Case Management","M_4","Services Multiple Domains","Services","Services Supporting Multiple Domains"]
["M4B7bEligDetermin","SRV 7b.","Eligibility Determinations","M_4","Services Multiple Domains","Services","Services Supporting Multiple Domains"]
["M4B7cReferrals","SRV 7c.","Referrals","M_4","Services Multiple Domains","Services","Services Supporting Multiple Domains"]
["M4B7dTranspServices","SRV 7d.","Transportation Services","M_4","Services Multiple Domains","Services","Services Supporting Multiple Domains"]
["M4B7eChildcareSubsidy","SRV 7e.","Child Care Subsidies","M_4","Services Multiple Domains","Services","Services Supporting Multiple Domains"]
["M4B7fChildcarePayment","SRV 7f.","Child Care Payments","M_4","Services Multiple Domains","Services","Services Supporting Multiple Domains"]
["M4B7gEldercareDayCenter","SRV 7g.","Day Centers","M_4","Services Multiple Domains","Services","Services Supporting Multiple Domains"]
["M4B7hIdBirthCert","SRV 7h.","Birth Certificate","M_4","Services Multiple Domains","Services","Services Supporting Multiple Domains"]
["M4B7iIdSSNCard","SRV 7i.","Social Security Card","M_4","Services Multiple Domains","Services","Services Supporting Multiple Domains"]
["M4B7jIdDriverLicense","SRV 7j.","Driver's License","M_4","Services Multiple Domains","Services","Services Supporting Multiple Domains"]
["M4B7kReentryServ","SRV 7k.","Criminal Record Expungements","M_4","Services Multiple Domains","Services","Services Supporting Multiple Domains"]
["M4B7mLegalAssist","SRV 7l.","Legal Assistance","M_4","Services Multiple Domains","Services","Services Supporting Multiple Domains"]
["M4B7nEmerClothing","SRV 7m.","Emergency Clothing Assistance","M_4","Services Multiple Domains","Services","Services Supporting Multiple Domains"]
["M4B7oMediation","SRV  7n","Mediation/Customer Advocacy Interventions","M_4","Services Multiple Domains","Services","Services Supporting Multiple Domains"]
[null,"All_ACRs","Characteristics","M_4","Characteristics","Characteristics","Characteristics"]
["M4CA1Individuals","ACR A.","Total unduplicated number of all individuals about whom one or more characteristics were obtained","M_4","Characteristics","Characteristics","Characteristics"]
["M4CB1Households","ACR B.","Total unduplicated number of all households about whom one or more characteristics were obtained","M_4","Characteristics","Characteristics","Characteristics"]
["Error_All_C","ACR C.","All ACR C","M_4","Characteristics","Characteristics","Characteristics"]
["","ACR C.1.","Sex","M_4","Characteristics","Characteristics","Sex"]
["M4CC1aGenderMale","ACR C.1a.","Male","M_4","Characteristics","Characteristics","Sex"]
["M4CC1bGenderFemale","ACR C.1b.","Female","M_4","Characteristics","Characteristics","Sex"]
["M4CC1eGenderTotal","ACR C.1c.","Sex Total","M_4","Characteristics","Characteristics","Sex"]
["","ACR C.2.","Age","M_4","Characteristics","Characteristics","Age"]
["M4CC2aAge0to5","ACR C.2a.","0-5","M_4","Characteristics","Characteristics","Age"]
["M4CC2bAge6to13","ACR C.2b.","6-13","M_4","Characteristics","Characteristics","Age"]
["M4CC2cAge14to17","ACR C.2c.","14-17","M_4","Characteristics","Characteristics","Age"]
["M4CC2dAge18to24","ACR C.2d.","18-24","M_4","Characteristics","Characteristics","Age"]
["M4CC2eAge25to44","ACR C.2e.","25-44","M_4","Characteristics","Characteristics","Age"]
["M4CC2fAge45to54","ACR C.2f.","45-54","M_4","Characteristics","Characteristics","Age"]
["M4CC2gAge55to59","ACR C.2g.","55-59","M_4","Characteristics","Characteristics","Age"]
["M4CC2hAge60to64","ACR C.2h.","60-64","M_4","Characteristics","Characteristics","Age"]
["M4CC2iAge65to74","ACR C.2i.","65-74","M_4","Characteristics","Characteristics","Age"]
["M4CC2jAge75plus","ACR C.2j.","75+","M_4","Characteristics","Characteristics","Age"]
["M4CC2kAgeUnk","ACR C.2k.","Unknown/Not Reported","M_4","Characteristics","Characteristics","Age"]
["M4CC2lAgeTotal","ACR C.2l.","Age Total","M_4","Characteristics","Characteristics","Age"]
["","ACR C.3.","Education Levels","M_4","Characteristics","Characteristics","Education Levels"]
["M4CC3aEduGrade8Age14to24","ACR C.3a. [ages 14-24]","Grades 0-8 [ages 14-24]","M_4","Characteristics","Characteristics","Education Levels"]
["M4CC3aEduGrade8Age25plus","ACR C.3a. [ages 25+]","Grades 0-8 [ages 25+]","M_4","Characteristics","Characteristics","Education Levels"]
["M4CC3bEduGrade12Age24und","ACR C.3b. [ages 14-24]","Grades 9-12/Non-Graduate [ages 14-24]","M_4","Characteristics","Characteristics","Education Levels"]
["M4CC3bEduGrade12Age25plus","ACR C.3b. [ages 25+]","Grades 9-12/Non-Graduate [ages 25+]","M_4","Characteristics","Characteristics","Education Levels"]
["M4CC3cEduHSGradAge24und","ACR C.3c. [ages 14-24]","High School Graduate [ages 14-24]","M_4","Characteristics","Characteristics","Education Levels"]
["M4CC3cEduHSGradAge25plus","ACR C.3c. [ages 25+]","High School Graduate [ages 25+]","M_4","Characteristics","Characteristics","Education Levels"]
["M4CC3dEquivDiplomaAge24und","ACR C.3d. [ages 14-24]","GED/Equivalency Diploma [ages 14-24]","M_4","Characteristics","Characteristics","Education Levels"]
["M4CC3dEquivDiplomaAge25plus","ACR C.3d. [ages 25+]","GED/Equivalency Diploma [ages 25+]","M_4","Characteristics","Characteristics","Education Levels"]
["M4CC3eEduPostSecAge24und","ACR C.3e. [ages 14-24]","12 grade + Some Post-Secondary [ages 14-24]","M_4","Characteristics","Characteristics","Education Levels"]
["M4CC3eEduPostSecAge25plus","ACR C.3e. [ages 25+]","12 grade + Some Post-Secondary [ages 25+]","M_4","Characteristics","Characteristics","Education Levels"]
["M4CC3fEduCollegeGradAge24und","ACR C.3f. [ages 14-24]","2 or 4 years College Graduate [ages 14-24]","M_4","Characteristics","Characteristics","Education Levels"]
["M4CC3fEduCollegeGradAge25plus","ACR C.3f. [ages 25+]","2 or 4 years College Graduate [ages 25+]","M_4","Characteristics","Characteristics","Education Levels"]
["M4CC3gEduGradPostSecAge24und","ACR C.3g. [ages 14-24]","Graduate of Other Post-Secondary School [ages 14-24]","M_4","Characteristics","Characteristics","Education Levels"]
["M4CC3gEduGradPostSecAge25plus","ACR C.3g. [ages 25+]","Graduate of Other Post-Secondary School [ages 25+]","M_4","Characteristics","Characteristics","Education Levels"]
["M4CC3hEduUnkAge24und","ACR C.3h. [ages 14-24]","Unknown/Not Reported [ages 14-24]","M_4","Characteristics","Characteristics","Education Levels"]
["M4CC3hEduUnkAge25plus","ACR C.3h. [ages 25+]","Unknown/Not Reported [ages 25+]","M_4","Characteristics","Characteristics","Education Levels"]
["M4CC3iEduTotalAge24und","ACR C.3i. [ages 14-24]","Education Levels Total [ages 14-24]","M_4","Characteristics","Characteristics","Education Levels"]
["M4CC3iEduTotalAge25plus","ACR C.3i. [ages 25+]","Education Levels Total [ages 25+]","M_4","Characteristics","Characteristics","Education Levels"]
["","ACR C.4.","Disconnected Youth","M_4","Characteristics","Characteristics","Education Levels"]
["M4CC4aDisconnectedYouth","ACR C.4a.","Disconnected Youth","M_4","Characteristics","Characteristics","Disconnected Youth"]
["","ACR C.5a.","Disabling Condition Total","M_4","Characteristics","Characteristics","Disconnected Youth"]
["M4CC5aHealthDisableYes","ACR C.5a. Yes","Disability - Yes","M_4","Characteristics","Characteristics","Disconnected Youth"]
["M4CC5aHealthDisableNo","ACR C.5a. No","Disability - No","M_4","Characteristics","Characteristics","Disconnected Youth"]
["M4CC5aHealthDisableUnk","ACR C.5a. Unknown","Disability - Unknown","M_4","Characteristics","Characteristics","Disconnected Youth"]
["","ACR C.5b.","Health Insurance Total","M_4","Characteristics","Characteristics","Health Insurance"]
["M4CC5b1HealthInsuranceYes","ACR C.5b. Yes","Health Insurance - Yes","M_4","Characteristics","Characteristics","Health Insurance"]
["M4CC5b2HealthInsuranceNo","ACR C.5b. No","Health Insurance - No","M_4","Characteristics","Characteristics","Health Insurance"]
["M4CC5b3HealthInsuranceUnk","ACR C.5b. Unknown","Health Insurance - Unknown","M_4","Characteristics","Characteristics","Health Insurance"]
["","ACR C.5c.","Health Insurance Sources","M_4","Characteristics","Characteristics","Health Insurance Sources"]
["M4CC5c1InsuranceMedicaid","ACR C.5c.1.","Medicaid","M_4","Characteristics","Characteristics","Health Insurance Sources"]
["M4CC5c2InsuranceMedicare","ACR C.5c.2.","Medicare","M_4","Characteristics","Characteristics","Health Insurance Sources"]
["M4CC5c3InsuranceStateChild","ACR C.5c.3.","State Children's Health Insurance Program","M_4","Characteristics","Characteristics","Health Insurance Sources"]
["M4CC5c4InsuranceStateAdult","ACR C.5c.4.","State Health Insurance for Adults","M_4","Characteristics","Characteristics","Health Insurance Sources"]
["M4CC5c5InsuranceMilitary","ACR C.5c.5.","Military Health Care","M_4","Characteristics","Characteristics","Health Insurance Sources"]
["M4CC5c6InsuranceDirectPurch","ACR C.5c.6.","Direct-Purchase","M_4","Characteristics","Characteristics","Health Insurance Sources"]
["M4CC5c7InsuranceEmploy","ACR C.5c.7.","Employment Based","M_4","Characteristics","Characteristics","Health Insurance Sources"]
["M4CC5c8InsuranceUnk","ACR C.5c.8.","Unknown/Not Reported","M_4","Characteristics","Characteristics","Health Insurance Sources"]
["M4CC5c9InsuranceTotal","ACR C.5c.9.","Health Insurance Sources Total","M_4","Characteristics","Characteristics","Health Insurance Sources"]
["","ACR C.6a.","Ethnicity","M_4","Characteristics","Characteristics","Ethnicity"]
["M4CC6a1EthnicityHisp","ACR C.6a.1.","Hispanic, Latino or Spanish Origins","M_4","Characteristics","Characteristics","Ethnicity"]
["M4CC6a2EthnicityNonHisp","ACR C.6a.2.","Not Hispanic, Latino or Spanish Origins","M_4","Characteristics","Characteristics","Ethnicity"]
["M4CC6a3EthnicityUnk","ACR C.6a.3.","Unknown/Not Reported","M_4","Characteristics","Characteristics","Ethnicity"]
["M4CC6a4EthnicityTotal","ACR C.6a.4.","Ethnicity Total","M_4","Characteristics","Characteristics","Ethnicity"]
["","ACR C.6b.","Race","M_4","Characteristics","Characteristics","Race"]
["M4CC6b1RaceAmericanIndian","ACR C.6b.1.","American Indian or Alaska Native","M_4","Characteristics","Characteristics","Race"]
["M4CC6b2RaceAsian","ACR C.6b.2.","Asian","M_4","Characteristics","Characteristics","Race"]
["M4CC6b3RaceBlack","ACR C.6b.3.","Black or African American","M_4","Characteristics","Characteristics","Race"]
["M4CC6b4RaceHawaiian","ACR C.6b.4.","Native Hawaiian and Other Pacific Island.er","M_4","Characteristics","Characteristics","Race"]
["M4CC6b5RaceWhite","ACR C.6b.5.","White","M_4","Characteristics","Characteristics","Race"]
["M4CC6b6RaceOther","ACR C.6b.6.","Other","M_4","Characteristics","Characteristics","Race"]
["M4CC6b7RaceMulti","ACR C.6b.7.","Multi-Race","M_4","Characteristics","Characteristics","Race"]
["M4CC6b8RaceUnk","ACR C.6b.8.","Unknown/Not Reported","M_4","Characteristics","Characteristics","Race"]
["M4CC6b9RaceTotal","ACR C.6b.9.","Race Total","M_4","Characteristics","Characteristics","Race"]
["","ACR C.7.","Military Status","M_4","Characteristics","Characteristics","Military Status"]
["M4CC7aMilitaryVeteran","ACR C.7a.","Veteran","M_4","Characteristics","Characteristics","Military Status"]
["M4CC7bMilitaryActive","ACR C.7b.","Active Military","M_4","Characteristics","Characteristics","Military Status"]
["","ACR C.7c.","Never Served in the Military","M_4","Characteristics","Characteristics","Military Status"]
["M4CC7dMilitaryUnk","ACR C.7d.","Unknown/Not Reported","M_4","Characteristics","Characteristics","Military Status"]
["M4CC7eMilitaryTotal","ACR C.7e.","Military Status Total","M_4","Characteristics","Characteristics","Military Status"]
["","ACR C.8.","Work Status","M_4","Characteristics","Characteristics","Work Status"]
["M4CC8aWorkEmployFT","ACR C.8a.","Employed Full-Time","M_4","Characteristics","Characteristics","Work Status"]
["M4CC8bWorkEmployPT","ACR C.8b.","Employed Part-Time","M_4","Characteristics","Characteristics","Work Status"]
["M4CC8cWorkSeasonal","ACR C.8c.","Migrant or Seasonal Farm Worker","M_4","Characteristics","Characteristics","Work Status"]
["M4CC8dWorkUnemployShort","ACR C.8d.","Unemployed - Short-Term","M_4","Characteristics","Characteristics","Work Status"]
["M4CC8eWorkUnemployLong","ACR C.8e.","Unemployed - Long-Term","M_4","Characteristics","Characteristics","Work Status"]
["M4CC8fWorkUnemployNLF","ACR C.8f.","Unemployed - Not in Labor Force","M_4","Characteristics","Characteristics","Work Status"]
["M4CC8gWorkRetired","ACR C.8g.","Retired","M_4","Characteristics","Characteristics","Work Status"]
["M4CC8hWorkUnk","ACR C.8h.","Unknown/Not Reported","M_4","Characteristics","Characteristics","Work Status"]
["M4CC8iWorkTotal","ACR C.8i.","Work Status Total","M_4","Characteristics","Characteristics","Work Status"]
["Error_All_D","ACR D.","All ACR D","M_4","Characteristics","Characteristics","Characteristics"]
["","ACR D.9.","Household. Type","M_4","Characteristics","Characteristics","Household. Type"]
["M4CD9aHHTypeOne","ACR D.9a.","Single Person","M_4","Characteristics","Characteristics","Household. Type"]
["M4CD9bHHTypeTwoNoChild","ACR D.9b.","Two Adults NO Children","M_4","Characteristics","Characteristics","Household. Type"]
["M4CD9cHHTypeSingleParentFem","ACR D.9c.","Single Parent Female","M_4","Characteristics","Characteristics","Household. Type"]
["M4CD9dHHTypeSingleParentMale","ACR D.9d.","Single Parent Male","M_4","Characteristics","Characteristics","Household. Type"]
["M4CD9eHHTypeTwoParent","ACR D.9e.","Two Parent Household","M_4","Characteristics","Characteristics","Household. Type"]
["M4CD9fHHTypeUnrelAdultsChild","ACR D.9f.","Non-Related Adults with Children","M_4","Characteristics","Characteristics","Household. Type"]
["M4CD9gHHTypeMultigen","ACR D.9g.","Multigenerational Household","M_4","Characteristics","Characteristics","Household. Type"]
["M4CD9hHHTypeOther","ACR D.9h.","Other","M_4","Characteristics","Characteristics","Household. Type"]
["M4CD9iHHTypeUnk","ACR D.9i.","Unknown/Not Reported","M_4","Characteristics","Characteristics","Household. Type"]
["M4CD9jHHTypeTotal","ACR D.9j.","Household Type Total","M_4","Characteristics","Characteristics","Household. Type"]
["","ACR D.10.","Household. Size","M_4","Characteristics","Characteristics","Household. Size"]
["M4CD10aHHSize1","ACR D.10a.","Single Person","M_4","Characteristics","Characteristics","Household. Size"]
["M4CD10bHHSize2","ACR D.10b.","Two","M_4","Characteristics","Characteristics","Household. Size"]
["M4CD10cHHSize3","ACR D.10c.","Three","M_4","Characteristics","Characteristics","Household. Size"]
["M4CD10dHHSize4","ACR D.10d.","Four","M_4","Characteristics","Characteristics","Household. Size"]
["M4CD10eHHSize5","ACR D.10e.","Five","M_4","Characteristics","Characteristics","Household. Size"]
["M4CD10fHHSize6plus","ACR D.10f.","Six or More","M_4","Characteristics","Characteristics","Household. Size"]
["M4CD10gHHSizeUnk","ACR D.10g.","Unknown/Not Reported","M_4","Characteristics","Characteristics","Household. Size"]
["M4CD10hHHSizeTotal","ACR D.10h.","Household Size Total","M_4","Characteristics","Characteristics","Household. Size"]
["","ACR D.11.","Housing","M_4","Characteristics","Characteristics","Housing"]
["M4CD11aHousingOwn","ACR D.11a.","Own","M_4","Characteristics","Characteristics","Housing"]
["M4CD11bHousingRent","ACR D.11b.","Rent","M_4","Characteristics","Characteristics","Housing"]
["M4CD11cHousingOtherPerm","ACR D.11c.","Other Permanent Housing","M_4","Characteristics","Characteristics","Housing"]
["M4CD11dHousingHomeless","ACR D.11d.","Homeless","M_4","Characteristics","Characteristics","Housing"]
["M4CD11eHousingOther","ACR D.11e.","Other","M_4","Characteristics","Characteristics","Housing"]
["M4CD11fHousingUnk","ACR D.11f.","Unknown/Not Reported","M_4","Characteristics","Characteristics","Housing"]
["M4CD11gHousingTotal","ACR D.11g.","Housing Total","M_4","Characteristics","Characteristics","Housing"]
["","ACR D.12.","Level of Household Income","M_4","Characteristics","Characteristics","Level of Household Income"]
["M4CD12aPov50","ACR D.12a.","Up to 50%","M_4","Characteristics","Characteristics","Level of Household Income"]
["M4CD12bPov51to75","ACR D.12b.","51% to 75%","M_4","Characteristics","Characteristics","Level of Household Income"]
["M4CD12cPov76to100","ACR D.12c.","76% to 100%","M_4","Characteristics","Characteristics","Level of Household Income"]
["M4CD12dPov101to125","ACR D.12d.","101% to 125%","M_4","Characteristics","Characteristics","Level of Household Income"]
["M4CD12ePov126to150","ACR D.12e.","126% to 150%","M_4","Characteristics","Characteristics","Level of Household Income"]
["M4CD12fPov151to175","ACR D.12f.","151% to 175%","M_4","Characteristics","Characteristics","Level of Household Income"]
["M4CD12gPov176to200","ACR D.12g.","176% to 200%","M_4","Characteristics","Characteristics","Level of Household Income"]
["M4CD12hPov201to250","ACR D.12h.","201% to 250%","M_4","Characteristics","Characteristics","Level of Household Income"]
["M4CD12iPov250plus","ACR D.12i.","251% and Over","M_4","Characteristics","Characteristics","Level of Household Income"]
["M4CD12jPovUnk","ACR D.12j.","Unknown/Not Reported","M_4","Characteristics","Characteristics","Level of Household Income"]
["M4CD12kPovTotal","ACR D.12k.","Level of Household Income Total","M_4","Characteristics","Characteristics","Level of Household Income"]
["","ACR D.13.","Sources of Household Income","M_4","Characteristics","Characteristics","Sources of Household Income"]
["M4CD13aIncomeEmployOnly","ACR D.13a.","Income from Employment Only","M_4","Characteristics","Characteristics","Sources of Household Income"]
["M4CD13bIncomeEmployOther","ACR D.13b.","Income from Employment and Other Income Source","M_4","Characteristics","Characteristics","Sources of Household Income"]
["M4CD13cIncomeEmployOtherNoncash","ACR D.13c.","Income from Employment, Other Income Source, and Non-Cash Benefits","M_4","Characteristics","Characteristics","Sources of Household Income"]
["M4CD13dIncomeEmployNoncash","ACR D.13d.","Income from Employment and Non-Cash Benefits","M_4","Characteristics","Characteristics","Sources of Household Income"]
["M4CD13eIncomeOtherOnly","ACR D.13e.","Other Income Source Only","M_4","Characteristics","Characteristics","Sources of Household Income"]
["M4CD13fIncomeOtherNoncash","ACR D.13f.","Other Income Source and Non-Cash Benefits","M_4","Characteristics","Characteristics","Sources of Household Income"]
["M4CD13gIncomeNone","ACR D.13g.","No Income","M_4","Characteristics","Characteristics","Sources of Household Income"]
["M4CD13hIncomeNoncashOnly","ACR D.13h.","Non-Cash Benefits Only","M_4","Characteristics","Characteristics","Sources of Household Income"]
["M4CD13iIncomeUnk","ACR D.13i.","Unknown/Not Reported","M_4","Characteristics","Characteristics","Sources of Household Income"]
["M4CD13jIncomeTotal","ACR D.13j.","Sources of Household Income Total","M_4","Characteristics","Characteristics","Sources of Household Income"]
["","ACR D.14.","Other Income Source","M_4","Characteristics","Characteristics","Other Income Source"]
["M4CD14aOtherincTANF","ACR D.14a.","TANF","M_4","Characteristics","Characteristics","Other Income Source"]
["M4CD14bOtherincSSI","ACR D.14b.","Supplemental Security Income (SSI)","M_4","Characteristics","Characteristics","Other Income Source"]
["M4CD14cOtherincSSDI","ACR D.14c.","Social Security Disability Income (SSDI)","M_4","Characteristics","Characteristics","Other Income Source"]
["M4CD14dOtherincVADisComp","ACR D.14d.","VA Service-Connected Disability Compensation","M_4","Characteristics","Characteristics","Other Income Source"]
["M4CD14eOtherincVADisPension","ACR D.14e.","VA Non-Service Connected Disability Pension","M_4","Characteristics","Characteristics","Other Income Source"]
["M4CD14fOtherincPrivateDis","ACR D.14f.","Private Disability Insurance","M_4","Characteristics","Characteristics","Other Income Source"]
["M4CD14gOtherincWorkerComp","ACR D.14g.","Worker’s Compensation","M_4","Characteristics","Characteristics","Other Income Source"]
["M4CD14hOtherincRetirement","ACR D.14h.","Retirement Income from Social Security","M_4","Characteristics","Characteristics","Other Income Source"]
["M4CD14iOtherincPension","ACR D.14i.","Pension","M_4","Characteristics","Characteristics","Other Income Source"]
["M4CD14jOtherincChildSupp","ACR D.14j.","Child Support","M_4","Characteristics","Characteristics","Other Income Source"]
["M4CD14kOtherincAlimony","ACR D.14k.","Alimony or Other Spousal Support","M_4","Characteristics","Characteristics","Other Income Source"]
["M4CD14lOtherincUnemploy","ACR D.14l.","Unemployment Insurance","M_4","Characteristics","Characteristics","Other Income Source"]
["M4CD14mOtherincEITC","ACR D.14m.","EITC","M_4","Characteristics","Characteristics","Other Income Source"]
["M4CD14nOtherincOther","ACR D.14n.","Other","M_4","Characteristics","Characteristics","Other Income Source"]
["M4CD14oOtherincUnk","ACR D.14o.","Unknown/Not Reported","M_4","Characteristics","Characteristics","Other Income Source"]
["ACR_D14_Total","ACR_D14_Total","Other Income Sources Total","M_4","Characteristics","Characteristics","Other Income Source"]
["","ACR D.15.","Non-Cash Benefits","M_4","Characteristics","Characteristics","Non-Cash Benefits"]
["M4CD15aNoncashSNAP","ACR D.15a.","SNAP","M_4","Characteristics","Characteristics","Non-Cash Benefits"]
["M4CD15bNoncashWIC","ACR D.15b.","WIC","M_4","Characteristics","Characteristics","Non-Cash Benefits"]
["M4CD15cNoncashLIHEAP","ACR D.15c.","LIHEAP","M_4","Characteristics","Characteristics","Non-Cash Benefits"]
["M4CD15dNoncashHCVP","ACR D.15d.","Housing Choice Voucher","M_4","Characteristics","Characteristics","Non-Cash Benefits"]
["M4CD15eNoncashPubHouse","ACR D.15e.","Public Housing","M_4","Characteristics","Characteristics","Non-Cash Benefits"]
["M4CD15fNoncashPermHouse","ACR D.15f.","Permanent Supportive Housing","M_4","Characteristics","Characteristics","Non-Cash Benefits"]
["M4CD15gNoncashHUDVASH","ACR D.15g.","HUD-VASH","M_4","Characteristics","Characteristics","Non-Cash Benefits"]
["M4CD15hNoncashChildcareVouch","ACR D.15h.","Childcare Voucher","M_4","Characteristics","Characteristics","Non-Cash Benefits"]
["M4CD15iNoncashACA","ACR D.15i.","Affordable Care Act Subsidy","M_4","Characteristics","Characteristics","Non-Cash Benefits"]
["M4CD15jNoncashOther","ACR D.15j.","Other","M_4","Characteristics","Characteristics","Non-Cash Benefits"]
["M4CD15kNoncashUnk","ACR D.15k.","Unknown/Not Reported","M_4","Characteristics","Characteristics","Non-Cash Benefits"]
["ACR_D15_Total","ACR_D15_Total","Non-Cash Benefits Total","M_4","Characteristics","Characteristics","Non-Cash Benefits"]
["M4CE1aIndivNotIncluded1","ACR E.1.",{"$f":"IF(M4CE1aIndivNotIncluded1=\"\",\"Program Name\",M4CE1aIndivNotIncluded1)","v":"Program Name"},"M_4","Characteristics","Characteristics","Non-Cash Benefits"]
["M4CE1bIndivNotIncluded1","ACR E.1.","Number of Individuals","M_4","Characteristics","Characteristics","Non-Cash Benefits"]
["M4CE2aIndivNotIncluded2","ACR E.2.",{"$f":"IF(M4CE1aIndivNotIncluded1=\"\",\"Program Name\",M4CE1aIndivNotIncluded1)","v":"Program Name"},"M_4","Characteristics","Characteristics","Non-Cash Benefits"]
["M4CE2bIndivNotIncluded2","ACR E.2.","Number of Individuals","M_4","Characteristics","Characteristics","Non-Cash Benefits"]
["M4CE3aIndivNotIncluded3","ACR E.3.",{"$f":"IF(M4CE1aIndivNotIncluded1=\"\",\"Program Name\",M4CE1aIndivNotIncluded1)","v":"Program Name"},"M_4","Characteristics","Characteristics","Non-Cash Benefits"]
["M4CE3bIndivNotIncluded3","ACR E.3.","Number of Individuals","M_4","Characteristics","Characteristics","Non-Cash Benefits"]
["M4CE4aIndivNotIncluded4","ACR E.4.",{"$f":"IF(M4CE1aIndivNotIncluded1=\"\",\"Program Name\",M4CE1aIndivNotIncluded1)","v":"Program Name"},"M_4","Characteristics","Characteristics","Non-Cash Benefits"]
["M4CE4bIndivNotIncluded4","ACR E.4.","Number of Individuals","M_4","Characteristics","Characteristics","Non-Cash Benefits"]
["M4CE5aIndivNotIncluded5","ACR E.5.",{"$f":"IF(M4CE1aIndivNotIncluded1=\"\",\"Program Name\",M4CE1aIndivNotIncluded1)","v":"Program Name"},"M_4","Characteristics","Characteristics","Non-Cash Benefits"]
["M4CE5bIndivNotIncluded5","ACR E.5.","Number of Individuals","M_4","Characteristics","Characteristics","Non-Cash Benefits"]
["M4CE6aIndivNotIncluded6","ACR E.6.",{"$f":"IF(M4CE1aIndivNotIncluded1=\"\",\"Program Name\",M4CE1aIndivNotIncluded1)","v":"Program Name"},"M_4","Characteristics","Characteristics","Non-Cash Benefits"]
["M4CE6bIndivNotIncluded6","ACR E.6.","Number of Individuals","M_4","Characteristics","Characteristics","Non-Cash Benefits"]
["M4CE7aIndivNotIncluded7","ACR E.7.",{"$f":"IF(M4CE1aIndivNotIncluded1=\"\",\"Program Name\",M4CE1aIndivNotIncluded1)","v":"Program Name"},"M_4","Characteristics","Characteristics","Non-Cash Benefits"]
["M4CE7bIndivNotIncluded7","ACR E.7.","Number of Individuals","M_4","Characteristics","Characteristics","Non-Cash Benefits"]
["M4CE8aIndivNotIncluded8","ACR E.8.",{"$f":"IF(M4CE1aIndivNotIncluded1=\"\",\"Program Name\",M4CE1aIndivNotIncluded1)","v":"Program Name"},"M_4","Characteristics","Characteristics","Non-Cash Benefits"]
["M4CE8bIndivNotIncluded8","ACR E.8.","Number of Individuals","M_4","Characteristics","Characteristics","Non-Cash Benefits"]
["M4CE9aIndivNotIncluded9","ACR E.9.",{"$f":"IF(M4CE1aIndivNotIncluded1=\"\",\"Program Name\",M4CE1aIndivNotIncluded1)","v":"Program Name"},"M_4","Characteristics","Characteristics","Non-Cash Benefits"]
["M4CE9bIndivNotIncluded9","ACR E.9.","Number of Individuals","M_4","Characteristics","Characteristics","Non-Cash Benefits"]
["M4CE10aIndivNotIncluded10","ACR E.10.",{"$f":"IF(M4CE1aIndivNotIncluded1=\"\",\"Program Name\",M4CE1aIndivNotIncluded1)","v":"Program Name"},"M_4","Characteristics","Characteristics","Non-Cash Benefits"]
["M4CE10bIndivNotIncluded10","ACR E.10.","Number of Individuals","M_4","Characteristics","Characteristics","Non-Cash Benefits"]
["M4CE11aIndivNotIncluded11","ACR E.11.",{"$f":"IF(M4CE1aIndivNotIncluded1=\"\",\"Program Name\",M4CE1aIndivNotIncluded1)","v":"Program Name"},"M_4","Characteristics","Characteristics","Non-Cash Benefits"]
["M4CE11bIndivNotIncluded11","ACR E.11.","Number of Individuals","M_4","Characteristics","Characteristics","Non-Cash Benefits"]
["M4CE12aIndivNotIncluded12","ACR E.12.",{"$f":"IF(M4CE1aIndivNotIncluded1=\"\",\"Program Name\",M4CE1aIndivNotIncluded1)","v":"Program Name"},"M_4","Characteristics","Characteristics","Non-Cash Benefits"]
["M4CE12bIndivNotIncluded12","ACR E.12.","Number of Individuals","M_4","Characteristics","Characteristics","Non-Cash Benefits"]
["M4CE13aIndivNotIncluded13","ACR E.13.",{"$f":"IF(M4CE1aIndivNotIncluded1=\"\",\"Program Name\",M4CE1aIndivNotIncluded1)","v":"Program Name"},"M_4","Characteristics","Characteristics","Non-Cash Benefits"]
["M4CE13bIndivNotIncluded13","ACR E.13.","Number of Individuals","M_4","Characteristics","Characteristics","Non-Cash Benefits"]
["M4CE14aIndivNotIncluded14","ACR E.14.",{"$f":"IF(M4CE1aIndivNotIncluded1=\"\",\"Program Name\",M4CE1aIndivNotIncluded1)","v":"Program Name"},"M_4","Characteristics","Characteristics","Non-Cash Benefits"]
["M4CE14bIndivNotIncluded14","ACR E.14.","Number of Individuals","M_4","Characteristics","Characteristics","Non-Cash Benefits"]
["M4CE15aIndivNotIncluded15","ACR E.15.",{"$f":"IF(M4CE1aIndivNotIncluded1=\"\",\"Program Name\",M4CE1aIndivNotIncluded1)","v":"Program Name"},"M_4","Characteristics","Characteristics","Non-Cash Benefits"]
["M4CE15bIndivNotIncluded15","ACR E.15.","Number of Individuals","M_4","Characteristics","Characteristics","Non-Cash Benefits"]
["M4CF1aHHNotIncluded1","ACR F.1.",{"$f":"IF(M4CF1aHHNotIncluded1=\"\",\"Program Name\",M4CF1aHHNotIncluded1)","v":"Program Name"},"M_4","Characteristics","Characteristics","Non-Cash Benefits"]
["M4CF1bHHNotIncluded1","ACR F.1.","Number of Households","M_4","Characteristics","Characteristics","Non-Cash Benefits"]
["M4CF2aHHNotIncluded2","ACR F.2.",{"$f":"IF(M4CF1aHHNotIncluded1=\"\",\"Program Name\",M4CF1aHHNotIncluded1)","v":"Program Name"},"M_4","Characteristics","Characteristics","Non-Cash Benefits"]
["M4CF2bHHNotIncluded2","ACR F.2.","Number of Households","M_4","Characteristics","Characteristics","Non-Cash Benefits"]
["M4CF3aHHNotIncluded3","ACR F.3.",{"$f":"IF(M4CF1aHHNotIncluded1=\"\",\"Program Name\",M4CF1aHHNotIncluded1)","v":"Program Name"},"M_4","Characteristics","Characteristics","Non-Cash Benefits"]
["M4CF3bHHNotIncluded3","ACR F.3.","Number of Households","M_4","Characteristics","Characteristics","Non-Cash Benefits"]
["M4CF4aHHNotIncluded4","ACR F.4.",{"$f":"IF(M4CF1aHHNotIncluded1=\"\",\"Program Name\",M4CF1aHHNotIncluded1)","v":"Program Name"},"M_4","Characteristics","Characteristics","Non-Cash Benefits"]
["M4CF4bHHNotIncluded4","ACR F.4.","Number of Households","M_4","Characteristics","Characteristics","Non-Cash Benefits"]
["M4CF5aHHNotIncluded5","ACR F.5.",{"$f":"IF(M4CF1aHHNotIncluded1=\"\",\"Program Name\",M4CF1aHHNotIncluded1)","v":"Program Name"},"M_4","Characteristics","Characteristics","Non-Cash Benefits"]
["M4CF5bHHNotIncluded5","ACR F.5.","Number of Households","M_4","Characteristics","Characteristics","Non-Cash Benefits"]
["M4CF6aHHNotIncluded6","ACR F.6.",{"$f":"IF(M4CF1aHHNotIncluded1=\"\",\"Program Name\",M4CF1aHHNotIncluded1)","v":"Program Name"},"M_4","Characteristics","Characteristics","Non-Cash Benefits"]
["M4CF6bHHNotIncluded6","ACR F.6.","Number of Households","M_4","Characteristics","Characteristics","Non-Cash Benefits"]
["M4CF7aHHNotIncluded7","ACR F.7.",{"$f":"IF(M4CF1aHHNotIncluded1=\"\",\"Program Name\",M4CF1aHHNotIncluded1)","v":"Program Name"},"M_4","Characteristics","Characteristics","Non-Cash Benefits"]
["M4CF7bHHNotIncluded7","ACR F.7.","Number of Households","M_4","Characteristics","Characteristics","Non-Cash Benefits"]
["M4CF8aHHNotIncluded8","ACR F.8.",{"$f":"IF(M4CF1aHHNotIncluded1=\"\",\"Program Name\",M4CF1aHHNotIncluded1)","v":"Program Name"},"M_4","Characteristics","Characteristics","Non-Cash Benefits"]
["M4CF8bHHNotIncluded8","ACR F.8.","Number of Households","M_4","Characteristics","Characteristics","Non-Cash Benefits"]
["M4CF9aHHNotIncluded9","ACR F.9.",{"$f":"IF(M4CF1aHHNotIncluded1=\"\",\"Program Name\",M4CF1aHHNotIncluded1)","v":"Program Name"},"M_4","Characteristics","Characteristics","Non-Cash Benefits"]
["M4CF9bHHNotIncluded9","ACR F.9.","Number of Households","M_4","Characteristics","Characteristics","Non-Cash Benefits"]
["M4CF10aHHNotIncluded10","ACR F.10.",{"$f":"IF(M4CF1aHHNotIncluded1=\"\",\"Program Name\",M4CF1aHHNotIncluded1)","v":"Program Name"},"M_4","Characteristics","Characteristics","Non-Cash Benefits"]
["M4CF10bHHNotIncluded10","ACR F.10.","Number of Households","M_4","Characteristics","Characteristics","Non-Cash Benefits"]
["M4CF11aHHNotIncluded11","ACR F.11.",{"$f":"IF(M4CF1aHHNotIncluded1=\"\",\"Program Name\",M4CF1aHHNotIncluded1)","v":"Program Name"},"M_4","Characteristics","Characteristics","Non-Cash Benefits"]
["M4CF11bHHNotIncluded11","ACR F.11.","Number of Households","M_4","Characteristics","Characteristics","Non-Cash Benefits"]
["M4CF12aHHNotIncluded12","ACR F.12.",{"$f":"IF(M4CF1aHHNotIncluded1=\"\",\"Program Name\",M4CF1aHHNotIncluded1)","v":"Program Name"},"M_4","Characteristics","Characteristics","Non-Cash Benefits"]
["M4CF12bHHNotIncluded12","ACR F.12.","Number of Households","M_4","Characteristics","Characteristics","Non-Cash Benefits"]
["M4CF13aHHNotIncluded13","ACR F.13.",{"$f":"IF(M4CF1aHHNotIncluded1=\"\",\"Program Name\",M4CF1aHHNotIncluded1)","v":"Program Name"},"M_4","Characteristics","Characteristics","Non-Cash Benefits"]
["M4CF13bHHNotIncluded13","ACR F.13.","Number of Households","M_4","Characteristics","Characteristics","Non-Cash Benefits"]
["M4CF14aHHNotIncluded14","ACR F.14.",{"$f":"IF(M4CF1aHHNotIncluded1=\"\",\"Program Name\",M4CF1aHHNotIncluded1)","v":"Program Name"},"M_4","Characteristics","Characteristics","Non-Cash Benefits"]
["M4CF14bHHNotIncluded14","ACR F.14.","Number of Households","M_4","Characteristics","Characteristics","Non-Cash Benefits"]
["M4CF15aHHNotIncluded15","ACR F.15.",{"$f":"IF(M4CF1aHHNotIncluded1=\"\",\"Program Name\",M4CF1aHHNotIncluded1)","v":"Program Name"},"M_4","Characteristics","Characteristics","Non-Cash Benefits"]
["M4CF15bHHNotIncluded15","ACR F.15.","Number of Households","M_4","Characteristics","Characteristics","Non-Cash Benefits"]

{"sheet":"CFDA Better Choices","index":23,"n_rows":22,"n_cols":2,"rows_kept":22,"cut":false,"hidden":false,"merged":[]}
["CFDA","BetterChoice"]
[93.569000000000003,"C.2."]
[81.042000000000002,"C.3a."]
[93.567999999999998,"C.3b.1. or C.3b.2."]
[93.6,"C.3b.3."]
[93.709000000000003,"C.3b.4."]
[93.667000000000002,"C.3b.6."]
[93.778000000000006,"C.3b.7."]
[93.602000000000004,"C.3b.8."]
[93.558000000000007,"C.3b.9."]
[93.575000000000003,"C.3b.10."]
[93.57,"C.3b.11."]
[10.557,"C.3c.1."]
[14.218,"C.3d.1."]
[14.871,"C.3d.2."]
[14.157,"C.3d.3."]
[92.209000000000003,"C.3d.4."]
[14.231,"C.3d.6."]
[14.266999999999999,"C.3d.7."]
[17.259,"C.3e.1."]
[94.006,"C.3f."]
[97.036000000000001,"C.3g."]

{"sheet":"Year-to-Year Comparisons FNPIs","index":24,"n_rows":84,"n_cols":46,"rows_kept":84,"cut":false,"hidden":false,"merged":[[5,15,6,19],[1,1,1,2],[2,1,2,2],[1,3,1,10],[2,3,2,8],[9,1,9,2],[4,1,4,2],[5,1,5,2],[6,1,6,2],[7,1,7,2],[8,1,8,2],[10,1,10,2],[11,1,11,2],[12,1,12,2],[18,1,18,2],[19,1,19,2],[51,1,51,2],[33,1,33,2],[34,1,34,2],[35,1,35,2],[13,1,13,2],[38,1,38,2],[21,1,21,2],[22,1,22,2],[26,1,26,2],[30,1,30,2],[31,1,31,2],[32,1,32,2],[20,1,20,2],[37,1,37,2],[39,1,39,2],[40,1,40,2],[54,1,54,2],[55,1,55,2],[56,1,56,2],[57,1,57,2],[52,1,52,2],[53,1,53,2],[41,1,41,2],[42,1,42,2],[43,1,43,2],[45,1,45,2],[46,1,46,2],[44,1,44,2],[49,1,49,2],[47,1,47,2],[50,1,50,2],[58,1,58,2],[74,1,74,2],[60,1,60,2],[61,1,61,2],[62,1,62,2],[63,1,63,2],[64,1,64,2],[65,1,65,2],[66,1,66,2],[67,1,67,2],[68,1,68,2],[69,1,69,2],[70,1,70,2],[75,1,75,2],[76,1,76,2],[81,1,81,2],[82,1,82,2],[83,1,83,2]]}
[null,null,null,null,null,null,null,null,null,null,null,null,null,null,null,null,null,null,null,null,null,null,null,null,null,null,null,null,null,null,null,null,null,"Any Set",null,"Any Set",null,"Any Set",null,"Any Set",null,"Any Set",null,"Any Set",null,"Any Set"]
[null,"Name of CSBG Eligible Entity Reporting:",null,{"$f":"M4AgencyName","v":0},null,null,null,null,null,null,null,null,null,null,null,null,null,null,null,null,null,null,null,null,null,null,null,null,"Any Set",null,"All Same As PY",null,null,"Employment",null,"Education",null,"Income",null,"Housing",null,"Health",null,"Civic",null,"Outcomes"]
[null,"State:",null,{"$f":"M4StateName","v":0},null,null,null,null,null,"UEI:",{"$f":"M4UEI","v":0},null,null,null,null,null,null,null,null,null,null,null,null,null,null,null,null,null,{"$f":"OR(AC6:AC84)","v":false},null,{"$f":"IF(hasPYData_M4,AND(AC3,AND(AE7:AE84)),FALSE)","v":false},null,null,{"$f":"OR($AC6:$AC17)","v":false},null,{"$f":"OR($AC21:$AC36)","v":false},null,{"$f":"OR($AC40:$AC48)","v":false},null,{"$f":"OR($AC52:$AC59)","v":false},null,{"$f":"OR($AC63:$AC73)","v":false},null,{"$f":"OR($AC77:$AC80)","v":false},null,{"$f":"OR($AC84:$AC84)","v":false}]
[]
[null,"Indicators:",null,{"$f":"\"FY \" & (FY-1)","v":"FY 2024"},{"$f":"\"FY \" & FY","v":"FY 2025"},null,"% Change",{"$f":"\"Change from FY\" & (FY-1)-2000 & \" - FY\" & (FY-2000)","v":"Change from FY24 - FY25"},null,{"$f":"\"FY \" & (FY-1)","v":"FY 2024"},{"$f":"\"FY \" & FY","v":"FY 2025"},null,"% Change",{"$f":"\"Change from FY\" & (FY-1)-2000 & \" - FY\" & (FY-2000)","v":"Change from FY24 - FY25"}]
[null,"Employment (FNPI 1)",null,"I.) Number of Participants Served \nin program(s) (#)","I.) Number of Individuals Served \nin program(s) (#)",null,"I.) Number of Participants Served \nin program(s) (#)","I.) Number of Individuals Served \nin program(s) (#)",null,"III.) Actual Results (#) ","III.) Actual Results (#) ",null,"III.) Actual Results (#) ","III.) Actual Results (#) ",null,"The Federal Quality Assurance Review does not include year-to-year checks for Module 4’s FNPIs section. Unless specifically instructed by the Lead CSBG Agency, the agency does not need to provide explanations on the Comments Template.",null,null,null,null,null,null,null,null,null,null,null,null,"Set",null,"Same As PY",null,null,null,null,null,null,null,null,null,"Max Col I - For Outcomes","Max Col III - For Outcomes"]
[null,"FNPI 1a The number of unemployed youth who obtained employment to gain skills or income.",null,null,{"$f":"IF(ISBLANK('FNPIs Employment'!D9),\"\",'FNPIs Employment'!D9)","v":""},null,{"$f":"IF(AND(D7=\"\",E7=\"\"),\"\",IFERROR((E7-D7)/MIN(D7,E7),\"\"))","v":""},{"$f":"IFERROR(E7-D7,\"\")","v":""},null,null,{"$f":"IF(ISBLANK('FNPIs Employment'!F9),\"\",'FNPIs Employment'!F9)","v":""},null,{"$f":"IF(AND(J7=\"\",K7=\"\"),\"\",IFERROR((K7-J7)/MIN(J7,K7),\"\"))","v":""},{"$f":"IFERROR(K7-J7,\"\")","v":""},null,null,null,null,null,null,null,null,null,null,null,null,null,"Employment",{"$f":"OR(E7<>\"\",K7<>\"\")","v":false},null,{"$f":"AND(AC7,E7=D7,K7=J7)","v":false},null,null,null,null,null,null,null,null,null,{"$f":"MAX(E7:E80)","v":0},{"$f":"MAX(K7:K80)","v":0}]
[null,"FNPI 1b The number of unemployed adults who obtained employment (up to a living wage).",null,null,{"$f":"IF(ISBLANK('FNPIs Employment'!D10),\"\",'FNPIs Employment'!D10)","v":""},null,"","",null,null,{"$f":"IF(ISBLANK('FNPIs Employment'!F10),\"\",'FNPIs Employment'!F10)","v":""},null,"","",null,null,null,null,null,null,null,null,null,null,null,null,null,"Employment",false,null,false]
[null,"FNPI 1c The number of unemployed adults who obtained and maintained employment for at least 90 days \n(up to a living wage). ",null,null,{"$f":"IF(ISBLANK('FNPIs Employment'!D11),\"\",'FNPIs Employment'!D11)","v":""},null,"","",null,null,{"$f":"IF(ISBLANK('FNPIs Employment'!F11),\"\",'FNPIs Employment'!F11)","v":""},null,"","",null,null,null,null,null,null,null,null,null,null,null,null,null,"Employment",false,null,false]
[null,"FNPI 1d The number of unemployed adults who obtained and maintained employment for at least 180 days \n(up to a living wage).",null,null,{"$f":"IF(ISBLANK('FNPIs Employment'!D12),\"\",'FNPIs Employment'!D12)","v":""},null,"","",null,null,{"$f":"IF(ISBLANK('FNPIs Employment'!F12),\"\",'FNPIs Employment'!F12)","v":""},null,"","",null,null,null,null,null,null,null,null,null,null,null,null,null,"Employment",false,null,false]
[null,"FNPI 1e The number of unemployed adults who obtained employment (with a living wage or higher).",null,null,{"$f":"IF(ISBLANK('FNPIs Employment'!D13),\"\",'FNPIs Employment'!D13)","v":""},null,"","",null,null,{"$f":"IF(ISBLANK('FNPIs Employment'!F13),\"\",'FNPIs Employment'!F13)","v":""},null,"","",null,null,null,null,null,null,null,null,null,null,null,null,null,"Employment",false,null,false]
[null,"FNPI 1f The number of unemployed adults who obtained and maintained employment for at least 90 days \n(with a living wage or higher). ",null,null,{"$f":"IF(ISBLANK('FNPIs Employment'!D14),\"\",'FNPIs Employment'!D14)","v":""},null,"","",null,null,{"$f":"IF(ISBLANK('FNPIs Employment'!F14),\"\",'FNPIs Employment'!F14)","v":""},null,"","",null,null,null,null,null,null,null,null,null,null,null,null,null,"Employment",false,null,false]
[null,"FNPI 1g The number of unemployed adults who obtained and maintained employment for at least 180 days \n(with a living wage or higher). ",null,null,{"$f":"IF(ISBLANK('FNPIs Employment'!D15),\"\",'FNPIs Employment'!D15)","v":""},null,"","",null,null,{"$f":"IF(ISBLANK('FNPIs Employment'!F15),\"\",'FNPIs Employment'!F15)","v":""},null,"","",null,null,null,null,null,null,null,null,null,null,null,null,null,"Employment",false,null,false]
[null,"FNPI 1h The number of employed participants in a career-advancement related program who entered or transitioned into a position that provided increased income and/or benefits.",null,null,{"$f":"IF(ISBLANK('FNPIs Employment'!D18),\"\",'FNPIs Employment'!D18)","v":""},null,"","",null,null,{"$f":"IF(ISBLANK('FNPIs Employment'!F18),\"\",'FNPIs Employment'!F18)","v":""},null,"","",null,null,null,null,null,null,null,null,null,null,null,null,null,"Employment",false,null,false]
[null,"FNPI 1h.1 The number of employed participants in a career advancement related program who increased income from employment through wage or salary amount increase.","FNPI 1h.1 Of the above, the number of employed participants who Increased income from employment through wage or salary amount increase.",null,{"$f":"IF(ISBLANK('FNPIs Employment'!D19),\"\",'FNPIs Employment'!D19)","v":""},null,"","",null,null,{"$f":"IF(ISBLANK('FNPIs Employment'!F19),\"\",'FNPIs Employment'!F19)","v":""},null,"","",null,null,null,null,null,null,null,null,null,null,null,null,null,"Employment",false,null,false]
[null,"FNPI 1h.2 The number of employed participants in a career advancement related program who increased income from employment through hours worked increase.","FNPI 1h.2 Of the above, the number of employed participants who increased income from employment through hours worked increase.",null,{"$f":"IF(ISBLANK('FNPIs Employment'!D20),\"\",'FNPIs Employment'!D20)","v":""},null,"","",null,null,{"$f":"IF(ISBLANK('FNPIs Employment'!F20),\"\",'FNPIs Employment'!F20)","v":""},null,"","",null,null,null,null,null,null,null,null,null,null,null,null,null,"Employment",false,null,false]
[null,"FNPI 1h.3 The number of employed participants in a career advancement related program who increased benefits related to employment.","FNPI 1h.3 Of the above, the number of employed participants who increased benefits related to employment.",null,{"$f":"IF(ISBLANK('FNPIs Employment'!D21),\"\",'FNPIs Employment'!D21)","v":""},null,"","",null,null,{"$f":"IF(ISBLANK('FNPIs Employment'!F21),\"\",'FNPIs Employment'!F21)","v":""},null,"","",null,null,null,null,null,null,null,null,null,null,null,null,null,"Employment",false,null,false]
[]
[null,"Indicators:",null,{"$f":"\"FY \" & (FY-1)","v":"FY 2024"},{"$f":"\"FY \" & FY","v":"FY 2025"},null,"% Change",{"$f":"\"Change from FY\" & (FY-1)-2000 & \" - FY\" & (FY-2000)","v":"Change from FY24 - FY25"},null,{"$f":"\"FY \" & (FY-1)","v":"FY 2024"},{"$f":"\"FY \" & FY","v":"FY 2025"},null,"% Change",{"$f":"\"Change from FY\" & (FY-1)-2000 & \" - FY\" & (FY-2000)","v":"Change from FY24 - FY25"}]
[null,"Education and Cognitive Development (FNPI 2)\n",null,"I.) Number of Participants Served \nin program(s) (#)","I.) Number of Individuals Served \nin program(s) (#)",null,"I.) Number of Participants Served \nin program(s) (#)","I.) Number of Individuals Served \nin program(s) (#)",null,"III.) Actual Results (#) ","III.) Actual Results (#) ",null,"III.) Actual Results (#) ","III.) Actual Results (#) "]
[null,"FNPI 2a The number of children (0 to 5) who demonstrated improved emergent literacy skills.",null,null,{"$f":"IF(ISBLANK('FNPIs Education'!D9),\"\",'FNPIs Education'!D9)","v":""},null,{"$f":"IF(AND(D21=\"\",E21=\"\"),\"\",IFERROR((E21-D21)/MIN(D21,E21),\"\"))","v":""},{"$f":"IFERROR(E21-D21,\"\")","v":""},null,null,{"$f":"IF(ISBLANK('FNPIs Education'!F9),\"\",'FNPIs Education'!F9)","v":""},null,{"$f":"IF(AND(J21=\"\",K21=\"\"),\"\",IFERROR((K21-J21)/MIN(J21,K21),\"\"))","v":""},{"$f":"IFERROR(K21-J21,\"\")","v":""},null,null,null,null,null,null,null,null,null,null,null,null,null,"Education",{"$f":"OR(E21<>\"\",K21<>\"\")","v":false},null,{"$f":"AND(AC21,E21=D21,K21=J21)","v":false},null,null,false,false,null,false,false]
[null,"FNPI 2b The number of children (0 to 5) who demonstrated skills for school readiness. ",null,null,{"$f":"IF(ISBLANK('FNPIs Education'!D10),\"\",'FNPIs Education'!D10)","v":""},null,"","",null,null,{"$f":"IF(ISBLANK('FNPIs Education'!F10),\"\",'FNPIs Education'!F10)","v":""},null,"","",null,null,null,null,null,null,null,null,null,null,null,null,null,"Education",{"$f":"OR(E22<>\"\",K22<>\"\")","v":false},null,{"$f":"AND(AC22,E22=D22,K22=J22)","v":false},null,null,false,false,null,false,false]
[null,"FNPI 2c The number of children and youth who demonstrated improved positive approaches toward learning, including improved attention skills. (auto total).",null,null,{"$f":"IF(ISBLANK('FNPIs Education'!D11),\"\",'FNPIs Education'!D11)","v":0},null,"",0,null,null,{"$f":"IF(ISBLANK('FNPIs Education'!F11),\"\",'FNPIs Education'!F11)","v":0},null,"",0,null,null,null,null,null,null,null,null,null,null,null,null,null,"Education",{"$f":"OR(E23<>0,K23<>0)","v":false},null,{"$f":"AND(E23=D23,K23=J23)","v":true},null,null,{"$f":"AND($E23<>\"\",$E23>M4CA1Individuals)","v":false},{"$f":"AND($E23<>\"\",$E23=M4CA1Individuals)","v":true},null,{"$f":"AND($K23<>\"\",$K23>M4CA1Individuals)","v":false},{"$f":"AND($K23<>\"\",$K23=M4CA1Individuals)","v":true}]
[null,"FNPI 2c.1 Early Childhood Education (ages 0-5): The number of children and youth who demonstrated improved positive approaches toward learning, including improved attention skills","FNPI 2c.1    Early Childhood Education (ages 0-5)",null,{"$f":"IF(ISBLANK('FNPIs Education'!D12),\"\",'FNPIs Education'!D12)","v":""},null,"","",null,null,{"$f":"IF(ISBLANK('FNPIs Education'!F12),\"\",'FNPIs Education'!F12)","v":""},null,"","",null,null,null,null,null,null,null,null,null,null,null,null,null,"Education",{"$f":"OR(E24<>\"\",K24<>\"\")","v":false},null,{"$f":"AND(AC24,E24=D24,K24=J24)","v":false},null,null,false,false,null,false,false]
[null,"FNPI 2c.2  1st grade - 8th grade: The number of children and youth who demonstrated improved positive approaches toward learning, including improved attention skills","FNPI 2c.2    1st grade-8th grade",null,{"$f":"IF(ISBLANK('FNPIs Education'!D13),\"\",'FNPIs Education'!D13)","v":""},null,"","",null,null,{"$f":"IF(ISBLANK('FNPIs Education'!F13),\"\",'FNPIs Education'!F13)","v":""},null,"","",null,null,null,null,null,null,null,null,null,null,null,null,null,"Education",{"$f":"OR(E25<>\"\",K25<>\"\")","v":false},null,false,null,null,false,false,null,false,false]
[null,"FNPI 2c.3  9th grade - 12th grade: The number of children and youth who demonstrated improved positive approaches toward learning, including improved attention skills\n","FNPI 2c.3    9th grade-12th grade",null,{"$f":"IF(ISBLANK('FNPIs Education'!D14),\"\",'FNPIs Education'!D14)","v":""},null,"","",null,null,{"$f":"IF(ISBLANK('FNPIs Education'!F14),\"\",'FNPIs Education'!F14)","v":""},null,"","",null,null,null,null,null,null,null,null,null,null,null,null,null,"Education",{"$f":"OR(E26<>\"\",K26<>\"\")","v":false},null,false,null,null,false,false,null,false,false]
[null,"FNPI 2d The number of children and youth who are achieving at basic grade level (academic, social, and other school success skills). (auto total)",null,null,{"$f":"IF(ISBLANK('FNPIs Education'!D15),\"\",'FNPIs Education'!D15)","v":0},null,"",0,null,null,{"$f":"IF(ISBLANK('FNPIs Education'!F15),\"\",'FNPIs Education'!F15)","v":0},null,"",0,null,null,null,null,null,null,null,null,null,null,null,null,null,"Education",{"$f":"OR(E27<>0,K27<>0)","v":false},null,false,null,null,{"$f":"AND($E27<>\"\",$E27>M4CA1Individuals)","v":false},{"$f":"AND($E27<>\"\",$E27=M4CA1Individuals)","v":true},null,{"$f":"AND($K27<>\"\",$K27>M4CA1Individuals)","v":false},{"$f":"AND($K27<>\"\",$K27=M4CA1Individuals)","v":true}]
[null,"FNPI 2d.1 Early Childhood Education (ages 0-5): The number of children and youth who are achieving at basic grade level (academic, social, and other school success skills)\n\n\n","FNPI 2d.1    Early Childhood Education (ages 0-5)",null,{"$f":"IF(ISBLANK('FNPIs Education'!D16),\"\",'FNPIs Education'!D16)","v":""},null,"","",null,null,{"$f":"IF(ISBLANK('FNPIs Education'!F16),\"\",'FNPIs Education'!F16)","v":""},null,"","",null,null,null,null,null,null,null,null,null,null,null,null,null,"Education",{"$f":"OR(E28<>\"\",K28<>\"\")","v":false},null,false,null,null,false,false,null,false,false]
[null,"FNPI 2d.2 1st grade – 8th grade: The number of children and youth who are achieving at basic grade level (academic, social, and other school success skills)\n","FNPI 2d.2    1st grade-8th grade",null,{"$f":"IF(ISBLANK('FNPIs Education'!D17),\"\",'FNPIs Education'!D17)","v":""},null,"","",null,null,{"$f":"IF(ISBLANK('FNPIs Education'!F17),\"\",'FNPIs Education'!F17)","v":""},null,"","",null,null,null,null,null,null,null,null,null,null,null,null,null,"Education",false,null,false,null,null,false,false,null,false,false]
[null,"FNPI 2d.3 9st grade – 12th grade: The number of children and youth who are achieving at basic grade level (academic, social, and other school success skills)\n","FNPI 2d.3   9th grade-12th grade",null,{"$f":"IF(ISBLANK('FNPIs Education'!D18),\"\",'FNPIs Education'!D18)","v":""},null,"","",null,null,{"$f":"IF(ISBLANK('FNPIs Education'!F18),\"\",'FNPIs Education'!F18)","v":""},null,"","",null,null,null,null,null,null,null,null,null,null,null,null,null,"Education",false,null,false,null,null,false,false,null,false,false]
[null,"FNPI 2e The number of parents/caregivers who improved their home environments. ",null,null,{"$f":"IF(ISBLANK('FNPIs Education'!D19),\"\",'FNPIs Education'!D19)","v":""},null,"","",null,null,{"$f":"IF(ISBLANK('FNPIs Education'!F19),\"\",'FNPIs Education'!F19)","v":""},null,"","",null,null,null,null,null,null,null,null,null,null,null,null,null,"Education",false,null,false,null,null,false,false,null,false,false]
[null,"FNPI 2f The number of adults who demonstrated improved basic education.",null,null,{"$f":"IF(ISBLANK('FNPIs Education'!D20),\"\",'FNPIs Education'!D20)","v":""},null,"","",null,null,{"$f":"IF(ISBLANK('FNPIs Education'!F20),\"\",'FNPIs Education'!F20)","v":""},null,"","",null,null,null,null,null,null,null,null,null,null,null,null,null,"Education",false,null,false,null,null,{"$f":"AND($E32<>\"\",$E32>M4CA1Individuals)","v":false},{"$f":"AND($E32<>\"\",$E32=M4CA1Individuals)","v":false},null,{"$f":"AND($K32<>\"\",$K32>M4CA1Individuals)","v":false},{"$f":"AND($K32<>\"\",$K32=M4CA1Individuals)","v":false}]
[null,"FNPI 2g The number of individuals who obtained a high school diploma and/or obtained an equivalency certificate or diploma.",null,null,{"$f":"IF(ISBLANK('FNPIs Education'!D21),\"\",'FNPIs Education'!D21)","v":""},null,"","",null,null,{"$f":"IF(ISBLANK('FNPIs Education'!F21),\"\",'FNPIs Education'!F21)","v":""},null,"","",null,null,null,null,null,null,null,null,null,null,null,null,null,"Education",false,null,false,null,null,{"$f":"AND($E33<>\"\",$E33>M4CA1Individuals)","v":false},{"$f":"AND($E33<>\"\",$E33=M4CA1Individuals)","v":false},null,{"$f":"AND($K33<>\"\",$K33>M4CA1Individuals)","v":false},{"$f":"AND($K33<>\"\",$K33=M4CA1Individuals)","v":false}]
[null,"FNPI 2h The number of individuals who obtained a recognized credential, certificate, or degree relating to the achievement of educational or vocational skills.",null,null,{"$f":"IF(ISBLANK('FNPIs Education'!D22),\"\",'FNPIs Education'!D22)","v":""},null,"","",null,null,{"$f":"IF(ISBLANK('FNPIs Education'!F22),\"\",'FNPIs Education'!F22)","v":""},null,"","",null,null,null,null,null,null,null,null,null,null,null,null,null,"Education",false,null,false,null,null,{"$f":"AND($E34<>\"\",$E34>M4CA1Individuals)","v":false},{"$f":"AND($E34<>\"\",$E34=M4CA1Individuals)","v":false},null,{"$f":"AND($K34<>\"\",$K34>M4CA1Individuals)","v":false},{"$f":"AND($K34<>\"\",$K34=M4CA1Individuals)","v":false}]
[null,"FNPI 2i The number of individuals who obtained an Associate’s degree.",null,null,{"$f":"IF(ISBLANK('FNPIs Education'!D23),\"\",'FNPIs Education'!D23)","v":""},null,"","",null,null,{"$f":"IF(ISBLANK('FNPIs Education'!F23),\"\",'FNPIs Education'!F23)","v":""},null,"","",null,null,null,null,null,null,null,null,null,null,null,null,null,"Education",false,null,false,null,null,{"$f":"AND($E35<>\"\",$E35>M4CA1Individuals)","v":false},{"$f":"AND($E35<>\"\",$E35=M4CA1Individuals)","v":false},null,{"$f":"AND($K35<>\"\",$K35>M4CA1Individuals)","v":false},{"$f":"AND($K35<>\"\",$K35=M4CA1Individuals)","v":false}]
[null,"FNPI 2j The number of individuals who obtained a Bachelor’s degree.",null,null,{"$f":"IF(ISBLANK('FNPIs Education'!D24),\"\",'FNPIs Education'!D24)","v":""},null,"","",null,null,{"$f":"IF(ISBLANK('FNPIs Education'!F24),\"\",'FNPIs Education'!F24)","v":""},null,"","",null,null,null,null,null,null,null,null,null,null,null,null,null,"Education",false,null,false,null,null,{"$f":"AND($E36<>\"\",$E36>M4CA1Individuals)","v":false},{"$f":"AND($E36<>\"\",$E36=M4CA1Individuals)","v":false},null,{"$f":"AND($K36<>\"\",$K36>M4CA1Individuals)","v":false},{"$f":"AND($K36<>\"\",$K36=M4CA1Individuals)","v":false}]
[]
[null,"Indicators:",null,{"$f":"\"FY \" & (FY-1)","v":"FY 2024"},{"$f":"\"FY \" & FY","v":"FY 2025"},null,"% Change",{"$f":"\"Change from FY\" & (FY-1)-2000 & \" - FY\" & (FY-2000)","v":"Change from FY24 - FY25"},null,{"$f":"\"FY \" & (FY-1)","v":"FY 2024"},{"$f":"\"FY \" & FY","v":"FY 2025"},null,"% Change",{"$f":"\"Change from FY\" & (FY-1)-2000 & \" - FY\" & (FY-2000)","v":"Change from FY24 - FY25"}]
[null,"Income and Asset Building (FNPI 3)",null,"I.) Number of Participants Served \nin program(s) (#)","I.) Number of Individuals Served \nin program(s) (#)",null,"I.) Number of Participants Served \nin program(s) (#)","I.) Number of Individuals Served \nin program(s) (#)",null,"III.) Actual Results (#) ","III.) Actual Results (#) ",null,"III.) Actual Results (#) ","III.) Actual Results (#) "]
[null,"FNPI 3a The number of individuals who achieved and maintained capacity to meet basic needs for 90 days.",null,null,{"$f":"IF(ISBLANK('FNPIs Income'!D9),\"\",'FNPIs Income'!D9)","v":""},null,{"$f":"IF(AND(D40=\"\",E40=\"\"),\"\",IFERROR((E40-D40)/MIN(D40,E40),\"\"))","v":""},{"$f":"IFERROR(E40-D40,\"\")","v":""},null,null,{"$f":"IF(ISBLANK('FNPIs Income'!F9),\"\",'FNPIs Income'!F9)","v":""},null,{"$f":"IF(AND(J40=\"\",K40=\"\"),\"\",IFERROR((K40-J40)/MIN(J40,K40),\"\"))","v":""},{"$f":"IFERROR(K40-J40,\"\")","v":""},null,null,null,null,null,null,null,null,null,null,null,null,null,"Income",{"$f":"OR(E40<>\"\",K40<>\"\")","v":false},null,{"$f":"AND(AC40,E40=D40,K40=J40)","v":false},null,null,{"$f":"AND($E40<>\"\",$E40>M4CA1Individuals)","v":false},{"$f":"AND($E40<>\"\",$E40=M4CA1Individuals)","v":false},null,{"$f":"AND($K40<>\"\",$K40>M4CA1Individuals)","v":false},{"$f":"AND($K40<>\"\",$K40=M4CA1Individuals)","v":false}]
[null,"FNPI 3b The number of individuals who achieved and maintained capacity to meet basic needs for 180 days.",null,null,{"$f":"IF(ISBLANK('FNPIs Income'!D10),\"\",'FNPIs Income'!D10)","v":""},null,"","",null,null,{"$f":"IF(ISBLANK('FNPIs Income'!F10),\"\",'FNPIs Income'!F10)","v":""},null,"","",null,null,null,null,null,null,null,null,null,null,null,null,null,"Income",false,null,false,null,null,false,false,null,false,false]
[null,"FNPI 3c The number of individuals who opened a savings account or IDA.",null,null,{"$f":"IF(ISBLANK('FNPIs Income'!D11),\"\",'FNPIs Income'!D11)","v":""},null,"","",null,null,{"$f":"IF(ISBLANK('FNPIs Income'!F11),\"\",'FNPIs Income'!F11)","v":""},null,"","",null,null,null,null,null,null,null,null,null,null,null,null,null,"Income",false,null,false,null,null,false,false,null,false,false]
[null,"FNPI 3d The number of individuals who increased their savings.",null,null,{"$f":"IF(ISBLANK('FNPIs Income'!D12),\"\",'FNPIs Income'!D12)","v":""},null,"","",null,null,{"$f":"IF(ISBLANK('FNPIs Income'!F12),\"\",'FNPIs Income'!F12)","v":""},null,"","",null,null,null,null,null,null,null,null,null,null,null,null,null,"Income",false,null,false,null,null,false,false,null,false,false]
[null,"FNPI 3e The number of individuals who used their savings to purchase an asset.",null,null,{"$f":"IF(ISBLANK('FNPIs Income'!D13),\"\",'FNPIs Income'!D13)","v":""},null,"","",null,null,{"$f":"IF(ISBLANK('FNPIs Income'!F13),\"\",'FNPIs Income'!F13)","v":""},null,"","",null,null,null,null,null,null,null,null,null,null,null,null,null,"Income",false,null,false,null,null,false,false,null,false,false]
[null,"FNPI 3f The number of individuals who purchased a home.",null,null,{"$f":"IF(ISBLANK('FNPIs Income'!D14),\"\",'FNPIs Income'!D14)","v":""},null,"","",null,null,{"$f":"IF(ISBLANK('FNPIs Income'!F14),\"\",'FNPIs Income'!F14)","v":""},null,"","",null,null,null,null,null,null,null,null,null,null,null,null,null,"Income",false,null,false,null,null,false,false,null,false,false]
[null,"FNPI 3g The number of individuals who improved their credit scores. ",null,null,{"$f":"IF(ISBLANK('FNPIs Income'!D15),\"\",'FNPIs Income'!D15)","v":""},null,"","",null,null,{"$f":"IF(ISBLANK('FNPIs Income'!F15),\"\",'FNPIs Income'!F15)","v":""},null,"","",null,null,null,null,null,null,null,null,null,null,null,null,null,"Income",false,null,false,null,null,false,false,null,false,false]
[null,"FNPI 3h The number of individuals who increased their net worth. ",null,null,{"$f":"IF(ISBLANK('FNPIs Income'!D16),\"\",'FNPIs Income'!D16)","v":""},null,"","",null,null,{"$f":"IF(ISBLANK('FNPIs Income'!F16),\"\",'FNPIs Income'!F16)","v":""},null,"","",null,null,null,null,null,null,null,null,null,null,null,null,null,"Income",false,null,false,null,null,false,false,null,false,false]
[null,"FNPI 3i The number of individuals engaged with the Community Action Agency who report improved financial well-being.",null,null,{"$f":"IF(ISBLANK('FNPIs Income'!D17),\"\",'FNPIs Income'!D17)","v":""},null,"","",null,null,{"$f":"IF(ISBLANK('FNPIs Income'!F17),\"\",'FNPIs Income'!F17)","v":""},null,"","",null,null,null,null,null,null,null,null,null,null,null,null,null,"Income",false,null,false,null,null,false,false,null,false,false]
[]
[null,"Indicators:",null,{"$f":"\"FY \" & (FY-1)","v":"FY 2024"},{"$f":"\"FY \" & FY","v":"FY 2025"},null,"% Change",{"$f":"\"Change from FY\" & (FY-1)-2000 & \" - FY\" & (FY-2000)","v":"Change from FY24 - FY25"},null,{"$f":"\"FY \" & (FY-1)","v":"FY 2024"},{"$f":"\"FY \" & FY","v":"FY 2025"},null,"% Change",{"$f":"\"Change from FY\" & (FY-1)-2000 & \" - FY\" & (FY-2000)","v":"Change from FY24 - FY25"}]
[null,"Housing (FNPI 4)",null,"I.) Number of Participants Served \nin program(s) (#)","I.) Number of Individuals Served \nin program(s) (#)",null,"I.) Number of Participants Served \nin program(s) (#)","I.) Number of Individuals Served \nin program(s) (#)",null,"III.) Actual Results (#) ","III.) Actual Results (#) ",null,"III.) Actual Results (#) ","III.) Actual Results (#) "]
[null,"FNPI 4a The number of households experiencing homelessness who obtained safe temporary shelter.",null,null,{"$f":"IF(ISBLANK('FNPIs Housing'!D9),\"\",'FNPIs Housing'!D9)","v":""},null,{"$f":"IF(AND(D52=\"\",E52=\"\"),\"\",IFERROR((E52-D52)/MIN(D52,E52),\"\"))","v":""},{"$f":"IFERROR(E52-D52,\"\")","v":""},null,null,{"$f":"IF(ISBLANK('FNPIs Housing'!F9),\"\",'FNPIs Housing'!F9)","v":""},null,{"$f":"IF(AND(J52=\"\",K52=\"\"),\"\",IFERROR((K52-J52)/MIN(J52,K52),\"\"))","v":""},{"$f":"IFERROR(K52-J52,\"\")","v":""},null,null,null,null,null,null,null,null,null,null,null,null,null,"Housing",{"$f":"OR(E52<>\"\",K52<>\"\")","v":false},null,{"$f":"AND(AC52,E52=D52,K52=J52)","v":false},null,null,{"$f":"AND($E52<>\"\",$E52>M4CA1Individuals)","v":false},{"$f":"AND($E52<>\"\",$E52=M4CA1Individuals)","v":false},null,{"$f":"AND($K52<>\"\",$K52>M4CA1Individuals)","v":false},{"$f":"AND($K52<>\"\",$K52=M4CA1Individuals)","v":false}]
[null,"FNPI 4b The number of households who obtained safe and affordable housing.",null,null,{"$f":"IF(ISBLANK('FNPIs Housing'!D10),\"\",'FNPIs Housing'!D10)","v":""},null,"","",null,null,{"$f":"IF(ISBLANK('FNPIs Housing'!F10),\"\",'FNPIs Housing'!F10)","v":""},null,"","",null,null,null,null,null,null,null,null,null,null,null,null,null,"Housing",false,null,false,null,null,false,false,null,false,false]
[null,"FNPI 4c The number of households who maintained safe and affordable housing for 90 days.",null,null,{"$f":"IF(ISBLANK('FNPIs Housing'!D11),\"\",'FNPIs Housing'!D11)","v":""},null,"","",null,null,{"$f":"IF(ISBLANK('FNPIs Housing'!F11),\"\",'FNPIs Housing'!F11)","v":""},null,"","",null,null,null,null,null,null,null,null,null,null,null,null,null,"Housing",false,null,false,null,null,false,false,null,false,false]
[null,"FNPI 4d The number of households who maintained safe and affordable housing for 180 days. ",null,null,{"$f":"IF(ISBLANK('FNPIs Housing'!D12),\"\",'FNPIs Housing'!D12)","v":""},null,"","",null,null,{"$f":"IF(ISBLANK('FNPIs Housing'!F12),\"\",'FNPIs Housing'!F12)","v":""},null,"","",null,null,null,null,null,null,null,null,null,null,null,null,null,"Housing",false,null,false,null,null,false,false,null,false,false]
[null,"FNPI 4e The number of households who avoided eviction.",null,null,{"$f":"IF(ISBLANK('FNPIs Housing'!D13),\"\",'FNPIs Housing'!D13)","v":""},null,"","",null,null,{"$f":"IF(ISBLANK('FNPIs Housing'!F13),\"\",'FNPIs Housing'!F13)","v":""},null,"","",null,null,null,null,null,null,null,null,null,null,null,null,null,"Housing",false,null,false,null,null,false,false,null,false,false]
[null,"FNPI 4f The number of households who avoided foreclosure.",null,null,{"$f":"IF(ISBLANK('FNPIs Housing'!D14),\"\",'FNPIs Housing'!D14)","v":""},null,"","",null,null,{"$f":"IF(ISBLANK('FNPIs Housing'!F14),\"\",'FNPIs Housing'!F14)","v":""},null,"","",null,null,null,null,null,null,null,null,null,null,null,null,null,"Housing",false,null,false,null,null,false,false,null,false,false]
[null,"FNPI 4g The number of households who experienced improved health and safety due to improvements within their home (e.g. reduction or elimination of lead, radon, carbon dioxide and/or fire hazards or electrical issues, etc).",null,null,{"$f":"IF(ISBLANK('FNPIs Housing'!D15),\"\",'FNPIs Housing'!D15)","v":""},null,"","",null,null,{"$f":"IF(ISBLANK('FNPIs Housing'!F15),\"\",'FNPIs Housing'!F15)","v":""},null,"","",null,null,null,null,null,null,null,null,null,null,null,null,null,"Housing",false,null,false,null,null,false,false,null,false,false]
[null,"FNPI 4h The number of households with improved energy efficiency and/or energy burden reduction in their homes.",null,null,{"$f":"IF(ISBLANK('FNPIs Housing'!D16),\"\",'FNPIs Housing'!D16)","v":""},null,"","",null,null,{"$f":"IF(ISBLANK('FNPIs Housing'!F16),\"\",'FNPIs Housing'!F16)","v":""},null,"","",null,null,null,null,null,null,null,null,null,null,null,null,null,"Housing",false,null,false,null,null,false,false,null,false,false]
[]
[null,"Indicators:",null,{"$f":"\"FY \" & (FY-1)","v":"FY 2024"},{"$f":"\"FY \" & FY","v":"FY 2025"},null,"% Change",{"$f":"\"Change from FY\" & (FY-1)-2000 & \" - FY\" & (FY-2000)","v":"Change from FY24 - FY25"},null,{"$f":"\"FY \" & (FY-1)","v":"FY 2024"},{"$f":"\"FY \" & FY","v":"FY 2025"},null,"% Change",{"$f":"\"Change from FY\" & (FY-1)-2000 & \" - FY\" & (FY-2000)","v":"Change from FY24 - FY25"}]
[null,"Health and Social/Behavioral Development (FNPI 5)",null,"I.) Number of Participants Served \nin program(s) (#)","I.) Number of Individuals Served \nin program(s) (#)",null,"I.) Number of Participants Served \nin program(s) (#)","I.) Number of Individuals Served \nin program(s) (#)",null,"III.) Actual Results (#) ","III.) Actual Results (#) ",null,"III.) Actual Results (#) ","III.) Actual Results (#) "]
[null,"FNPI 5a The number of individuals who demonstrated increased nutrition skills (e.g. cooking, shopping, and growing food). ",null,null,{"$f":"IF(ISBLANK('FNPIs Health'!D9),\"\",'FNPIs Health'!D9)","v":""},null,{"$f":"IF(AND(D63=\"\",E63=\"\"),\"\",IFERROR((E63-D63)/MIN(D63,E63),\"\"))","v":""},{"$f":"IFERROR(E63-D63,\"\")","v":""},null,null,{"$f":"IF(ISBLANK('FNPIs Health'!F9),\"\",'FNPIs Health'!F9)","v":""},null,{"$f":"IF(AND(J63=\"\",K63=\"\"),\"\",IFERROR((K63-J63)/MIN(J63,K63),\"\"))","v":""},{"$f":"IFERROR(K63-J63,\"\")","v":""},null,null,null,null,null,null,null,null,null,null,null,null,null,"Health",{"$f":"OR(E63<>\"\",K63<>\"\")","v":false},null,{"$f":"AND(AC63,E63=D63,K63=J63)","v":false},null,null,{"$f":"AND($E63<>\"\",$E63>M4CA1Individuals)","v":false},{"$f":"AND($E63<>\"\",$E63=M4CA1Individuals)","v":false},null,{"$f":"AND($K63<>\"\",$K63>M4CA1Individuals)","v":false},{"$f":"AND($K63<>\"\",$K63=M4CA1Individuals)","v":false}]
[null,"FNPI 5b The number of individuals who demonstrated improved physical health and well-being.",null,null,{"$f":"IF(ISBLANK('FNPIs Health'!D10),\"\",'FNPIs Health'!D10)","v":""},null,"","",null,null,{"$f":"IF(ISBLANK('FNPIs Health'!F10),\"\",'FNPIs Health'!F10)","v":""},null,"","",null,null,null,null,null,null,null,null,null,null,null,null,null,"Health",false,null,false,null,null,{"$f":"AND($E64<>\"\",$E64>M4CA1Individuals)","v":false},{"$f":"AND($E64<>\"\",$E64=M4CA1Individuals)","v":false},null,{"$f":"AND($K64<>\"\",$K64>M4CA1Individuals)","v":false},{"$f":"AND($K64<>\"\",$K64=M4CA1Individuals)","v":false}]
[null,"FNPI 5c The number of individuals who demonstrated improved mental and behavioral health and well-being. ",null,null,{"$f":"IF(ISBLANK('FNPIs Health'!D11),\"\",'FNPIs Health'!D11)","v":""},null,"","",null,null,{"$f":"IF(ISBLANK('FNPIs Health'!F11),\"\",'FNPIs Health'!F11)","v":""},null,"","",null,null,null,null,null,null,null,null,null,null,null,null,null,"Health",false,null,false,null,null,{"$f":"AND($E65<>\"\",$E65>M4CA1Individuals)","v":false},{"$f":"AND($E65<>\"\",$E65=M4CA1Individuals)","v":false},null,{"$f":"AND($K65<>\"\",$K65>M4CA1Individuals)","v":false},{"$f":"AND($K65<>\"\",$K65=M4CA1Individuals)","v":false}]
[null,"FNPI 5d The number of individuals who improved skills related to the adult role of parents/ caregivers. ",null,null,{"$f":"IF(ISBLANK('FNPIs Health'!D12),\"\",'FNPIs Health'!D12)","v":""},null,"","",null,null,{"$f":"IF(ISBLANK('FNPIs Health'!F12),\"\",'FNPIs Health'!F12)","v":""},null,"","",null,null,null,null,null,null,null,null,null,null,null,null,null,"Health",false,null,false,null,null,{"$f":"AND($E66<>\"\",$E66>M4CA1Individuals)","v":false},{"$f":"AND($E66<>\"\",$E66=M4CA1Individuals)","v":false},null,{"$f":"AND($K66<>\"\",$K66>M4CA1Individuals)","v":false},{"$f":"AND($K66<>\"\",$K66=M4CA1Individuals)","v":false}]
[null,"FNPI 5e The number of parents/caregivers who demonstrated increased sensitivity and responsiveness in their interactions with their children. ",null,null,{"$f":"IF(ISBLANK('FNPIs Health'!D13),\"\",'FNPIs Health'!D13)","v":""},null,"","",null,null,{"$f":"IF(ISBLANK('FNPIs Health'!F13),\"\",'FNPIs Health'!F13)","v":""},null,"","",null,null,null,null,null,null,null,null,null,null,null,null,null,"Health",false,null,false,null,null,{"$f":"AND($E67<>\"\",$E67>M4CA1Individuals)","v":false},{"$f":"AND($E67<>\"\",$E67=M4CA1Individuals)","v":false},null,{"$f":"AND($K67<>\"\",$K67>M4CA1Individuals)","v":false},{"$f":"AND($K67<>\"\",$K67=M4CA1Individuals)","v":false}]
[null,"FNPI 5f The number of seniors (65+) who maintained an independent living situation.",null,null,{"$f":"IF(ISBLANK('FNPIs Health'!D14),\"\",'FNPIs Health'!D14)","v":""},null,"","",null,null,{"$f":"IF(ISBLANK('FNPIs Health'!F14),\"\",'FNPIs Health'!F14)","v":""},null,"","",null,null,null,null,null,null,null,null,null,null,null,null,null,"Health",false,null,false,null,null,false,false,null,false,false]
[null,"FNPI 5g The number of individuals with disabilities who maintained an independent living situation.",null,null,{"$f":"IF(ISBLANK('FNPIs Health'!D15),\"\",'FNPIs Health'!D15)","v":""},null,"","",null,null,{"$f":"IF(ISBLANK('FNPIs Health'!F15),\"\",'FNPIs Health'!F15)","v":""},null,"","",null,null,null,null,null,null,null,null,null,null,null,null,null,"Health",false,null,false,null,null,false,false,null,false,false]
[null,"FNPI 5h The number of individuals with chronic illness who maintained an independent living situation.",null,null,{"$f":"IF(ISBLANK('FNPIs Health'!D16),\"\",'FNPIs Health'!D16)","v":""},null,"","",null,null,{"$f":"IF(ISBLANK('FNPIs Health'!F16),\"\",'FNPIs Health'!F16)","v":""},null,"","",null,null,null,null,null,null,null,null,null,null,null,null,null,"Health",false,null,false,null,null,{"$f":"AND($E70<>\"\",$E70>M4CA1Individuals)","v":false},{"$f":"AND($E70<>\"\",$E70=M4CA1Individuals)","v":false},null,{"$f":"AND($K70<>\"\",$K70>M4CA1Individuals)","v":false},{"$f":"AND($K70<>\"\",$K70=M4CA1Individuals)","v":false}]
[null,"FNPI 5i The number of individuals with no recidivating event for six months.",null,null,{"$f":"IF(ISBLANK('FNPIs Health'!D17),\"\",'FNPIs Health'!D17)","v":0},null,"",0,null,null,{"$f":"IF(ISBLANK('FNPIs Health'!F17),\"\",'FNPIs Health'!F17)","v":0},null,"",0,null,null,null,null,null,null,null,null,null,null,null,null,null,"Health",{"$f":"OR(E71<>0,K71<>0)","v":false},null,{"$f":"AND(E71=D71,K71=J71)","v":true},null,null,{"$f":"AND($E71<>\"\",$E71>M4CA1Individuals)","v":false},{"$f":"AND($E71<>\"\",$E71=M4CA1Individuals)","v":true},null,{"$f":"AND($K71<>\"\",$K71>M4CA1Individuals)","v":false},{"$f":"AND($K71<>\"\",$K71=M4CA1Individuals)","v":true}]
[null,"FNPI 5i.1 The number of youth with no recidivating event for six months.","FNPI 5i.1 Youth (ages 14-17)",null,{"$f":"IF(ISBLANK('FNPIs Health'!D18),\"\",'FNPIs Health'!D18)","v":""},null,"","",null,null,{"$f":"IF(ISBLANK('FNPIs Health'!F18),\"\",'FNPIs Health'!F18)","v":""},null,"","",null,null,null,null,null,null,null,null,null,null,null,null,null,"Health",{"$f":"OR(E72<>\"\",K72<>\"\")","v":false},null,{"$f":"AND(AC72,E72=D72,K72=J72)","v":false},null,null,false,false,null,false,false]
[null,"FNPI 5i.2 The number of adults with no recidivating event for six months.","FNPI 5i.2 Adults (ages 18+)",null,{"$f":"IF(ISBLANK('FNPIs Health'!D19),\"\",'FNPIs Health'!D19)","v":""},null,"","",null,null,{"$f":"IF(ISBLANK('FNPIs Health'!F19),\"\",'FNPIs Health'!F19)","v":""},null,"","",null,null,null,null,null,null,null,null,null,null,null,null,null,"Health",{"$f":"OR(E73<>\"\",K73<>\"\")","v":false},null,{"$f":"AND(AC73,E73=D73,K73=J73)","v":false},null,null,false,false,null,false,false]
[]
[null,"Indicators:",null,{"$f":"\"FY \" & (FY-1)","v":"FY 2024"},{"$f":"\"FY \" & FY","v":"FY 2025"},null,"% Change",{"$f":"\"Change from FY\" & (FY-1)-2000 & \" - FY\" & (FY-2000)","v":"Change from FY24 - FY25"},null,{"$f":"\"FY \" & (FY-1)","v":"FY 2024"},{"$f":"\"FY \" & FY","v":"FY 2025"},null,"% Change",{"$f":"\"Change from FY\" & (FY-1)-2000 & \" - FY\" & (FY-2000)","v":"Change from FY24 - FY25"}]
[null,"Civic Engagement and Community Involvement Indicators (FNPI 6)",null,"I.) Number of Participants Served \nin program(s) (#)","I.) Number of Participants Served \nin program(s) (#)",null,"I.) Number of Participants Served \nin program(s) (#)","I.) Number of Participants Served \nin program(s) (#)",null,"III.) Actual Results (#) ","III.) Actual Results (#) ",null,"III.) Actual Results (#) ","III.) Actual Results (#) "]
[null,"FNPI 6a The number of Community Action program participants who increased skills, knowledge, and abilities to enable them to work with Community Action to improve conditions in the community. ",null,null,{"$f":"IF(ISBLANK('FNPIs Civic Eng. & Comm. Inv.'!D9),\"\",'FNPIs Civic Eng. & Comm. Inv.'!D9)","v":""},null,{"$f":"IF(AND(D77=\"\",E77=\"\"),\"\",IFERROR((E77-D77)/MIN(D77,E77),\"\"))","v":""},{"$f":"IFERROR(E77-D77,\"\")","v":""},null,null,{"$f":"IF(ISBLANK('FNPIs Civic Eng. & Comm. Inv.'!F9),\"\",'FNPIs Civic Eng. & Comm. Inv.'!F9)","v":""},null,{"$f":"IF(AND(J77=\"\",K77=\"\"),\"\",IFERROR((K77-J77)/MIN(J77,K77),\"\"))","v":""},{"$f":"IFERROR(K77-J77,\"\")","v":""},null,null,null,null,null,null,null,null,null,null,null,null,null,"Civic",{"$f":"OR(E77<>\"\",K77<>\"\")","v":false},null,{"$f":"AND(AC77,E77=D77,K77=J77)","v":false},null,null,{"$f":"AND($E77<>\"\",$E77>M4CA1Individuals)","v":false},{"$f":"AND($E77<>\"\",$E77=M4CA1Individuals)","v":false},null,{"$f":"AND($K77<>\"\",$K77>M4CA1Individuals)","v":false},{"$f":"AND($K77<>\"\",$K77=M4CA1Individuals)","v":false}]
[null,"FNPI 6a.1  The number of Community Action program participants who improved their leadership skills to enable them to work with Community Action to improve conditions in the community.","FNPI 6a.1 Of the above, the number of Community Action program participants who improved their leadership skills.",null,{"$f":"IF(ISBLANK('FNPIs Civic Eng. & Comm. Inv.'!D10),\"\",'FNPIs Civic Eng. & Comm. Inv.'!D10)","v":""},null,{"$f":"IF(AND(D78=\"\",E78=\"\"),\"\",IFERROR((E78-D78)/MIN(D78,E78),\"\"))","v":""},{"$f":"IFERROR(E78-D78,\"\")","v":""},null,null,{"$f":"IF(ISBLANK('FNPIs Civic Eng. & Comm. Inv.'!F10),\"\",'FNPIs Civic Eng. & Comm. Inv.'!F10)","v":""},null,{"$f":"IF(AND(J78=\"\",K78=\"\"),\"\",IFERROR((K78-J78)/MIN(J78,K78),\"\"))","v":""},{"$f":"IFERROR(K78-J78,\"\")","v":""},null,null,null,null,null,null,null,null,null,null,null,null,null,"Civic",{"$f":"OR(E78<>\"\",K78<>\"\")","v":false},null,{"$f":"AND(AC78,E78=D78,K78=J78)","v":false},null,null,false,false,null,false,false]
[null,"FNPI 6a.2 The number of Community Action program participants who improved their social networks to enable them to work with Community Action to improve conditions in the community.","FNPI 6a.2 Of the above, the number of Community Action program participants who improved their social networks.",null,{"$f":"IF(ISBLANK('FNPIs Civic Eng. & Comm. Inv.'!D11),\"\",'FNPIs Civic Eng. & Comm. Inv.'!D11)","v":""},null,{"$f":"IF(AND(D79=\"\",E79=\"\"),\"\",IFERROR((E79-D79)/MIN(D79,E79),\"\"))","v":""},{"$f":"IFERROR(E79-D79,\"\")","v":""},null,null,{"$f":"IF(ISBLANK('FNPIs Civic Eng. & Comm. Inv.'!F11),\"\",'FNPIs Civic Eng. & Comm. Inv.'!F11)","v":""},null,{"$f":"IF(AND(J79=\"\",K79=\"\"),\"\",IFERROR((K79-J79)/MIN(J79,K79),\"\"))","v":""},{"$f":"IFERROR(K79-J79,\"\")","v":""},null,null,null,null,null,null,null,null,null,null,null,null,null,"Civic",{"$f":"OR(E79<>\"\",K79<>\"\")","v":false},null,{"$f":"AND(AC79,E79=D79,K79=J79)","v":false},null,null,false,false,null,false,false]
[null,"FNPI 6a.3 The number of Community Action program participants who gained other skills, knowledge and abilities to enhance their social networks to enable them to work with Community Action to improve conditions in the community.","FNPI 6a.3 Of the above, the number of Community Action program participants who gained other skills, knowledge and abilities to enhance their ability to engage. ",null,{"$f":"IF(ISBLANK('FNPIs Civic Eng. & Comm. Inv.'!D12),\"\",'FNPIs Civic Eng. & Comm. Inv.'!D12)","v":""},null,{"$f":"IF(AND(D80=\"\",E80=\"\"),\"\",IFERROR((E80-D80)/MIN(D80,E80),\"\"))","v":""},{"$f":"IFERROR(E80-D80,\"\")","v":""},null,null,{"$f":"IF(ISBLANK('FNPIs Civic Eng. & Comm. Inv.'!F12),\"\",'FNPIs Civic Eng. & Comm. Inv.'!F12)","v":""},null,{"$f":"IF(AND(J80=\"\",K80=\"\"),\"\",IFERROR((K80-J80)/MIN(J80,K80),\"\"))","v":""},{"$f":"IFERROR(K80-J80,\"\")","v":""},null,null,null,null,null,null,null,null,null,null,null,null,null,"Civic",{"$f":"OR(E80<>\"\",K80<>\"\")","v":false},null,{"$f":"AND(AC80,E80=D80,K80=J80)","v":false},null,null,false,false,null,false,false]
[]
[null,"Indicators:",null,{"$f":"\"FY \" & (FY-1)","v":"FY 2024"},{"$f":"\"FY \" & FY","v":"FY 2025"},null,"% Change",{"$f":"\"Change from FY\" & (FY-1)-2000 & \" - FY\" & (FY-2000)","v":"Change from FY24 - FY25"},null,{"$f":"\"FY \" & (FY-1)","v":"FY 2024"},{"$f":"\"FY \" & FY","v":"FY 2025"},null,"% Change",{"$f":"\"Change from FY\" & (FY-1)-2000 & \" - FY\" & (FY-2000)","v":"Change from FY24 - FY25"}]
[null,"Outcomes Across One or More Domains (FNPI 7)",null,"I.) Number of Participants Served \nin program(s) (#)","I.) Number of Individuals Served \nin program(s) (#)",null,"I.) Number of Participants Served \nin program(s) (#)","I.) Number of Individuals Served \nin program(s) (#)",null,"III.) Actual Results (#) ","III.) Actual Results (#) ",null,"III.) Actual Results (#) ","III.) Actual Results (#) "]
[null,"FNPI 7a The number of individuals who achieved one or more outcomes in the identified National Performance Indicators in one or more domains.",null,null,{"$f":"IF(ISBLANK('FNPIs Across Multiple Domains'!D9),\"\",'FNPIs Across Multiple Domains'!D9)","v":""},null,{"$f":"IF(AND(D84=\"\",E84=\"\"),\"\",IFERROR((E84-D84)/MIN(D84,E84),\"\"))","v":""},{"$f":"IFERROR(E84-D84,\"\")","v":""},null,null,{"$f":"IF(ISBLANK('FNPIs Across Multiple Domains'!F9),\"\",'FNPIs Across Multiple Domains'!F9)","v":""},null,{"$f":"IF(AND(J84=\"\",K84=\"\"),\"\",IFERROR((K84-J84)/MIN(J84,K84),\"\"))","v":""},{"$f":"IFERROR(K84-J84,\"\")","v":""},null,null,null,null,null,null,null,null,null,null,null,null,null,"Outcomes",{"$f":"OR(E84<>\"\",K84<>\"\")","v":false},null,{"$f":"AND(AC84,E84=D84,K84=J84)","v":false},null,null,{"$f":"AND($E84<>\"\",$E84>M4CA1Individuals)","v":false},{"$f":"AND($E84<>\"\",$E84=M4CA1Individuals)","v":false},null,{"$f":"AND($K84<>\"\",$K84>M4CA1Individuals)","v":false},{"$f":"AND($K84<>\"\",$K84=M4CA1Individuals)","v":false}]

{"sheet":"Year-to-Year Comparisons SRVs","index":25,"n_rows":210,"n_cols":44,"rows_kept":210,"cut":false,"hidden":false,"merged":[[77,1,77,2],[84,1,84,2],[94,1,94,2],[42,1,42,2],[44,1,44,2],[51,1,51,2],[61,1,61,2],[1,2,1,6],[2,2,2,4],[13,1,13,2],[16,1,16,2],[6,1,6,2],[23,1,23,2],[170,1,170,2],[109,1,109,2],[114,1,114,2],[116,1,116,2],[123,1,123,2],[134,1,134,2],[140,1,140,2],[143,1,143,2],[151,1,151,2],[155,1,155,2],[160,1,160,2],[166,1,166,2],[100,1,100,2],[65,1,65,2],[70,1,70,2],[5,8,7,12],[193,1,193,2],[208,1,208,2],[196,1,196,2],[198,1,198,2],[202,1,202,2],[204,1,204,2],[206,1,206,2],[104,1,104,2],[185,1,185,2],[187,1,187,2],[189,1,189,2],[191,1,191,2],[63,1,63,2],[31,1,31,2],[26,1,26,2]]}
[null,null,null,null,null,null,null,null,null,null,null,null,null,null,null,null,null,null,null,null,null,null,null,null,null,null,null,null,null,null,null,"Any Set",null,"Any Set",null,"Any Set",null,"Any Set",null,"Any Set",null,"Any Set",null,"Any Set"]
[null,"Name of CSBG Eligible Entity Reporting:",{"$f":"M4AgencyName","v":0},null,null,null,null,null,null,null,null,null,null,null,null,null,null,null,null,null,null,null,null,null,null,null,"Any Set",null,"All Same As PY",null,null,"Employment",null,"Education",null,"Income",null,"Housing",null,"Health",null,"Civic",null,"Outcomes"]
[null,"State:",{"$f":"M4StateName","v":0},null,null,"UEI:",{"$f":"M4UEI","v":0},null,null,null,null,null,null,null,null,null,null,null,null,null,null,null,null,null,null,null,{"$f":"OR(AA8:AA210)","v":false},null,{"$f":"IF(hasPYData_M4,AND(AA3,AND(AC8:AC210)),FALSE)","v":false},null,null,{"$f":"OR(AA8:AA28)","v":false},null,{"$f":"OR(AA33:AA67)","v":false},null,{"$f":"OR(AA72:AA91)","v":false},null,{"$f":"OR(AA96:AA120)","v":false},null,{"$f":"OR(AA125:AA173)","v":false},null,{"$f":"OR(AA177:AA182)","v":false},null,{"$f":"OR(AA187:AA210)","v":false}]
[]
[null,"SRVs",{"$f":"\"FY \" & (FY-1)","v":"FY 2024"},{"$f":"\"FY \" & FY","v":"FY 2025"},null,"% Change",{"$f":"\"Change from FY\" & (FY-1)-2000 & \" - FY\" & (FY-2000)","v":"Change from FY24 - FY25"},null,null,null,null,null,null,null,null,null,null,null,null,null,null,null,null,null,null,null,null,null,null,null,null,"> ARC A","=ARC A"]
[null,"Employment Services (SRV 1)","Unduplicated Number of \nIndividuals Served","Unduplicated Number of \nIndividuals Served",null,"I.) Number of Participants Served \nin program(s) (#)","I.) Number of Participants Served \nin program(s) (#)",null,"The Federal Quality Assurance Review does not include year-to-year checks for Module 4’s Services section. Unless specifically instructed by the Lead CSBG Agency, the agency does not need to provide explanations on the Comments Template.",null,null,null,null,null,null,null,null,null,null,null,null,null,null,null,null,null,null,null,"Same As PY",null,null,{"$f":"OR(AF8:AF210)","v":false},{"$f":"OR(AG8:AG210)","v":true}]
[null,"Skills Training and Opportunities for Experience (SRV 1a-f)"]
[null,"SRV 1a Vocational Training ",null,{"$f":"IF(ISBLANK('Services Employment'!C9),\"\",'Services Employment'!C9)","v":""},null,{"$f":"IF(AND(C8=\"\",D8=\"\"),\"\",IFERROR((D8-C8)/MIN(C8,D8),\"\"))","v":""},{"$f":"IFERROR(D8-C8,\"\")","v":""},null,null,null,null,null,null,null,null,null,null,null,null,null,null,null,null,null,null,"Employment",{"$f":"D8<>\"\"","v":false},null,{"$f":"AND(AA8,C8=D8)","v":false},null,null,{"$f":"AND($AA8,$D8>M4CA1Individuals)","v":false},{"$f":"AND($AA8,$D8=M4CA1Individuals)","v":false},null,{"$f":"B8","v":"SRV 1a Vocational Training "}]
[null,"SRV 1b On-the-Job and other Work Experience ",null,{"$f":"IF(ISBLANK('Services Employment'!C10),\"\",'Services Employment'!C10)","v":""},null,"","",null,null,null,null,null,null,null,null,null,null,null,null,null,null,null,null,null,null,"Employment",false,null,{"$f":"AND(AA9,C9=D9)","v":false},null,null,false,false,null,{"$f":"B9","v":"SRV 1b On-the-Job and other Work Experience "}]
[null," SRV 1c Youth Summer Work Placements",null,{"$f":"IF(ISBLANK('Services Employment'!C11),\"\",'Services Employment'!C11)","v":""},null,"","",null,null,null,null,null,null,null,null,null,null,null,null,null,null,null,null,null,null,"Employment",false,null,false,null,null,false,false,null," SRV 1c Youth Summer Work Placements"]
[null,"SRV 1d Apprenticeship/Internship",null,{"$f":"IF(ISBLANK('Services Employment'!C12),\"\",'Services Employment'!C12)","v":""},null,"","",null,null,null,null,null,null,null,null,null,null,null,null,null,null,null,null,null,null,"Employment",false,null,false,null,null,false,false,null,"SRV 1d Apprenticeship/Internship"]
[null,"SRV 1e Self-Employment Skills Training  ",null,{"$f":"IF(ISBLANK('Services Employment'!C13),\"\",'Services Employment'!C13)","v":""},null,"","",null,null,null,null,null,null,null,null,null,null,null,null,null,null,null,null,null,null,"Employment",false,null,false,null,null,false,false,null,"SRV 1e Self-Employment Skills Training  "]
[null," SRV 1f Job Readiness Training  ",null,{"$f":"IF(ISBLANK('Services Employment'!C14),\"\",'Services Employment'!C14)","v":""},null,"","",null,null,null,null,null,null,null,null,null,null,null,null,null,null,null,null,null,null,"Employment",false,null,false,null,null,false,false,null," SRV 1f Job Readiness Training  "]
[null,"Career Counseling (SRV 1g-h)"]
[null,"SRV 1g Workshops",null,{"$f":"IF(ISBLANK('Services Employment'!C16),\"\",'Services Employment'!C16)","v":""},null,{"$f":"IF(AND(C15=\"\",D15=\"\"),\"\",IFERROR((D15-C15)/MIN(C15,D15),\"\"))","v":""},{"$f":"IFERROR(D15-C15,\"\")","v":""},null,null,null,null,null,null,null,null,null,null,null,null,null,null,null,null,null,null,"Employment",{"$f":"D15<>\"\"","v":false},null,false,null,null,{"$f":"AND($AA15,$D15>M4CA1Individuals)","v":false},{"$f":"AND($AA15,$D15=M4CA1Individuals)","v":false},null,"SRV 1g Workshops"]
[null,"SRV 1h Coaching ",null,{"$f":"IF(ISBLANK('Services Employment'!C17),\"\",'Services Employment'!C17)","v":""},null,{"$f":"IF(AND(C16=\"\",D16=\"\"),\"\",IFERROR((D16-C16)/MIN(C16,D16),\"\"))","v":""},{"$f":"IFERROR(D16-C16,\"\")","v":""},null,null,null,null,null,null,null,null,null,null,null,null,null,null,null,null,null,null,"Employment",{"$f":"D16<>\"\"","v":false},null,false,null,null,{"$f":"AND($AA16,$D16>M4CA1Individuals)","v":false},{"$f":"AND($AA16,$D16=M4CA1Individuals)","v":false},null,"SRV 1h Coaching "]
[null,"Job Search (SRV 1i-n)"]
[null,"SRV 1i Coaching ",null,{"$f":"IF(ISBLANK('Services Employment'!C19),\"\",'Services Employment'!C19)","v":""},null,{"$f":"IF(AND(C18=\"\",D18=\"\"),\"\",IFERROR((D18-C18)/MIN(C18,D18),\"\"))","v":""},{"$f":"IFERROR(D18-C18,\"\")","v":""},null,null,null,null,null,null,null,null,null,null,null,null,null,null,null,null,null,null,"Employment",{"$f":"D18<>\"\"","v":false},null,false,null,null,{"$f":"AND($AA18,$D18>M4CA1Individuals)","v":false},{"$f":"AND($AA18,$D18=M4CA1Individuals)","v":false},null,"SRV 1i Coaching "]
[null,"SRV 1j Resume Development ",null,{"$f":"IF(ISBLANK('Services Employment'!C20),\"\",'Services Employment'!C20)","v":""},null,"","",null,null,null,null,null,null,null,null,null,null,null,null,null,null,null,null,null,null,"Employment",false,null,false,null,null,{"$f":"AND($AA19,$D19>M4CA1Individuals)","v":false},{"$f":"AND($AA19,$D19=M4CA1Individuals)","v":false},null,"SRV 1j Resume Development "]
[null,"SRV 1k Interview Skills Training ",null,{"$f":"IF(ISBLANK('Services Employment'!C21),\"\",'Services Employment'!C21)","v":""},null,"","",null,null,null,null,null,null,null,null,null,null,null,null,null,null,null,null,null,null,"Employment",false,null,false,null,null,{"$f":"AND($AA20,$D20>M4CA1Individuals)","v":false},{"$f":"AND($AA20,$D20=M4CA1Individuals)","v":false},null,"SRV 1k Interview Skills Training "]
[null,"SRV 1l Job Referrals",null,{"$f":"IF(ISBLANK('Services Employment'!C22),\"\",'Services Employment'!C22)","v":""},null,"","",null,null,null,null,null,null,null,null,null,null,null,null,null,null,null,null,null,null,"Employment",false,null,false,null,null,false,false,null,"SRV 1l Job Referrals"]
[null,"SRV 1m Job Placements",null,{"$f":"IF(ISBLANK('Services Employment'!C23),\"\",'Services Employment'!C23)","v":""},null,"","",null,null,null,null,null,null,null,null,null,null,null,null,null,null,null,null,null,null,"Employment",false,null,false,null,null,{"$f":"AND($AA22,$D22>M4CA1Individuals)","v":false},{"$f":"AND($AA22,$D22=M4CA1Individuals)","v":false},null,"SRV 1m Job Placements"]
[null,"SRV 1n Pre-employment physicals, background checks, etc.",null,{"$f":"IF(ISBLANK('Services Employment'!C24),\"\",'Services Employment'!C24)","v":""},null,"","",null,null,null,null,null,null,null,null,null,null,null,null,null,null,null,null,null,null,"Employment",false,null,false,null,null,{"$f":"AND($AA23,$D23>M4CA1Individuals)","v":false},{"$f":"AND($AA23,$D23=M4CA1Individuals)","v":false},null,"SRV 1n Pre-employment physicals, background checks, etc."]
[null,"Post Employment Supports (SRV 1o-p)"]
[null,"SRV 1o Coaching ",null,{"$f":"IF(ISBLANK('Services Employment'!C26),\"\",'Services Employment'!C26)","v":""},null,{"$f":"IF(AND(C25=\"\",D25=\"\"),\"\",IFERROR((D25-C25)/MIN(C25,D25),\"\"))","v":""},{"$f":"IFERROR(D25-C25,\"\")","v":""},null,null,null,null,null,null,null,null,null,null,null,null,null,null,null,null,null,null,"Employment",{"$f":"D25<>\"\"","v":false},null,false,null,null,{"$f":"AND($AA25,$D25>M4CA1Individuals)","v":false},{"$f":"AND($AA25,$D25=M4CA1Individuals)","v":false},null,"SRV 1o Coaching "]
[null,"SRV 1p Interactions with employers ",null,{"$f":"IF(ISBLANK('Services Employment'!C27),\"\",'Services Employment'!C27)","v":""},null,{"$f":"IF(AND(C26=\"\",D26=\"\"),\"\",IFERROR((D26-C26)/MIN(C26,D26),\"\"))","v":""},{"$f":"IFERROR(D26-C26,\"\")","v":""},null,null,null,null,null,null,null,null,null,null,null,null,null,null,null,null,null,null,"Employment",{"$f":"D26<>\"\"","v":false},null,false,null,null,false,false,null,"SRV 1p Interactions with employers "]
[null,"Employment Supplies (SRV 1q)"]
[null,"SRV 1q Employment Supplies",null,{"$f":"IF(ISBLANK('Services Employment'!C29),\"\",'Services Employment'!C29)","v":""},null,{"$f":"IF(AND(C28=\"\",D28=\"\"),\"\",IFERROR((D28-C28)/MIN(C28,D28),\"\"))","v":""},{"$f":"IFERROR(D28-C28,\"\")","v":""},null,null,null,null,null,null,null,null,null,null,null,null,null,null,null,null,null,null,"Employment",{"$f":"D28<>\"\"","v":false},null,false,null,null,false,false,null,"SRV 1q Employment Supplies"]
[]
[null,"SRVs",{"$f":"\"FY \" & (FY-1)","v":"FY 2024"},{"$f":"\"FY \" & FY","v":"FY 2025"},null,"% Change",{"$f":"\"Change from FY\" & (FY-1)-2000 & \" - FY\" & (FY-2000)","v":"Change from FY24 - FY25"}]
[null,"Education and Cognitive Development Services (SRV 2)","Unduplicated Number of \nIndividuals Served","Unduplicated Number of \nIndividuals Served",null,"I.) Number of Participants Served \nin program(s) (#)","I.) Number of Participants Served \nin program(s) (#)"]
[null,"Child/Young Adult Education Programs (SRV 2a-j)",null,null,null,null,null,null,null,null,null,null,null,null,null,null,null,null,null,null,null,null,null,null,null,null,null,null,true,null,null,{"$f":"AND($AA32,$D32>M4CA1Individuals)","v":false},{"$f":"AND($AA32,$D32=M4CA1Individuals)","v":true},null,"Child/Young Adult Education Programs (SRV 2a-j)"]
[null,"SRV 2a Early Head Start ",null,{"$f":"IF(ISBLANK('Services Education'!C9),\"\",'Services Education'!C9)","v":""},null,{"$f":"IF(AND(C33=\"\",D33=\"\"),\"\",IFERROR((D33-C33)/MIN(C33,D33),\"\"))","v":""},{"$f":"IFERROR(D33-C33,\"\")","v":""},null,null,null,null,null,null,null,null,null,null,null,null,null,null,null,null,null,null,"Education",{"$f":"D33<>\"\"","v":false},null,false,null,null,false,false,null,"SRV 2a Early Head Start "]
[null,"SRV 2b Head Start",null,{"$f":"IF(ISBLANK('Services Education'!C10),\"\",'Services Education'!C10)","v":""},null,{"$f":"IF(AND(C34=\"\",D34=\"\"),\"\",IFERROR((D34-C34)/MIN(C34,D34),\"\"))","v":""},{"$f":"IFERROR(D34-C34,\"\")","v":""},null,null,null,null,null,null,null,null,null,null,null,null,null,null,null,null,null,null,"Education",{"$f":"D34<>\"\"","v":false},null,false,null,null,false,false,null,"SRV 2b Head Start"]
[null,"SRV 2c Other Early-Childhood (0-5 yr. old) Education ",null,{"$f":"IF(ISBLANK('Services Education'!C11),\"\",'Services Education'!C11)","v":""},null,"","",null,null,null,null,null,null,null,null,null,null,null,null,null,null,null,null,null,null,"Education",false,null,false,null,null,false,false,null,"SRV 2c Other Early-Childhood (0-5 yr. old) Education "]
[null,"SRV 2d K-12 Education ",null,{"$f":"IF(ISBLANK('Services Education'!C12),\"\",'Services Education'!C12)","v":""},null,"","",null,null,null,null,null,null,null,null,null,null,null,null,null,null,null,null,null,null,"Education",false,null,false,null,null,false,false,null,"SRV 2d K-12 Education "]
[null,"SRV 2e K-12 Support Services",null,{"$f":"IF(ISBLANK('Services Education'!C13),\"\",'Services Education'!C13)","v":""},null,"","",null,null,null,null,null,null,null,null,null,null,null,null,null,null,null,null,null,null,"Education",false,null,false,null,null,false,false,null,"SRV 2e K-12 Support Services"]
[null,"SRV 2f Financial Literacy Education",null,{"$f":"IF(ISBLANK('Services Education'!C14),\"\",'Services Education'!C14)","v":""},null,"","",null,null,null,null,null,null,null,null,null,null,null,null,null,null,null,null,null,null,"Education",false,null,false,null,null,false,false,null,"SRV 2f Financial Literacy Education"]
[null,"SRV 2g Literacy/English Language Education",null,{"$f":"IF(ISBLANK('Services Education'!C15),\"\",'Services Education'!C15)","v":""},null,"","",null,null,null,null,null,null,null,null,null,null,null,null,null,null,null,null,null,null,"Education",false,null,false,null,null,false,false,null,"SRV 2g Literacy/English Language Education"]
[null,"SRV 2h College-Readiness Preparation/Support  ",null,{"$f":"IF(ISBLANK('Services Education'!C16),\"\",'Services Education'!C16)","v":""},null,"","",null,null,null,null,null,null,null,null,null,null,null,null,null,null,null,null,null,null,"Education",false,null,false,null,null,false,false,null,"SRV 2h College-Readiness Preparation/Support  "]
[null,"SRV 2i Other Post Secondary Preparation",null,{"$f":"IF(ISBLANK('Services Education'!C17),\"\",'Services Education'!C17)","v":""},null,"","",null,null,null,null,null,null,null,null,null,null,null,null,null,null,null,null,null,null,"Education",false,null,false,null,null,false,false,null,"SRV 2i Other Post Secondary Preparation"]
[null,"SRV 2j Other Post Secondary Support",null,{"$f":"IF(ISBLANK('Services Education'!C18),\"\",'Services Education'!C18)","v":""},null,"","",null,null,null,null,null,null,null,null,null,null,null,null,null,null,null,null,null,null,"Education",false,null,false,null,null,false,false,null,"SRV 2j Other Post Secondary Support"]
[null,"School Supplies (SRV 2k)"]
[null,"SRV 2k School Supplies",null,{"$f":"IF(ISBLANK('Services Education'!C20),\"\",'Services Education'!C20)","v":""},null,{"$f":"IF(AND(C44=\"\",D44=\"\"),\"\",IFERROR((D44-C44)/MIN(C44,D44),\"\"))","v":""},{"$f":"IFERROR(D44-C44,\"\")","v":""},null,null,null,null,null,null,null,null,null,null,null,null,null,null,null,null,null,null,"Education",{"$f":"D44<>\"\"","v":false},null,false,null,null,false,false,null,"SRV 2k School Supplies"]
[null,"Extra-curricular Programs (SRV 2l-q)"]
[null,"SRV 2l Before and After School Activities",null,{"$f":"IF(ISBLANK('Services Education'!C22),\"\",'Services Education'!C22)","v":""},null,{"$f":"IF(AND(C46=\"\",D46=\"\"),\"\",IFERROR((D46-C46)/MIN(C46,D46),\"\"))","v":""},{"$f":"IFERROR(D46-C46,\"\")","v":""},null,null,null,null,null,null,null,null,null,null,null,null,null,null,null,null,null,null,"Education",{"$f":"D46<>\"\"","v":false},null,false,null,null,false,false,null,"SRV 2l Before and After School Activities"]
[null,"SRV 2m Summer Youth Recreational Activities",null,{"$f":"IF(ISBLANK('Services Education'!C23),\"\",'Services Education'!C23)","v":""},null,"","",null,null,null,null,null,null,null,null,null,null,null,null,null,null,null,null,null,null,"Education",false,null,false,null,null,{"$f":"AND($AA47,$D47>M4CA1Individuals)","v":false},{"$f":"AND($AA47,$D47=M4CA1Individuals)","v":false},null,"SRV 2m Summer Youth Recreational Activities"]
[null,"SRV 2n Summer Education Programs",null,{"$f":"IF(ISBLANK('Services Education'!C24),\"\",'Services Education'!C24)","v":""},null,"","",null,null,null,null,null,null,null,null,null,null,null,null,null,null,null,null,null,null,"Education",false,null,false,null,null,{"$f":"AND($AA48,$D48>M4CA1Individuals)","v":false},{"$f":"AND($AA48,$D48=M4CA1Individuals)","v":false},null,"SRV 2n Summer Education Programs"]
[null,"SRV 2o Behavior Improvement Programs (attitude, self-esteem, Dress-for-Success, etc.)",null,{"$f":"IF(ISBLANK('Services Education'!C25),\"\",'Services Education'!C25)","v":""},null,"","",null,null,null,null,null,null,null,null,null,null,null,null,null,null,null,null,null,null,"Education",false,null,false,null,null,{"$f":"AND($AA49,$D49>M4CA1Individuals)","v":false},{"$f":"AND($AA49,$D49=M4CA1Individuals)","v":false},null,"SRV 2o Behavior Improvement Programs (attitude, self-esteem, Dress-for-Success, etc.)"]
[null,"SRV 2p Mentoring",null,{"$f":"IF(ISBLANK('Services Education'!C26),\"\",'Services Education'!C26)","v":""},null,"","",null,null,null,null,null,null,null,null,null,null,null,null,null,null,null,null,null,null,"Education",false,null,false,null,null,{"$f":"AND($AA50,$D50>M4CA1Individuals)","v":false},{"$f":"AND($AA50,$D50=M4CA1Individuals)","v":false},null,"SRV 2p Mentoring"]
[null," SRV 2q Leadership Training",null,{"$f":"IF(ISBLANK('Services Education'!C27),\"\",'Services Education'!C27)","v":""},null,"","",null,null,null,null,null,null,null,null,null,null,null,null,null,null,null,null,null,null,"Education",false,null,false,null,null,{"$f":"AND($AA51,$D51>M4CA1Individuals)","v":false},{"$f":"AND($AA51,$D51=M4CA1Individuals)","v":false},null," SRV 2q Leadership Training"]
[null,"Adult Education Programs (SRV 2r-z)"]
[null,"SRV 2r Adult Literacy Classes",null,{"$f":"IF(ISBLANK('Services Education'!C29),\"\",'Services Education'!C29)","v":""},null,{"$f":"IF(AND(C53=\"\",D53=\"\"),\"\",IFERROR((D53-C53)/MIN(C53,D53),\"\"))","v":""},{"$f":"IFERROR(D53-C53,\"\")","v":""},null,null,null,null,null,null,null,null,null,null,null,null,null,null,null,null,null,null,"Education",{"$f":"D53<>\"\"","v":false},null,false,null,null,{"$f":"AND($AA53,$D53>M4CA1Individuals)","v":false},{"$f":"AND($AA53,$D53=M4CA1Individuals)","v":false},null,"SRV 2r Adult Literacy Classes"]
[null,"SRV 2s English Language Classes",null,{"$f":"IF(ISBLANK('Services Education'!C30),\"\",'Services Education'!C30)","v":""},null,"","",null,null,null,null,null,null,null,null,null,null,null,null,null,null,null,null,null,null,"Education",false,null,false,null,null,false,false,null,"SRV 2s English Language Classes"]
[null,"SRV 2t Basic Education Classes  ",null,{"$f":"IF(ISBLANK('Services Education'!C31),\"\",'Services Education'!C31)","v":""},null,"","",null,null,null,null,null,null,null,null,null,null,null,null,null,null,null,null,null,null,"Education",false,null,false,null,null,false,false,null,"SRV 2t Basic Education Classes  "]
[null,"SRV 2u High School Equivalency Classes",null,{"$f":"IF(ISBLANK('Services Education'!C32),\"\",'Services Education'!C32)","v":""},null,"","",null,null,null,null,null,null,null,null,null,null,null,null,null,null,null,null,null,null,"Education",false,null,false,null,null,false,false,null,"SRV 2u High School Equivalency Classes"]
[null," SRV 2v Leadership Training",null,{"$f":"IF(ISBLANK('Services Education'!C33),\"\",'Services Education'!C33)","v":""},null,"","",null,null,null,null,null,null,null,null,null,null,null,null,null,null,null,null,null,null,"Education",false,null,false,null,null,false,false,null," SRV 2v Leadership Training"]
[null,"SRV 2w Parenting Supports (may be a part of the early childhood programs identified above)",null,{"$f":"IF(ISBLANK('Services Education'!C34),\"\",'Services Education'!C34)","v":""},null,"","",null,null,null,null,null,null,null,null,null,null,null,null,null,null,null,null,null,null,"Education",false,null,false,null,null,false,false,null,"SRV 2w Parenting Supports (may be a part of the early childhood programs identified above)"]
[null,"SRV 2x Applied Technology Classes",null,{"$f":"IF(ISBLANK('Services Education'!C35),\"\",'Services Education'!C35)","v":""},null,"","",null,null,null,null,null,null,null,null,null,null,null,null,null,null,null,null,null,null,"Education",false,null,false,null,null,false,false,null,"SRV 2x Applied Technology Classes"]
[null,"SRV 2y Post-Secondary Education Preparation",null,{"$f":"IF(ISBLANK('Services Education'!C36),\"\",'Services Education'!C36)","v":""},null,"","",null,null,null,null,null,null,null,null,null,null,null,null,null,null,null,null,null,null,"Education",false,null,false,null,null,false,false,null,"SRV 2y Post-Secondary Education Preparation"]
[null,"SRV 2z Financial Literacy Education",null,{"$f":"IF(ISBLANK('Services Education'!C37),\"\",'Services Education'!C37)","v":""},null,"","",null,null,null,null,null,null,null,null,null,null,null,null,null,null,null,null,null,null,"Education",false,null,false,null,null,false,false,null,"SRV 2z Financial Literacy Education"]
[null," Post-Secondary Education Supports (SRV 2aa)"]
[null,"SRV 2aa College applications, text books, computers, etc.",null,{"$f":"IF(ISBLANK('Services Education'!C39),\"\",'Services Education'!C39)","v":""},null,{"$f":"IF(AND(C63=\"\",D63=\"\"),\"\",IFERROR((D63-C63)/MIN(C63,D63),\"\"))","v":""},{"$f":"IFERROR(D63-C63,\"\")","v":""},null,null,null,null,null,null,null,null,null,null,null,null,null,null,null,null,null,null,"Education",{"$f":"D63<>\"\"","v":false},null,false,null,null,false,false,null,"SRV 2aa College applications, text books, computers, etc."]
[null,"Financial Aid Assistance (SRV 2bb)"]
[null,"SRV 2bb Scholarships",null,{"$f":"IF(ISBLANK('Services Education'!C41),\"\",'Services Education'!C41)","v":""},null,{"$f":"IF(AND(C65=\"\",D65=\"\"),\"\",IFERROR((D65-C65)/MIN(C65,D65),\"\"))","v":""},{"$f":"IFERROR(D65-C65,\"\")","v":""},null,null,null,null,null,null,null,null,null,null,null,null,null,null,null,null,null,null,"Education",{"$f":"D65<>\"\"","v":false},null,false,null,null,{"$f":"AND($AA65,$D65>M4CA1Individuals)","v":false},{"$f":"AND($AA65,$D65=M4CA1Individuals)","v":false},null,"SRV 2bb Scholarships"]
[null,"Home Visits (SVR 2cc)"]
[null,"SRV 2cc Home Visits",null,{"$f":"IF(ISBLANK('Services Education'!C43),\"\",'Services Education'!C43)","v":""},null,{"$f":"IF(AND(C67=\"\",D67=\"\"),\"\",IFERROR((D67-C67)/MIN(C67,D67),\"\"))","v":""},{"$f":"IFERROR(D67-C67,\"\")","v":""},null,null,null,null,null,null,null,null,null,null,null,null,null,null,null,null,null,null,"Education",{"$f":"D67<>\"\"","v":false},null,false,null,null,{"$f":"AND($AA67,$D67>M4CA1Individuals)","v":false},{"$f":"AND($AA67,$D67=M4CA1Individuals)","v":false},null,"SRV 2cc Home Visits"]
[]
[null,"SRVs",{"$f":"\"FY \" & (FY-1)","v":"FY 2024"},{"$f":"\"FY \" & FY","v":"FY 2025"},null,"% Change",{"$f":"\"Change from FY\" & (FY-1)-2000 & \" - FY\" & (FY-2000)","v":"Change from FY24 - FY25"}]
[null,"Income and Asset Building Services (SRV 3)","Unduplicated Number of \nIndividuals Served","Unduplicated Number of \nIndividuals Served",null,"I.) Number of Participants Served \nin program(s) (#)","I.) Number of Participants Served \nin program(s) (#)"]
[null,"Training and Counseling Services (SRV 3a-f)"]
[null,"SRV 3a Financial Capability Skills Training",null,{"$f":"IF(ISBLANK('Services Income'!C9),\"\",'Services Income'!C9)","v":""},null,{"$f":"IF(AND(C72=\"\",D72=\"\"),\"\",IFERROR((D72-C72)/MIN(C72,D72),\"\"))","v":""},{"$f":"IFERROR(D72-C72,\"\")","v":""},null,null,null,null,null,null,null,null,null,null,null,null,null,null,null,null,null,null,"Income",{"$f":"D72<>\"\"","v":false},null,false,null,null,{"$f":"AND($AA72,$D72>M4CA1Individuals)","v":false},{"$f":"AND($AA72,$D72=M4CA1Individuals)","v":false},null,"SRV 3a Financial Capability Skills Training"]
[null,"SRV 3b Financial Coaching/Counseling ",null,{"$f":"IF(ISBLANK('Services Income'!C10),\"\",'Services Income'!C10)","v":""},null,"","",null,null,null,null,null,null,null,null,null,null,null,null,null,null,null,null,null,null,"Income",false,null,{"$f":"AND(AA73,C73=D73)","v":false},null,null,false,false,null,{"$f":"B73","v":"SRV 3b Financial Coaching/Counseling "}]
[null,"SRV 3c Financial Management Programs (including budgeting, credit management, credit repair, credit counseling, etc.)   ",null,{"$f":"IF(ISBLANK('Services Income'!C11),\"\",'Services Income'!C11)","v":""},null,"","",null,null,null,null,null,null,null,null,null,null,null,null,null,null,null,null,null,null,"Income",false,null,false,null,null,false,false,null,"SRV 3c Financial Management Programs (including budgeting, credit management, credit repair, credit counseling, etc.)   "]
[null,"SRV 3d First-time Homebuyer Counseling",null,{"$f":"IF(ISBLANK('Services Income'!C12),\"\",'Services Income'!C12)","v":""},null,"","",null,null,null,null,null,null,null,null,null,null,null,null,null,null,null,null,null,null,"Income",false,null,false,null,null,false,false,null,"SRV 3d First-time Homebuyer Counseling"]
[null,"SRV 3e Foreclosure Prevention Counseling",null,{"$f":"IF(ISBLANK('Services Income'!C13),\"\",'Services Income'!C13)","v":""},null,"","",null,null,null,null,null,null,null,null,null,null,null,null,null,null,null,null,null,null,"Income",false,null,false,null,null,false,false,null,"SRV 3e Foreclosure Prevention Counseling"]
[null,"SRV 3f Small Business Start-Up and Development Counseling Sessions/Classes",null,{"$f":"IF(ISBLANK('Services Income'!C14),\"\",'Services Income'!C14)","v":""},null,"","",null,null,null,null,null,null,null,null,null,null,null,null,null,null,null,null,null,null,"Income",false,null,false,null,null,false,false,null,"SRV 3f Small Business Start-Up and Development Counseling Sessions/Classes"]
[null,"Benefit Coordination and Advocacy (SRV 3g-l)"]
[null,"SRV 3g Child Support Payments",null,{"$f":"IF(ISBLANK('Services Income'!C16),\"\",'Services Income'!C16)","v":""},null,{"$f":"IF(AND(C79=\"\",D79=\"\"),\"\",IFERROR((D79-C79)/MIN(C79,D79),\"\"))","v":""},{"$f":"IFERROR(D79-C79,\"\")","v":""},null,null,null,null,null,null,null,null,null,null,null,null,null,null,null,null,null,null,"Income",{"$f":"D79<>\"\"","v":false},null,false,null,null,{"$f":"AND($AA79,$D79>M4CA1Individuals)","v":false},{"$f":"AND($AA79,$D79=M4CA1Individuals)","v":false},null,"SRV 3g Child Support Payments"]
[null,"SRV 3h Health Insurance",null,{"$f":"IF(ISBLANK('Services Income'!C17),\"\",'Services Income'!C17)","v":""},null,"","",null,null,null,null,null,null,null,null,null,null,null,null,null,null,null,null,null,null,"Income",false,null,false,null,null,false,false,null,"SRV 3h Health Insurance"]
[null,"SRV 3i Social Security/SSI Payments",null,{"$f":"IF(ISBLANK('Services Income'!C18),\"\",'Services Income'!C18)","v":""},null,"","",null,null,null,null,null,null,null,null,null,null,null,null,null,null,null,null,null,null,"Income",false,null,false,null,null,false,false,null,"SRV 3i Social Security/SSI Payments"]
[null,"SRV 3j Veteran's Benefits",null,{"$f":"IF(ISBLANK('Services Income'!C19),\"\",'Services Income'!C19)","v":""},null,"","",null,null,null,null,null,null,null,null,null,null,null,null,null,null,null,null,null,null,"Income",false,null,false,null,null,false,false,null,"SRV 3j Veteran's Benefits"]
[null,"SRV 3k TANF Benefits",null,{"$f":"IF(ISBLANK('Services Income'!C20),\"\",'Services Income'!C20)","v":""},null,"","",null,null,null,null,null,null,null,null,null,null,null,null,null,null,null,null,null,null,"Income",false,null,false,null,null,false,false,null,"SRV 3k TANF Benefits"]
[null,"SRV 3l SNAP Benefits",null,{"$f":"IF(ISBLANK('Services Income'!C21),\"\",'Services Income'!C21)","v":""},null,"","",null,null,null,null,null,null,null,null,null,null,null,null,null,null,null,null,null,null,"Income",false,null,false,null,null,false,false,null,"SRV 3l SNAP Benefits"]
[null,"Asset Building (SRV 3m-o)"]
[null,"SRV 3m Saving Accounts/IDAs and other asset building accounts",null,{"$f":"IF(ISBLANK('Services Income'!C23),\"\",'Services Income'!C23)","v":""},null,{"$f":"IF(AND(C86=\"\",D86=\"\"),\"\",IFERROR((D86-C86)/MIN(C86,D86),\"\"))","v":""},{"$f":"IFERROR(D86-C86,\"\")","v":""},null,null,null,null,null,null,null,null,null,null,null,null,null,null,null,null,null,null,"Income",{"$f":"D86<>\"\"","v":false},null,false,null,null,{"$f":"AND($AA86,$D86>M4CA1Individuals)","v":false},{"$f":"AND($AA86,$D86=M4CA1Individuals)","v":false},null,"SRV 3m Saving Accounts/IDAs and other asset building accounts"]
[null,"SRV 3n Other financial products (IRA accounts, MyRA, other retirement accounts, etc.)",null,{"$f":"IF(ISBLANK('Services Income'!C24),\"\",'Services Income'!C24)","v":""},null,{"$f":"IF(AND(C87=\"\",D87=\"\"),\"\",IFERROR((D87-C87)/MIN(C87,D87),\"\"))","v":""},"",null,null,null,null,null,null,null,null,null,null,null,null,null,null,null,null,null,null,"Income",{"$f":"D87<>\"\"","v":false},null,false,null,null,{"$f":"AND($AA87,$D87>M4CA1Individuals)","v":false},{"$f":"AND($AA87,$D87=M4CA1Individuals)","v":false},null,"SRV 3n Other financial products (IRA accounts, MyRA, other retirement accounts, etc.)"]
[null,"SRV 3o VITA, EITC, or Other Tax Preparation programs",null,{"$f":"IF(ISBLANK('Services Income'!C25),\"\",'Services Income'!C25)","v":""},null,{"$f":"IF(AND(C88=\"\",D88=\"\"),\"\",IFERROR((D88-C88)/MIN(C88,D88),\"\"))","v":""},"",null,null,null,null,null,null,null,null,null,null,null,null,null,null,null,null,null,null,"Income",{"$f":"D88<>\"\"","v":false},null,false,null,null,{"$f":"AND($AA88,$D88>M4CA1Individuals)","v":false},{"$f":"AND($AA88,$D88=M4CA1Individuals)","v":false},null,"SRV 3o VITA, EITC, or Other Tax Preparation programs"]
[null,"SRV 3p Loans And Grants (SRV 3p-q)"]
[null,"SRV 3p Micro-loans",null,{"$f":"IF(ISBLANK('Services Income'!C27),\"\",'Services Income'!C27)","v":""},null,{"$f":"IF(AND(C90=\"\",D90=\"\"),\"\",IFERROR((D90-C90)/MIN(C90,D90),\"\"))","v":""},"",null,null,null,null,null,null,null,null,null,null,null,null,null,null,null,null,null,null,"Income",{"$f":"D90<>\"\"","v":false},null,false,null,null,{"$f":"AND($AA90,$D90>M4CA1Individuals)","v":false},{"$f":"AND($AA90,$D90=M4CA1Individuals)","v":false},null,"SRV 3p Micro-loans"]
[null,"SRV 3q Business incubator/business development loans",null,{"$f":"IF(ISBLANK('Services Income'!C28),\"\",'Services Income'!C28)","v":""},null,{"$f":"IF(AND(C91=\"\",D91=\"\"),\"\",IFERROR((D91-C91)/MIN(C91,D91),\"\"))","v":""},"",null,null,null,null,null,null,null,null,null,null,null,null,null,null,null,null,null,null,"Income",{"$f":"D91<>\"\"","v":false},null,false,null,null,{"$f":"AND($AA91,$D91>M4CA1Individuals)","v":false},{"$f":"AND($AA91,$D91=M4CA1Individuals)","v":false},null,"SRV 3q Business incubator/business development loans"]
[]
[null,"SRVs",{"$f":"\"FY \" & (FY-1)","v":"FY 2024"},{"$f":"\"FY \" & FY","v":"FY 2025"},null,"% Change",{"$f":"\"Change from FY\" & (FY-1)-2000 & \" - FY\" & (FY-2000)","v":"Change from FY24 - FY25"}]
[null,"Housing Services (SRV 4)","Unduplicated Number of \nIndividuals Served","Unduplicated Number of \nIndividuals Served",null,"I.) Number of Participants Served \nin program(s) (#)","I.) Number of Participants Served \nin program(s) (#)"]
[null,"Housing Payment Assistance (SRV 4a-e)"]
[null,"SRV 4a Financial Capability Skill Training ",null,{"$f":"IF(ISBLANK('Services Housing'!C9),\"\",'Services Housing'!C9)","v":""},null,{"$f":"IF(AND(C96=\"\",D96=\"\"),\"\",IFERROR((D96-C96)/MIN(C96,D96),\"\"))","v":""},{"$f":"IFERROR(D96-C96,\"\")","v":""},null,null,null,null,null,null,null,null,null,null,null,null,null,null,null,null,null,null,"Housing",{"$f":"D96<>\"\"","v":false},null,false,null,null,{"$f":"AND($AA96,$D96>M4CA1Individuals)","v":false},{"$f":"AND($AA96,$D96=M4CA1Individuals)","v":false},null,"SRV 4a Financial Capability Skill Training "]
[null,"SRV 4b Financial Coaching/Counseling ",null,{"$f":"IF(ISBLANK('Services Housing'!C10),\"\",'Services Housing'!C10)","v":""},null,{"$f":"IF(AND(C97=\"\",D97=\"\"),\"\",IFERROR((D97-C97)/MIN(C97,D97),\"\"))","v":""},{"$f":"IFERROR(D97-C97,\"\")","v":""},null,null,null,null,null,null,null,null,null,null,null,null,null,null,null,null,null,null,"Housing",{"$f":"D97<>\"\"","v":false},null,false,null,null,{"$f":"AND($AA97,$D97>M4CA1Individuals)","v":false},{"$f":"AND($AA97,$D97=M4CA1Individuals)","v":false},null,"SRV 4b Financial Coaching/Counseling "]
[null,"SRV 4c Rent Payments (includes Emergency Rent Payments)",null,{"$f":"IF(ISBLANK('Services Housing'!C11),\"\",'Services Housing'!C11)","v":""},null,{"$f":"IF(AND(C98=\"\",D98=\"\"),\"\",IFERROR((D98-C98)/MIN(C98,D98),\"\"))","v":""},{"$f":"IFERROR(D98-C98,\"\")","v":""},null,null,null,null,null,null,null,null,null,null,null,null,null,null,null,null,null,null,"Housing",{"$f":"D98<>\"\"","v":false},null,false,null,null,{"$f":"AND($AA98,$D98>M4CA1Individuals)","v":false},{"$f":"AND($AA98,$D98=M4CA1Individuals)","v":false},null,"SRV 4c Rent Payments (includes Emergency Rent Payments)"]
[null,"SRV 4d Deposit Payments",null,{"$f":"IF(ISBLANK('Services Housing'!C12),\"\",'Services Housing'!C12)","v":""},null,{"$f":"IF(AND(C99=\"\",D99=\"\"),\"\",IFERROR((D99-C99)/MIN(C99,D99),\"\"))","v":""},{"$f":"IFERROR(D99-C99,\"\")","v":""},null,null,null,null,null,null,null,null,null,null,null,null,null,null,null,null,null,null,"Housing",{"$f":"D99<>\"\"","v":false},null,false,null,null,{"$f":"AND($AA99,$D99>M4CA1Individuals)","v":false},{"$f":"AND($AA99,$D99=M4CA1Individuals)","v":false},null,"SRV 4d Deposit Payments"]
[null,"SRV 4e Mortgage Payments (includes Emergency Mortgage Payments)",null,{"$f":"IF(ISBLANK('Services Housing'!C13),\"\",'Services Housing'!C13)","v":""},null,{"$f":"IF(AND(C100=\"\",D100=\"\"),\"\",IFERROR((D100-C100)/MIN(C100,D100),\"\"))","v":""},{"$f":"IFERROR(D100-C100,\"\")","v":""},null,null,null,null,null,null,null,null,null,null,null,null,null,null,null,null,null,null,"Housing",{"$f":"D100<>\"\"","v":false},null,false,null,null,{"$f":"AND($AA100,$D100>M4CA1Individuals)","v":false},{"$f":"AND($AA100,$D100=M4CA1Individuals)","v":false},null,"SRV 4e Mortgage Payments (includes Emergency Mortgage Payments)"]
[null,"Eviction Prevention Services (SRV 4f-h)"]
[null,"SRV 4f Eviction Counseling ",null,{"$f":"IF(ISBLANK('Services Housing'!C15),\"\",'Services Housing'!C15)","v":""},null,{"$f":"IF(AND(C102=\"\",D102=\"\"),\"\",IFERROR((D102-C102)/MIN(C102,D102),\"\"))","v":""},{"$f":"IFERROR(D102-C102,\"\")","v":""},null,null,null,null,null,null,null,null,null,null,null,null,null,null,null,null,null,null,"Housing",{"$f":"D102<>\"\"","v":false},null,false,null,null,{"$f":"AND($AA102,$D102>M4CA1Individuals)","v":false},{"$f":"AND($AA102,$D102=M4CA1Individuals)","v":false},null,"SRV 4f Eviction Counseling "]
[null,"SRV 4g Landlord/Tenant Mediations",null,{"$f":"IF(ISBLANK('Services Housing'!C16),\"\",'Services Housing'!C16)","v":""},null,{"$f":"IF(AND(C103=\"\",D103=\"\"),\"\",IFERROR((D103-C103)/MIN(C103,D103),\"\"))","v":""},{"$f":"IFERROR(D103-C103,\"\")","v":""},null,null,null,null,null,null,null,null,null,null,null,null,null,null,null,null,null,null,"Housing",{"$f":"D103<>\"\"","v":false},null,false,null,null,{"$f":"AND($AA103,$D103>M4CA1Individuals)","v":false},{"$f":"AND($AA103,$D103=M4CA1Individuals)","v":false},null,"SRV 4g Landlord/Tenant Mediations"]
[null,"SRV 4h Landlord/Tenant Rights Education ",null,{"$f":"IF(ISBLANK('Services Housing'!C17),\"\",'Services Housing'!C17)","v":""},null,{"$f":"IF(AND(C104=\"\",D104=\"\"),\"\",IFERROR((D104-C104)/MIN(C104,D104),\"\"))","v":""},{"$f":"IFERROR(D104-C104,\"\")","v":""},null,null,null,null,null,null,null,null,null,null,null,null,null,null,null,null,null,null,"Housing",{"$f":"D104<>\"\"","v":false},null,false,null,null,{"$f":"AND($AA104,$D104>M4CA1Individuals)","v":false},{"$f":"AND($AA104,$D104=M4CA1Individuals)","v":false},null,"SRV 4h Landlord/Tenant Rights Education "]
[null,"Utility Payment Assistance (SRV 4i-l)"]
[null,"SRV 4i Utility Payments (LIHEAP-includes Emergency Utility Payments)",null,{"$f":"IF(ISBLANK('Services Housing'!C19),\"\",'Services Housing'!C19)","v":""},null,{"$f":"IF(AND(C106=\"\",D106=\"\"),\"\",IFERROR((D106-C106)/MIN(C106,D106),\"\"))","v":""},{"$f":"IFERROR(D106-C106,\"\")","v":""},null,null,null,null,null,null,null,null,null,null,null,null,null,null,null,null,null,null,"Housing",{"$f":"D106<>\"\"","v":false},null,false,null,null,{"$f":"AND($AA106,$D106>M4CA1Individuals)","v":false},{"$f":"AND($AA106,$D106=M4CA1Individuals)","v":false},null,"SRV 4i Utility Payments (LIHEAP-includes Emergency Utility Payments)"]
[null,"SRV 4j Utility Deposits",null,{"$f":"IF(ISBLANK('Services Housing'!C20),\"\",'Services Housing'!C20)","v":""},null,{"$f":"IF(AND(C107=\"\",D107=\"\"),\"\",IFERROR((D107-C107)/MIN(C107,D107),\"\"))","v":""},{"$f":"IFERROR(D107-C107,\"\")","v":""},null,null,null,null,null,null,null,null,null,null,null,null,null,null,null,null,null,null,"Housing",{"$f":"D107<>\"\"","v":false},null,false,null,null,{"$f":"AND($AA107,$D107>M4CA1Individuals)","v":false},{"$f":"AND($AA107,$D107=M4CA1Individuals)","v":false},null,"SRV 4j Utility Deposits"]
[null,"SRV 4k Utility Arrears Payments",null,{"$f":"IF(ISBLANK('Services Housing'!C21),\"\",'Services Housing'!C21)","v":""},null,{"$f":"IF(AND(C108=\"\",D108=\"\"),\"\",IFERROR((D108-C108)/MIN(C108,D108),\"\"))","v":""},{"$f":"IFERROR(D108-C108,\"\")","v":""},null,null,null,null,null,null,null,null,null,null,null,null,null,null,null,null,null,null,"Housing",{"$f":"D108<>\"\"","v":false},null,false,null,null,{"$f":"AND($AA108,$D108>M4CA1Individuals)","v":false},{"$f":"AND($AA108,$D108=M4CA1Individuals)","v":false},null,"SRV 4k Utility Arrears Payments"]
[null,"SRV 4l Level Billing Assistance",null,{"$f":"IF(ISBLANK('Services Housing'!C22),\"\",'Services Housing'!C22)","v":""},null,{"$f":"IF(AND(C109=\"\",D109=\"\"),\"\",IFERROR((D109-C109)/MIN(C109,D109),\"\"))","v":""},{"$f":"IFERROR(D109-C109,\"\")","v":""},null,null,null,null,null,null,null,null,null,null,null,null,null,null,null,null,null,null,"Housing",{"$f":"D109<>\"\"","v":false},null,false,null,null,{"$f":"AND($AA109,$D109>M4CA1Individuals)","v":false},{"$f":"AND($AA109,$D109=M4CA1Individuals)","v":false},null,"SRV 4l Level Billing Assistance"]
[null,"Housing Placement/Rapid Re-housing (SRV 4m-p)"]
[null,"SRV 4m Temporary Housing Placement (includes Emergency Shelters)",null,{"$f":"IF(ISBLANK('Services Housing'!C24),\"\",'Services Housing'!C24)","v":""},null,{"$f":"IF(AND(C111=\"\",D111=\"\"),\"\",IFERROR((D111-C111)/MIN(C111,D111),\"\"))","v":""},{"$f":"IFERROR(D111-C111,\"\")","v":""},null,null,null,null,null,null,null,null,null,null,null,null,null,null,null,null,null,null,"Housing",{"$f":"D111<>\"\"","v":false},null,false,null,null,false,false,null,"SRV 4m Temporary Housing Placement (includes Emergency Shelters)"]
[null,"SRV 4n Transitional Housing Placements",null,{"$f":"IF(ISBLANK('Services Housing'!C25),\"\",'Services Housing'!C25)","v":""},null,{"$f":"IF(AND(C112=\"\",D112=\"\"),\"\",IFERROR((D112-C112)/MIN(C112,D112),\"\"))","v":""},{"$f":"IFERROR(D112-C112,\"\")","v":""},null,null,null,null,null,null,null,null,null,null,null,null,null,null,null,null,null,null,"Housing",{"$f":"D112<>\"\"","v":false},null,false,null,null,{"$f":"AND($AA112,$D112>M4CA1Individuals)","v":false},{"$f":"AND($AA112,$D112=M4CA1Individuals)","v":false},null,"SRV 4n Transitional Housing Placements"]
[null,"SRV 4o Permanent Housing Placements ",null,{"$f":"IF(ISBLANK('Services Housing'!C26),\"\",'Services Housing'!C26)","v":""},null,{"$f":"IF(AND(C113=\"\",D113=\"\"),\"\",IFERROR((D113-C113)/MIN(C113,D113),\"\"))","v":""},{"$f":"IFERROR(D113-C113,\"\")","v":""},null,null,null,null,null,null,null,null,null,null,null,null,null,null,null,null,null,null,"Housing",{"$f":"D113<>\"\"","v":false},null,false,null,null,{"$f":"AND($AA113,$D113>M4CA1Individuals)","v":false},{"$f":"AND($AA113,$D113=M4CA1Individuals)","v":false},null,"SRV 4o Permanent Housing Placements "]
[null,"SRV 4p Rental Counseling ",null,{"$f":"IF(ISBLANK('Services Housing'!C27),\"\",'Services Housing'!C27)","v":""},null,{"$f":"IF(AND(C114=\"\",D114=\"\"),\"\",IFERROR((D114-C114)/MIN(C114,D114),\"\"))","v":""},{"$f":"IFERROR(D114-C114,\"\")","v":""},null,null,null,null,null,null,null,null,null,null,null,null,null,null,null,null,null,null,"Housing",{"$f":"D114<>\"\"","v":false},null,false,null,null,{"$f":"AND($AA114,$D114>M4CA1Individuals)","v":false},{"$f":"AND($AA114,$D114=M4CA1Individuals)","v":false},null,"SRV 4p Rental Counseling "]
[null,"Housing Maintenance & Improvements (SRV 4q)"]
[null,"SRV 4q Home Repairs (e.g. structural, appliance, heating systems. etc.) (Including Emergency Home Repairs)",null,{"$f":"IF(ISBLANK('Services Housing'!C29),\"\",'Services Housing'!C29)","v":""},null,{"$f":"IF(AND(C116=\"\",D116=\"\"),\"\",IFERROR((D116-C116)/MIN(C116,D116),\"\"))","v":""},{"$f":"IFERROR(D116-C116,\"\")","v":""},null,null,null,null,null,null,null,null,null,null,null,null,null,null,null,null,null,null,"Housing",{"$f":"D116<>\"\"","v":false},null,false,null,null,{"$f":"AND($AA116,$D116>M4CA1Individuals)","v":false},{"$f":"AND($AA116,$D116=M4CA1Individuals)","v":false},null,"SRV 4q Home Repairs (e.g. structural, appliance, heating systems. etc.) (Including Emergency Home Repairs)"]
[null,"Weatherization Services (SRV 4r-t)"]
[null,"SRV 4r Independent-living Home Improvements (e.g. ramps, tub and shower grab bars, handicap accessible modifications, etc.)",null,{"$f":"IF(ISBLANK('Services Housing'!C31),\"\",'Services Housing'!C31)","v":""},null,{"$f":"IF(AND(C118=\"\",D118=\"\"),\"\",IFERROR((D118-C118)/MIN(C118,D118),\"\"))","v":""},{"$f":"IFERROR(D118-C118,\"\")","v":""},null,null,null,null,null,null,null,null,null,null,null,null,null,null,null,null,null,null,"Housing",{"$f":"D118<>\"\"","v":false},null,false,null,null,{"$f":"AND($AA118,$D118>M4CA1Individuals)","v":false},{"$f":"AND($AA118,$D118=M4CA1Individuals)","v":false},null,"SRV 4r Independent-living Home Improvements (e.g. ramps, tub and shower grab bars, handicap accessible modifications, etc.)"]
[null,"SRV 4s Healthy Homes Services(e.g. reduction or elimination of lead, radon, carbon dioxide and/or fire hazards or electrical issues, etc.)",5,{"$f":"IF(ISBLANK('Services Housing'!C32),\"\",'Services Housing'!C32)","v":""},null,{"$f":"IF(AND(C119=\"\",D119=\"\"),\"\",IFERROR((D119-C119)/MIN(C119,D119),\"\"))","v":""},{"$f":"IFERROR(D119-C119,\"\")","v":""},null,null,null,null,null,null,null,null,null,null,null,null,null,null,null,null,null,null,"Housing",{"$f":"D119<>\"\"","v":false},null,false,null,null,{"$f":"AND($AA119,$D119>M4CA1Individuals)","v":false},{"$f":"AND($AA119,$D119=M4CA1Individuals)","v":false},null,"SRV 4s Healthy Homes Services(e.g. reduction or elimination of lead, radon, carbon dioxide and/or fire hazards or electrical issues, etc.)"]
[null,"SRV 4t Energy Efficiency Improvements (e.g. insullation, air sealing, furnace repair, etc.)",5,{"$f":"IF(ISBLANK('Services Housing'!C33),\"\",'Services Housing'!C33)","v":""},null,{"$f":"IF(AND(C120=\"\",D120=\"\"),\"\",IFERROR((D120-C120)/MIN(C120,D120),\"\"))","v":""},{"$f":"IFERROR(D120-C120,\"\")","v":""},null,null,null,null,null,null,null,null,null,null,null,null,null,null,null,null,null,null,"Housing",{"$f":"D120<>\"\"","v":false},null,false,null,null,{"$f":"AND($AA120,$D120>M4CA1Individuals)","v":false},{"$f":"AND($AA120,$D120=M4CA1Individuals)","v":false},null,"SRV 4t Energy Efficiency Improvements (e.g. insullation, air sealing, furnace repair, etc.)"]
[]
[null,"SRVs",{"$f":"\"FY \" & (FY-1)","v":"FY 2024"},{"$f":"\"FY \" & FY","v":"FY 2025"},null,"% Change",{"$f":"\"Change from FY\" & (FY-1)-2000 & \" - FY\" & (FY-2000)","v":"Change from FY24 - FY25"}]
[null,"Health and Social/Behavioral Development Services (SRV 5)","Unduplicated Number of \nIndividuals Served","Unduplicated Number of \nIndividuals Served",null,"I.) Number of Participants Served \nin program(s) (#)","I.) Number of Participants Served \nin program(s) (#)"]
[null,"Health Services, Screening and Assessments (SRV 5a-j)"]
[null,"SRV 5a Immunizations",null,{"$f":"IF(ISBLANK('Services Health'!C9),\"\",'Services Health'!C9)","v":""},null,{"$f":"IF(AND(C125=\"\",D125=\"\"),\"\",IFERROR((D125-C125)/MIN(C125,D125),\"\"))","v":""},{"$f":"IFERROR(D125-C125,\"\")","v":""},null,null,null,null,null,null,null,null,null,null,null,null,null,null,null,null,null,null,"Health",{"$f":"D125<>\"\"","v":false},null,false,null,null,{"$f":"AND($AA125,$D125>M4CA1Individuals)","v":false},{"$f":"AND($AA125,$D125=M4CA1Individuals)","v":false},null,"SRV 5a Immunizations"]
[null,"SRV 5b Physicals",null,{"$f":"IF(ISBLANK('Services Health'!C10),\"\",'Services Health'!C10)","v":""},null,"","",null,null,null,null,null,null,null,null,null,null,null,null,null,null,null,null,null,null,"Health",{"$f":"D126<>\"\"","v":false},null,false,null,null,false,false,null,"SRV 5b Physicals"]
[null,"SRV 5c Developmental Delay Screening",null,{"$f":"IF(ISBLANK('Services Health'!C11),\"\",'Services Health'!C11)","v":""},null,"","",null,null,null,null,null,null,null,null,null,null,null,null,null,null,null,null,null,null,"Health",false,null,false,null,null,false,false,null,"SRV 5c Developmental Delay Screening"]
[null,"SRV 5d Vision  Screening",null,{"$f":"IF(ISBLANK('Services Health'!C12),\"\",'Services Health'!C12)","v":""},null,"","",null,null,null,null,null,null,null,null,null,null,null,null,null,null,null,null,null,null,"Health",false,null,false,null,null,false,false,null,"SRV 5d Vision  Screening"]
[null,"SRV 5e Prescription Payments",null,{"$f":"IF(ISBLANK('Services Health'!C13),\"\",'Services Health'!C13)","v":""},null,"","",null,null,null,null,null,null,null,null,null,null,null,null,null,null,null,null,null,null,"Health",false,null,false,null,null,false,false,null,"SRV 5e Prescription Payments"]
[null,"SRV 5f Doctor Visit Payments",null,{"$f":"IF(ISBLANK('Services Health'!C14),\"\",'Services Health'!C14)","v":""},null,"","",null,null,null,null,null,null,null,null,null,null,null,null,null,null,null,null,null,null,"Health",false,null,false,null,null,false,false,null,"SRV 5f Doctor Visit Payments"]
[null,"SRV 5g Maternal/Child Health",null,{"$f":"IF(ISBLANK('Services Health'!C15),\"\",'Services Health'!C15)","v":""},null,"","",null,null,null,null,null,null,null,null,null,null,null,null,null,null,null,null,null,null,"Health",false,null,false,null,null,false,false,null,"SRV 5g Maternal/Child Health"]
[null,"SRV 5h Nursing Care Sessions",null,{"$f":"IF(ISBLANK('Services Health'!C16),\"\",'Services Health'!C16)","v":""},null,"","",null,null,null,null,null,null,null,null,null,null,null,null,null,null,null,null,null,null,"Health",false,null,false,null,null,false,false,null,"SRV 5h Nursing Care Sessions"]
[null," SRV 5i In-Home Affordable Seniors/Disabled Care Sessions\n(Nursing, Chores, Personal Care Services) ",null,{"$f":"IF(ISBLANK('Services Health'!C17),\"\",'Services Health'!C17)","v":""},null,"","",null,null,null,null,null,null,null,null,null,null,null,null,null,null,null,null,null,null,"Health",false,null,false,null,null,false,false,null," SRV 5i In-Home Affordable Seniors/Disabled Care Sessions\n(Nursing, Chores, Personal Care Services) "]
[null,"SRV 5j Health Insurance Options Counseling",null,{"$f":"IF(ISBLANK('Services Health'!C18),\"\",'Services Health'!C18)","v":""},null,"","",null,null,null,null,null,null,null,null,null,null,null,null,null,null,null,null,null,null,"Health",false,null,false,null,null,false,false,null,"SRV 5j Health Insurance Options Counseling"]
[null,"Reproductive Health Services (SRV 5k-o)"]
[null,"SRV 5k Coaching Sessions",null,{"$f":"IF(ISBLANK('Services Health'!C20),\"\",'Services Health'!C20)","v":""},null,{"$f":"IF(AND(C136=\"\",D136=\"\"),\"\",IFERROR((D136-C136)/MIN(C136,D136),\"\"))","v":""},{"$f":"IFERROR(D136-C136,\"\")","v":""},null,null,null,null,null,null,null,null,null,null,null,null,null,null,null,null,null,null,"Health",{"$f":"D136<>\"\"","v":false},null,false,null,null,{"$f":"AND($AA136,$D136>M4CA1Individuals)","v":false},{"$f":"AND($AA136,$D136=M4CA1Individuals)","v":false},null,"SRV 5k Coaching Sessions"]
[null,"SRV 5l Family Planning Classes",null,{"$f":"IF(ISBLANK('Services Health'!C21),\"\",'Services Health'!C21)","v":""},null,{"$f":"IF(AND(C137=\"\",D137=\"\"),\"\",IFERROR((D137-C137)/MIN(C137,D137),\"\"))","v":""},{"$f":"IFERROR(D137-C137,\"\")","v":""},null,null,null,null,null,null,null,null,null,null,null,null,null,null,null,null,null,null,"Health",{"$f":"D137<>\"\"","v":false},null,{"$f":"AND(AA137,C137=D137)","v":false},null,null,{"$f":"AND($AA137,$D137>M4CA1Individuals)","v":false},{"$f":"AND($AA137,$D137=M4CA1Individuals)","v":false},null,{"$f":"B137","v":"SRV 5l Family Planning Classes"}]
[null,"SRV 5m Contraceptives",null,{"$f":"IF(ISBLANK('Services Health'!C22),\"\",'Services Health'!C22)","v":""},null,{"$f":"IF(AND(C138=\"\",D138=\"\"),\"\",IFERROR((D138-C138)/MIN(C138,D138),\"\"))","v":""},{"$f":"IFERROR(D138-C138,\"\")","v":""},null,null,null,null,null,null,null,null,null,null,null,null,null,null,null,null,null,null,"Health",{"$f":"D138<>\"\"","v":false},null,false,null,null,false,false,null,"SRV 5m Contraceptives"]
[null,"SRV 5n STI/HIV Prevention Counseling Sessions",null,{"$f":"IF(ISBLANK('Services Health'!C23),\"\",'Services Health'!C23)","v":""},null,{"$f":"IF(AND(C139=\"\",D139=\"\"),\"\",IFERROR((D139-C139)/MIN(C139,D139),\"\"))","v":""},{"$f":"IFERROR(D139-C139,\"\")","v":""},null,null,null,null,null,null,null,null,null,null,null,null,null,null,null,null,null,null,"Health",{"$f":"D139<>\"\"","v":false},null,false,null,null,{"$f":"AND($AA139,$D139>M4CA1Individuals)","v":false},{"$f":"AND($AA139,$D139=M4CA1Individuals)","v":false},null,"SRV 5n STI/HIV Prevention Counseling Sessions"]
[null,"SRV 5o STI/HIV Screenings",null,{"$f":"IF(ISBLANK('Services Health'!C24),\"\",'Services Health'!C24)","v":""},null,{"$f":"IF(AND(C140=\"\",D140=\"\"),\"\",IFERROR((D140-C140)/MIN(C140,D140),\"\"))","v":""},{"$f":"IFERROR(D140-C140,\"\")","v":""},null,null,null,null,null,null,null,null,null,null,null,null,null,null,null,null,null,null,"Health",{"$f":"D140<>\"\"","v":false},null,false,null,null,false,false,null,"SRV 5o STI/HIV Screenings"]
[null,"Wellness Education (SRV 5p-q)"]
[null,"SRV 5p Wellness Classes (stress reduction, medication management, mindfulness, etc.)",null,{"$f":"IF(ISBLANK('Services Health'!C26),\"\",'Services Health'!C26)","v":""},null,{"$f":"IF(AND(C142=\"\",D142=\"\"),\"\",IFERROR((D142-C142)/MIN(C142,D142),\"\"))","v":""},{"$f":"IFERROR(D142-C142,\"\")","v":""},null,null,null,null,null,null,null,null,null,null,null,null,null,null,null,null,null,null,"Health",{"$f":"D142<>\"\"","v":false},null,false,null,null,{"$f":"AND($AA142,$D142>M4CA1Individuals)","v":false},{"$f":"AND($AA142,$D142=M4CA1Individuals)","v":false},null,"SRV 5p Wellness Classes (stress reduction, medication management, mindfulness, etc.)"]
[null,"SRV 5q Exercise/Fitness ",null,{"$f":"IF(ISBLANK('Services Health'!C27),\"\",'Services Health'!C27)","v":""},null,{"$f":"IF(AND(C143=\"\",D143=\"\"),\"\",IFERROR((D143-C143)/MIN(C143,D143),\"\"))","v":""},{"$f":"IFERROR(D143-C143,\"\")","v":""},null,null,null,null,null,null,null,null,null,null,null,null,null,null,null,null,null,null,"Health",{"$f":"D143<>\"\"","v":false},null,false,null,null,{"$f":"AND($AA143,$D143>M4CA1Individuals)","v":false},{"$f":"AND($AA143,$D143=M4CA1Individuals)","v":false},null,"SRV 5q Exercise/Fitness "]
[null,"Mental/Behavioral Health (SRV 5r-x)"]
[null,"SRV 5r Detoxification Sessions",null,{"$f":"IF(ISBLANK('Services Health'!C29),\"\",'Services Health'!C29)","v":""},null,{"$f":"IF(AND(C145=\"\",D145=\"\"),\"\",IFERROR((D145-C145)/MIN(C145,D145),\"\"))","v":""},{"$f":"IFERROR(D145-C145,\"\")","v":""},null,null,null,null,null,null,null,null,null,null,null,null,null,null,null,null,null,null,"Health",{"$f":"D145<>\"\"","v":false},null,false,null,null,{"$f":"AND($AA145,$D145>M4CA1Individuals)","v":false},{"$f":"AND($AA145,$D145=M4CA1Individuals)","v":false},null,"SRV 5r Detoxification Sessions"]
[null,"SRV 5s Substance Abuse Screenings",null,{"$f":"IF(ISBLANK('Services Health'!C30),\"\",'Services Health'!C30)","v":""},null,"","",null,null,null,null,null,null,null,null,null,null,null,null,null,null,null,null,null,null,"Health",false,null,false,null,null,{"$f":"AND($AA146,$D146>M4CA1Individuals)","v":false},{"$f":"AND($AA146,$D146=M4CA1Individuals)","v":false},null,"SRV 5s Substance Abuse Screenings"]
[null,"SRV 5t Substance Abuse Counseling ",null,{"$f":"IF(ISBLANK('Services Health'!C31),\"\",'Services Health'!C31)","v":""},null,"","",null,null,null,null,null,null,null,null,null,null,null,null,null,null,null,null,null,null,"Health",false,null,false,null,null,{"$f":"AND($AA147,$D147>M4CA1Individuals)","v":false},{"$f":"AND($AA147,$D147=M4CA1Individuals)","v":false},null,"SRV 5t Substance Abuse Counseling "]
[null,"SRV 5u Mental Health Assessments",null,{"$f":"IF(ISBLANK('Services Health'!C32),\"\",'Services Health'!C32)","v":""},null,"","",null,null,null,null,null,null,null,null,null,null,null,null,null,null,null,null,null,null,"Health",false,null,false,null,null,{"$f":"AND($AA148,$D148>M4CA1Individuals)","v":false},{"$f":"AND($AA148,$D148=M4CA1Individuals)","v":false},null,"SRV 5u Mental Health Assessments"]
[null,"SRV 5v Mental Health Counseling ",null,{"$f":"IF(ISBLANK('Services Health'!C33),\"\",'Services Health'!C33)","v":""},null,"","",null,null,null,null,null,null,null,null,null,null,null,null,null,null,null,null,null,null,"Health",false,null,false,null,null,{"$f":"AND($AA149,$D149>M4CA1Individuals)","v":false},{"$f":"AND($AA149,$D149=M4CA1Individuals)","v":false},null,"SRV 5v Mental Health Counseling "]
[null,"SRV 5w Crisis Response/Call-In Responses",null,{"$f":"IF(ISBLANK('Services Health'!C34),\"\",'Services Health'!C34)","v":""},null,"","",null,null,null,null,null,null,null,null,null,null,null,null,null,null,null,null,null,null,"Health",false,null,false,null,null,false,false,null,"SRV 5w Crisis Response/Call-In Responses"]
[null,"SRV 5x Domestic Violence Programs",null,{"$f":"IF(ISBLANK('Services Health'!C35),\"\",'Services Health'!C35)","v":""},null,"","",null,null,null,null,null,null,null,null,null,null,null,null,null,null,null,null,null,null,"Health",false,null,false,null,null,{"$f":"AND($AA151,$D151>M4CA1Individuals)","v":false},{"$f":"AND($AA151,$D151=M4CA1Individuals)","v":false},null,"SRV 5x Domestic Violence Programs"]
[null,"Support Groups (SRV 5y-aa)"]
[null,"SRV 5y Substance Abuse Support Group Meetings",null,{"$f":"IF(ISBLANK('Services Health'!C37),\"\",'Services Health'!C37)","v":""},null,{"$f":"IF(AND(C153=\"\",D153=\"\"),\"\",IFERROR((D153-C153)/MIN(C153,D153),\"\"))","v":""},{"$f":"IFERROR(D153-C153,\"\")","v":""},null,null,null,null,null,null,null,null,null,null,null,null,null,null,null,null,null,null,"Health",{"$f":"D153<>\"\"","v":false},null,false,null,null,{"$f":"AND($AA153,$D153>M4CA1Individuals)","v":false},{"$f":"AND($AA153,$D153=M4CA1Individuals)","v":false},null,"SRV 5y Substance Abuse Support Group Meetings"]
[null,"SRV 5z Domestic Violence Support Group Meetings",null,{"$f":"IF(ISBLANK('Services Health'!C38),\"\",'Services Health'!C38)","v":""},null,{"$f":"IF(AND(C154=\"\",D154=\"\"),\"\",IFERROR((D154-C154)/MIN(C154,D154),\"\"))","v":""},{"$f":"IFERROR(D154-C154,\"\")","v":""},null,null,null,null,null,null,null,null,null,null,null,null,null,null,null,null,null,null,"Health",{"$f":"D154<>\"\"","v":false},null,false,null,null,{"$f":"AND($AA154,$D154>M4CA1Individuals)","v":false},{"$f":"AND($AA154,$D154=M4CA1Individuals)","v":false},null,"SRV 5z Domestic Violence Support Group Meetings"]
[null,"SRV 5aa Mental Health Support Group Meeting",null,{"$f":"IF(ISBLANK('Services Health'!C39),\"\",'Services Health'!C39)","v":""},null,{"$f":"IF(AND(C155=\"\",D155=\"\"),\"\",IFERROR((D155-C155)/MIN(C155,D155),\"\"))","v":""},{"$f":"IFERROR(D155-C155,\"\")","v":""},null,null,null,null,null,null,null,null,null,null,null,null,null,null,null,null,null,null,"Health",{"$f":"D155<>\"\"","v":false},null,false,null,null,{"$f":"AND($AA155,$D155>M4CA1Individuals)","v":false},{"$f":"AND($AA155,$D155=M4CA1Individuals)","v":false},null,"SRV 5aa Mental Health Support Group Meeting"]
[null,"Dental Services, Screenings and Exams (SRV 5bb-ee)"]
[null,"SRV 5bb Adult Dental Screening/Exams",null,{"$f":"IF(ISBLANK('Services Health'!C42),\"\",'Services Health'!C42)","v":""},null,{"$f":"IF(AND(C157=\"\",D157=\"\"),\"\",IFERROR((D157-C157)/MIN(C157,D157),\"\"))","v":""},{"$f":"IFERROR(D157-C157,\"\")","v":""},null,null,null,null,null,null,null,null,null,null,null,null,null,null,null,null,null,null,"Health",{"$f":"D157<>\"\"","v":false},null,false,null,null,{"$f":"AND($AA157,$D157>M4CA1Individuals)","v":false},{"$f":"AND($AA157,$D157=M4CA1Individuals)","v":false},null,"SRV 5bb Adult Dental Screening/Exams"]
[null,"SRV 5cc Adult Dental Services (including Emergency Dental Procedures)",null,{"$f":"IF(ISBLANK('Services Health'!C43),\"\",'Services Health'!C43)","v":""},null,{"$f":"IF(AND(C158=\"\",D158=\"\"),\"\",IFERROR((D158-C158)/MIN(C158,D158),\"\"))","v":""},{"$f":"IFERROR(D158-C158,\"\")","v":""},null,null,null,null,null,null,null,null,null,null,null,null,null,null,null,null,null,null,"Health",{"$f":"D158<>\"\"","v":false},null,false,null,null,{"$f":"AND($AA158,$D158>M4CA1Individuals)","v":false},{"$f":"AND($AA158,$D158=M4CA1Individuals)","v":false},null,"SRV 5cc Adult Dental Services (including Emergency Dental Procedures)"]
[null,"SRV 5dd Child Dental Screenings/Exams",null,{"$f":"IF(ISBLANK('Services Health'!C44),\"\",'Services Health'!C44)","v":""},null,{"$f":"IF(AND(C159=\"\",D159=\"\"),\"\",IFERROR((D159-C159)/MIN(C159,D159),\"\"))","v":""},{"$f":"IFERROR(D159-C159,\"\")","v":""},null,null,null,null,null,null,null,null,null,null,null,null,null,null,null,null,null,null,"Health",{"$f":"D159<>\"\"","v":false},null,false,null,null,{"$f":"AND($AA159,$D159>M4CA1Individuals)","v":false},{"$f":"AND($AA159,$D159=M4CA1Individuals)","v":false},null,"SRV 5dd Child Dental Screenings/Exams"]
[null,"SRV 5ee Child Dental Services (including Emergency Dental Procedures)",null,{"$f":"IF(ISBLANK('Services Health'!C45),\"\",'Services Health'!C45)","v":""},null,{"$f":"IF(AND(C160=\"\",D160=\"\"),\"\",IFERROR((D160-C160)/MIN(C160,D160),\"\"))","v":""},{"$f":"IFERROR(D160-C160,\"\")","v":""},null,null,null,null,null,null,null,null,null,null,null,null,null,null,null,null,null,null,"Health",{"$f":"D160<>\"\"","v":false},null,false,null,null,{"$f":"AND($AA160,$D160>M4CA1Individuals)","v":false},{"$f":"AND($AA160,$D160=M4CA1Individuals)","v":false},null,"SRV 5ee Child Dental Services (including Emergency Dental Procedures)"]
[null,"Nutrition and Food/Meals (SRV 5ff-jj)"]
[null,"SRV 5ff Skills Classes (Gardening, Cooking, Nutrition)",null,{"$f":"IF(ISBLANK('Services Health'!C47),\"\",'Services Health'!C47)","v":""},null,{"$f":"IF(AND(C162=\"\",D162=\"\"),\"\",IFERROR((D162-C162)/MIN(C162,D162),\"\"))","v":""},{"$f":"IFERROR(D162-C162,\"\")","v":""},null,null,null,null,null,null,null,null,null,null,null,null,null,null,null,null,null,null,"Health",{"$f":"D162<>\"\"","v":false},null,false,null,null,{"$f":"AND($AA162,$D162>M4CA1Individuals)","v":false},{"$f":"AND($AA162,$D162=M4CA1Individuals)","v":false},null,"SRV 5ff Skills Classes (Gardening, Cooking, Nutrition)"]
[null,"SRV 5gg Community Gardening Activities",null,{"$f":"IF(ISBLANK('Services Health'!C48),\"\",'Services Health'!C48)","v":""},null,{"$f":"IF(AND(C163=\"\",D163=\"\"),\"\",IFERROR((D163-C163)/MIN(C163,D163),\"\"))","v":""},{"$f":"IFERROR(D163-C163,\"\")","v":""},null,null,null,null,null,null,null,null,null,null,null,null,null,null,null,null,null,null,"Health",{"$f":"D163<>\"\"","v":false},null,false,null,null,false,false,null,"SRV 5gg Community Gardening Activities"]
[null,"SRV 5hh Incentives (e.g. gift card for food preparation, rewards for participation, etc.)",null,{"$f":"IF(ISBLANK('Services Health'!C49),\"\",'Services Health'!C49)","v":""},null,{"$f":"IF(AND(C164=\"\",D164=\"\"),\"\",IFERROR((D164-C164)/MIN(C164,D164),\"\"))","v":""},{"$f":"IFERROR(D164-C164,\"\")","v":""},null,null,null,null,null,null,null,null,null,null,null,null,null,null,null,null,null,null,"Health",{"$f":"D164<>\"\"","v":false},null,false,null,null,{"$f":"AND($AA164,$D164>M4CA1Individuals)","v":false},{"$f":"AND($AA164,$D164=M4CA1Individuals)","v":false},null,"SRV 5hh Incentives (e.g. gift card for food preparation, rewards for participation, etc.)"]
[null,"SRV 5ii Prepared Meals",null,{"$f":"IF(ISBLANK('Services Health'!C50),\"\",'Services Health'!C50)","v":""},null,{"$f":"IF(AND(C165=\"\",D165=\"\"),\"\",IFERROR((D165-C165)/MIN(C165,D165),\"\"))","v":""},{"$f":"IFERROR(D165-C165,\"\")","v":""},null,null,null,null,null,null,null,null,null,null,null,null,null,null,null,null,null,null,"Health",{"$f":"D165<>\"\"","v":false},null,false,null,null,false,false,null,"SRV 5ii Prepared Meals"]
[null,"SRV 5jj Food Distribution (Food Bags/Boxes, Food Share Program, Bags of Groceries)  ",null,{"$f":"IF(ISBLANK('Services Health'!C51),\"\",'Services Health'!C51)","v":""},null,{"$f":"IF(AND(C166=\"\",D166=\"\"),\"\",IFERROR((D166-C166)/MIN(C166,D166),\"\"))","v":""},{"$f":"IFERROR(D166-C166,\"\")","v":""},null,null,null,null,null,null,null,null,null,null,null,null,null,null,null,null,null,null,"Health",{"$f":"D166<>\"\"","v":false},null,false,null,null,false,false,null,"SRV 5jj Food Distribution (Food Bags/Boxes, Food Share Program, Bags of Groceries)  "]
[null,"Family Skills Development (SRV 5kk-mm)"]
[null,"SRV 5kk Family Mentoring Sessions",null,{"$f":"IF(ISBLANK('Services Health'!C53),\"\",'Services Health'!C53)","v":""},null,{"$f":"IF(AND(C168=\"\",D168=\"\"),\"\",IFERROR((D168-C168)/MIN(C168,D168),\"\"))","v":""},{"$f":"IFERROR(D168-C168,\"\")","v":""},null,null,null,null,null,null,null,null,null,null,null,null,null,null,null,null,null,null,"Health",{"$f":"D168<>\"\"","v":false},null,false,null,null,{"$f":"AND($AA168,$D168>M4CA1Individuals)","v":false},{"$f":"AND($AA168,$D168=M4CA1Individuals)","v":false},null,"SRV 5kk Family Mentoring Sessions"]
[null,"SRV 5ll Life Skills Coaching Sessions",null,{"$f":"IF(ISBLANK('Services Health'!C54),\"\",'Services Health'!C54)","v":""},null,{"$f":"IF(AND(C169=\"\",D169=\"\"),\"\",IFERROR((D169-C169)/MIN(C169,D169),\"\"))","v":""},{"$f":"IFERROR(D169-C169,\"\")","v":""},null,null,null,null,null,null,null,null,null,null,null,null,null,null,null,null,null,null,"Health",{"$f":"D169<>\"\"","v":false},null,false,null,null,{"$f":"AND($AA169,$D169>M4CA1Individuals)","v":false},{"$f":"AND($AA169,$D169=M4CA1Individuals)","v":false},null,"SRV 5ll Life Skills Coaching Sessions"]
[null,"SRV 5mm Parenting Classes",null,{"$f":"IF(ISBLANK('Services Health'!C55),\"\",'Services Health'!C55)","v":""},null,{"$f":"IF(AND(C170=\"\",D170=\"\"),\"\",IFERROR((D170-C170)/MIN(C170,D170),\"\"))","v":""},{"$f":"IFERROR(D170-C170,\"\")","v":""},null,null,null,null,null,null,null,null,null,null,null,null,null,null,null,null,null,null,"Health",{"$f":"D170<>\"\"","v":false},null,false,null,null,{"$f":"AND($AA170,$D170>M4CA1Individuals)","v":false},{"$f":"AND($AA170,$D170=M4CA1Individuals)","v":false},null,"SRV 5mm Parenting Classes"]
[null,"Emergency Hygiene Assistance (SRV 5nn-oo)"]
[null,"SRV 5nn Kits/boxes",null,{"$f":"IF(ISBLANK('Services Health'!C57),\"\",'Services Health'!C57)","v":""},null,{"$f":"IF(AND(C172=\"\",D172=\"\"),\"\",IFERROR((D172-C172)/MIN(C172,D172),\"\"))","v":""},{"$f":"IFERROR(D172-C172,\"\")","v":""},null,null,null,null,null,null,null,null,null,null,null,null,null,null,null,null,null,null,"Health",{"$f":"D172<>\"\"","v":false},null,false,null,null,false,false,null,"SRV 5nn Kits/boxes"]
[null,"SRV 5oo Hygiene Facility Utilizations (e.g. showers, toilets, sinks)",null,{"$f":"IF(ISBLANK('Services Health'!C58),\"\",'Services Health'!C58)","v":""},null,{"$f":"IF(AND(C173=\"\",D173=\"\"),\"\",IFERROR((D173-C173)/MIN(C173,D173),\"\"))","v":""},{"$f":"IFERROR(D173-C173,\"\")","v":""},null,null,null,null,null,null,null,null,null,null,null,null,null,null,null,null,null,null,"Health",{"$f":"D173<>\"\"","v":false},null,false,null,null,false,false,null,"SRV 5oo Hygiene Facility Utilizations (e.g. showers, toilets, sinks)"]
[]
[null,"SRVs",{"$f":"\"FY \" & (FY-1)","v":"FY 2024"},{"$f":"\"FY \" & FY","v":"FY 2025"},null,"% Change",{"$f":"\"Change from FY\" & (FY-1)-2000 & \" - FY\" & (FY-2000)","v":"Change from FY24 - FY25"}]
[null,"Civic Engagement and Community Involvement Services (SRV 6a-f)","Unduplicated Number of \nIndividuals Served","Unduplicated Number of \nIndividuals Served",null,"I.) Number of Participants Served \nin program(s) (#)","I.) Number of Participants Served \nin program(s) (#)"]
[null,"SRV 6a Voter Education and Access",null,{"$f":"IF(ISBLANK('Services Civic Eng. & Comm Inv.'!C8),\"\",'Services Civic Eng. & Comm Inv.'!C8)","v":""},null,{"$f":"IF(AND(C177=\"\",D177=\"\"),\"\",IFERROR((D177-C177)/MIN(C177,D177),\"\"))","v":""},{"$f":"IFERROR(D177-C177,\"\")","v":""},null,null,null,null,null,null,null,null,null,null,null,null,null,null,null,null,null,null,"Civic",{"$f":"D177<>\"\"","v":false},null,false,null,null,{"$f":"AND($AA177,$D177>M4CA1Individuals)","v":false},{"$f":"AND($AA177,$D177=M4CA1Individuals)","v":false},null,"SRV 6a Voter Education and Access"]
[null,"SRV 6b Leadership Training",null,{"$f":"IF(ISBLANK('Services Civic Eng. & Comm Inv.'!C10),\"\",'Services Civic Eng. & Comm Inv.'!C10)","v":""},null,"","",null,null,null,null,null,null,null,null,null,null,null,null,null,null,null,null,null,null,"Civic",false,null,false,null,null,false,false,null,"SRV 6b Leadership Training"]
[null,"SRV 6c Tri-partite Board Membership",null,{"$f":"IF(ISBLANK('Services Civic Eng. & Comm Inv.'!C11),\"\",'Services Civic Eng. & Comm Inv.'!C11)","v":""},null,"","",null,null,null,null,null,null,null,null,null,null,null,null,null,null,null,null,null,null,"Civic",false,null,false,null,null,false,false,null,"SRV 6c Tri-partite Board Membership"]
[null,"SRV 6d Citizenship Classes",null,{"$f":"IF(ISBLANK('Services Civic Eng. & Comm Inv.'!C12),\"\",'Services Civic Eng. & Comm Inv.'!C12)","v":""},null,"","",null,null,null,null,null,null,null,null,null,null,null,null,null,null,null,null,null,null,"Civic",false,null,false,null,null,false,false,null,"SRV 6d Citizenship Classes"]
[null,"SRV 6e Getting Ahead Classes",null,{"$f":"IF(ISBLANK('Services Civic Eng. & Comm Inv.'!C13),\"\",'Services Civic Eng. & Comm Inv.'!C13)","v":""},null,"","",null,null,null,null,null,null,null,null,null,null,null,null,null,null,null,null,null,null,"Civic",false,null,false,null,null,false,false,null,"SRV 6e Getting Ahead Classes"]
[null,"SRV 6f Volunteer Training ",null,{"$f":"IF(ISBLANK('Services Civic Eng. & Comm Inv.'!C14),\"\",'Services Civic Eng. & Comm Inv.'!C14)","v":""},null,"","",null,null,null,null,null,null,null,null,null,null,null,null,null,null,null,null,null,null,"Civic",false,null,false,null,null,false,false,null,"SRV 6f Volunteer Training "]
[]
[null,"SRVs",{"$f":"\"FY \" & (FY-1)","v":"FY 2024"},{"$f":"\"FY \" & FY","v":"FY 2025"},null,"% Change",{"$f":"\"Change from FY\" & (FY-1)-2000 & \" - FY\" & (FY-2000)","v":"Change from FY24 - FY25"}]
[null,"Services Supporting Multiple Domains (SRV 7)","Unduplicated Number of \nIndividuals Served","Unduplicated Number of \nIndividuals Served",null,"I.) Number of Participants Served \nin program(s) (#)","I.) Number of Participants Served \nin program(s) (#)"]
[null,"Case Management (SRV 7a)"]
[null,"SRV 7a Case Management",null,{"$f":"IF(ISBLANK('Services Multiple Domains'!C9),\"\",'Services Multiple Domains'!C9)","v":""},null,{"$f":"IF(AND(C187=\"\",D187=\"\"),\"\",IFERROR((D187-C187)/MIN(C187,D187),\"\"))","v":""},{"$f":"IFERROR(D187-C187,\"\")","v":""},null,null,null,null,null,null,null,null,null,null,null,null,null,null,null,null,null,null,"Outcomes",{"$f":"D187<>\"\"","v":false},null,false,null,null,{"$f":"AND($AA187,$D187>M4CA1Individuals)","v":false},{"$f":"AND($AA187,$D187=M4CA1Individuals)","v":false},null,"SRV 7a Case Management"]
[null,"Eligibility Determinations (SRV 7b)"]
[null,"SRV 7b Eligibility Determinations",null,{"$f":"IF(ISBLANK('Services Multiple Domains'!C11),\"\",'Services Multiple Domains'!C11)","v":""},null,{"$f":"IF(AND(C189=\"\",D189=\"\"),\"\",IFERROR((D189-C189)/MIN(C189,D189),\"\"))","v":""},{"$f":"IFERROR(D189-C189,\"\")","v":""},null,null,null,null,null,null,null,null,null,null,null,null,null,null,null,null,null,null,"Outcomes",{"$f":"D189<>\"\"","v":false},null,false,null,null,false,false,null,"SRV 7b Eligibility Determinations"]
[null,"Referrals (SRV 7c)"]
[null,"SRV 7c Referrals",null,{"$f":"IF(ISBLANK('Services Multiple Domains'!C13),\"\",'Services Multiple Domains'!C13)","v":""},null,{"$f":"IF(AND(C191=\"\",D191=\"\"),\"\",IFERROR((D191-C191)/MIN(C191,D191),\"\"))","v":""},{"$f":"IFERROR(D191-C191,\"\")","v":""},null,null,null,null,null,null,null,null,null,null,null,null,null,null,null,null,null,null,"Outcomes",{"$f":"D191<>\"\"","v":false},null,false,null,null,false,false,null,"SRV 7c Referrals"]
[null,"Transportation Services (SRV 7d)"]
[null,"SRV 7d Transportation Services (e.g. bus passes, bus transport, support for auto purchase or repair; including emergency services)",null,{"$f":"IF(ISBLANK('Services Multiple Domains'!C15),\"\",'Services Multiple Domains'!C15)","v":""},null,{"$f":"IF(AND(C193=\"\",D193=\"\"),\"\",IFERROR((D193-C193)/MIN(C193,D193),\"\"))","v":""},{"$f":"IFERROR(D193-C193,\"\")","v":""},null,null,null,null,null,null,null,null,null,null,null,null,null,null,null,null,null,null,"Outcomes",{"$f":"D193<>\"\"","v":false},null,false,null,null,false,false,null,"SRV 7d Transportation Services (e.g. bus passes, bus transport, support for auto purchase or repair; including emergency services)"]
[null,"Childcare (SRV 7e-f)"]
[null,"SRV 7e Child Care subsidies",null,{"$f":"IF(ISBLANK('Services Multiple Domains'!C17),\"\",'Services Multiple Domains'!C17)","v":""},null,{"$f":"IF(AND(C195=\"\",D195=\"\"),\"\",IFERROR((D195-C195)/MIN(C195,D195),\"\"))","v":""},{"$f":"IFERROR(D195-C195,\"\")","v":""},null,null,null,null,null,null,null,null,null,null,null,null,null,null,null,null,null,null,"Outcomes",{"$f":"D195<>\"\"","v":false},null,false,null,null,{"$f":"AND($AA195,$D195>M4CA1Individuals)","v":false},{"$f":"AND($AA195,$D195=M4CA1Individuals)","v":false},null,"SRV 7e Child Care subsidies"]
[null,"SRV 7f Child Care payments",null,{"$f":"IF(ISBLANK('Services Multiple Domains'!C18),\"\",'Services Multiple Domains'!C18)","v":""},null,{"$f":"IF(AND(C196=\"\",D196=\"\"),\"\",IFERROR((D196-C196)/MIN(C196,D196),\"\"))","v":""},{"$f":"IFERROR(D196-C196,\"\")","v":""},null,null,null,null,null,null,null,null,null,null,null,null,null,null,null,null,null,null,"Outcomes",{"$f":"D196<>\"\"","v":false},null,false,null,null,{"$f":"AND($AA196,$D196>M4CA1Individuals)","v":false},{"$f":"AND($AA196,$D196=M4CA1Individuals)","v":false},null,"SRV 7f Child Care payments"]
[null,"Eldercare (SRV 7g)"]
[null,"SRV 7g Day Centers",null,{"$f":"IF(ISBLANK('Services Multiple Domains'!C20),\"\",'Services Multiple Domains'!C20)","v":""},null,{"$f":"IF(AND(C198=\"\",D198=\"\"),\"\",IFERROR((D198-C198)/MIN(C198,D198),\"\"))","v":""},{"$f":"IFERROR(D198-C198,\"\")","v":""},null,null,null,null,null,null,null,null,null,null,null,null,null,null,null,null,null,null,"Outcomes",{"$f":"D198<>\"\"","v":false},null,false,null,null,{"$f":"AND($AA198,$D198>M4CA1Individuals)","v":false},{"$f":"AND($AA198,$D198=M4CA1Individuals)","v":false},null,"SRV 7g Day Centers"]
[null,"Identification Documents (SRV 7h-j)"]
[null,"SRV 7h Birth Certificate ",null,{"$f":"IF(ISBLANK('Services Multiple Domains'!C22),\"\",'Services Multiple Domains'!C22)","v":""},null,{"$f":"IF(AND(C200=\"\",D200=\"\"),\"\",IFERROR((D200-C200)/MIN(C200,D200),\"\"))","v":""},{"$f":"IFERROR(D200-C200,\"\")","v":""},null,null,null,null,null,null,null,null,null,null,null,null,null,null,null,null,null,null,"Outcomes",{"$f":"D200<>\"\"","v":false},null,false,null,null,{"$f":"AND($AA200,$D200>M4CA1Individuals)","v":false},{"$f":"AND($AA200,$D200=M4CA1Individuals)","v":false},null,"SRV 7h Birth Certificate "]
[null,"SRV 7i Social Security Card ",null,{"$f":"IF(ISBLANK('Services Multiple Domains'!C23),\"\",'Services Multiple Domains'!C23)","v":""},null,{"$f":"IF(AND(C201=\"\",D201=\"\"),\"\",IFERROR((D201-C201)/MIN(C201,D201),\"\"))","v":""},{"$f":"IFERROR(D201-C201,\"\")","v":""},null,null,null,null,null,null,null,null,null,null,null,null,null,null,null,null,null,null,"Outcomes",{"$f":"D201<>\"\"","v":false},null,{"$f":"AND(AA201,C201=D201)","v":false},null,null,{"$f":"AND($AA201,$D201>M4CA1Individuals)","v":false},{"$f":"AND($AA201,$D201=M4CA1Individuals)","v":false},null,{"$f":"B201","v":"SRV 7i Social Security Card "}]
[null,"SRV 7j Driver's License ",null,{"$f":"IF(ISBLANK('Services Multiple Domains'!C24),\"\",'Services Multiple Domains'!C24)","v":""},null,{"$f":"IF(AND(C202=\"\",D202=\"\"),\"\",IFERROR((D202-C202)/MIN(C202,D202),\"\"))","v":""},{"$f":"IFERROR(D202-C202,\"\")","v":""},null,null,null,null,null,null,null,null,null,null,null,null,null,null,null,null,null,null,"Outcomes",{"$f":"D202<>\"\"","v":false},null,false,null,null,{"$f":"AND($AA202,$D202>M4CA1Individuals)","v":false},{"$f":"AND($AA202,$D202=M4CA1Individuals)","v":false},null,"SRV 7j Driver's License "]
[null,"Re-Entry Services (SRV 7k)"]
[null,"SRV 7k Criminal Record Expungements",null,{"$f":"IF(ISBLANK('Services Multiple Domains'!C26),\"\",'Services Multiple Domains'!C26)","v":""},null,{"$f":"IF(AND(C204=\"\",D204=\"\"),\"\",IFERROR((D204-C204)/MIN(C204,D204),\"\"))","v":""},{"$f":"IFERROR(D204-C204,\"\")","v":""},null,null,null,null,null,null,null,null,null,null,null,null,null,null,null,null,null,null,"Outcomes",{"$f":"D204<>\"\"","v":false},null,false,null,null,{"$f":"AND($AA204,$D204>M4CA1Individuals)","v":false},{"$f":"AND($AA204,$D204=M4CA1Individuals)","v":false},null,"SRV 7k Criminal Record Expungements"]
[null,"Legal Assistance (includes emergency legal assistance) (SRV 7l)"]
[null,"SRV 7l Legal Assistance ",null,{"$f":"IF(ISBLANK('Services Multiple Domains'!C28),\"\",'Services Multiple Domains'!C28)","v":""},null,{"$f":"IF(AND(C206=\"\",D206=\"\"),\"\",IFERROR((D206-C206)/MIN(C206,D206),\"\"))","v":""},{"$f":"IFERROR(D206-C206,\"\")","v":""},null,null,null,null,null,null,null,null,null,null,null,null,null,null,null,null,null,null,"Outcomes",{"$f":"D206<>\"\"","v":false},null,false,null,null,{"$f":"AND($AA206,$D206>M4CA1Individuals)","v":false},{"$f":"AND($AA206,$D206=M4CA1Individuals)","v":false},null,"SRV 7l Legal Assistance "]
[null,"Emergency Clothing Assistance (SRV 7m)"]
[null,"SRV 7m Emergency Clothing Assistance",null,{"$f":"IF(ISBLANK('Services Multiple Domains'!C30),\"\",'Services Multiple Domains'!C30)","v":""},null,{"$f":"IF(AND(C208=\"\",D208=\"\"),\"\",IFERROR((D208-C208)/MIN(C208,D208),\"\"))","v":""},{"$f":"IFERROR(D208-C208,\"\")","v":""},null,null,null,null,null,null,null,null,null,null,null,null,null,null,null,null,null,null,"Outcomes",{"$f":"D208<>\"\"","v":false},null,false,null,null,{"$f":"AND($AA208,$D208>M4CA1Individuals)","v":false},{"$f":"AND($AA208,$D208=M4CA1Individuals)","v":false},null,"SRV 7m Emergency Clothing Assistance"]
[null,"Mediation/Customer Advocacy Interventions (debt forgiveness, negotiations or issues with landlords, coordinating with other services or government) (SRV 7n)"]
[null,"SRV 7n Mediation/Customer Advocacy Interventions",null,{"$f":"IF(ISBLANK('Services Multiple Domains'!C32),\"\",'Services Multiple Domains'!C32)","v":""},null,{"$f":"IF(AND(C210=\"\",D210=\"\"),\"\",IFERROR((D210-C210)/MIN(C210,D210),\"\"))","v":""},{"$f":"IFERROR(D210-C210,\"\")","v":""},null,null,null,null,null,null,null,null,null,null,null,null,null,null,null,null,null,null,"Outcomes",{"$f":"D210<>\"\"","v":false},null,false,null,null,false,false,null,"SRV 7n Mediation/Customer Advocacy Interventions"]

{"sheet":"Year-to-Year Characteristics","index":26,"n_rows":224,"n_cols":36,"rows_kept":224,"cut":false,"hidden":false,"merged":[[4,12,5,14],[6,1,6,5],[7,1,7,5],[1,2,1,4],[2,2,2,4],[1,5,1,10],[2,5,2,8]]}
[null,"Goal 1: Individuals and Families with low-incomes are stable and achieve economic security."]
[null,null,"Name of CSBG Eligible Entity Reporting:",null,null,{"$f":"M4AgencyName","v":0},null,null,null,null,null,null,null,null,null,null,null,null,null,null,null,null,null,null,null,"Any_NonA_Set","Any Set",null,"All Same As PY",null,"ACR_C_Total","ACR_D_Total",null,"ACR_E_Total",null,"ACR_F_Total"]
[null,null,"State:",null,null,{"$f":"M4StateName","v":0},null,null,null,"UEI:",{"$f":"M4UEI","v":0},null,null,null,null,null,null,null,null,null,null,null,null,null,null,{"$f":"OR(AA8:AA225,ACR_E_Total>0,ACR_F_Total>0)","v":false},{"$f":"OR(Any_NonA_ACR_Set,AA7)","v":false},null,{"$f":"IF(hasPYData_M4,AND(AA3,AND(AC8:AC210)),FALSE)","v":false},null,{"$f":"SUMIFS(H13:H122,AA13:AA122,\"<>\")","v":0},{"$f":"SUMIFS(H127:H223,AA127:AA223,\"<>\")","v":0},null,{"$f":"SUM(Characteristics!L151:L165)","v":0},null,{"$f":"SUM(Characteristics!L169:L183)","v":0}]
[]
[null,null,null,null,null,null,null,null,null,"% Change",{"$f":"\"Change from FY\" & (FY-1)-2000 & \" - FY\" & (FY-2000)","v":"Change from FY24 - FY25"},null,"The Federal Quality Assurance Review only includes year-to-year checks for ACR A. and ACR B. Unless specifically instructed by the Lead CSBG Agency, the agency does not need to provide explanations on the Comments Template for datapoints under ACR C., ACR D., ACR E., and ACR F."]
[null,null,null,null,null,null,{"$f":"\"FY \" & (FY-1)","v":"FY 2024"},{"$f":"\"FY \" & FY","v":"FY 2025"},null,"I.) Number of Participants Served \nin program(s) (#)","I.) Number of Participants Served \nin program(s) (#)",null,null,null,null,null,null,null,null,null,null,null,null,null,null,null,"Set",null,"Same As PY"]
[null,"A. Total unduplicated number of all INDIVIDUALS about whom one or more characteristics were obtained:",null,null,null,null,null,{"$f":"IF(ISBLANK(Characteristics!N7),\"\",Characteristics!N7)","v":""},null,{"$f":"IF(AND(G7=\"\",H7=\"\"),\"\",IFERROR( (H7-G7)/MIN(H7,G7),\"\"))","v":""},{"$f":"IFERROR(H7-G7,\"\")","v":""},null,null,null,null,null,null,null,null,null,null,null,null,null,null,null,{"$f":"H7<>\"\"","v":false},null,{"$f":"AND(AA7,G7=H7)","v":false}]
[null,"B. Total unduplicated number of all HOUSEHOLDS about whom one or more characteristics were obtained:",null,null,null,null,null,{"$f":"IF(ISBLANK(Characteristics!N8),\"\",Characteristics!N8)","v":""},null,{"$f":"IF(AND(G8=\"\",H8=\"\"),\"\",IFERROR( (H8-G8)/MIN(H8,G8),\"\"))","v":""},{"$f":"IFERROR(H8-G8,\"\")","v":""},null,null,null,null,null,null,null,null,null,null,null,null,null,null,null,{"$f":"H8<>\"\"","v":false},null,{"$f":"AND(AA8,G8=H8)","v":false}]
[]
[null,null,null,null,null,null,null,null,null,"% Change",{"$f":"\"Change from FY\" & (FY-1)-2000 & \" - FY\" & (FY-2000)","v":"Change from FY24 - FY25"}]
[null,"C. INDIVIDUAL LEVEL CHARACTERISTICS",null,null,null,null,{"$f":"\"FY \" & (FY-1)","v":"FY 2024"},{"$f":"\"FY \" & FY","v":"FY 2025"},null,"I.) Number of Participants Served \nin program(s) (#)","I.) Number of Participants Served \nin program(s) (#)"]
[null,"1. Sex",null,null,null,null,null,"Number of Individuals"]
[null,"a.","Male",null,null,null,null,{"$f":"IF(ISBLANK(Characteristics!G12),\"\",Characteristics!G12)","v":""},null,{"$f":"IF(AND(G13=\"\",H13=\"\"),\"\",IFERROR( (H13-G13)/MIN(H13,G13),\"\"))","v":""},{"$f":"IFERROR(H13-G13,\"\")","v":""},null,null,null,null,null,null,null,null,null,null,null,null,null,null,null,{"$f":"H13<>\"\"","v":false},null,{"$f":"AND(AA13,G13=H13)","v":false}]
[null,"b.","Female",null,null,null,null,{"$f":"IF(ISBLANK(Characteristics!G13),\"\",Characteristics!G13)","v":""},null,{"$f":"IF(AND(G14=\"\",H14=\"\"),\"\",IFERROR( (H14-G14)/MIN(H14,G14),\"\"))","v":""},{"$f":"IFERROR(H14-G14,\"\")","v":""},null,null,null,null,null,null,null,null,null,null,null,null,null,null,null,{"$f":"H14<>\"\"","v":false},null,{"$f":"AND(AA14,G14=H14)","v":false}]
[null,"c.","TOTAL (auto calculated)",null,null,null,null,{"$f":"IF(ISBLANK(Characteristics!G14),\"\",Characteristics!G14)","v":0},null,{"$f":"IF(AND(G15=\"\",H15=\"\"),\"\",IFERROR( (H15-G15)/MIN(H15,G15),\"\"))","v":""},{"$f":"IFERROR(H15-G15,\"\")","v":0}]
[]
[null,null,null,null,null,null,null,null,null,"% Change",{"$f":"\"Change from FY\" & (FY-1)-2000 & \" - FY\" & (FY-2000)","v":"Change from FY24 - FY25"}]
[null,null,null,null,null,null,{"$f":"\"FY \" & (FY-1)","v":"FY 2024"},{"$f":"\"FY \" & FY","v":"FY 2025"},null,"I.) Number of Participants Served \nin program(s) (#)","I.) Number of Participants Served \nin program(s) (#)"]
[null,"2. Age",null,null,null,null,null,"Number of Individuals"]
[null,"a.","0-5",null,null,null,null,{"$f":"IF(ISBLANK(Characteristics!G22),\"\",Characteristics!G22)","v":""},null,{"$f":"IF(AND(G20=\"\",H20=\"\"),\"\",IFERROR( (H20-G20)/MIN(H20,G20),\"\"))","v":""},{"$f":"IFERROR(H20-G20,\"\")","v":""},null,null,null,null,null,null,null,null,null,null,null,null,null,null,null,{"$f":"H20<>\"\"","v":false},null,{"$f":"AND(AA20,G20=H20)","v":false}]
[null,"b.","6-13",null,null,null,null,{"$f":"IF(ISBLANK(Characteristics!G23),\"\",Characteristics!G23)","v":""},null,"","",null,null,null,null,null,null,null,null,null,null,null,null,null,null,null,false,null,false]
[null,"c.","14-17",null,null,null,null,{"$f":"IF(ISBLANK(Characteristics!G24),\"\",Characteristics!G24)","v":""},null,"","",null,null,null,null,null,null,null,null,null,null,null,null,null,null,null,false,null,false]
[null,"d.","18-24",null,null,null,null,{"$f":"IF(ISBLANK(Characteristics!G25),\"\",Characteristics!G25)","v":""},null,"","",null,null,null,null,null,null,null,null,null,null,null,null,null,null,null,false,null,false]
[null,"e.","25-44",null,null,null,null,{"$f":"IF(ISBLANK(Characteristics!G26),\"\",Characteristics!G26)","v":""},null,"","",null,null,null,null,null,null,null,null,null,null,null,null,null,null,null,false,null,false]
[null,"f.","45-54",null,null,null,null,{"$f":"IF(ISBLANK(Characteristics!G27),\"\",Characteristics!G27)","v":""},null,"","",null,null,null,null,null,null,null,null,null,null,null,null,null,null,null,false,null,false]
[null,"g.","55-59",null,null,null,null,{"$f":"IF(ISBLANK(Characteristics!G28),\"\",Characteristics!G28)","v":""},null,"","",null,null,null,null,null,null,null,null,null,null,null,null,null,null,null,false,null,false]
[null,"h.","60-64",null,null,null,null,{"$f":"IF(ISBLANK(Characteristics!G29),\"\",Characteristics!G29)","v":""},null,"","",null,null,null,null,null,null,null,null,null,null,null,null,null,null,null,false,null,false]
[null,"i.","65-74",null,null,null,null,{"$f":"IF(ISBLANK(Characteristics!G30),\"\",Characteristics!G30)","v":""},null,"","",null,null,null,null,null,null,null,null,null,null,null,null,null,null,null,false,null,false]
[null,"j.","75+",null,null,null,null,{"$f":"IF(ISBLANK(Characteristics!G31),\"\",Characteristics!G31)","v":""},null,"","",null,null,null,null,null,null,null,null,null,null,null,null,null,null,null,false,null,false]
[null,"k.","Unknown/not reported",null,null,null,null,{"$f":"IF(ISBLANK(Characteristics!G32),\"\",Characteristics!G32)","v":""},null,"","",null,null,null,null,null,null,null,null,null,null,null,null,null,null,null,false,null,false]
[null,"l.","TOTAL (auto calculated)",null,null,null,null,{"$f":"IF(ISBLANK(Characteristics!G33),\"\",Characteristics!G33)","v":0},null,"",0]
[]
[null,null,null,null,null,null,null,null,null,"% Change",{"$f":"\"Change from FY\" & (FY-1)-2000 & \" - FY\" & (FY-2000)","v":"Change from FY24 - FY25"}]
[null,null,null,null,null,null,{"$f":"\"FY \" & (FY-1)","v":"FY 2024"},{"$f":"\"FY \" & FY","v":"FY 2025"},null,"I.) Number of Participants Served \nin program(s) (#)","I.) Number of Participants Served \nin program(s) (#)"]
[null,"3. Education Levels ",null,null,null,null,null,"Number of Individuals"]
[null,null,null,null,null,null,"[ages 14-24]","[ages 14-24]"]
[null,"a.","Grades 0-8",null,null,null,null,{"$f":"IF(ISBLANK(Characteristics!F41),\"\",Characteristics!F41)","v":""},null,{"$f":"IF(AND(G37=\"\",H37=\"\"),\"\",IFERROR( (H37-G37)/MIN(H37,G37),\"\"))","v":""},{"$f":"IFERROR(H37-G37,\"\")","v":""},null,null,null,null,null,null,null,null,null,null,null,null,null,null,null,{"$f":"H37<>\"\"","v":false},null,{"$f":"AND(AA37,G37=H37)","v":false}]
[null,"b.","Grades 9-12/Non-Graduate",null,null,null,null,{"$f":"IF(ISBLANK(Characteristics!F42),\"\",Characteristics!F42)","v":""},null,"","",null,null,null,null,null,null,null,null,null,null,null,null,null,null,null,false,null,false]
[null,"c.","High School Graduate",null,null,null,null,{"$f":"IF(ISBLANK(Characteristics!F43),\"\",Characteristics!F43)","v":""},null,"","",null,null,null,null,null,null,null,null,null,null,null,null,null,null,null,false,null,false]
[null,"d.","GED/Equivalency Diploma",null,null,null,null,{"$f":"IF(ISBLANK(Characteristics!F44),\"\",Characteristics!F44)","v":""},null,"","",null,null,null,null,null,null,null,null,null,null,null,null,null,null,null,false,null,false]
[null,"e.","12 grade + Some Post-Secondary",null,null,null,null,{"$f":"IF(ISBLANK(Characteristics!F45),\"\",Characteristics!F45)","v":""},null,"","",null,null,null,null,null,null,null,null,null,null,null,null,null,null,null,false,null,false]
[null,"f.","2 or 4 years College Graduate",null,null,null,null,{"$f":"IF(ISBLANK(Characteristics!F46),\"\",Characteristics!F46)","v":""},null,"","",null,null,null,null,null,null,null,null,null,null,null,null,null,null,null,false,null,false]
[null,"g.","Graduate of other post-secondary school ",null,null,null,null,{"$f":"IF(ISBLANK(Characteristics!F47),\"\",Characteristics!F47)","v":""},null,"","",null,null,null,null,null,null,null,null,null,null,null,null,null,null,null,false,null,false]
[null,"h.","Unknown/not reported",null,null,null,null,{"$f":"IF(ISBLANK(Characteristics!F48),\"\",Characteristics!F48)","v":""},null,"","",null,null,null,null,null,null,null,null,null,null,null,null,null,null,null,false,null,false]
[null,"i.","TOTAL (auto calculated)",null,null,null,null,{"$f":"IF(ISBLANK(Characteristics!F49),\"\",Characteristics!F49)","v":0},null,"",0]
[]
[null,null,null,null,null,null,"[ages 25+]","[ages 25+]"]
[null,"a.","Grades 0-8",null,null,null,null,{"$f":"IF(ISBLANK(Characteristics!G41),\"\",Characteristics!G41)","v":""},null,{"$f":"IF(AND(G48=\"\",H48=\"\"),\"\",IFERROR( (H48-G48)/MIN(H48,G48),\"\"))","v":""},{"$f":"IFERROR(H48-G48,\"\")","v":""},null,null,null,null,null,null,null,null,null,null,null,null,null,null,null,{"$f":"H48<>\"\"","v":false},null,{"$f":"AND(AA48,G48=H48)","v":false}]
[null,"b.","Grades 9-12/Non-Graduate",null,null,null,null,{"$f":"IF(ISBLANK(Characteristics!G42),\"\",Characteristics!G42)","v":""},null,"","",null,null,null,null,null,null,null,null,null,null,null,null,null,null,null,false,null,false]
[null,"c.","High School Graduate",null,null,null,null,{"$f":"IF(ISBLANK(Characteristics!G43),\"\",Characteristics!G43)","v":""},null,"","",null,null,null,null,null,null,null,null,null,null,null,null,null,null,null,false,null,false]
[null,"d.","GED/Equivalency Diploma",null,null,null,null,{"$f":"IF(ISBLANK(Characteristics!G44),\"\",Characteristics!G44)","v":""},null,"","",null,null,null,null,null,null,null,null,null,null,null,null,null,null,null,false,null,false]
[null,"e.","12 grade + Some Post-Secondary",null,null,null,null,{"$f":"IF(ISBLANK(Characteristics!G45),\"\",Characteristics!G45)","v":""},null,"","",null,null,null,null,null,null,null,null,null,null,null,null,null,null,null,false,null,false]
[null,"f.","2 or 4 years College Graduate",null,null,null,null,{"$f":"IF(ISBLANK(Characteristics!G46),\"\",Characteristics!G46)","v":""},null,"","",null,null,null,null,null,null,null,null,null,null,null,null,null,null,null,false,null,false]
[null,"g.","Graduate of other post-secondary school ",null,null,null,null,{"$f":"IF(ISBLANK(Characteristics!G47),\"\",Characteristics!G47)","v":""},null,"","",null,null,null,null,null,null,null,null,null,null,null,null,null,null,null,false,null,false]
[null,"h.","Unknown/not reported",null,null,null,null,{"$f":"IF(ISBLANK(Characteristics!G48),\"\",Characteristics!G48)","v":""},null,"","",null,null,null,null,null,null,null,null,null,null,null,null,null,null,null,false,null,false]
[null,"i.","TOTAL (auto calculated)",null,null,null,null,{"$f":"IF(ISBLANK(Characteristics!G49),\"\",Characteristics!G49)","v":0},null,"",0]
[]
[null,null,null,null,null,null,null,null,null,"% Change",{"$f":"\"Change from FY\" & (FY-1)-2000 & \" - FY\" & (FY-2000)","v":"Change from FY24 - FY25"}]
[null,null,null,null,null,null,{"$f":"\"FY \" & (FY-1)","v":"FY 2024"},{"$f":"\"FY \" & FY","v":"FY 2025"},null,"I.) Number of Participants Served \nin program(s) (#)","I.) Number of Participants Served \nin program(s) (#)"]
[null,"4. Disconnected Youth",null,null,null,null,null,"Number of Individuals"]
[null,"a. Youth ages 14-24 who are neither working or in school ",null,null,null,null,null,{"$f":"IF(ISBLANK(Characteristics!G60),\"\",Characteristics!G60)","v":""},null,{"$f":"IF(AND(G61=\"\",H61=\"\"),\"\",IFERROR( (H61-G61)/MIN(H61,G61),\"\"))","v":""},{"$f":"IFERROR(H61-G61,\"\")","v":""},null,null,null,null,null,null,null,null,null,null,null,null,null,null,null,{"$f":"H61<>\"\"","v":false},null,{"$f":"AND(AA61,G61=H61)","v":false}]
[]
[null,null,null,null,null,null,null,null,null,"% Change",{"$f":"\"Change from FY\" & (FY-1)-2000 & \" - FY\" & (FY-2000)","v":"Change from FY24 - FY25"}]
[null,null,null,null,null,null,{"$f":"\"FY \" & (FY-1)","v":"FY 2024"},{"$f":"\"FY \" & FY","v":"FY 2025"},null,"I.) Number of Participants Served \nin program(s) (#)","I.) Number of Participants Served \nin program(s) (#)"]
[null,"5. Health",null,null,null,null,null,"Number of Individuals"]
[null,"a. Disabling Condition",null,null,null,"Yes",null,{"$f":"IF(ISBLANK(Characteristics!E64),\"\",Characteristics!E64)","v":""},null,{"$f":"IF(AND(G66=\"\",H66=\"\"),\"\",IFERROR( (H66-G66)/MIN(H66,G66),\"\"))","v":""},{"$f":"IFERROR(H66-G66,\"\")","v":""},null,null,null,null,null,null,null,null,null,null,null,null,null,null,null,{"$f":"H66<>\"\"","v":false},null,{"$f":"AND(AA66,G66=H66)","v":false}]
[null,null,null,null,null,"No",null,{"$f":"IF(ISBLANK(Characteristics!F64),\"\",Characteristics!F64)","v":""},null,{"$f":"IF(AND(G67=\"\",H67=\"\"),\"\",IFERROR( (H67-G67)/MIN(H67,G67),\"\"))","v":""},{"$f":"IFERROR(H67-G67,\"\")","v":""},null,null,null,null,null,null,null,null,null,null,null,null,null,null,null,{"$f":"H67<>\"\"","v":false},null,{"$f":"AND(AA67,G67=H67)","v":false}]
[null,null,null,null,null,"Unknown",null,{"$f":"IF(ISBLANK(Characteristics!G64),\"\",Characteristics!G64)","v":""},null,{"$f":"IF(AND(G68=\"\",H68=\"\"),\"\",IFERROR( (H68-G68)/MIN(H68,G68),\"\"))","v":""},{"$f":"IFERROR(H68-G68,\"\")","v":""},null,null,null,null,null,null,null,null,null,null,null,null,null,null,null,{"$f":"H68<>\"\"","v":false},null,{"$f":"AND(AA68,G68=H68)","v":false}]
[]
[null,"b. Health Insurance*",null,null,null,"Yes",null,{"$f":"IF(ISBLANK(Characteristics!E66),\"\",Characteristics!E66)","v":""},null,{"$f":"IF(AND(G70=\"\",H70=\"\"),\"\",IFERROR( (H70-G70)/MIN(H70,G70),\"\"))","v":""},{"$f":"IFERROR(H70-G70,\"\")","v":""},null,null,null,null,null,null,null,null,null,null,null,null,null,null,null,{"$f":"H70<>\"\"","v":false},null,{"$f":"AND(AA70,G70=H70)","v":false}]
[null,null,null,null,null,"No",null,{"$f":"IF(ISBLANK(Characteristics!F66),\"\",Characteristics!F66)","v":""},null,{"$f":"IF(AND(G71=\"\",H71=\"\"),\"\",IFERROR( (H71-G71)/MIN(H71,G71),\"\"))","v":""},{"$f":"IFERROR(H71-G71,\"\")","v":""},null,null,null,null,null,null,null,null,null,null,null,null,null,null,null,{"$f":"H71<>\"\"","v":false},null,{"$f":"AND(AA71,G71=H71)","v":false}]
[null,null,null,null,null,"Unknown",null,{"$f":"IF(ISBLANK(Characteristics!G66),\"\",Characteristics!G66)","v":""},null,{"$f":"IF(AND(G72=\"\",H72=\"\"),\"\",IFERROR( (H72-G72)/MIN(H72,G72),\"\"))","v":""},{"$f":"IFERROR(H72-G72,\"\")","v":""},null,null,null,null,null,null,null,null,null,null,null,null,null,null,null,{"$f":"H72<>\"\"","v":false},null,{"$f":"AND(AA72,G72=H72)","v":false}]
[null,null,"Health Insurance Sources"]
[null,null,"c.1. Medicaid",null,null,null,null,{"$f":"IF(ISBLANK(Characteristics!G69),\"\",Characteristics!G69)","v":""},null,{"$f":"IF(AND(G74=\"\",H74=\"\"),\"\",IFERROR( (H74-G74)/MIN(H74,G74),\"\"))","v":""},{"$f":"IFERROR(H74-G74,\"\")","v":""},null,null,null,null,null,null,null,null,null,null,null,null,null,null,null,{"$f":"H74<>\"\"","v":false},null,{"$f":"AND(AA74,G74=H74)","v":false}]
[null,null,"c.2. Medicare",null,null,null,null,{"$f":"IF(ISBLANK(Characteristics!G70),\"\",Characteristics!G70)","v":""},null,"","",null,null,null,null,null,null,null,null,null,null,null,null,null,null,null,false,null,false]
[null,null,"c.3. State Children’s Health Insurance Program",null,null,null,null,{"$f":"IF(ISBLANK(Characteristics!G71),\"\",Characteristics!G71)","v":""},null,"","",null,null,null,null,null,null,null,null,null,null,null,null,null,null,null,false,null,false]
[null,null,"c.4. State Health Insurance for Adults",null,null,null,null,{"$f":"IF(ISBLANK(Characteristics!G72),\"\",Characteristics!G72)","v":""},null,"","",null,null,null,null,null,null,null,null,null,null,null,null,null,null,null,false,null,false]
[null,null,"c.5. Military Health Care",null,null,null,null,{"$f":"IF(ISBLANK(Characteristics!G73),\"\",Characteristics!G73)","v":""},null,"","",null,null,null,null,null,null,null,null,null,null,null,null,null,null,null,false,null,false]
[null,null,"c.6. Direct-Purchase",null,null,null,null,{"$f":"IF(ISBLANK(Characteristics!G74),\"\",Characteristics!G74)","v":""},null,"","",null,null,null,null,null,null,null,null,null,null,null,null,null,null,null,false,null,false]
[null,null,"c.7. Employment Based",null,null,null,null,{"$f":"IF(ISBLANK(Characteristics!G75),\"\",Characteristics!G75)","v":""},null,"","",null,null,null,null,null,null,null,null,null,null,null,null,null,null,null,false,null,false]
[null,null,"c.8. Unknown/not reported",null,null,null,null,{"$f":"IF(ISBLANK(Characteristics!G76),\"\",Characteristics!G76)","v":""},null,"","",null,null,null,null,null,null,null,null,null,null,null,null,null,null,null,false,null,false]
[null,null,"c.9. TOTAL (auto calculated)",null,null,null,null,{"$f":"IF(ISBLANK(Characteristics!G77),\"\",Characteristics!G77)","v":0},null,"",0]
[]
[null,null,null,null,null,null,null,null,null,"% Change",{"$f":"\"Change from FY\" & (FY-1)-2000 & \" - FY\" & (FY-2000)","v":"Change from FY24 - FY25"}]
[null,null,null,null,null,null,{"$f":"\"FY \" & (FY-1)","v":"FY 2024"},{"$f":"\"FY \" & FY","v":"FY 2025"},null,"I.) Number of Participants Served \nin program(s) (#)","I.) Number of Participants Served \nin program(s) (#)"]
[null,"6. Ethnicity/Race",null,null,null,null,null,"Number of Individuals"]
[null,"a. Ethnicity"]
[null,null,null,"a.1. Hispanic, Latino or Spanish Origins",null,null,null,{"$f":"IF(ISBLANK(Characteristics!N13),\"\",Characteristics!N13)","v":""},null,{"$f":"IF(AND(G88=\"\",H88=\"\"),\"\",IFERROR( (H88-G88)/MIN(H88,G88),\"\"))","v":""},{"$f":"IFERROR(H88-G88,\"\")","v":""},null,null,null,null,null,null,null,null,null,null,null,null,null,null,null,{"$f":"H88<>\"\"","v":false},null,{"$f":"AND(AA88,G88=H88)","v":false}]
[null,null,null,"a.2. Not Hispanic, Latino or Spanish Origins",null,null,null,{"$f":"IF(ISBLANK(Characteristics!N14),\"\",Characteristics!N14)","v":""},null,{"$f":"IF(AND(G89=\"\",H89=\"\"),\"\",IFERROR( (H89-G89)/MIN(H89,G89),\"\"))","v":""},{"$f":"IFERROR(H89-G89,\"\")","v":""},null,null,null,null,null,null,null,null,null,null,null,null,null,null,null,{"$f":"H89<>\"\"","v":false},null,{"$f":"AND(AA89,G89=H89)","v":false}]
[null,null,null,"a.3. Unknown/not reported",null,null,null,{"$f":"IF(ISBLANK(Characteristics!N15),\"\",Characteristics!N15)","v":""},null,{"$f":"IF(AND(G90=\"\",H90=\"\"),\"\",IFERROR( (H90-G90)/MIN(H90,G90),\"\"))","v":""},{"$f":"IFERROR(H90-G90,\"\")","v":""},null,null,null,null,null,null,null,null,null,null,null,null,null,null,null,{"$f":"H90<>\"\"","v":false},null,{"$f":"AND(AA90,G90=H90)","v":false}]
[null,null,null,"a.4. TOTAL (auto calculated)",null,null,null,{"$f":"IF(ISBLANK(Characteristics!N16),\"\",Characteristics!N16)","v":0},null,{"$f":"IF(AND(G91=\"\",H91=\"\"),\"\",IFERROR( (H91-G91)/MIN(H91,G91),\"\"))","v":""},{"$f":"IFERROR(H91-G91,\"\")","v":0}]
[null,"b. Race"]
[null,null,null,"b.1. American Indian or Alaska Native",null,null,null,{"$f":"IF(ISBLANK(Characteristics!N22),\"\",Characteristics!N22)","v":""},null,{"$f":"IF(AND(G93=\"\",H93=\"\"),\"\",IFERROR( (H93-G93)/MIN(H93,G93),\"\"))","v":""},{"$f":"IFERROR(H93-G93,\"\")","v":""},null,null,null,null,null,null,null,null,null,null,null,null,null,null,null,{"$f":"H93<>\"\"","v":false},null,{"$f":"AND(AA93,G93=H93)","v":false}]
[null,null,null,"b.2. Asian",null,null,null,{"$f":"IF(ISBLANK(Characteristics!N23),\"\",Characteristics!N23)","v":""},null,"","",null,null,null,null,null,null,null,null,null,null,null,null,null,null,null,{"$f":"H94<>\"\"","v":false},null,{"$f":"AND(AA94,G94=H94)","v":false}]
[null,null,null,"b.3. Black or African American",null,null,null,{"$f":"IF(ISBLANK(Characteristics!N24),\"\",Characteristics!N24)","v":""},null,"","",null,null,null,null,null,null,null,null,null,null,null,null,null,null,null,false,null,false]
[null,null,null,"b.4. Native Hawaiian and Other Pacific Islander ",null,null,null,{"$f":"IF(ISBLANK(Characteristics!N25),\"\",Characteristics!N25)","v":""},null,"","",null,null,null,null,null,null,null,null,null,null,null,null,null,null,null,false,null,false]
[null,null,null,"b.5. White",null,null,null,{"$f":"IF(ISBLANK(Characteristics!N26),\"\",Characteristics!N26)","v":""},null,"","",null,null,null,null,null,null,null,null,null,null,null,null,null,null,null,false,null,false]
[null,null,null,"b.6. Other",null,null,null,{"$f":"IF(ISBLANK(Characteristics!N27),\"\",Characteristics!N27)","v":""},null,"","",null,null,null,null,null,null,null,null,null,null,null,null,null,null,null,false,null,false]
[null,null,null,"b.7. Multi-race (two or more of the above)",null,null,null,{"$f":"IF(ISBLANK(Characteristics!N28),\"\",Characteristics!N28)","v":""},null,"","",null,null,null,null,null,null,null,null,null,null,null,null,null,null,null,false,null,false]
[null,null,null,"b.8. Unknown/not reported",null,null,null,{"$f":"IF(ISBLANK(Characteristics!N29),\"\",Characteristics!N29)","v":""},null,"","",null,null,null,null,null,null,null,null,null,null,null,null,null,null,null,false,null,false]
[null,null,null,"b.9. TOTAL (auto calculated)",null," ",null,{"$f":"IF(ISBLANK(Characteristics!N30),\"\",Characteristics!N30)","v":0},null,"",0]
[]
[null,null,null,null,null,null,null,null,null,"% Change",{"$f":"\"Change from FY\" & (FY-1)-2000 & \" - FY\" & (FY-2000)","v":"Change from FY24 - FY25"}]
[null,null,null,null,null,null,{"$f":"\"FY \" & (FY-1)","v":"FY 2024"},{"$f":"\"FY \" & FY","v":"FY 2025"},null,"I.) Number of Participants Served \nin program(s) (#)","I.) Number of Participants Served \nin program(s) (#)"]
[null,"7. Military Status",null,null,null,null,null,"Number of Individuals"]
[null,null,"a. Veteran",null,null,null,null,{"$f":"IF(ISBLANK(Characteristics!N37),\"\",Characteristics!N37)","v":""},null,{"$f":"IF(AND(G106=\"\",H106=\"\"),\"\",IFERROR( (H106-G106)/MIN(H106,G106),\"\"))","v":""},{"$f":"IFERROR(H106-G106,\"\")","v":""},null,null,null,null,null,null,null,null,null,null,null,null,null,null,null,{"$f":"H106<>\"\"","v":false},null,{"$f":"AND(AA106,G106=H106)","v":false}]
[null,null,"b. Active Military",null,null,null,null,{"$f":"IF(ISBLANK(Characteristics!N38),\"\",Characteristics!N38)","v":""},null,{"$f":"IF(AND(G107=\"\",H107=\"\"),\"\",IFERROR( (H107-G107)/MIN(H107,G107),\"\"))","v":""},{"$f":"IFERROR(H107-G107,\"\")","v":""},null,null,null,null,null,null,null,null,null,null,null,null,null,null,null,{"$f":"H107<>\"\"","v":false},null,{"$f":"AND(AA107,G107=H107)","v":false}]
[null,null,"c. Never Served in the Military",null,null,null,null,{"$f":"IF(ISBLANK(Characteristics!N39),\"\",Characteristics!N39)","v":""},null,{"$f":"IF(AND(G108=\"\",H108=\"\"),\"\",IFERROR( (H108-G108)/MIN(H108,G108),\"\"))","v":""},{"$f":"IFERROR(H108-G108,\"\")","v":""},null,null,null,null,null,null,null,null,null,null,null,null,null,null,null,{"$f":"H108<>\"\"","v":false},null,{"$f":"AND(AA108,G108=H108)","v":false}]
[null,null,"d. Unknown/not reported",null,null,null,null,{"$f":"IF(ISBLANK(Characteristics!N40),\"\",Characteristics!N40)","v":""},null,{"$f":"IF(AND(G109=\"\",H109=\"\"),\"\",IFERROR( (H109-G109)/MIN(H109,G109),\"\"))","v":""},{"$f":"IFERROR(H110-G110,\"\")","v":0},null,null,null,null,null,null,null,null,null,null,null,null,null,null,null,{"$f":"H109<>\"\"","v":false},null,{"$f":"AND(AA109,G109=H109)","v":false}]
[null,null,"e. TOTAL (auto calculated)",null,null,null,null,{"$f":"IF(ISBLANK(Characteristics!N41),\"\",Characteristics!N41)","v":0}]
[null,null,null,null,null,null,null,null,null,"% Change",{"$f":"\"Change from FY\" & (FY-1)-2000 & \" - FY\" & (FY-2000)","v":"Change from FY24 - FY25"}]
[null,null,null,null,null,null,{"$f":"\"FY \" & (FY-1)","v":"FY 2024"},{"$f":"\"FY \" & FY","v":"FY 2025"},null,"I.) Number of Participants Served \nin program(s) (#)","I.) Number of Participants Served \nin program(s) (#)"]
[null,"8. Work Status (Individuals 18+)",null,null,null,null,null,"Number of Individuals"]
[null,null,"a. Employed Full-Time",null,null,null,null,{"$f":"IF(ISBLANK(Characteristics!N48),\"\",Characteristics!N48)","v":""},null,{"$f":"IF(AND(G114=\"\",H114=\"\"),\"\",IFERROR( (H114-G114)/MIN(H114,G114),\"\"))","v":""},{"$f":"IFERROR(H114-G114,\"\")","v":""},null,null,null,null,null,null,null,null,null,null,null,null,null,null,null,{"$f":"H114<>\"\"","v":false},null,{"$f":"AND(AA114,G114=H114)","v":false}]
[null,null,"b. Employed Part-Time",null,null,null,null,{"$f":"IF(ISBLANK(Characteristics!N49),\"\",Characteristics!N49)","v":""},null,"","",null,null,null,null,null,null,null,null,null,null,null,null,null,null,null,false,null,false]
[null,null,"c. Migrant Seasonal Farm Worker",null,null,null,null,{"$f":"IF(ISBLANK(Characteristics!N50),\"\",Characteristics!N50)","v":""},null,"","",null,null,null,null,null,null,null,null,null,null,null,null,null,null,null,false,null,false]
[null,null,"d. Unemployed (Short-Term, 6 months or less)",null,null,null,null,{"$f":"IF(ISBLANK(Characteristics!N51),\"\",Characteristics!N51)","v":""},null,"","",null,null,null,null,null,null,null,null,null,null,null,null,null,null,null,false,null,false]
[null,null,"e. Unemployed (Long-Term, more than 6 months) ",null,null,null,null,{"$f":"IF(ISBLANK(Characteristics!N52),\"\",Characteristics!N52)","v":""},null,"","",null,null,null,null,null,null,null,null,null,null,null,null,null,null,null,false,null,false]
[null,null,"f. Unemployed (Not in Labor Force)",null,null,null,null,{"$f":"IF(ISBLANK(Characteristics!N53),\"\",Characteristics!N53)","v":""},null,"","",null,null,null,null,null,null,null,null,null,null,null,null,null,null,null,false,null,false]
[null,null,"g.","Retired",null,null,null,{"$f":"IF(ISBLANK(Characteristics!N54),\"\",Characteristics!N54)","v":""},null,"","",null,null,null,null,null,null,null,null,null,null,null,null,null,null,null,false,null,false]
[null,null,"h.","Unkown/not reported",null,null,null,{"$f":"IF(ISBLANK(Characteristics!N55),\"\",Characteristics!N55)","v":""},null,"","",null,null,null,null,null,null,null,null,null,null,null,null,null,null,null,false,null,false]
[null,null,"i.","Total (autocalculated)",null,null,null,{"$f":"IF(ISBLANK(Characteristics!N56),\"\",Characteristics!N56)","v":0},null,"",0]
[]
[null,null,null,null,null,null,null,null,null,"% Change",{"$f":"\"Change from FY\" & (FY-1)-2000 & \" - FY\" & (FY-2000)","v":"Change from FY24 - FY25"}]
[null,"D. HOUSEHOLD LEVEL CHARACTERISTICS",null,null,null,null,{"$f":"\"FY \" & (FY-1)","v":"FY 2024"},{"$f":"\"FY \" & FY","v":"FY 2025"},null,"I.) Number of Participants Served \nin program(s) (#)","I.) Number of Participants Served \nin program(s) (#)"]
[null,"9. Household Type",null,null,null,null,null,"Number of Households"]
[null,"a. Single Person",null,null,null,null,null,{"$f":"IF(ISBLANK(Characteristics!F90),\"\",Characteristics!F90)","v":""},null,{"$f":"IF(AND(G127=\"\",H127=\"\"),\"\",IFERROR( (H127-G127)/MIN(H127,G127),\"\"))","v":""},{"$f":"IFERROR(H127-G127,\"\")","v":""},null,null,null,null,null,null,null,null,null,null,null,null,null,null,null,{"$f":"H127<>\"\"","v":false},null,{"$f":"AND(AA127,G127=H127)","v":false}]
[null,"b. Two Adults NO Children",null,null,null,null,null,{"$f":"IF(ISBLANK(Characteristics!F91),\"\",Characteristics!F91)","v":""},null,"","",null,null,null,null,null,null,null,null,null,null,null,null,null,null,null,false,null,false]
[null,"c. Single Parent Female",null,null,null,null,null,{"$f":"IF(ISBLANK(Characteristics!F92),\"\",Characteristics!F92)","v":""},null,"","",null,null,null,null,null,null,null,null,null,null,null,null,null,null,null,false,null,false]
[null,"d. Single Parent Male",null,null,null,null,null,{"$f":"IF(ISBLANK(Characteristics!F93),\"\",Characteristics!F93)","v":""},null,"","",null,null,null,null,null,null,null,null,null,null,null,null,null,null,null,false,null,false]
[null,"e. Two Parent Household",null,null,null,null,null,{"$f":"IF(ISBLANK(Characteristics!F94),\"\",Characteristics!F94)","v":""},null,"","",null,null,null,null,null,null,null,null,null,null,null,null,null,null,null,false,null,false]
[null,"f. Non-related Adults with Children",null,null,null,null,null,{"$f":"IF(ISBLANK(Characteristics!F95),\"\",Characteristics!F95)","v":""},null,"","",null,null,null,null,null,null,null,null,null,null,null,null,null,null,null,false,null,false]
[null,"g. Multigenerational Household",null,null,null,null,null,{"$f":"IF(ISBLANK(Characteristics!F96),\"\",Characteristics!F96)","v":""},null,"","",null,null,null,null,null,null,null,null,null,null,null,null,null,null,null,false,null,false]
[null,"h. Other",null,null,null,null,null,{"$f":"IF(ISBLANK(Characteristics!F97),\"\",Characteristics!F97)","v":""},null,"","",null,null,null,null,null,null,null,null,null,null,null,null,null,null,null,false,null,false]
[null,"i. Unknown/not reported",null,null,null,null,null,{"$f":"IF(ISBLANK(Characteristics!F98),\"\",Characteristics!F98)","v":""},null,"","",null,null,null,null,null,null,null,null,null,null,null,null,null,null,null,false,null,false]
[null,null,"j. TOTAL (auto calculated)",null,null,null,null,{"$f":"IF(ISBLANK(Characteristics!F99),\"\",Characteristics!F99)","v":0},null,"",0]
[]
[null,null,null,null,null,null,null,null,null,"% Change",{"$f":"\"Change from FY\" & (FY-1)-2000 & \" - FY\" & (FY-2000)","v":"Change from FY24 - FY25"}]
[null,null,null,null,null,null,{"$f":"\"FY \" & (FY-1)","v":"FY 2024"},{"$f":"\"FY \" & FY","v":"FY 2025"},null,"I.) Number of Participants Served \nin program(s) (#)","I.) Number of Participants Served \nin program(s) (#)"]
[null,"10. Household Size",null,null,null,null,null,"Number of Households"]
[null,"a. Single Person",null,null,null,null,null,{"$f":"IF(ISBLANK(Characteristics!F106),\"\",Characteristics!F106)","v":""},null,{"$f":"IF(AND(G141=\"\",H141=\"\"),\"\",IFERROR( (H141-G141)/MIN(H141,G141),\"\"))","v":""},{"$f":"IFERROR(H141-G141,\"\")","v":""},null,null,null,null,null,null,null,null,null,null,null,null,null,null,null,{"$f":"H141<>\"\"","v":false},null,{"$f":"AND(AA141,G141=H141)","v":false}]
[null,"b. Two",null,null,null,null,null,{"$f":"IF(ISBLANK(Characteristics!F107),\"\",Characteristics!F107)","v":""},null,"","",null,null,null,null,null,null,null,null,null,null,null,null,null,null,null,false,null,false]
[null,"c. Three",null,null,null,null,null,{"$f":"IF(ISBLANK(Characteristics!F108),\"\",Characteristics!F108)","v":""},null,"","",null,null,null,null,null,null,null,null,null,null,null,null,null,null,null,false,null,false]
[null,"d. Four",null,null,null,null,null,{"$f":"IF(ISBLANK(Characteristics!F109),\"\",Characteristics!F109)","v":""},null,"","",null,null,null,null,null,null,null,null,null,null,null,null,null,null,null,false,null,false]
[null,"e. Five",null,null,null,null,null,{"$f":"IF(ISBLANK(Characteristics!F110),\"\",Characteristics!F110)","v":""},null,"","",null,null,null,null,null,null,null,null,null,null,null,null,null,null,null,false,null,false]
[null,"f. Six or more",null,null,null,null,null,{"$f":"IF(ISBLANK(Characteristics!F111),\"\",Characteristics!F111)","v":""},null,"","",null,null,null,null,null,null,null,null,null,null,null,null,null,null,null,false,null,false]
[null,"g. Unknown/not reported",null,null,null,null,null,{"$f":"IF(ISBLANK(Characteristics!F112),\"\",Characteristics!F112)","v":""},null,"","",null,null,null,null,null,null,null,null,null,null,null,null,null,null,null,false,null,false]
[null,"h. TOTAL (auto calculated)",null,null,null,null,null,{"$f":"IF(ISBLANK(Characteristics!F113),\"\",Characteristics!F113)","v":0},null,"",0]
[]
[null,null,null,null,null,null,null,null,null,"% Change",{"$f":"\"Change from FY\" & (FY-1)-2000 & \" - FY\" & (FY-2000)","v":"Change from FY24 - FY25"}]
[null,null,null,null,null,null,{"$f":"\"FY \" & (FY-1)","v":"FY 2024"},{"$f":"\"FY \" & FY","v":"FY 2025"},null,"I.) Number of Participants Served \nin program(s) (#)","I.) Number of Participants Served \nin program(s) (#)"]
[null,"11. Housing ",null,null,null,null,null,"Number of Households"]
[null,"a. Own",null,null,null,null,null,{"$f":"IF(ISBLANK(Characteristics!F120),\"\",Characteristics!F120)","v":""},null,{"$f":"IF(AND(G153=\"\",H153=\"\"),\"\",IFERROR( (H153-G153)/MIN(H153,G153),\"\"))","v":""},{"$f":"IFERROR(H153-G153,\"\")","v":""},null,null,null,null,null,null,null,null,null,null,null,null,null,null,null,{"$f":"H153<>\"\"","v":false},null,{"$f":"AND(AA153,G153=H153)","v":false}]
[null,"b. Rent",null,null,null,null,null,{"$f":"IF(ISBLANK(Characteristics!F121),\"\",Characteristics!F121)","v":""},null,"","",null,null,null,null,null,null,null,null,null,null,null,null,null,null,null,false,null,false]
[null,"c. Other permanent housing",null,null,null,null,null,{"$f":"IF(ISBLANK(Characteristics!F122),\"\",Characteristics!F122)","v":""},null,"","",null,null,null,null,null,null,null,null,null,null,null,null,null,null,null,false,null,false]
[null,"d. Homeless",null,null,null,null,null,{"$f":"IF(ISBLANK(Characteristics!F123),\"\",Characteristics!F123)","v":""},null,"","",null,null,null,null,null,null,null,null,null,null,null,null,null,null,null,false,null,false]
[null,"e. Other",null,null,null,null,null,{"$f":"IF(ISBLANK(Characteristics!F124),\"\",Characteristics!F124)","v":""},null,"","",null,null,null,null,null,null,null,null,null,null,null,null,null,null,null,false,null,false]
[null,"f. Unknown/not reported",null,null,null,null,null,{"$f":"IF(ISBLANK(Characteristics!F125),\"\",Characteristics!F125)","v":""},null,"","",null,null,null,null,null,null,null,null,null,null,null,null,null,null,null,false,null,false]
[null,"g. TOTAL (auto calculated)",null,null,null,null,null,{"$f":"IF(ISBLANK(Characteristics!F126),\"\",Characteristics!F126)","v":0},null,"",0]
[]
[null,null,null,null,null,null,null,null,null,"% Change",{"$f":"\"Change from FY\" & (FY-1)-2000 & \" - FY\" & (FY-2000)","v":"Change from FY24 - FY25"}]
[null,null,null,null,null,null,{"$f":"\"FY \" & (FY-1)","v":"FY 2024"},{"$f":"\"FY \" & FY","v":"FY 2025"},null,"I.) Number of Participants Served \nin program(s) (#)","I.) Number of Participants Served \nin program(s) (#)"]
[null,"12. Level of Household Income",null,null,null,null,null,"Number of Households"]
[null,"(% of HHS Guideline)"]
[null,"a. Up to 50%",null,null,null,null,null,{"$f":"IF(ISBLANK(Characteristics!F134),\"\",Characteristics!F134)","v":""},null,{"$f":"IF(AND(G165=\"\",H165=\"\"),\"\",IFERROR( (H165-G165)/MIN(H165,G165),\"\"))","v":""},{"$f":"IFERROR(H165-G165,\"\")","v":""},null,null,null,null,null,null,null,null,null,null,null,null,null,null,null,{"$f":"H165<>\"\"","v":false},null,{"$f":"AND(AA165,G165=H165)","v":false}]
[null,"b. 51% to 75%  ",null,null,null,null,null,{"$f":"IF(ISBLANK(Characteristics!F135),\"\",Characteristics!F135)","v":""},null,"","",null,null,null,null,null,null,null,null,null,null,null,null,null,null,null,false,null,false]
[null,"c. 76% to 100%",null,null,null,null,null,{"$f":"IF(ISBLANK(Characteristics!F136),\"\",Characteristics!F136)","v":""},null,"","",null,null,null,null,null,null,null,null,null,null,null,null,null,null,null,false,null,false]
[null,"d. 101% to 125%",null,null,null,null,null,{"$f":"IF(ISBLANK(Characteristics!F137),\"\",Characteristics!F137)","v":""},null,"","",null,null,null,null,null,null,null,null,null,null,null,null,null,null,null,false,null,false]
[null,"e. 126% to 150%",null,null,null,null,null,{"$f":"IF(ISBLANK(Characteristics!F138),\"\",Characteristics!F138)","v":""},null,"","",null,null,null,null,null,null,null,null,null,null,null,null,null,null,null,false,null,false]
[null,"f. 151% to 175%",null,null,null,null,null,{"$f":"IF(ISBLANK(Characteristics!F139),\"\",Characteristics!F139)","v":""},null,"","",null,null,null,null,null,null,null,null,null,null,null,null,null,null,null,false,null,false]
[null,"g. 176% to 200%",null,null,null,null,null,{"$f":"IF(ISBLANK(Characteristics!F140),\"\",Characteristics!F140)","v":""},null,"","",null,null,null,null,null,null,null,null,null,null,null,null,null,null,null,false,null,false]
[null,"h. 201% to 250%",null,null,null,null,null,{"$f":"IF(ISBLANK(Characteristics!F141),\"\",Characteristics!F141)","v":""},null,"","",null,null,null,null,null,null,null,null,null,null,null,null,null,null,null,false,null,false]
[null,"i. 250% and over",null,null,null,null,null,{"$f":"IF(ISBLANK(Characteristics!F142),\"\",Characteristics!F142)","v":""},null,"","",null,null,null,null,null,null,null,null,null,null,null,null,null,null,null,false,null,false]
[null,"j. Unknown/not reported",null,null,null,null,null,{"$f":"IF(ISBLANK(Characteristics!F143),\"\",Characteristics!F143)","v":""},null,"","",null,null,null,null,null,null,null,null,null,null,null,null,null,null,null,false,null,false]
[null,"k. TOTAL (auto calculated)",null,null,null,null,null,{"$f":"IF(ISBLANK(Characteristics!F144),\"\",Characteristics!F144)","v":0},null,"",0]
[]
[null,null,null,null,null,null,null,null,null,"% Change",{"$f":"\"Change from FY\" & (FY-1)-2000 & \" - FY\" & (FY-2000)","v":"Change from FY24 - FY25"}]
[null,null,null,null,null,null,{"$f":"\"FY \" & (FY-1)","v":"FY 2024"},{"$f":"\"FY \" & FY","v":"FY 2025"},null,"I.) Number of Participants Served \nin program(s) (#)","I.) Number of Participants Served \nin program(s) (#)"]
[null,"13. Sources of Household Income",null,null,null,null,null,"Number of Households"]
[null,"a. Income from Employment Only ",null,null,null,null,null,{"$f":"IF(ISBLANK(Characteristics!N90),\"\",Characteristics!N90)","v":""},null,{"$f":"IF(AND(G180=\"\",H180=\"\"),\"\",IFERROR( (H180-G180)/MIN(H180,G180),\"\"))","v":""},{"$f":"IFERROR(H180-G180,\"\")","v":""},null,null,null,null,null,null,null,null,null,null,null,null,null,null,null,{"$f":"H180<>\"\"","v":false},null,{"$f":"AND(AA180,G180=H180)","v":false}]
[null,"b. Income from Employment and Other Income Source  ",null,null,null,null,null,{"$f":"IF(ISBLANK(Characteristics!N91),\"\",Characteristics!N91)","v":""},null,"","",null,null,null,null,null,null,null,null,null,null,null,null,null,null,null,false,null,false]
[null,"c. Income from Employment, Other Income Source, and Non-Cash Benefits",null,null,null,null,null,{"$f":"IF(ISBLANK(Characteristics!N92),\"\",Characteristics!N92)","v":""},null,"","",null,null,null,null,null,null,null,null,null,null,null,null,null,null,null,false,null,false]
[null,"d. Income from Employment and Non-Cash Benefits",null,null,null,null,null,{"$f":"IF(ISBLANK(Characteristics!N93),\"\",Characteristics!N93)","v":""},null,"","",null,null,null,null,null,null,null,null,null,null,null,null,null,null,null,false,null,false]
[null,"e. Other Income Source Only",null,null,null,null,null,{"$f":"IF(ISBLANK(Characteristics!N94),\"\",Characteristics!N94)","v":""},null,"","",null,null,null,null,null,null,null,null,null,null,null,null,null,null,null,false,null,false]
[null,"f. Other Income Source and Non-Cash Benefits",null,null,null,null,null,{"$f":"IF(ISBLANK(Characteristics!N95),\"\",Characteristics!N95)","v":""},null,"","",null,null,null,null,null,null,null,null,null,null,null,null,null,null,null,false,null,false]
[null,"g. No Income",null,null,null,null,null,{"$f":"IF(ISBLANK(Characteristics!N96),\"\",Characteristics!N96)","v":""},null,"","",null,null,null,null,null,null,null,null,null,null,null,null,null,null,null,false,null,false]
[null,"h. Non-Cash Benefits Only",null,null,null,null,null,{"$f":"IF(ISBLANK(Characteristics!N97),\"\",Characteristics!N97)","v":""},null,"","",null,null,null,null,null,null,null,null,null,null,null,null,null,null,null,false,null,false]
[null,"i. Unknown/not reported",null,null,null,null,null,{"$f":"IF(ISBLANK(Characteristics!N98),\"\",Characteristics!N98)","v":""},null,"","",null,null,null,null,null,null,null,null,null,null,null,null,null,null,null,false,null,false]
[null,"j. TOTAL (auto calculated)",null,null,null,null,null,{"$f":"IF(ISBLANK(Characteristics!N99),\"\",Characteristics!N99)","v":0},null,"",0]
[]
[null,null,null,null,null,null,null,null,null,"% Change",{"$f":"\"Change from FY\" & (FY-1)-2000 & \" - FY\" & (FY-2000)","v":"Change from FY24 - FY25"}]
[null,null,null,null,null,null,{"$f":"\"FY \" & (FY-1)","v":"FY 2024"},{"$f":"\"FY \" & FY","v":"FY 2025"},null,"I.) Number of Participants Served \nin program(s) (#)","I.) Number of Participants Served \nin program(s) (#)"]
[null,"14. Other Income Source",null,null,null,null,null,"Number of Households"]
[null,"a. TANF",null,null,null,null,null,{"$f":"IF(ISBLANK(Characteristics!N110),\"\",Characteristics!N110)","v":""},null,{"$f":"IF(AND(G194=\"\",H194=\"\"),\"\",IFERROR( (H194-G194)/MIN(H194,G194),\"\"))","v":""},{"$f":"IFERROR(H194-G194,\"\")","v":""},null,null,null,null,null,null,null,null,null,null,null,null,null,null,null,{"$f":"H194<>\"\"","v":false},null,{"$f":"AND(AA194,G194=H194)","v":false}]
[null,"b. Supplemental Security Income (SSI)",null,null,null,null,null,{"$f":"IF(ISBLANK(Characteristics!N111),\"\",Characteristics!N111)","v":""},null,"","",null,null,null,null,null,null,null,null,null,null,null,null,null,null,null,false,null,false]
[null,"c. Social Security Disability Income (SSDI)",null,null,null,null,null,{"$f":"IF(ISBLANK(Characteristics!N112),\"\",Characteristics!N112)","v":""},null,"","",null,null,null,null,null,null,null,null,null,null,null,null,null,null,null,false,null,false]
[null,"d. VA Service-Connected Disability Compensation",null,null,null,null,null,{"$f":"IF(ISBLANK(Characteristics!N113),\"\",Characteristics!N113)","v":""},null,"","",null,null,null,null,null,null,null,null,null,null,null,null,null,null,null,false,null,false]
[null,"e. VA Non-Service Connected Disability Pension",null,null,null,null,null,{"$f":"IF(ISBLANK(Characteristics!N114),\"\",Characteristics!N114)","v":""},null,"","",null,null,null,null,null,null,null,null,null,null,null,null,null,null,null,false,null,false]
[null,"f. Private Disability Insurance",null,null,null,null,null,{"$f":"IF(ISBLANK(Characteristics!N115),\"\",Characteristics!N115)","v":""},null,"","",null,null,null,null,null,null,null,null,null,null,null,null,null,null,null,false,null,false]
[null,"g. Worker’s Compensation",null,null,null,null,null,{"$f":"IF(ISBLANK(Characteristics!N116),\"\",Characteristics!N116)","v":""},null,"","",null,null,null,null,null,null,null,null,null,null,null,null,null,null,null,false,null,false]
[null,"h. Retirement Income from Social Security",null,null,null,null,null,{"$f":"IF(ISBLANK(Characteristics!N117),\"\",Characteristics!N117)","v":""},null,"","",null,null,null,null,null,null,null,null,null,null,null,null,null,null,null,false,null,false]
[null,"i. Pension",null,null,null,null,null,{"$f":"IF(ISBLANK(Characteristics!N118),\"\",Characteristics!N118)","v":""},null,"","",null,null,null,null,null,null,null,null,null,null,null,null,null,null,null,false,null,false]
[null,"j. Child Support",null,null,null,null,null,{"$f":"IF(ISBLANK(Characteristics!N119),\"\",Characteristics!N119)","v":""},null,"","",null,null,null,null,null,null,null,null,null,null,null,null,null,null,null,false,null,false]
[null,"k. Alimony or other Spousal Support",null,null,null,null,null,{"$f":"IF(ISBLANK(Characteristics!N120),\"\",Characteristics!N120)","v":""},null,"","",null,null,null,null,null,null,null,null,null,null,null,null,null,null,null,false,null,false]
[null,"l. Unemployment Insurance",null,null,null,null,null,{"$f":"IF(ISBLANK(Characteristics!N121),\"\",Characteristics!N121)","v":""},null,"","",null,null,null,null,null,null,null,null,null,null,null,null,null,null,null,false,null,false]
[null,"m. EITC",null,null,null,null,null,{"$f":"IF(ISBLANK(Characteristics!N122),\"\",Characteristics!N122)","v":""},null,"","",null,null,null,null,null,null,null,null,null,null,null,null,null,null,null,false,null,false]
[null,"n. Other",null,null,null,null,null,{"$f":"IF(ISBLANK(Characteristics!N123),\"\",Characteristics!N123)","v":""},null,"","",null,null,null,null,null,null,null,null,null,null,null,null,null,null,null,false,null,false]
[null,"o. Unknown/not reported",null,null,null,null,null,{"$f":"IF(ISBLANK(Characteristics!N124),\"\",Characteristics!N124)","v":""},null,"","",null,null,null,null,null,null,null,null,null,null,null,null,null,null,null,false,null,false]
[]
[null,null,null,null,null,null,null,null,null,"% Change",{"$f":"\"Change from FY\" & (FY-1)-2000 & \" - FY\" & (FY-2000)","v":"Change from FY24 - FY25"}]
[null,null,null,null,null,null,{"$f":"\"FY \" & (FY-1)","v":"FY 2024"},{"$f":"\"FY \" & FY","v":"FY 2025"},null,"I.) Number of Participants Served \nin program(s) (#)","I.) Number of Participants Served \nin program(s) (#)"]
[null,"15. Non-Cash Benefits",null,null,null,null,null,"Number of Households"]
[null,"a. SNAP",null,null,null,null,null,{"$f":"IF(ISBLANK(Characteristics!N131),\"\",Characteristics!N131)","v":""},null,{"$f":"IF(AND(G213=\"\",H213=\"\"),\"\",IFERROR( (H213-G213)/MIN(H213,G213),\"\"))","v":""},{"$f":"IFERROR(H213-G213,\"\")","v":""},null,null,null,null,null,null,null,null,null,null,null,null,null,null,null,{"$f":"H213<>\"\"","v":false},null,{"$f":"AND(AA213,G213=H213)","v":false}]
[null,"b. WIC",null,null,null,null,null,{"$f":"IF(ISBLANK(Characteristics!N132),\"\",Characteristics!N132)","v":""},null,"","",null,null,null,null,null,null,null,null,null,null,null,null,null,null,null,false,null,false]
[null,"c. LIHEAP",null,null,null,null,null,{"$f":"IF(ISBLANK(Characteristics!N133),\"\",Characteristics!N133)","v":""},null,"","",null,null,null,null,null,null,null,null,null,null,null,null,null,null,null,false,null,false]
[null,"d. Housing Choice Voucher",null,null,null,null,null,{"$f":"IF(ISBLANK(Characteristics!N134),\"\",Characteristics!N134)","v":""},null,"","",null,null,null,null,null,null,null,null,null,null,null,null,null,null,null,false,null,false]
[null,"e. Public Housing",null,null,null,null,null,{"$f":"IF(ISBLANK(Characteristics!N135),\"\",Characteristics!N135)","v":""},null,"","",null,null,null,null,null,null,null,null,null,null,null,null,null,null,null,false,null,false]
[null,"f. Permanent Supportive Housing",null,null,null,null,null,{"$f":"IF(ISBLANK(Characteristics!N136),\"\",Characteristics!N136)","v":""},null,"","",null,null,null,null,null,null,null,null,null,null,null,null,null,null,null,false,null,false]
[null,"g. HUD-VASH",null,null,null,null,null,{"$f":"IF(ISBLANK(Characteristics!N137),\"\",Characteristics!N137)","v":""},null,"","",null,null,null,null,null,null,null,null,null,null,null,null,null,null,null,false,null,false]
[null,"h. Childcare Voucher",null,null,null,null,null,{"$f":"IF(ISBLANK(Characteristics!N138),\"\",Characteristics!N138)","v":""},null,"","",null,null,null,null,null,null,null,null,null,null,null,null,null,null,null,false,null,false]
[null,"i. Affordable Care Act Subsidy",null,null,null,null,null,{"$f":"IF(ISBLANK(Characteristics!N139),\"\",Characteristics!N139)","v":""},null,"","",null,null,null,null,null,null,null,null,null,null,null,null,null,null,null,false,null,false]
[null,"j. Other",null,null,null,null,null,{"$f":"IF(ISBLANK(Characteristics!N140),\"\",Characteristics!N140)","v":""},null,"","",null,null,null,null,null,null,null,null,null,null,null,null,null,null,null,false,null,false]
[null,"k. Unknown/not reported",null,null,null,null,null,{"$f":"IF(ISBLANK(Characteristics!N141),\"\",Characteristics!N141)","v":""},null,"","",null,null,null,null,null,null,null,null,null,null,null,null,null,null,null,false,null,false]
[null,null,null,null,null,null,null,null,null,null,null,null,null,null,null,null,null,null,null,null,null,null,null,null,null,null,{"$f":"SUM(Characteristics!L151:L165)+SUM(Characteristics!L169:L183)>0","v":false}]

{"sheet":"Identification M2","index":27,"n_rows":12,"n_cols":4,"rows_kept":12,"cut":false,"hidden":false,"merged":[]}
[null,null,"Version:",{"$f":"\"M2-\" & FY & \".1\"","v":"M2-2025.1"}]
[]
[null,null,"State:",{"$f":"M2StateName","v":0}]
[null,null,"Name of CSBG Eligible Entity Reporting:",{"$f":"M2AgencyName","v":0}]
[null,null,"UEI Number:",{"$f":"M2UEI","v":0}]
[null,null,"Organization:","ACF"]
[null,null,"Program Acronym:","CSBG"]
[null,null,"Lead Agency:"]
[null,null,"Grant Number:"]
[]
[null,null,"Report Period Start Date:",{"$f":"(FY-1) & \"-10-01\"","v":"2024-10-01"}]
[null,null,"Report Period End Date:",{"$f":"FY & \"-09-30\"","v":"2025-09-30"}]

{"sheet":"Identification M4","index":28,"n_rows":12,"n_cols":4,"rows_kept":12,"cut":false,"hidden":false,"merged":[]}
[null,null,"Version:",{"$f":"\"M4-\" & FY & \".1\"","v":"M4-2025.1"}]
[]
[null,null,"State:",{"$f":"'XML Export Map M4'!D5","v":0}]
[null,null,"Name of CSBG Eligible Entity Reporting:",{"$f":"'XML Export Map M4'!D6","v":0}]
[null,null,"UEI Number:",{"$f":"'XML Export Map M4'!D9","v":0}]
[null,null,"Organization:","ACF"]
[null,null,"Program Acronym:","CSBG"]
[null,null,"Lead Agency:"]
[null,null,"Grant Number:"]
[]
[null,null,"Report Period Start Date:",{"$f":"(FY-1) & \"-10-01\"","v":"2024-10-01"}]
[null,null,"Report Period End Date:",{"$f":"FY & \"-09-30\"","v":"2025-09-30"}]

{"sheet":"XML Export Map M2","index":29,"n_rows":221,"n_cols":11,"rows_kept":221,"cut":false,"hidden":false,"merged":[]}
[]
["Question/Reference","Smartform Range Name","Address","Value","Type","XML Export Name for DB","Max Length",null,false,"Has PY Data"]
[null,null,null,null,null,null,null,null,{"$f":"FIND(\"]\",J3)","v":55},{"$f":"CELL(\"address\",INDIRECT(B4))","v":"'[UNPROTECTED Modules 2 and 4 SmartForm - 2024-25.xlsm]Identification M2'!$D$8"}]
["leadAgency","M2LeadAgency",{"$f":"\"'='\" & SUBSTITUTE(MID(CELL(\"address\",INDIRECT(B4)),$I$3,100),\"]\",\"\")","v":"'='Identification M2'!$D$8"},{"$f":"M2LeadAgency","v":0},"Text","GRANTEENAME",100]
["State Name","M2StateName",{"$f":"\"'='\" & SUBSTITUTE(MID(CELL(\"address\",INDIRECT(B5)),$I$3,100),\"]\",\"\")","v":"'='Expenditures'!$C$6"},{"$f":"M2StateName","v":0},"Text"]
["Agency Name","M2AgencyName",{"$f":"\"'='\" & SUBSTITUTE(MID(CELL(\"address\",INDIRECT(B6)),$I$3,100),\"]\",\"\")","v":"'='Expenditures'!$C$4"},{"$f":"M2AgencyName","v":0},"Text","ELIGIBLEENTITY"]
["orgAbbrev","M2OrgAbbrev",{"$f":"\"'='\" & SUBSTITUTE(MID(CELL(\"address\",INDIRECT(B7)),$I$3,100),\"]\",\"\")","v":"'='Identification M2'!$D$6"},{"$f":"M2OrgAbbrev","v":"ACF"},"Text","orgAbbrev"]
["programAcronym","M2ProgramAcronym",{"$f":"\"'='\" & SUBSTITUTE(MID(CELL(\"address\",INDIRECT(B8)),$I$3,100),\"]\",\"\")","v":"'='Identification M2'!$D$7"},{"$f":"M2ProgramAcronym","v":"CSBG"},"Text","programAcronym"]
["UEI Number","M2UEI",{"$f":"\"'='\" & SUBSTITUTE(MID(CELL(\"address\",INDIRECT(B9)),$I$3,100),\"]\",\"\")","v":"'='Expenditures'!$D$6"},{"$f":"M2UEI","v":0},"Text","UEI"]
["reportPeriodStartDate","M2ReportPeriodStartDate",{"$f":"\"'='\" & SUBSTITUTE(MID(CELL(\"address\",INDIRECT(B10)),$I$3,100),\"]\",\"\")","v":"'='Identification M2'!$D$11"},{"$f":"M2ReportPeriodStartDate","v":"2024-10-01"},"Date","reportPeriodStartDate"]
["reportPeriodEndDate","M2ReportPeriodEndDate",{"$f":"\"'='\" & SUBSTITUTE(MID(CELL(\"address\",INDIRECT(B11)),$I$3,100),\"]\",\"\")","v":"'='Identification M2'!$D$12"},{"$f":"M2ReportPeriodEndDate","v":"2025-09-30"},"Date","reportPeriodEndDate"]
["grantNumber","M2GrantNumber",{"$f":"\"'='\" & SUBSTITUTE(MID(CELL(\"address\",INDIRECT(B12)),$I$3,100),\"]\",\"\")","v":"'='Identification M2'!$D$9"},{"$f":"M2GrantNumber","v":0},"Text","grantNumber"]
["subGrantee",null,null,true,"True/False","subGrantee"]
["A1_Period","A1_Period",{"$f":"\"'='\" & SUBSTITUTE(MID(CELL(\"address\",INDIRECT(B14)),$I$3,100),\"]\",\"\")","v":"'='Lookups M2'!$C$15"},{"$f":"IF('Lookups M2'!$C$15=\"\",\"\",'Lookups M2'!$C$15)","v":0},"Number","M2A1"]
["A1_Period","Period_1",{"$f":"\"'='\" & SUBSTITUTE(MID(CELL(\"address\",INDIRECT(B15)),$I$3,100),\"]\",\"\")","v":"'='Lookups M2'!$C$16"},{"$f":"IF('Lookups M2'!$C$16=\"\",0,'Lookups M2'!$C$16)","v":false},"True/False","M2A1aJulyToJune",null,null,null,{"$f":"IF(PY_Period_1=\"\",\"\",PY_Period_1)","v":false},{"$f":"\"PY_\"&B15","v":"PY_Period_1"}]
["A1_Period","Period_2",{"$f":"\"'='\" & SUBSTITUTE(MID(CELL(\"address\",INDIRECT(B16)),$I$3,100),\"]\",\"\")","v":"'='Lookups M2'!$C$17"},{"$f":"IF('Lookups M2'!$C$17=\"\",0,'Lookups M2'!$C$17)","v":false},"True/False","M2A1bOctToSept",null,null,null,{"$f":"IF(PY_Period_2=\"\",\"\",PY_Period_2)","v":false},{"$f":"\"PY_\"&B16","v":"PY_Period_2"}]
["A1_Period","Period_3",{"$f":"\"'='\" & SUBSTITUTE(MID(CELL(\"address\",INDIRECT(B17)),$I$3,100),\"]\",\"\")","v":"'='Lookups M2'!$C$18"},{"$f":"IF('Lookups M2'!$C$18=\"\",0,'Lookups M2'!$C$18)","v":false},"True/False","M2A1cJanToDec",null,null,null,{"$f":"IF(PY_Period_3=\"\",\"\",PY_Period_3)","v":false},"PY_Period_3"]
["A2a_Employment","M2A2aEmployment",{"$f":"\"'='\" & SUBSTITUTE(MID(CELL(\"address\",INDIRECT(B18)),$I$3,100),\"]\",\"\")","v":"'='Expenditures'!$D$18"},{"$f":" IF(ISBLANK(M2A2aEmployment),\"\",M2A2aEmployment)","v":""},"Number","M2A2aEmployment",null,null,null,{"$f":"IF(PY_M2A2aEmployment=\"\",\"\",PY_M2A2aEmployment)","v":""},"PY_M2A2aEmployment"]
["A2b_Education","M2A2bEducation",{"$f":"\"'='\" & SUBSTITUTE(MID(CELL(\"address\",INDIRECT(B19)),$I$3,100),\"]\",\"\")","v":"'='Expenditures'!$D$19"},{"$f":" IF(ISBLANK(M2A2bEducation),\"\",M2A2bEducation)","v":""},"Number","M2A2bEducation",null,null,null,{"$f":"IF(PY_M2A2bEducation=\"\",\"\",PY_M2A2bEducation)","v":""},"PY_M2A2bEducation"]
["A2c_Income","M2A2cIncome",{"$f":"\"'='\" & SUBSTITUTE(MID(CELL(\"address\",INDIRECT(B20)),$I$3,100),\"]\",\"\")","v":"'='Expenditures'!$D$20"},{"$f":" IF(ISBLANK(M2A2cIncome),\"\",M2A2cIncome)","v":""},"Number","M2A2cIncome",null,null,null,{"$f":"IF(PY_M2A2cIncome=\"\",\"\",PY_M2A2cIncome)","v":""},"PY_M2A2cIncome"]
["A2d_Housing","M2A2dHousing",{"$f":"\"'='\" & SUBSTITUTE(MID(CELL(\"address\",INDIRECT(B21)),$I$3,100),\"]\",\"\")","v":"'='Expenditures'!$D$21"},{"$f":" IF(ISBLANK(M2A2dHousing),\"\",M2A2dHousing)","v":""},"Number","M2A2dHousing",null,null,null,{"$f":"IF(PY_M2A2dHousing=\"\",\"\",PY_M2A2dHousing)","v":""},"PY_M2A2dHousing"]
["A2e_Health","M2A2eHealth",{"$f":"\"'='\" & SUBSTITUTE(MID(CELL(\"address\",INDIRECT(B22)),$I$3,100),\"]\",\"\")","v":"'='Expenditures'!$D$22"},{"$f":" IF(ISBLANK(M2A2eHealth),\"\",M2A2eHealth)","v":""},"Number","M2A2eHealth",null,null,null,{"$f":"IF(PY_M2A2eHealth=\"\",\"\",PY_M2A2eHealth)","v":""},"PY_M2A2eHealth"]
["A2f_Civic","M2A2fCivic",{"$f":"\"'='\" & SUBSTITUTE(MID(CELL(\"address\",INDIRECT(B23)),$I$3,100),\"]\",\"\")","v":"'='Expenditures'!$D$23"},{"$f":" IF(ISBLANK(M2A2fCivic),\"\",M2A2fCivic)","v":""},"Number","M2A2fCivic",null,null,null,{"$f":"IF(PY_M2A2fCivic=\"\",\"\",PY_M2A2fCivic)","v":""},"PY_M2A2fCivic"]
["A2g_Services","M2A2gServices",{"$f":"\"'='\" & SUBSTITUTE(MID(CELL(\"address\",INDIRECT(B24)),$I$3,100),\"]\",\"\")","v":"'='Expenditures'!$D$24"},{"$f":" IF(ISBLANK(M2A2gServices),\"\",M2A2gServices)","v":""},"Number","M2A2gServices",null,null,null,{"$f":"IF(PY_M2A2gServices=\"\",\"\",PY_M2A2gServices)","v":""},"PY_M2A2gServices"]
["A2h_Linkages","M2A2hLinkages",{"$f":"\"'='\" & SUBSTITUTE(MID(CELL(\"address\",INDIRECT(B25)),$I$3,100),\"]\",\"\")","v":"'='Expenditures'!$D$25"},{"$f":" IF(ISBLANK(M2A2hLinkages),\"\",M2A2hLinkages)","v":""},"Number","M2A2hLinkages",null,null,null,{"$f":"IF(PY_M2A2hLinkages=\"\",\"\",PY_M2A2hLinkages)","v":""},"PY_M2A2hLinkages"]
["A2i_Capacity","M2A2iCapacity",{"$f":"\"'='\" & SUBSTITUTE(MID(CELL(\"address\",INDIRECT(B26)),$I$3,100),\"]\",\"\")","v":"'='Expenditures'!$D$26"},{"$f":" IF(ISBLANK(M2A2iCapacity),\"\",M2A2iCapacity)","v":""},"Number","M2A2iCapacity",null,null,null,{"$f":"IF(PY_M2A2iCapacity=\"\",\"\",PY_M2A2iCapacity)","v":""},"PY_M2A2iCapacity"]
["A2j_Other","M2A2jOther",{"$f":"\"'='\" & SUBSTITUTE(MID(CELL(\"address\",INDIRECT(B27)),$I$3,100),\"]\",\"\")","v":"'='Expenditures'!$D$27"},{"$f":" IF(ISBLANK(M2A2jOther),\"\",M2A2jOther)","v":""},"Number","M2A2jOther",null,null,null,{"$f":"IF(PY_M2A2jOther=\"\",\"\",PY_M2A2jOther)","v":""},"PY_M2A2jOther"]
["A2k_Total","M2A2kTotal",{"$f":"\"'='\" & SUBSTITUTE(MID(CELL(\"address\",INDIRECT(B28)),$I$3,100),\"]\",\"\")","v":"'='Expenditures'!$D$28"},{"$f":" IF(ISBLANK(M2A2kTotal),\"\",M2A2kTotal)","v":0},"Number","M2A2kTotal",null,null,null,{"$f":"IF(PY_M2A2kTotal=\"\",\"\",PY_M2A2kTotal)","v":0},"PY_M2A2kTotal"]
["A3_Admin","M2A3Admin",{"$f":"\"'='\" & SUBSTITUTE(MID(CELL(\"address\",INDIRECT(B29)),$I$3,100),\"]\",\"\")","v":"'='Expenditures'!$D$30"},{"$f":" IF(ISBLANK(M2A3Admin),\"\",M2A3Admin)","v":""},"Number","M2A3Admin",null,null,null,{"$f":"IF(PY_M2A3Admin=\"\",\"\",PY_M2A3Admin)","v":""},"PY_M2A3Admin"]
["A41_Activities","A41_Activities",{"$f":"\"'='\" & SUBSTITUTE(MID(CELL(\"address\",INDIRECT(B30)),$I$3,100),\"]\",\"\")","v":"'='Lookups M2'!$C$20"},{"$f":" IF(ISBLANK(A41_Activities),\"\",A41_Activities)","v":0},"Number",""]
["A41_Activities","M2A41CommunityNeeds",{"$f":"\"'='\" & SUBSTITUTE(MID(CELL(\"address\",INDIRECT(B31)),$I$3,100),\"]\",\"\")","v":"'='Lookups M2'!$C$22"},{"$f":"IF('Lookups M2'!C22=\"\",\"\",'Lookups M2'!C22)","v":false},"True/False","M2A41CommunityNeeds",null,null,null,{"$f":"IF(PY_M2A41CommunityNeeds=\"\",\"\",PY_M2A41CommunityNeeds)","v":false},{"$f":"\"PY_\"&B31","v":"PY_M2A41CommunityNeeds"}]
["A41_Activities","M2A41DataManagement",{"$f":"\"'='\" & SUBSTITUTE(MID(CELL(\"address\",INDIRECT(B32)),$I$3,100),\"]\",\"\")","v":"'='Lookups M2'!$C$23"},{"$f":"IF('Lookups M2'!C23=\"\",\"\",'Lookups M2'!C23)","v":false},"True/False","M2A41DataManagement",null,null,null,{"$f":"IF(PY_M2A41DataManagement=\"\",\"\",PY_M2A41DataManagement)","v":false},"PY_M2A41DataManagement"]
["A41_Other","M2A41Other",{"$f":"\"'='\" & SUBSTITUTE(MID(CELL(\"address\",INDIRECT(B33)),$I$3,100),\"]\",\"\")","v":"'='Lookups M2'!$C$24"},{"$f":"IF('Lookups M2'!$C$24=\"\",\"\",'Lookups M2'!$C$24)","v":false},"True/False","M2A41Other",null,null,null,{"$f":"IF(PY_M2A41Other=\"\",\"\",PY_M2A41Other)","v":false},"PY_M2A41Other"]
["A41_Activities","M2A41StrategicPlanning",{"$f":"\"'='\" & SUBSTITUTE(MID(CELL(\"address\",INDIRECT(B34)),$I$3,100),\"]\",\"\")","v":"'='Lookups M2'!$C$25"},{"$f":"IF('Lookups M2'!$C$25=\"\",\"\",'Lookups M2'!$C$25)","v":false},"True/False","M2A41StrategicPlanning",null,null,null,{"$f":"IF(PY_M2A41StrategicPlanning=\"\",\"\",PY_M2A41StrategicPlanning)","v":false},"PY_M2A41StrategicPlanning"]
["A41_OtherText","M2A41OtherText",{"$f":"\"'='\" & SUBSTITUTE(MID(CELL(\"address\",INDIRECT(B35)),$I$3,100),\"]\",\"\")","v":"'='Expenditures'!$C$42"},{"$f":" IF(ISBLANK(M2A41OtherText),\"\",M2A41OtherText)","v":""},"Text","M2A41OtherText",null,null,null,{"$f":"IF(PY_M2A41OtherText=\"\",\"\",PY_M2A41OtherText)","v":""},"PY_M2A41OtherText"]
["A41_Activities","M2A41Training",{"$f":"\"'='\" & SUBSTITUTE(MID(CELL(\"address\",INDIRECT(B36)),$I$3,100),\"]\",\"\")","v":"'='Lookups M2'!$C$26"},{"$f":"IF('Lookups M2'!$C$26=\"\",\"\",'Lookups M2'!$C$26)","v":false},"True/False","M2A41Training",null,null,null,{"$f":"IF(PY_M2A41Training=\"\",\"\",PY_M2A41Training)","v":false},"PY_M2A41Training"]
["A_Comments","M2AComments",{"$f":"\"'='\" & SUBSTITUTE(MID(CELL(\"address\",INDIRECT(B37)),$I$3,100),\"]\",\"\")","v":"'='Deprecated Fields'!$C$25"},{"$f":" IF(ISBLANK(M2AComments),\"\",M2AComments)","v":""},"Memo","M2AComments",5000,null,null,{"$f":"IF(PY_M2AComments=\"\",\"\",PY_M2AComments)","v":""},"PY_M2AComments"]
["B2a_Board","M2B2aBoard",{"$f":"\"'='\" & SUBSTITUTE(MID(CELL(\"address\",INDIRECT(B38)),$I$3,100),\"]\",\"\")","v":"'='Capacity'!$D$13"},{"$f":" IF(ISBLANK(M2B2aBoard),\"\",M2B2aBoard)","v":""},"Number","M2B2aBoard",null,null,null,{"$f":"IF(PY_M2B2aBoard=\"\",\"\",PY_M2B2aBoard)","v":""},"PY_M2B2aBoard"]
["B2b_Agency","M2B2bAgency",{"$f":"\"'='\" & SUBSTITUTE(MID(CELL(\"address\",INDIRECT(B39)),$I$3,100),\"]\",\"\")","v":"'='Capacity'!$D$14"},{"$f":" IF(ISBLANK(M2B2bAgency),\"\",M2B2bAgency)","v":""},"Number","M2B2bAgency",null,null,null,{"$f":"IF(PY_M2B2bAgency=\"\",\"\",PY_M2B2bAgency)","v":""},"PY_M2B2bAgency"]
["B3a_VolHoursDonated","M2B3aVolHoursDonated",{"$f":"\"'='\" & SUBSTITUTE(MID(CELL(\"address\",INDIRECT(B40)),$I$3,100),\"]\",\"\")","v":"'='Capacity'!$D$17"},{"$f":" IF(ISBLANK(M2B3aVolHoursDonated),\"\",M2B3aVolHoursDonated)","v":""},"Number","M2B3aVolHoursDonated",null,null,null,{"$f":"IF(PY_M2B3aVolHoursDonated=\"\",\"\",PY_M2B3aVolHoursDonated)","v":""},"PY_M2B3aVolHoursDonated"]
["B3a1_HoursLI","M2B3a1HoursLI",{"$f":"\"'='\" & SUBSTITUTE(MID(CELL(\"address\",INDIRECT(B41)),$I$3,100),\"]\",\"\")","v":"'='Capacity'!$D$18"},{"$f":" IF(ISBLANK(M2B3a1HoursLI),\"\",M2B3a1HoursLI)","v":""},"Number","M2B3a1HoursLI",null,null,null,{"$f":"IF(PY_M2B3a1HoursLI=\"\",\"\",PY_M2B3a1HoursLI)","v":""},"PY_M2B3a1HoursLI"]
["B4a_ROMATrainers","M2B4aROMATrainers",{"$f":"\"'='\" & SUBSTITUTE(MID(CELL(\"address\",INDIRECT(B42)),$I$3,100),\"]\",\"\")","v":"'='Capacity'!$D$21"},{"$f":" IF(ISBLANK(M2B4aROMATrainers),\"\",M2B4aROMATrainers)","v":""},"Number","M2B4aROMATrainers",null,null,null,{"$f":"IF(PY_M2B4aROMATrainers=\"\",\"\",PY_M2B4aROMATrainers)","v":""},"PY_M2B4aROMATrainers"]
["B4b_ROMAImplementers","M2B4bROMAImplementers",{"$f":"\"'='\" & SUBSTITUTE(MID(CELL(\"address\",INDIRECT(B43)),$I$3,100),\"]\",\"\")","v":"'='Capacity'!$D$22"},{"$f":" IF(ISBLANK(M2B4bROMAImplementers),\"\",M2B4bROMAImplementers)","v":""},"Number","M2B4bROMAImplementers",null,null,null,{"$f":"IF(PY_M2B4bROMAImplementers=\"\",\"\",PY_M2B4bROMAImplementers)","v":""},"PY_M2B4bROMAImplementers"]
["B4c_CCAP","M2B4cCCAP",{"$f":"\"'='\" & SUBSTITUTE(MID(CELL(\"address\",INDIRECT(B44)),$I$3,100),\"]\",\"\")","v":"'='Capacity'!$D$23"},{"$f":" IF(ISBLANK(M2B4cCCAP),\"\",M2B4cCCAP)","v":""},"Number","M2B4cCCAP",null,null,null,{"$f":"IF(PY_M2B4cCCAP=\"\",\"\",PY_M2B4cCCAP)","v":""},"PY_M2B4cCCAP"]
["B4d_Child","M2B4dChild",{"$f":"\"'='\" & SUBSTITUTE(MID(CELL(\"address\",INDIRECT(B45)),$I$3,100),\"]\",\"\")","v":"'='Capacity'!$D$24"},{"$f":" IF(ISBLANK(M2B4dChild),\"\",M2B4dChild)","v":""},"Number","M2B4dChild",null,null,null,{"$f":"IF(PY_M2B4dChild=\"\",\"\",PY_M2B4dChild)","v":""},"PY_M2B4dChild"]
["B4e_Family","M2B4eFamily",{"$f":"\"'='\" & SUBSTITUTE(MID(CELL(\"address\",INDIRECT(B46)),$I$3,100),\"]\",\"\")","v":"'='Capacity'!$D$25"},{"$f":" IF(ISBLANK(M2B4eFamily),\"\",M2B4eFamily)","v":""},"Number","M2B4eFamily",null,null,null,{"$f":"IF(PY_M2B4eFamily=\"\",\"\",PY_M2B4eFamily)","v":""},"PY_M2B4eFamily"]
["B4f_Pathways","M2B4fPathways",{"$f":"\"'='\" & SUBSTITUTE(MID(CELL(\"address\",INDIRECT(B47)),$I$3,100),\"]\",\"\")","v":"'='Capacity'!$D$26"},{"$f":" IF(ISBLANK(M2B4fPathways),\"\",M2B4fPathways)","v":""},"Number","M2B4fPathways",null,null,null,{"$f":"IF(PY_M2B4fPathways=\"\",\"\",PY_M2B4fPathways)","v":""},"PY_M2B4fPathways"]
["B4g_Home","M2B4gHome",{"$f":"\"'='\" & SUBSTITUTE(MID(CELL(\"address\",INDIRECT(B48)),$I$3,100),\"]\",\"\")","v":"'='Capacity'!$D$27"},{"$f":" IF(ISBLANK(M2B4gHome),\"\",M2B4gHome)","v":""},"Number","M2B4gHome",null,null,null,{"$f":"IF(PY_M2B4gHome=\"\",\"\",PY_M2B4gHome)","v":""},"PY_M2B4gHome"]
["B4g1_Auditors","M2B4g1Auditors",{"$f":"\"'='\" & SUBSTITUTE(MID(CELL(\"address\",INDIRECT(B49)),$I$3,100),\"]\",\"\")","v":"'='Capacity'!$D$28"},{"$f":" IF(ISBLANK(M2B4g1Auditors),\"\",M2B4g1Auditors)","v":""},"Number","M2B4g1Auditors",null,null,null,{"$f":"IF(PY_M2B4g1Auditors=\"\",\"\",PY_M2B4g1Auditors)","v":""},"PY_M2B4g1Auditors"]
["B4g2_Retrofit","M2B4g2Retrofit",{"$f":"\"'='\" & SUBSTITUTE(MID(CELL(\"address\",INDIRECT(B50)),$I$3,100),\"]\",\"\")","v":"'='Capacity'!$D$29"},{"$f":" IF(ISBLANK(M2B4g2Retrofit),\"\",M2B4g2Retrofit)","v":""},"Number","M2B4g2Retrofit",null,null,null,{"$f":"IF(PY_M2B4g2Retrofit=\"\",\"\",PY_M2B4g2Retrofit)","v":""},"PY_M2B4g2Retrofit"]
["B4g3_Crew","M2B4g3Crew",{"$f":"\"'='\" & SUBSTITUTE(MID(CELL(\"address\",INDIRECT(B51)),$I$3,100),\"]\",\"\")","v":"'='Capacity'!$D$30"},{"$f":" IF(ISBLANK(M2B4g3Crew),\"\",M2B4g3Crew)","v":""},"Number","M2B4g3Crew",null,null,null,{"$f":"IF(PY_M2B4g3Crew=\"\",\"\",PY_M2B4g3Crew)","v":""},"PY_M2B4g3Crew"]
["B4g4_QCI","M2B4g4QCI",{"$f":"\"'='\" & SUBSTITUTE(MID(CELL(\"address\",INDIRECT(B52)),$I$3,100),\"]\",\"\")","v":"'='Capacity'!$D$31"},{"$f":" IF(ISBLANK(M2B4g4QCI),\"\",M2B4g4QCI)","v":""},"Number","M2B4g4QCI",null,null,null,{"$f":"IF(PY_M2B4g4QCI=\"\",\"\",PY_M2B4g4QCI)","v":""},"PY_M2B4g4QCI"]
["B4h_LEED","M2B4hLEED",{"$f":"\"'='\" & SUBSTITUTE(MID(CELL(\"address\",INDIRECT(B53)),$I$3,100),\"]\",\"\")","v":"'='Capacity'!$D$32"},{"$f":" IF(ISBLANK(M2B4hLEED),\"\",M2B4hLEED)","v":""},"Number","M2B4hLEED",null,null,null,{"$f":"IF(PY_M2B4hLEED=\"\",\"\",PY_M2B4hLEED)","v":""},"PY_M2B4hLEED"]
["B4i_BPI","M2B4iBPI",{"$f":"\"'='\" & SUBSTITUTE(MID(CELL(\"address\",INDIRECT(B54)),$I$3,100),\"]\",\"\")","v":"'='Capacity'!$D$33"},{"$f":" IF(ISBLANK(M2B4iBPI),\"\",M2B4iBPI)","v":""},"Number","M2B4iBPI",null,null,null,{"$f":"IF(PY_M2B4iBPI=\"\",\"\",PY_M2B4iBPI)","v":""},"PY_M2B4iBPI"]
["B4j_CLASS","M2B4jCLASS",{"$f":"\"'='\" & SUBSTITUTE(MID(CELL(\"address\",INDIRECT(B55)),$I$3,100),\"]\",\"\")","v":"'='Capacity'!$D$34"},{"$f":" IF(ISBLANK(M2B4jCLASS),\"\",M2B4jCLASS)","v":""},"Number","M2B4jCLASS",null,null,null,{"$f":"IF(PY_M2B4jCLASS=\"\",\"\",PY_M2B4jCLASS)","v":""},"PY_M2B4jCLASS"]
["B4k_HQS","M2B4kHQS",{"$f":"\"'='\" & SUBSTITUTE(MID(CELL(\"address\",INDIRECT(B56)),$I$3,100),\"]\",\"\")","v":"'='Capacity'!$D$35"},{"$f":" IF(ISBLANK(M2B4kHQS),\"\",M2B4kHQS)","v":""},"Number","M2B4kHQS",null,null,null,{"$f":"IF(PY_M2B4kHQS=\"\",\"\",PY_M2B4kHQS)","v":""},"PY_M2B4kHQS"]
["B4l_AICP","M2B4lAICP",{"$f":"\"'='\" & SUBSTITUTE(MID(CELL(\"address\",INDIRECT(B57)),$I$3,100),\"]\",\"\")","v":"'='Capacity'!$D$36"},{"$f":" IF(ISBLANK(M2B4lAICP),\"\",M2B4lAICP)","v":""},"Number","M2B4lAICP",null,null,null,{"$f":"IF(PY_M2B4lAICP=\"\",\"\",PY_M2B4lAICP)","v":""},"PY_M2B4lAICP"]
["B4m_Other","M2B4mOther",{"$f":"\"'='\" & SUBSTITUTE(MID(CELL(\"address\",INDIRECT(B58)),$I$3,100),\"]\",\"\")","v":"'='Capacity'!$D$37"},{"$f":" IF(ISBLANK(M2B4mOther),\"\",M2B4mOther)","v":""},"Number","M2B4mOther",null,null,null,{"$f":"IF(PY_M2B4mOther=\"\",\"\",PY_M2B4mOther)","v":""},"PY_M2B4mOther"]
["B4m_Specify","M2B4mSpecify",{"$f":"\"'='\" & SUBSTITUTE(MID(CELL(\"address\",INDIRECT(B59)),$I$3,100),\"]\",\"\")","v":"'='Capacity'!$C$39"},{"$f":" IF(ISBLANK(M2B4mSpecify),\"\",M2B4mSpecify)","v":""},"Text","M2B4mSpecify",null,null,null,{"$f":"IF(PY_M2B4mSpecify=\"\",\"\",PY_M2B4mSpecify)","v":""},"PY_M2B4mSpecify"]
["B5a_NonProfit","M2B5aNonProfit",{"$f":"\"'='\" & SUBSTITUTE(MID(CELL(\"address\",INDIRECT(B60)),$I$3,100),\"]\",\"\")","v":"'='Capacity'!$D$43"},{"$f":" IF(ISBLANK(M2B5aNonProfit),\"\",M2B5aNonProfit)","v":""},"Number","M2B5aNonProfit",null,null,null,{"$f":"IF(PY_M2B5aNonProfit=\"\",\"\",PY_M2B5aNonProfit)","v":""},"PY_M2B5aNonProfit"]
["B5b_Faith","M2B5bFaith",{"$f":"\"'='\" & SUBSTITUTE(MID(CELL(\"address\",INDIRECT(B61)),$I$3,100),\"]\",\"\")","v":"'='Capacity'!$D$44"},{"$f":" IF(ISBLANK(M2B5bFaith),\"\",M2B5bFaith)","v":""},"Number","M2B5bFaith",null,null,null,{"$f":"IF(PY_M2B5bFaith=\"\",\"\",PY_M2B5bFaith)","v":""},"PY_M2B5bFaith"]
["B5c_Local","M2B5cLocal",{"$f":"\"'='\" & SUBSTITUTE(MID(CELL(\"address\",INDIRECT(B62)),$I$3,100),\"]\",\"\")","v":"'='Capacity'!$D$45"},{"$f":" IF(ISBLANK(M2B5cLocal),\"\",M2B5cLocal)","v":""},"Number","M2B5cLocal",null,null,null,{"$f":"IF(PY_M2B5cLocal=\"\",\"\",PY_M2B5cLocal)","v":""},"PY_M2B5cLocal"]
["B5d_State","M2B5dState",{"$f":"\"'='\" & SUBSTITUTE(MID(CELL(\"address\",INDIRECT(B63)),$I$3,100),\"]\",\"\")","v":"'='Capacity'!$D$46"},{"$f":" IF(ISBLANK(M2B5dState),\"\",M2B5dState)","v":""},"Number","M2B5dState",null,null,null,{"$f":"IF(PY_M2B5dState=\"\",\"\",PY_M2B5dState)","v":""},"PY_M2B5dState"]
["B5e_Federal","M2B5eFederal",{"$f":"\"'='\" & SUBSTITUTE(MID(CELL(\"address\",INDIRECT(B64)),$I$3,100),\"]\",\"\")","v":"'='Capacity'!$D$47"},{"$f":" IF(ISBLANK(M2B5eFederal),\"\",M2B5eFederal)","v":""},"Number","M2B5eFederal",null,null,null,{"$f":"IF(PY_M2B5eFederal=\"\",\"\",PY_M2B5eFederal)","v":""},"PY_M2B5eFederal"]
["B5f_ForProfit","M2B5fForProfit",{"$f":"\"'='\" & SUBSTITUTE(MID(CELL(\"address\",INDIRECT(B65)),$I$3,100),\"]\",\"\")","v":"'='Capacity'!$D$48"},{"$f":" IF(ISBLANK(M2B5fForProfit),\"\",M2B5fForProfit)","v":""},"Number","M2B5fForProfit",null,null,null,{"$f":"IF(PY_M2B5fForProfit=\"\",\"\",PY_M2B5fForProfit)","v":""},"PY_M2B5fForProfit"]
["B5g_Consortiums","M2B5gConsortiums",{"$f":"\"'='\" & SUBSTITUTE(MID(CELL(\"address\",INDIRECT(B66)),$I$3,100),\"]\",\"\")","v":"'='Capacity'!$D$49"},{"$f":" IF(ISBLANK(M2B5gConsortiums),\"\",M2B5gConsortiums)","v":""},"Number","M2B5gConsortiums",null,null,null,{"$f":"IF(PY_M2B5gConsortiums=\"\",\"\",PY_M2B5gConsortiums)","v":""},"PY_M2B5gConsortiums"]
["B5h_Schools","M2B5hSchools",{"$f":"\"'='\" & SUBSTITUTE(MID(CELL(\"address\",INDIRECT(B67)),$I$3,100),\"]\",\"\")","v":"'='Capacity'!$D$50"},{"$f":" IF(ISBLANK(M2B5hSchools),\"\",M2B5hSchools)","v":""},"Number","M2B5hSchools",null,null,null,{"$f":"IF(PY_M2B5hSchools=\"\",\"\",PY_M2B5hSchools)","v":""},"PY_M2B5hSchools"]
["B5i_PostSecondary","M2B5iPostSecondary",{"$f":"\"'='\" & SUBSTITUTE(MID(CELL(\"address\",INDIRECT(B68)),$I$3,100),\"]\",\"\")","v":"'='Capacity'!$D$51"},{"$f":" IF(ISBLANK(M2B5iPostSecondary),\"\",M2B5iPostSecondary)","v":""},"Number","M2B5iPostSecondary",null,null,null,{"$f":"IF(PY_M2B5iPostSecondary=\"\",\"\",PY_M2B5iPostSecondary)","v":""},"PY_M2B5iPostSecondary"]
["B5j_Banks","M2B5jBanks",{"$f":"\"'='\" & SUBSTITUTE(MID(CELL(\"address\",INDIRECT(B69)),$I$3,100),\"]\",\"\")","v":"'='Capacity'!$D$52"},{"$f":" IF(ISBLANK(M2B5jBanks),\"\",M2B5jBanks)","v":""},"Number","M2B5jBanks",null,null,null,{"$f":"IF(PY_M2B5jBanks=\"\",\"\",PY_M2B5jBanks)","v":""},"PY_M2B5jBanks"]
["B5k_Health","M2B5kHealth",{"$f":"\"'='\" & SUBSTITUTE(MID(CELL(\"address\",INDIRECT(B70)),$I$3,100),\"]\",\"\")","v":"'='Capacity'!$D$53"},{"$f":" IF(ISBLANK(M2B5kHealth),\"\",M2B5kHealth)","v":""},"Number","M2B5kHealth",null,null,null,{"$f":"IF(PY_M2B5kHealth=\"\",\"\",PY_M2B5kHealth)","v":""},"PY_M2B5kHealth"]
["B5l_Statewide","M2B5lStatewide",{"$f":"\"'='\" & SUBSTITUTE(MID(CELL(\"address\",INDIRECT(B71)),$I$3,100),\"]\",\"\")","v":"'='Capacity'!$D$54"},{"$f":"_xlfn.SINGLE( IF(ISBLANK(_xlfn.SINGLE(M2B5lStatewide)),\"\",M2B5lStatewide))","v":""},"Number","M2B5lStatewide",null,null,null,{"$f":"IF(PY_M2B5lStatewide=\"\",\"\",PY_M2B5lStatewide)","v":""},"PY_M2B5lStatewide"]
["B_Comments","M2BComments",{"$f":"\"'='\" & SUBSTITUTE(MID(CELL(\"address\",INDIRECT(B72)),$I$3,100),\"]\",\"\")","v":"'='Deprecated Fields'!$C$27"},{"$f":" IF(ISBLANK(M2BComments),\"\",M2BComments)","v":"\n"},"Memo","M2BComments",5000,null,null,{"$f":"IF(PY_M2BComments=\"\",\"\",PY_M2BComments)","v":""},"PY_M2BComments"]
["C.2","M2C2AmtAllocated",{"$f":"\"'='\" & SUBSTITUTE(MID(CELL(\"address\",INDIRECT(B73)),$I$3,100),\"]\",\"\")","v":"'='Resources'!$K$14"},{"$f":" IF(ISBLANK(M2C2AmtAllocated),\"\",M2C2AmtAllocated)","v":""},"Number","M2C2AmtAllocated",null,null,null,{"$f":"IF(PY_M2C2AmtAllocated=\"\",\"\",PY_M2C2AmtAllocated)","v":""},"PY_M2C2AmtAllocated"]
["C.3a","M2C3aDOEWx",{"$f":"\"'='\" & SUBSTITUTE(MID(CELL(\"address\",INDIRECT(B74)),$I$3,100),\"]\",\"\")","v":"'='Resources'!$K$19"},{"$f":" IF(ISBLANK(M2C3aDOEWx),\"\",M2C3aDOEWx)","v":""},"Number","M2C3aDOEWx",null,null,null,{"$f":"IF(PY_M2C3aDOEWx=\"\",\"\",PY_M2C3aDOEWx)","v":""},"PY_M2C3aDOEWx"]
["C.3b.1","M2C3b1LIHEAPAssist",{"$f":"\"'='\" & SUBSTITUTE(MID(CELL(\"address\",INDIRECT(B75)),$I$3,100),\"]\",\"\")","v":"'='Resources'!$K$21"},{"$f":" IF(ISBLANK(M2C3b1LIHEAPAssist),\"\",M2C3b1LIHEAPAssist)","v":""},"Number","M2C3b1LIHEAPAssist",null,null,null,{"$f":"IF(PY_M2C3b1LIHEAPAssist=\"\",\"\",PY_M2C3b1LIHEAPAssist)","v":""},"PY_M2C3b1LIHEAPAssist"]
["C.3b.2","M2C3b2LIHEAPWx",{"$f":"\"'='\" & SUBSTITUTE(MID(CELL(\"address\",INDIRECT(B76)),$I$3,100),\"]\",\"\")","v":"'='Resources'!$K$22"},{"$f":" IF(ISBLANK(M2C3b2LIHEAPWx),\"\",M2C3b2LIHEAPWx)","v":""},"Number","M2C3b2LIHEAPWx",null,null,null,{"$f":"IF(PY_M2C3b2LIHEAPWx=\"\",\"\",PY_M2C3b2LIHEAPWx)","v":""},"PY_M2C3b2LIHEAPWx"]
["C.3b.3","M2C3b3HeadStart",{"$f":"\"'='\" & SUBSTITUTE(MID(CELL(\"address\",INDIRECT(B77)),$I$3,100),\"]\",\"\")","v":"'='Resources'!$K$23"},{"$f":" IF(ISBLANK(M2C3b3HeadStart),\"\",M2C3b3HeadStart)","v":""},"Number","M2C3b3HeadStart",null,null,null,{"$f":"IF(PY_M2C3b3HeadStart=\"\",\"\",PY_M2C3b3HeadStart)","v":""},"PY_M2C3b3HeadStart"]
["C.3b.4","M2C3b4EarlyHeadStart",{"$f":"\"'='\" & SUBSTITUTE(MID(CELL(\"address\",INDIRECT(B78)),$I$3,100),\"]\",\"\")","v":"'='Resources'!$K$24"},{"$f":" IF(ISBLANK(M2C3b4EarlyHeadStart),\"\",M2C3b4EarlyHeadStart)","v":""},"Number","M2C3b4EarlyHeadStart",null,null,null,{"$f":"IF(PY_M2C3b4EarlyHeadStart=\"\",\"\",PY_M2C3b4EarlyHeadStart)","v":""},"PY_M2C3b4EarlyHeadStart"]
["C.3b.5","M2C3b5OlderAmericans",{"$f":"\"'='\" & SUBSTITUTE(MID(CELL(\"address\",INDIRECT(B79)),$I$3,100),\"]\",\"\")","v":"'='Resources'!$K$25"},{"$f":" IF(ISBLANK(M2C3b5OlderAmericans),\"\",M2C3b5OlderAmericans)","v":""},"Number","M2C3b5OlderAmericans",null,null,null,{"$f":"IF(PY_M2C3b5OlderAmericans=\"\",\"\",PY_M2C3b5OlderAmericans)","v":""},"PY_M2C3b5OlderAmericans"]
["C.3b.6","M2C3b6SSBG",{"$f":"\"'='\" & SUBSTITUTE(MID(CELL(\"address\",INDIRECT(B80)),$I$3,100),\"]\",\"\")","v":"'='Resources'!$K$26"},{"$f":" IF(ISBLANK(M2C3b6SSBG),\"\",M2C3b6SSBG)","v":""},"Number","M2C3b6SSBG",null,null,null,{"$f":"IF(PY_M2C3b6SSBG=\"\",\"\",PY_M2C3b6SSBG)","v":""},"PY_M2C3b6SSBG"]
["C.3b.7","M2C3b7MedicareMedicaid",{"$f":"\"'='\" & SUBSTITUTE(MID(CELL(\"address\",INDIRECT(B81)),$I$3,100),\"]\",\"\")","v":"'='Resources'!$K$27"},{"$f":" IF(ISBLANK(M2C3b7MedicareMedicaid),\"\",M2C3b7MedicareMedicaid)","v":""},"Number","M2C3b7MedicareMedicaid",null,null,null,{"$f":"IF(PY_M2C3b7MedicareMedicaid=\"\",\"\",PY_M2C3b7MedicareMedicaid)","v":""},"PY_M2C3b7MedicareMedicaid"]
["C.3b.8","M2C3b8AFI",{"$f":"\"'='\" & SUBSTITUTE(MID(CELL(\"address\",INDIRECT(B82)),$I$3,100),\"]\",\"\")","v":"'='Resources'!$K$28"},{"$f":" IF(ISBLANK(M2C3b8AFI),\"\",M2C3b8AFI)","v":""},"Number","M2C3b8AFI",null,null,null,{"$f":"IF(PY_M2C3b8AFI=\"\",\"\",PY_M2C3b8AFI)","v":""},"PY_M2C3b8AFI"]
["C.3b.9","M2C3b9TANF",{"$f":"\"'='\" & SUBSTITUTE(MID(CELL(\"address\",INDIRECT(B83)),$I$3,100),\"]\",\"\")","v":"'='Resources'!$K$29"},{"$f":" IF(ISBLANK(M2C3b9TANF),\"\",M2C3b9TANF)","v":""},"Number","M2C3b9TANF",null,null,null,{"$f":"IF(PY_M2C3b9TANF=\"\",\"\",PY_M2C3b9TANF)","v":""},"PY_M2C3b9TANF"]
["C.3b.10","M2C3b10CCDBG",{"$f":"\"'='\" & SUBSTITUTE(MID(CELL(\"address\",INDIRECT(B84)),$I$3,100),\"]\",\"\")","v":"'='Resources'!$K$30"},{"$f":" IF(ISBLANK(M2C3b10CCDBG),\"\",M2C3b10CCDBG)","v":""},"Number","M2C3b10CCDBG",null,null,null,{"$f":"IF(PY_M2C3b10CCDBG=\"\",\"\",PY_M2C3b10CCDBG)","v":""},"PY_M2C3b10CCDBG"]
["C.3b.11","M2C3b11CED",{"$f":"\"'='\" & SUBSTITUTE(MID(CELL(\"address\",INDIRECT(B85)),$I$3,100),\"]\",\"\")","v":"'='Resources'!$K$31"},{"$f":" IF(ISBLANK(M2C3b11CED),\"\",M2C3b11CED)","v":""},"Number","M2C3b11CED",null,null,null,{"$f":"IF(PY_M2C3b11CED=\"\",\"\",PY_M2C3b11CED)","v":""},"PY_M2C3b11CED"]
["C.3b.12.i.oth","M2C3b12iOtherHHSName",{"$f":"\"'='\" & SUBSTITUTE(MID(CELL(\"address\",INDIRECT(B86)),$I$3,100),\"]\",\"\")","v":"'='Resources'!$F$33"},{"$f":" IF(ISBLANK(M2C3b12iOtherHHSName),\"\",M2C3b12iOtherHHSName)","v":""},"Text","M2C3b12iOtherHHSName",null,null,null,{"$f":"IF(PY_M2C3b12iOtherHHSName=\"\",\"\",PY_M2C3b12iOtherHHSName)","v":""},"PY_M2C3b12iOtherHHSName"]
["C.3b.12.i.CFDA","M2C3b12iOtherHHSCFDA",{"$f":"\"'='\" & SUBSTITUTE(MID(CELL(\"address\",INDIRECT(B87)),$I$3,100),\"]\",\"\")","v":"'='Resources'!$I$33"},{"$f":" IF(ISBLANK(M2C3b12iOtherHHSCFDA),\"\",M2C3b12iOtherHHSCFDA)","v":""},"Text","M2C3b12iOtherHHSCFDA",null,null,null,{"$f":"IF(PY_M2C3b12iOtherHHSCFDA=\"\",\"\",PY_M2C3b12iOtherHHSCFDA)","v":""},"PY_M2C3b12iOtherHHSCFDA"]
["C.3b.12.i","M2C3b12iOtherHHSDollar",{"$f":"\"'='\" & SUBSTITUTE(MID(CELL(\"address\",INDIRECT(B88)),$I$3,100),\"]\",\"\")","v":"'='Resources'!$K$33"},{"$f":" IF(ISBLANK(M2C3b12iOtherHHSDollar),\"\",M2C3b12iOtherHHSDollar)","v":""},"Number","M2C3b12iOtherHHSDollar",null,null,null,{"$f":"IF(PY_M2C3b12iOtherHHSDollar=\"\",\"\",PY_M2C3b12iOtherHHSDollar)","v":""},"PY_M2C3b12iOtherHHSDollar"]
["C.3b.12.ii.oth","M2C3b12iiOtherHHSName",{"$f":"\"'='\" & SUBSTITUTE(MID(CELL(\"address\",INDIRECT(B89)),$I$3,100),\"]\",\"\")","v":"'='Resources'!$F$34"},{"$f":" IF(ISBLANK(M2C3b12iiOtherHHSName),\"\",M2C3b12iiOtherHHSName)","v":""},"Text","M2C3b12iiOtherHHSName",null,null,null,{"$f":"IF(PY_M2C3b12iiOtherHHSName=\"\",\"\",PY_M2C3b12iiOtherHHSName)","v":""},"PY_M2C3b12iiOtherHHSName"]
["C.3b.12.ii.CFDA","M2C3b12iiOtherHHSCFDA",{"$f":"\"'='\" & SUBSTITUTE(MID(CELL(\"address\",INDIRECT(B90)),$I$3,100),\"]\",\"\")","v":"'='Resources'!$I$34"},{"$f":" IF(ISBLANK(M2C3b12iiOtherHHSCFDA),\"\",M2C3b12iiOtherHHSCFDA)","v":""},"Text","M2C3b12iiOtherHHSCFDA",null,null,null,{"$f":"IF(PY_M2C3b12iiOtherHHSCFDA=\"\",\"\",PY_M2C3b12iiOtherHHSCFDA)","v":""},"PY_M2C3b12iiOtherHHSCFDA"]
["C.3b.12.ii","M2C3b12iiOtherHHSDollar",{"$f":"\"'='\" & SUBSTITUTE(MID(CELL(\"address\",INDIRECT(B91)),$I$3,100),\"]\",\"\")","v":"'='Resources'!$K$34"},{"$f":" IF(ISBLANK(M2C3b12iiOtherHHSDollar),\"\",M2C3b12iiOtherHHSDollar)","v":""},"Number","M2C3b12iiOtherHHSDollar",null,null,null,{"$f":"IF(PY_M2C3b12iiOtherHHSDollar=\"\",\"\",PY_M2C3b12iiOtherHHSDollar)","v":""},"PY_M2C3b12iiOtherHHSDollar"]
["C.3b.12.iii.oth","M2C3b12iiiOtherHHSName",{"$f":"\"'='\" & SUBSTITUTE(MID(CELL(\"address\",INDIRECT(B92)),$I$3,100),\"]\",\"\")","v":"'='Resources'!$F$35"},{"$f":" IF(ISBLANK(M2C3b12iiiOtherHHSName),\"\",M2C3b12iiiOtherHHSName)","v":""},"Text","M2C3b12iiiOtherHHSName",null,null,null,{"$f":"IF(PY_M2C3b12iiiOtherHHSName=\"\",\"\",PY_M2C3b12iiiOtherHHSName)","v":""},"PY_M2C3b12iiiOtherHHSName"]
["C.3b.12.iii.CFDA","M2C3b12iiiOtherHHSCFDA",{"$f":"\"'='\" & SUBSTITUTE(MID(CELL(\"address\",INDIRECT(B93)),$I$3,100),\"]\",\"\")","v":"'='Resources'!$I$35"},{"$f":" IF(ISBLANK(M2C3b12iiiOtherHHSCFDA),\"\",M2C3b12iiiOtherHHSCFDA)","v":""},"Text","M2C3b12iiiOtherHHSCFDA",null,null,null,{"$f":"IF(PY_M2C3b12iiiOtherHHSCFDA=\"\",\"\",PY_M2C3b12iiiOtherHHSCFDA)","v":""},"PY_M2C3b12iiiOtherHHSCFDA"]
["C.3b.12.iii","M2C3b12iiiOtherHHSDollar",{"$f":"\"'='\" & SUBSTITUTE(MID(CELL(\"address\",INDIRECT(B94)),$I$3,100),\"]\",\"\")","v":"'='Resources'!$K$35"},{"$f":" IF(ISBLANK(M2C3b12iiiOtherHHSDollar),\"\",M2C3b12iiiOtherHHSDollar)","v":""},"Number","M2C3b12iiiOtherHHSDollar",null,null,null,{"$f":"IF(PY_M2C3b12iiiOtherHHSDollar=\"\",\"\",PY_M2C3b12iiiOtherHHSDollar)","v":""},"PY_M2C3b12iiiOtherHHSDollar"]
["C.3b.12.iv.oth","M2C3b12ivOtherHHSName",{"$f":"\"'='\" & SUBSTITUTE(MID(CELL(\"address\",INDIRECT(B95)),$I$3,100),\"]\",\"\")","v":"'='Resources'!$F$36"},{"$f":" IF(ISBLANK(M2C3b12ivOtherHHSName),\"\",M2C3b12ivOtherHHSName)","v":""},"Text","M2C3b12ivOtherHHSName",null,null,null,{"$f":"IF(PY_M2C3b12ivOtherHHSName=\"\",\"\",PY_M2C3b12ivOtherHHSName)","v":""},{"$f":"\"PY_\"&B95","v":"PY_M2C3b12ivOtherHHSName"}]
["C.3b.12.iv.CFDA","M2C3b12ivOtherHHSCFDA",{"$f":"\"'='\" & SUBSTITUTE(MID(CELL(\"address\",INDIRECT(B96)),$I$3,100),\"]\",\"\")","v":"'='Resources'!$I$36"},{"$f":" IF(ISBLANK(M2C3b12ivOtherHHSCFDA),\"\",M2C3b12ivOtherHHSCFDA)","v":""},"Text","M2C3b12ivOtherHHSCFDA",null,null,null,{"$f":"IF(PY_M2C3b12ivOtherHHSCFDA=\"\",\"\",PY_M2C3b12ivOtherHHSCFDA)","v":""},{"$f":"\"PY_\"&B96","v":"PY_M2C3b12ivOtherHHSCFDA"}]
["C.3b.12.iv","M2C3b12ivOtherHHSDollar",{"$f":"\"'='\" & SUBSTITUTE(MID(CELL(\"address\",INDIRECT(B97)),$I$3,100),\"]\",\"\")","v":"'='Resources'!$K$36"},{"$f":" IF(ISBLANK(M2C3b12ivOtherHHSDollar),\"\",M2C3b12ivOtherHHSDollar)","v":""},"Number","M2C3b12ivOtherHHSDollar",null,null,null,{"$f":"IF(PY_M2C3b12ivOtherHHSDollar=\"\",\"\",PY_M2C3b12ivOtherHHSDollar)","v":""},{"$f":"\"PY_\"&B97","v":"PY_M2C3b12ivOtherHHSDollar"}]
["C.3b.12.v.oth","M2C3b12vOtherHHSName",{"$f":"\"'='\" & SUBSTITUTE(MID(CELL(\"address\",INDIRECT(B98)),$I$3,100),\"]\",\"\")","v":"'='Resources'!$F$37"},"","Text",null,null,"M2C3b12vOtherHHSName"]
["C.3b.12.v.CFDA","M2C3b12vOtherHHSCFDA",{"$f":"\"'='\" & SUBSTITUTE(MID(CELL(\"address\",INDIRECT(B99)),$I$3,100),\"]\",\"\")","v":"'='Resources'!$I$37"},"","Text",null,null,"M2C3b12vOtherHHSCFDA"]
["C.3b.12.v","M2C3b12vOtherHHSDollar",{"$f":"\"'='\" & SUBSTITUTE(MID(CELL(\"address\",INDIRECT(B100)),$I$3,100),\"]\",\"\")","v":"'='Resources'!$K$37"},"","Number",null,null,"M2C3b12vOtherHHSDollar"]
["C.3b.12.vi.oth","M2C3b12viOtherHHSName",{"$f":"\"'='\" & SUBSTITUTE(MID(CELL(\"address\",INDIRECT(B101)),$I$3,100),\"]\",\"\")","v":"'='Resources'!$F$38"},"","Text",null,null,"M2C3b12viOtherHHSName"]
["C.3b.12.vi.CFDA","M2C3b12viOtherHHSCFDA",{"$f":"\"'='\" & SUBSTITUTE(MID(CELL(\"address\",INDIRECT(B102)),$I$3,100),\"]\",\"\")","v":"'='Resources'!$I$38"},"","Text",null,null,"M2C3b12viOtherHHSCFDA"]
["C.3b.12.vi","M2C3b12viOtherHHSDollar",{"$f":"\"'='\" & SUBSTITUTE(MID(CELL(\"address\",INDIRECT(B103)),$I$3,100),\"]\",\"\")","v":"'='Resources'!$K$38"},"","Number",null,null,"M2C3b12viOtherHHSDollar"]
["C.3b.12.vii.oth","M2C3b12viiOtherHHSName",{"$f":"\"'='\" & SUBSTITUTE(MID(CELL(\"address\",INDIRECT(B104)),$I$3,100),\"]\",\"\")","v":"'='Resources'!$F$39"},"","Text",null,null,"M2C3b12viiOtherHHSName"]
["C.3b.12.vii.CFDA","M2C3b12viiOtherHHSCFDA",{"$f":"\"'='\" & SUBSTITUTE(MID(CELL(\"address\",INDIRECT(B105)),$I$3,100),\"]\",\"\")","v":"'='Resources'!$I$39"},"","Text",null,null,"M2C3b12viiOtherHHSCFDA"]
["C.3b.12.vii","M2C3b12viiOtherHHSDollar",{"$f":"\"'='\" & SUBSTITUTE(MID(CELL(\"address\",INDIRECT(B106)),$I$3,100),\"]\",\"\")","v":"'='Resources'!$K$39"},"","Number",null,null,"M2C3b12viiOtherHHSDollar"]
["C.3b.12.viii.oth","M2C3b12viiiOtherHHSName",{"$f":"\"'='\" & SUBSTITUTE(MID(CELL(\"address\",INDIRECT(B107)),$I$3,100),\"]\",\"\")","v":"'='Resources'!$F$40"},"","Text",null,null,"M2C3b12viiiOtherHHSName"]
["C.3b.12.viii.CFDA","M2C3b12viiiOtherHHSCFDA",{"$f":"\"'='\" & SUBSTITUTE(MID(CELL(\"address\",INDIRECT(B108)),$I$3,100),\"]\",\"\")","v":"'='Resources'!$I$40"},"","Text",null,null,"M2C3b12viiiOtherHHSCFDA"]
["C.3b.12.viii","M2C3b12viiiOtherHHSDollar",{"$f":"\"'='\" & SUBSTITUTE(MID(CELL(\"address\",INDIRECT(B109)),$I$3,100),\"]\",\"\")","v":"'='Resources'!$K$40"},"","Number",null,null,"M2C3b12viiiOtherHHSDollar"]
["C.3b.12.ix.oth","M2C3b12ixOtherHHSName",{"$f":"\"'='\" & SUBSTITUTE(MID(CELL(\"address\",INDIRECT(B110)),$I$3,100),\"]\",\"\")","v":"'='Resources'!$F$41"},"","Text",null,null,"M2C3b12ixOtherHHSName"]
["C.3b.12.ix.CFDA","M2C3b12ixOtherHHSCFDA",{"$f":"\"'='\" & SUBSTITUTE(MID(CELL(\"address\",INDIRECT(B111)),$I$3,100),\"]\",\"\")","v":"'='Resources'!$I$41"},"","Text",null,null,"M2C3b12ixOtherHHSCFDA"]
["C.3b.12.ix","M2C3b12ixOtherHHSDollar",{"$f":"\"'='\" & SUBSTITUTE(MID(CELL(\"address\",INDIRECT(B112)),$I$3,100),\"]\",\"\")","v":"'='Resources'!$K$41"},"","Number",null,null,"M2C3b12ixOtherHHSDollar"]
["C.3b.12.x.oth","M2C3b12xOtherHHSName",{"$f":"\"'='\" & SUBSTITUTE(MID(CELL(\"address\",INDIRECT(B113)),$I$3,100),\"]\",\"\")","v":"'='Resources'!$F$42"},"","Text",null,null,"M2C3b12xOtherHHSName"]
["C.3b.12.x.CFDA","M2C3b12xOtherHHSCFDA",{"$f":"\"'='\" & SUBSTITUTE(MID(CELL(\"address\",INDIRECT(B114)),$I$3,100),\"]\",\"\")","v":"'='Resources'!$I$42"},"","Text",null,null,"M2C3b12xOtherHHSCFDA"]
["C.3b.12.x","M2C3b12xOtherHHSDollar",{"$f":"\"'='\" & SUBSTITUTE(MID(CELL(\"address\",INDIRECT(B115)),$I$3,100),\"]\",\"\")","v":"'='Resources'!$K$42"},"","Number",null,null,"M2C3b12xOtherHHSDollar"]
["C.3b.13","M2C3b13TotalHHS",{"$f":"\"'='\" & SUBSTITUTE(MID(CELL(\"address\",INDIRECT(B116)),$I$3,100),\"]\",\"\")","v":"'='Resources'!$K$44"},{"$f":" IF(ISBLANK(M2C3b13TotalHHS),\"\",M2C3b13TotalHHS)","v":0},"Number","M2C3b13TotalHHS",null,null,null,{"$f":"IF(PY_M2C3b13TotalHHS=\"\",\"\",PY_M2C3b13TotalHHS)","v":0},{"$f":"\"PY_\"&B116","v":"PY_M2C3b13TotalHHS"}]
["C.3c.1","M2C3c1WIC",{"$f":"\"'='\" & SUBSTITUTE(MID(CELL(\"address\",INDIRECT(B117)),$I$3,100),\"]\",\"\")","v":"'='Resources'!$K$46"},{"$f":" IF(ISBLANK(M2C3c1WIC),\"\",M2C3c1WIC)","v":""},"Number","M2C3c1WIC",null,null,null,{"$f":"IF(PY_M2C3c1WIC=\"\",\"\",PY_M2C3c1WIC)","v":""},"PY_M2C3c1WIC"]
["C.3c.2","M2C3c2USDANonFood",{"$f":"\"'='\" & SUBSTITUTE(MID(CELL(\"address\",INDIRECT(B118)),$I$3,100),\"]\",\"\")","v":"'='Resources'!$K$47"},{"$f":" IF(ISBLANK(M2C3c2USDANonFood),\"\",M2C3c2USDANonFood)","v":""},"Number","M2C3c2USDANonFood",null,null,null,{"$f":"IF(PY_M2C3c2USDANonFood=\"\",\"\",PY_M2C3c2USDANonFood)","v":""},"PY_M2C3c2USDANonFood"]
["C.3c.3","M2C3c3USDAFood",{"$f":"\"'='\" & SUBSTITUTE(MID(CELL(\"address\",INDIRECT(B119)),$I$3,100),\"]\",\"\")","v":"'='Resources'!$K$48"},{"$f":" IF(ISBLANK(M2C3c3USDAFood),\"\",M2C3c3USDAFood)","v":""},"Number","M2C3c3USDAFood",null,null,null,{"$f":"IF(PY_M2C3c3USDAFood=\"\",\"\",PY_M2C3c3USDAFood)","v":""},"PY_M2C3c3USDAFood"]
["C.3d.1","M2C3d1CDBG",{"$f":"\"'='\" & SUBSTITUTE(MID(CELL(\"address\",INDIRECT(B120)),$I$3,100),\"]\",\"\")","v":"'='Resources'!$K$50"},{"$f":" IF(ISBLANK(M2C3d1CDBG),\"\",M2C3d1CDBG)","v":""},"Number","M2C3d1CDBG",null,null,null,{"$f":"IF(PY_M2C3d1CDBG=\"\",\"\",PY_M2C3d1CDBG)","v":""},"PY_M2C3d1CDBG"]
["C.3d.2","M2C3d2Sect8",{"$f":"\"'='\" & SUBSTITUTE(MID(CELL(\"address\",INDIRECT(B121)),$I$3,100),\"]\",\"\")","v":"'='Resources'!$K$51"},{"$f":" IF(ISBLANK(M2C3d2Sect8),\"\",M2C3d2Sect8)","v":""},"Number","M2C3d2Sect8",null,null,null,{"$f":"IF(PY_M2C3d2Sect8=\"\",\"\",PY_M2C3d2Sect8)","v":""},"PY_M2C3d2Sect8"]
["C.3d.3","M2C3d3Sect202",{"$f":"\"'='\" & SUBSTITUTE(MID(CELL(\"address\",INDIRECT(B122)),$I$3,100),\"]\",\"\")","v":"'='Resources'!$K$52"},{"$f":" IF(ISBLANK(M2C3d3Sect202),\"\",M2C3d3Sect202)","v":""},"Number","M2C3d3Sect202",null,null,null,{"$f":"IF(PY_M2C3d3Sect202=\"\",\"\",PY_M2C3d3Sect202)","v":""},"PY_M2C3d3Sect202"]
["C.3d.4","M2C3d4HOMETBRA",{"$f":"\"'='\" & SUBSTITUTE(MID(CELL(\"address\",INDIRECT(B123)),$I$3,100),\"]\",\"\")","v":"'='Resources'!$K$53"},{"$f":" IF(ISBLANK(M2C3d4HOMETBRA),\"\",M2C3d4HOMETBRA)","v":""},"Number","M2C3d4HOMETBRA",null,null,null,{"$f":"IF(PY_M2C3d4HOMETBRA=\"\",\"\",PY_M2C3d4HOMETBRA)","v":""},"PY_M2C3d4HOMETBRA"]
["C.3d.5","M2C3d5H4H",{"$f":"\"'='\" & SUBSTITUTE(MID(CELL(\"address\",INDIRECT(B124)),$I$3,100),\"]\",\"\")","v":"'='Resources'!$K$54"},{"$f":" IF(ISBLANK(M2C3d5H4H),\"\",M2C3d5H4H)","v":""},"Number","M2C3d5H4H",null,null,null,{"$f":"IF(PY_M2C3d5H4H=\"\",\"\",PY_M2C3d5H4H)","v":""},"PY_M2C3d5H4H"]
["C.3d.6","M2C3d6ESG",{"$f":"\"'='\" & SUBSTITUTE(MID(CELL(\"address\",INDIRECT(B125)),$I$3,100),\"]\",\"\")","v":"'='Resources'!$K$55"},{"$f":" IF(ISBLANK(M2C3d6ESG),\"\",M2C3d6ESG)","v":""},"Number","M2C3d6ESG",null,null,null,{"$f":"IF(PY_M2C3d6ESG=\"\",\"\",PY_M2C3d6ESG)","v":""},"PY_M2C3d6ESG"]
["C.3d.7","M2C3d7ContinuumCare",{"$f":"\"'='\" & SUBSTITUTE(MID(CELL(\"address\",INDIRECT(B126)),$I$3,100),\"]\",\"\")","v":"'='Resources'!$K$56"},{"$f":" IF(ISBLANK(M2C3d7ContinuumCare),\"\",M2C3d7ContinuumCare)","v":""},"Number","M2C3d7ContinuumCare",null,null,null,{"$f":"IF(PY_M2C3d7ContinuumCare=\"\",\"\",PY_M2C3d7ContinuumCare)","v":""},"PY_M2C3d7ContinuumCare"]
["C.3d.8","M2C3d8TotalHUD",{"$f":"\"'='\" & SUBSTITUTE(MID(CELL(\"address\",INDIRECT(B127)),$I$3,100),\"]\",\"\")","v":"'='Resources'!$K$57"},{"$f":" IF(ISBLANK(M2C3d8TotalHUD),\"\",M2C3d8TotalHUD)","v":""},"Number","M2C3d8TotalHUD",null,null,null,{"$f":"IF(PY_M2C3d8TotalHUD=\"\",\"\",PY_M2C3d8TotalHUD)","v":""},"PY_M2C3d8TotalHUD"]
["C.3e.1","M2C3eWIOA",{"$f":"\"'='\" & SUBSTITUTE(MID(CELL(\"address\",INDIRECT(B128)),$I$3,100),\"]\",\"\")","v":"'='Resources'!$K$59"},{"$f":" IF(ISBLANK(M2C3eWIOA),\"\",M2C3eWIOA)","v":""},"Number","M2C3eWIOA",null,null,null,{"$f":"IF(PY_M2C3eWIOA=\"\",\"\",PY_M2C3eWIOA)","v":""},"PY_M2C3eWIOA"]
["C.3e.2","M2C3eEmploymentTraining",{"$f":"\"'='\" & SUBSTITUTE(MID(CELL(\"address\",INDIRECT(B129)),$I$3,100),\"]\",\"\")","v":"'='Resources'!$K$60"},{"$f":" IF(ISBLANK(M2C3eEmploymentTraining),\"\",M2C3eEmploymentTraining)","v":""},"Number","M2C3eEmploymentTraining",null,null,null,{"$f":"IF(PY_M2C3eEmploymentTraining=\"\",\"\",PY_M2C3eEmploymentTraining)","v":""},"PY_M2C3eEmploymentTraining"]
["C.3e.3","M2C3eTotalDOL",{"$f":"\"'='\" & SUBSTITUTE(MID(CELL(\"address\",INDIRECT(B130)),$I$3,100),\"]\",\"\")","v":"'='Resources'!$K$61"},{"$f":" IF(ISBLANK(M2C3eTotalDOL),\"\",M2C3eTotalDOL)","v":""},"Number","M2C3eTotalDOL",null,null,null,{"$f":"IF(PY_M2C3eTotalDOL=\"\",\"\",PY_M2C3eTotalDOL)","v":""},"PY_M2C3eTotalDOL"]
["C.3f","M2C3fCNCS",{"$f":"\"'='\" & SUBSTITUTE(MID(CELL(\"address\",INDIRECT(B131)),$I$3,100),\"]\",\"\")","v":"'='Resources'!$K$62"},{"$f":" IF(ISBLANK(M2C3fCNCS),\"\",M2C3fCNCS)","v":""},"Number","M2C3fCNCS",null,null,null,{"$f":"IF(PY_M2C3fCNCS=\"\",\"\",PY_M2C3fCNCS)","v":""},"PY_M2C3fCNCS"]
["C.3g","M2C3gFEMA",{"$f":"\"'='\" & SUBSTITUTE(MID(CELL(\"address\",INDIRECT(B132)),$I$3,100),\"]\",\"\")","v":"'='Resources'!$K$63"},{"$f":" IF(ISBLANK(M2C3gFEMA),\"\",M2C3gFEMA)","v":""},"Number","M2C3gFEMA",null,null,null,{"$f":"IF(PY_M2C3gFEMA=\"\",\"\",PY_M2C3gFEMA)","v":""},"PY_M2C3gFEMA"]
["C.3h","M2C3hTransportation",{"$f":"\"'='\" & SUBSTITUTE(MID(CELL(\"address\",INDIRECT(B133)),$I$3,100),\"]\",\"\")","v":"'='Resources'!$K$64"},{"$f":" IF(ISBLANK(M2C3hTransportation),\"\",M2C3hTransportation)","v":""},"Number","M2C3hTransportation",null,null,null,{"$f":"IF(PY_M2C3hTransportation=\"\",\"\",PY_M2C3hTransportation)","v":""},"PY_M2C3hTransportation"]
["C.3i","M2C3iEducation",{"$f":"\"'='\" & SUBSTITUTE(MID(CELL(\"address\",INDIRECT(B134)),$I$3,100),\"]\",\"\")","v":"'='Resources'!$K$65"},{"$f":" IF(ISBLANK(M2C3iEducation),\"\",M2C3iEducation)","v":""},"Number","M2C3iEducation",null,null,null,{"$f":"IF(PY_M2C3iEducation=\"\",\"\",PY_M2C3iEducation)","v":""},"PY_M2C3iEducation"]
["C.3j","M2C3jJustice",{"$f":"\"'='\" & SUBSTITUTE(MID(CELL(\"address\",INDIRECT(B135)),$I$3,100),\"]\",\"\")","v":"'='Resources'!$K$66"},{"$f":" IF(ISBLANK(M2C3jJustice),\"\",M2C3jJustice)","v":""},"Number","M2C3jJustice",null,null,null,{"$f":"IF(PY_M2C3jJustice=\"\",\"\",PY_M2C3jJustice)","v":""},"PY_M2C3jJustice"]
["C.3k","M2C3kTreasury",{"$f":"\"'='\" & SUBSTITUTE(MID(CELL(\"address\",INDIRECT(B136)),$I$3,100),\"]\",\"\")","v":"'='Resources'!$K$67"},{"$f":" IF(ISBLANK(M2C3kTreasury),\"\",M2C3kTreasury)","v":""},"Number","M2C3kTreasury",null,null,null,{"$f":"IF(PY_M2C3kTreasury=\"\",\"\",PY_M2C3kTreasury)","v":""},"PY_M2C3kTreasury"]
["C.3l.i.oth","M2C3liOtherFedName",{"$f":"\"'='\" & SUBSTITUTE(MID(CELL(\"address\",INDIRECT(B137)),$I$3,100),\"]\",\"\")","v":"'='Resources'!$F$69"},{"$f":" IF(ISBLANK(M2C3liOtherFedName),\"\",M2C3liOtherFedName)","v":""},"Text","M2C3liOtherFedName",null,null,null,{"$f":"IF(PY_M2C3liOtherFedName=\"\",\"\",PY_M2C3liOtherFedName)","v":""},"PY_M2C3liOtherFedName"]
["C.3l.i.CFDA","M2C3liOtherFedCFDA",{"$f":"\"'='\" & SUBSTITUTE(MID(CELL(\"address\",INDIRECT(B138)),$I$3,100),\"]\",\"\")","v":"'='Resources'!$I$69"},{"$f":" IF(ISBLANK(M2C3liOtherFedCFDA),\"\",M2C3liOtherFedCFDA)","v":""},"Text","M2C3liOtherFedCFDA",null,null,null,{"$f":"IF(PY_M2C3liOtherFedCFDA=\"\",\"\",PY_M2C3liOtherFedCFDA)","v":""},"PY_M2C3liOtherFedCFDA"]
["C.3l.i","M2C3liOtherFedDollar",{"$f":"\"'='\" & SUBSTITUTE(MID(CELL(\"address\",INDIRECT(B139)),$I$3,100),\"]\",\"\")","v":"'='Resources'!$K$69"},{"$f":" IF(ISBLANK(M2C3liOtherFedDollar),\"\",M2C3liOtherFedDollar)","v":""},"Number","M2C3liOtherFedDollar",null,null,null,{"$f":"IF(PY_M2C3liOtherFedDollar=\"\",\"\",PY_M2C3liOtherFedDollar)","v":""},"PY_M2C3liOtherFedDollar"]
["C.3l.ii.oth","M2C3liiOtherFedName",{"$f":"\"'='\" & SUBSTITUTE(MID(CELL(\"address\",INDIRECT(B140)),$I$3,100),\"]\",\"\")","v":"'='Resources'!$F$70"},{"$f":" IF(ISBLANK(M2C3liiOtherFedName),\"\",M2C3liiOtherFedName)","v":""},"Text","M2C3liiOtherFedName",null,null,null,{"$f":"IF(PY_M2C3liiOtherFedName=\"\",\"\",PY_M2C3liiOtherFedName)","v":""},"PY_M2C3liiOtherFedName"]
["C.3l.ii.CFDA","M2C3liiOtherFedCFDA",{"$f":"\"'='\" & SUBSTITUTE(MID(CELL(\"address\",INDIRECT(B141)),$I$3,100),\"]\",\"\")","v":"'='Resources'!$I$70"},{"$f":" IF(ISBLANK(M2C3liiOtherFedCFDA),\"\",M2C3liiOtherFedCFDA)","v":""},"Text","M2C3liiOtherFedCFDA",null,null,null,{"$f":"IF(PY_M2C3liiOtherFedCFDA=\"\",\"\",PY_M2C3liiOtherFedCFDA)","v":""},"PY_M2C3liiOtherFedCFDA"]
["C.3l.ii","M2C3liiOtherFedDollar",{"$f":"\"'='\" & SUBSTITUTE(MID(CELL(\"address\",INDIRECT(B142)),$I$3,100),\"]\",\"\")","v":"'='Resources'!$K$70"},{"$f":" IF(ISBLANK(M2C3liiOtherFedDollar),\"\",M2C3liiOtherFedDollar)","v":""},"Number","M2C3liiOtherFedDollar",null,null,null,{"$f":"IF(PY_M2C3liiOtherFedDollar=\"\",\"\",PY_M2C3liiOtherFedDollar)","v":""},"PY_M2C3liiOtherFedDollar"]
["C.3l.iii.oth","M2C3liiiOtherFedName",{"$f":"\"'='\" & SUBSTITUTE(MID(CELL(\"address\",INDIRECT(B143)),$I$3,100),\"]\",\"\")","v":"'='Resources'!$F$71"},{"$f":" IF(ISBLANK(M2C3liiiOtherFedName),\"\",M2C3liiiOtherFedName)","v":""},"Text","M2C3liiiOtherFedName",null,null,null,{"$f":"IF(PY_M2C3liiiOtherFedName=\"\",\"\",PY_M2C3liiiOtherFedName)","v":""},"PY_M2C3liiiOtherFedName"]
["C.3l.iii.CFDA","M2C3liiiOtherFedCFDA",{"$f":"\"'='\" & SUBSTITUTE(MID(CELL(\"address\",INDIRECT(B144)),$I$3,100),\"]\",\"\")","v":"'='Resources'!$I$71"},{"$f":" IF(ISBLANK(M2C3liiiOtherFedCFDA),\"\",M2C3liiiOtherFedCFDA)","v":""},"Text","M2C3liiiOtherFedCFDA",null,null,null,{"$f":"IF(PY_M2C3liiiOtherFedCFDA=\"\",\"\",PY_M2C3liiiOtherFedCFDA)","v":""},"PY_M2C3liiiOtherFedCFDA"]
["C.3l.iii","M2C3liiiOtherFedDollar",{"$f":"\"'='\" & SUBSTITUTE(MID(CELL(\"address\",INDIRECT(B145)),$I$3,100),\"]\",\"\")","v":"'='Resources'!$K$71"},{"$f":" IF(ISBLANK(M2C3liiiOtherFedDollar),\"\",M2C3liiiOtherFedDollar)","v":""},"Number","M2C3liiiOtherFedDollar",null,null,null,{"$f":"IF(PY_M2C3liiiOtherFedDollar=\"\",\"\",PY_M2C3liiiOtherFedDollar)","v":""},"PY_M2C3liiiOtherFedDollar"]
["C.3l.iv.oth","M2C3livOtherFedName",{"$f":"\"'='\" & SUBSTITUTE(MID(CELL(\"address\",INDIRECT(B146)),$I$3,100),\"]\",\"\")","v":"'='Resources'!$F$72"},{"$f":" IF(ISBLANK(M2C3livOtherFedName),\"\",M2C3livOtherFedName)","v":""},"Text","M2C3livOtherFedName",null,null,null,{"$f":"IF(PY_M2C3livOtherFedName=\"\",\"\",PY_M2C3livOtherFedName)","v":""},"PY_M2C3livOtherFedName"]
["C.3l.iv.CFDA","M2C3livOtherFedCFDA",{"$f":"\"'='\" & SUBSTITUTE(MID(CELL(\"address\",INDIRECT(B147)),$I$3,100),\"]\",\"\")","v":"'='Resources'!$I$72"},{"$f":" IF(ISBLANK(M2C3livOtherFedCFDA),\"\",M2C3livOtherFedCFDA)","v":""},"Text","M2C3livOtherFedCFDA",null,null,null,{"$f":"IF(PY_M2C3livOtherFedCFDA=\"\",\"\",PY_M2C3livOtherFedCFDA)","v":""},"PY_M2C3livOtherFedCFDA"]
["C.3l.iv","M2C3livOtherFedDollar",{"$f":"\"'='\" & SUBSTITUTE(MID(CELL(\"address\",INDIRECT(B148)),$I$3,100),\"]\",\"\")","v":"'='Resources'!$K$72"},{"$f":" IF(ISBLANK(M2C3livOtherFedDollar),\"\",M2C3livOtherFedDollar)","v":""},"Number","M2C3livOtherFedDollar",null,null,null,{"$f":"IF(PY_M2C3livOtherFedDollar=\"\",\"\",PY_M2C3livOtherFedDollar)","v":""},"PY_M2C3livOtherFedDollar"]
["C.3l.v.oth","M2C3lvOtherFedName",{"$f":"\"'='\" & SUBSTITUTE(MID(CELL(\"address\",INDIRECT(B149)),$I$3,100),\"]\",\"\")","v":"'='Resources'!$F$73"},"","Text",null,null,"M2C3lvOtherFedName"]
["C.3l.v.CFDA","M2C3lvOtherFedCFDA",{"$f":"\"'='\" & SUBSTITUTE(MID(CELL(\"address\",INDIRECT(B150)),$I$3,100),\"]\",\"\")","v":"'='Resources'!$I$73"},"","Text",null,null,"M2C3lvOtherFedCFDA"]
["C.3l.v","M2C3lvOtherFedDollar",{"$f":"\"'='\" & SUBSTITUTE(MID(CELL(\"address\",INDIRECT(B151)),$I$3,100),\"]\",\"\")","v":"'='Resources'!$K$73"},"","Number",null,null,"M2C3lvOtherFedDollar"]
["C.3l.vi.oth","M2C3lviOtherFedName",{"$f":"\"'='\" & SUBSTITUTE(MID(CELL(\"address\",INDIRECT(B152)),$I$3,100),\"]\",\"\")","v":"'='Resources'!$F$74"},"","Text",null,null,"M2C3lviOtherFedName"]
["C.3l.vi.CFDA","M2C3lviOtherFedCFDA",{"$f":"\"'='\" & SUBSTITUTE(MID(CELL(\"address\",INDIRECT(B153)),$I$3,100),\"]\",\"\")","v":"'='Resources'!$I$74"},"","Text",null,null,"M2C3lviOtherFedCFDA"]
["C.3l.vi","M2C3lviOtherFedDollar",{"$f":"\"'='\" & SUBSTITUTE(MID(CELL(\"address\",INDIRECT(B154)),$I$3,100),\"]\",\"\")","v":"'='Resources'!$K$74"},"","Number",null,null,"M2C3lviOtherFedDollar"]
["C.3l.vii.oth","M2C3lviiOtherFedName",{"$f":"\"'='\" & SUBSTITUTE(MID(CELL(\"address\",INDIRECT(B155)),$I$3,100),\"]\",\"\")","v":"'='Resources'!$F$75"},"","Text",null,null,"M2C3lviiOtherFedName"]
["C.3l.vii.CFDA","M2C3lviiOtherFedCFDA",{"$f":"\"'='\" & SUBSTITUTE(MID(CELL(\"address\",INDIRECT(B156)),$I$3,100),\"]\",\"\")","v":"'='Resources'!$I$75"},"","Text",null,null,"M2C3lviiOtherFedCFDA"]
["C.3l.vii","M2C3lviiOtherFedDollar",{"$f":"\"'='\" & SUBSTITUTE(MID(CELL(\"address\",INDIRECT(B157)),$I$3,100),\"]\",\"\")","v":"'='Resources'!$K$75"},"","Number",null,null,"M2C3lviiOtherFedDollar"]
["C.3l.viii.oth","M2C3lviiiOtherFedName",{"$f":"\"'='\" & SUBSTITUTE(MID(CELL(\"address\",INDIRECT(B158)),$I$3,100),\"]\",\"\")","v":"'='Resources'!$F$76"},"","Text",null,null,"M2C3lviiiOtherFedName"]
["C.3l.viii.CFDA","M2C3lviiiOtherFedCFDA",{"$f":"\"'='\" & SUBSTITUTE(MID(CELL(\"address\",INDIRECT(B159)),$I$3,100),\"]\",\"\")","v":"'='Resources'!$I$76"},"","Text",null,null,"M2C3lviiiOtherFedCFDA"]
["C.3l.viii","M2C3lviiiOtherFedDollar",{"$f":"\"'='\" & SUBSTITUTE(MID(CELL(\"address\",INDIRECT(B160)),$I$3,100),\"]\",\"\")","v":"'='Resources'!$K$76"},"","Number",null,null,"M2C3lviiiOtherFedDollar"]
["C.3l.ix.oth","M2C3lixOtherFedName",{"$f":"\"'='\" & SUBSTITUTE(MID(CELL(\"address\",INDIRECT(B161)),$I$3,100),\"]\",\"\")","v":"'='Resources'!$F$77"},"","Text",null,null,"M2C3lixOtherFedName"]
["C.3l.ix.CFDA","M2C3lixOtherFedCFDA",{"$f":"\"'='\" & SUBSTITUTE(MID(CELL(\"address\",INDIRECT(B162)),$I$3,100),\"]\",\"\")","v":"'='Resources'!$I$77"},"","Text",null,null,"M2C3lixOtherFedCFDA"]
["C.3l.ix","M2C3lixOtherFedDollar",{"$f":"\"'='\" & SUBSTITUTE(MID(CELL(\"address\",INDIRECT(B163)),$I$3,100),\"]\",\"\")","v":"'='Resources'!$K$77"},"","Number",null,null,"M2C3lixOtherFedDollar"]
["C.3l.x.oth","M2C3lxOtherFedName",{"$f":"\"'='\" & SUBSTITUTE(MID(CELL(\"address\",INDIRECT(B164)),$I$3,100),\"]\",\"\")","v":"'='Resources'!$F$78"},"","Text",null,null,"M2C3lxOtherFedName"]
["C.3l.x.CFDA","M2C3lxOtherFedCFDA",{"$f":"\"'='\" & SUBSTITUTE(MID(CELL(\"address\",INDIRECT(B165)),$I$3,100),\"]\",\"\")","v":"'='Resources'!$I$78"},"","Text",null,null,"M2C3lxOtherFedCFDA"]
["C.3l.x","M2C3lxOtherFedDollar",{"$f":"\"'='\" & SUBSTITUTE(MID(CELL(\"address\",INDIRECT(B166)),$I$3,100),\"]\",\"\")","v":"'='Resources'!$K$78"},"","Number",null,null,"M2C3lxOtherFedDollar"]
["C.3m","M2C3mTotalOtherFed",{"$f":"\"'='\" & SUBSTITUTE(MID(CELL(\"address\",INDIRECT(B167)),$I$3,100),\"]\",\"\")","v":"'='Resources'!$K$80"},{"$f":" IF(ISBLANK(M2C3mTotalOtherFed),\"\",M2C3mTotalOtherFed)","v":0},"Number","M2C3mTotalOtherFed",null,null,null,{"$f":"IF(PY_M2C3mTotalOtherFed=\"\",\"\",PY_M2C3mTotalOtherFed)","v":0},{"$f":"\"PY_\"&B167","v":"PY_M2C3mTotalOtherFed"}]
["C.3n","M2C3nTotalFedNonCSBG",{"$f":"\"'='\" & SUBSTITUTE(MID(CELL(\"address\",INDIRECT(B168)),$I$3,100),\"]\",\"\")","v":"'='Resources'!$K$81"},{"$f":" IF(ISBLANK(M2C3nTotalFedNonCSBG),\"\",M2C3nTotalFedNonCSBG)","v":0},"Number","M2C3nTotalFedNonCSBG",null,null,null,{"$f":"IF(PY_M2C3nTotalFedNonCSBG=\"\",\"\",PY_M2C3nTotalFedNonCSBG)","v":0},"PY_M2C3nTotalFedNonCSBG"]
["C.4a","M2C4aStateCSBG",{"$f":"\"'='\" & SUBSTITUTE(MID(CELL(\"address\",INDIRECT(B169)),$I$3,100),\"]\",\"\")","v":"'='Resources'!$K$86"},{"$f":" IF(ISBLANK(M2C4aStateCSBG),\"\",M2C4aStateCSBG)","v":""},"Number","M2C4aStateCSBG",null,null,null,{"$f":"IF(PY_M2C4aStateCSBG=\"\",\"\",PY_M2C4aStateCSBG)","v":""},"PY_M2C4aStateCSBG"]
["C.4b","M2C4bStateHousing",{"$f":"\"'='\" & SUBSTITUTE(MID(CELL(\"address\",INDIRECT(B170)),$I$3,100),\"]\",\"\")","v":"'='Resources'!$K$87"},{"$f":" IF(ISBLANK(M2C4bStateHousing),\"\",M2C4bStateHousing)","v":""},"Number","M2C4bStateHousing",null,null,null,{"$f":"IF(PY_M2C4bStateHousing=\"\",\"\",PY_M2C4bStateHousing)","v":""},"PY_M2C4bStateHousing"]
["C.4c","M2C4cStateNutrition",{"$f":"\"'='\" & SUBSTITUTE(MID(CELL(\"address\",INDIRECT(B171)),$I$3,100),\"]\",\"\")","v":"'='Resources'!$K$88"},{"$f":" IF(ISBLANK(M2C4cStateNutrition),\"\",M2C4cStateNutrition)","v":""},"Number","M2C4cStateNutrition",null,null,null,{"$f":"IF(PY_M2C4cStateNutrition=\"\",\"\",PY_M2C4cStateNutrition)","v":""},"PY_M2C4cStateNutrition"]
["C.4d","M2C4dStateEarlyChild",{"$f":"\"'='\" & SUBSTITUTE(MID(CELL(\"address\",INDIRECT(B172)),$I$3,100),\"]\",\"\")","v":"'='Resources'!$K$89"},{"$f":" IF(ISBLANK(M2C4dStateEarlyChild),\"\",M2C4dStateEarlyChild)","v":""},"Number","M2C4dStateEarlyChild",null,null,null,{"$f":"IF(PY_M2C4dStateEarlyChild=\"\",\"\",PY_M2C4dStateEarlyChild)","v":""},"PY_M2C4dStateEarlyChild"]
["C.4e","M2C4eStateEnergy",{"$f":"\"'='\" & SUBSTITUTE(MID(CELL(\"address\",INDIRECT(B173)),$I$3,100),\"]\",\"\")","v":"'='Resources'!$K$90"},{"$f":" IF(ISBLANK(M2C4eStateEnergy),\"\",M2C4eStateEnergy)","v":""},"Number","M2C4eStateEnergy",null,null,null,{"$f":"IF(PY_M2C4eStateEnergy=\"\",\"\",PY_M2C4eStateEnergy)","v":""},"PY_M2C4eStateEnergy"]
["C.4f","M2C4fStateHealth",{"$f":"\"'='\" & SUBSTITUTE(MID(CELL(\"address\",INDIRECT(B174)),$I$3,100),\"]\",\"\")","v":"'='Resources'!$K$91"},{"$f":" IF(ISBLANK(M2C4fStateHealth),\"\",M2C4fStateHealth)","v":""},"Number","M2C4fStateHealth",null,null,null,{"$f":"IF(PY_M2C4fStateHealth=\"\",\"\",PY_M2C4fStateHealth)","v":""},"PY_M2C4fStateHealth"]
["C.4g","M2C4gStateYouthDev",{"$f":"\"'='\" & SUBSTITUTE(MID(CELL(\"address\",INDIRECT(B175)),$I$3,100),\"]\",\"\")","v":"'='Resources'!$K$92"},{"$f":" IF(ISBLANK(M2C4gStateYouthDev),\"\",M2C4gStateYouthDev)","v":""},"Number","M2C4gStateYouthDev",null,null,null,{"$f":"IF(PY_M2C4gStateYouthDev=\"\",\"\",PY_M2C4gStateYouthDev)","v":""},"PY_M2C4gStateYouthDev"]
["C.4h","M2C4hStateEmploymentTraining",{"$f":"\"'='\" & SUBSTITUTE(MID(CELL(\"address\",INDIRECT(B176)),$I$3,100),\"]\",\"\")","v":"'='Resources'!$K$93"},{"$f":" IF(ISBLANK(M2C4hStateEmploymentTraining),\"\",M2C4hStateEmploymentTraining)","v":""},"Number","M2C4hStateEmploymentTraining",null,null,null,{"$f":"IF(PY_M2C4hStateEmploymentTraining=\"\",\"\",PY_M2C4hStateEmploymentTraining)","v":""},"PY_M2C4hStateEmploymentTraining"]
["C.4i","M2C4iStateSenior",{"$f":"\"'='\" & SUBSTITUTE(MID(CELL(\"address\",INDIRECT(B177)),$I$3,100),\"]\",\"\")","v":"'='Resources'!$K$94"},{"$f":" IF(ISBLANK(M2C4iStateSenior),\"\",M2C4iStateSenior)","v":""},"Number","M2C4iStateSenior",null,null,null,{"$f":"IF(PY_M2C4iStateSenior=\"\",\"\",PY_M2C4iStateSenior)","v":""},"PY_M2C4iStateSenior"]
["C.4j","M2C4jStateTransportation",{"$f":"\"'='\" & SUBSTITUTE(MID(CELL(\"address\",INDIRECT(B178)),$I$3,100),\"]\",\"\")","v":"'='Resources'!$K$95"},{"$f":" IF(ISBLANK(M2C4jStateTransportation),\"\",M2C4jStateTransportation)","v":""},"Number","M2C4jStateTransportation",null,null,null,{"$f":"IF(PY_M2C4jStateTransportation=\"\",\"\",PY_M2C4jStateTransportation)","v":""},"PY_M2C4jStateTransportation"]
["C.4k","M2C4kStateEducation",{"$f":"\"'='\" & SUBSTITUTE(MID(CELL(\"address\",INDIRECT(B179)),$I$3,100),\"]\",\"\")","v":"'='Resources'!$K$96"},{"$f":" IF(ISBLANK(M2C4kStateEducation),\"\",M2C4kStateEducation)","v":""},"Number","M2C4kStateEducation",null,null,null,{"$f":"IF(PY_M2C4kStateEducation=\"\",\"\",PY_M2C4kStateEducation)","v":""},"PY_M2C4kStateEducation"]
["C.4l","M2C4lStateRuralEcon",{"$f":"\"'='\" & SUBSTITUTE(MID(CELL(\"address\",INDIRECT(B180)),$I$3,100),\"]\",\"\")","v":"'='Resources'!$K$97"},{"$f":" IF(ISBLANK(M2C4lStateRuralEcon),\"\",M2C4lStateRuralEcon)","v":""},"Number","M2C4lStateRuralEcon",null,null,null,{"$f":"IF(PY_M2C4lStateRuralEcon=\"\",\"\",PY_M2C4lStateRuralEcon)","v":""},"PY_M2C4lStateRuralEcon"]
["C.4m","M2C4mStateFamilyDev",{"$f":"\"'='\" & SUBSTITUTE(MID(CELL(\"address\",INDIRECT(B181)),$I$3,100),\"]\",\"\")","v":"'='Resources'!$K$98"},{"$f":" IF(ISBLANK(M2C4mStateFamilyDev),\"\",M2C4mStateFamilyDev)","v":""},"Number","M2C4mStateFamilyDev",null,null,null,{"$f":"IF(PY_M2C4mStateFamilyDev=\"\",\"\",PY_M2C4mStateFamilyDev)","v":""},"PY_M2C4mStateFamilyDev"]
["C.4n.i.oth","M2C4niOtherStateName",{"$f":"\"'='\" & SUBSTITUTE(MID(CELL(\"address\",INDIRECT(B182)),$I$3,100),\"]\",\"\")","v":"'='Resources'!$F$100"},{"$f":" IF(ISBLANK(M2C4niOtherStateName),\"\",M2C4niOtherStateName)","v":""},"Text","M2C4niOtherStateName",null,null,null,{"$f":"IF(PY_M2C4niOtherStateName=\"\",\"\",PY_M2C4niOtherStateName)","v":""},"PY_M2C4niOtherStateName"]
["C.4n.i","M2C4niOtherStateDollar",{"$f":"\"'='\" & SUBSTITUTE(MID(CELL(\"address\",INDIRECT(B183)),$I$3,100),\"]\",\"\")","v":"'='Resources'!$K$100"},{"$f":" IF(ISBLANK(M2C4niOtherStateDollar),\"\",M2C4niOtherStateDollar)","v":""},"Number","M2C4niOtherStateDollar",null,null,null,{"$f":"IF(PY_M2C4niOtherStateDollar=\"\",\"\",PY_M2C4niOtherStateDollar)","v":""},"PY_M2C4niOtherStateDollar"]
["C.4n.ii.oth","M2C4niiOtherStateName",{"$f":"\"'='\" & SUBSTITUTE(MID(CELL(\"address\",INDIRECT(B184)),$I$3,100),\"]\",\"\")","v":"'='Resources'!$F$101"},{"$f":" IF(ISBLANK(M2C4niiOtherStateName),\"\",M2C4niiOtherStateName)","v":""},"Text","M2C4niiOtherStateName",null,null,null,{"$f":"IF(PY_M2C4niiOtherStateName=\"\",\"\",PY_M2C4niiOtherStateName)","v":""},"PY_M2C4niiOtherStateName"]
["C.4n.ii","M2C4niiOtherStateDollar",{"$f":"\"'='\" & SUBSTITUTE(MID(CELL(\"address\",INDIRECT(B185)),$I$3,100),\"]\",\"\")","v":"'='Resources'!$K$101"},{"$f":" IF(ISBLANK(M2C4niiOtherStateDollar),\"\",M2C4niiOtherStateDollar)","v":""},"Number","M2C4niiOtherStateDollar",null,null,null,{"$f":"IF(PY_M2C4niiOtherStateDollar=\"\",\"\",PY_M2C4niiOtherStateDollar)","v":""},"PY_M2C4niiOtherStateDollar"]
["C.4n.iii.oth","M2C4niiiOtherStateName",{"$f":"\"'='\" & SUBSTITUTE(MID(CELL(\"address\",INDIRECT(B186)),$I$3,100),\"]\",\"\")","v":"'='Resources'!$F$102"},{"$f":" IF(ISBLANK(M2C4niiiOtherStateName),\"\",M2C4niiiOtherStateName)","v":""},"Text","M2C4niiiOtherStateName",null,null,null,{"$f":"IF(PY_M2C4niiiOtherStateName=\"\",\"\",PY_M2C4niiiOtherStateName)","v":""},"PY_M2C4niiiOtherStateName"]
["C.4n.iii","M2C4niiiOtherStateDollar",{"$f":"\"'='\" & SUBSTITUTE(MID(CELL(\"address\",INDIRECT(B187)),$I$3,100),\"]\",\"\")","v":"'='Resources'!$K$102"},{"$f":" IF(ISBLANK(M2C4niiiOtherStateDollar),\"\",M2C4niiiOtherStateDollar)","v":""},"Number","M2C4niiiOtherStateDollar",null,null,null,{"$f":"IF(PY_M2C4niiiOtherStateDollar=\"\",\"\",PY_M2C4niiiOtherStateDollar)","v":""},"PY_M2C4niiiOtherStateDollar"]
["C.4n.iv.oth","M2C4nivOtherStateName",{"$f":"\"'='\" & SUBSTITUTE(MID(CELL(\"address\",INDIRECT(B188)),$I$3,100),\"]\",\"\")","v":"'='Resources'!$F$103"},{"$f":" IF(ISBLANK(M2C4nivOtherStateName),\"\",M2C4nivOtherStateName)","v":""},"Text","M2C4nivOtherStateName",null,null,null,{"$f":"IF(PY_M2C4nivOtherStateName=\"\",\"\",PY_M2C4nivOtherStateName)","v":""},"PY_M2C4nivOtherStateName"]
["C.4n.iv","M2C4nivOtherStateDollar",{"$f":"\"'='\" & SUBSTITUTE(MID(CELL(\"address\",INDIRECT(B189)),$I$3,100),\"]\",\"\")","v":"'='Resources'!$K$103"},{"$f":" IF(ISBLANK(M2C4nivOtherStateDollar),\"\",M2C4nivOtherStateDollar)","v":""},"Number","M2C4nivOtherStateDollar",null,null,null,{"$f":"IF(PY_M2C4nivOtherStateDollar=\"\",\"\",PY_M2C4nivOtherStateDollar)","v":""},"PY_M2C4nivOtherStateDollar"]
["C.4n.v.oth","M2C4nvOtherStateName",{"$f":"\"'='\" & SUBSTITUTE(MID(CELL(\"address\",INDIRECT(B190)),$I$3,100),\"]\",\"\")","v":"'='Resources'!$F$104"},"","Text",null,null,"M2C4nvOtherStateName"]
["C.4n.v","M2C4nvOtherStateDollar",{"$f":"\"'='\" & SUBSTITUTE(MID(CELL(\"address\",INDIRECT(B191)),$I$3,100),\"]\",\"\")","v":"'='Resources'!$K$104"},"","Number",null,null,"M2C4nvOtherStateDollar"]
["C.4n.vi.oth","M2C4nviOtherStateName",{"$f":"\"'='\" & SUBSTITUTE(MID(CELL(\"address\",INDIRECT(B192)),$I$3,100),\"]\",\"\")","v":"'='Resources'!$F$105"},"","Text",null,null,"M2C4nviOtherStateName"]
["C.4n.vi","M2C4nviOtherStateDollar",{"$f":"\"'='\" & SUBSTITUTE(MID(CELL(\"address\",INDIRECT(B193)),$I$3,100),\"]\",\"\")","v":"'='Resources'!$K$105"},"","Number",null,null,"M2C4nviOtherStateDollar"]
["C.4n.vii.oth","M2C4nviiOtherStateName",{"$f":"\"'='\" & SUBSTITUTE(MID(CELL(\"address\",INDIRECT(B194)),$I$3,100),\"]\",\"\")","v":"'='Resources'!$F$106"},"","Text",null,null,"M2C4nviiOtherStateName"]
["C.4n.vii","M2C4nviiOtherStateDollar",{"$f":"\"'='\" & SUBSTITUTE(MID(CELL(\"address\",INDIRECT(B195)),$I$3,100),\"]\",\"\")","v":"'='Resources'!$K$106"},"","Number",null,null,"M2C4nviiOtherStateDollar"]
["C.4n.viii.oth","M2C4nviiiOtherStateName",{"$f":"\"'='\" & SUBSTITUTE(MID(CELL(\"address\",INDIRECT(B196)),$I$3,100),\"]\",\"\")","v":"'='Resources'!$F$107"},"","Text",null,null,"M2C4nviiiOtherStateName"]
["C.4n.viii","M2C4nviiiOtherStateDollar",{"$f":"\"'='\" & SUBSTITUTE(MID(CELL(\"address\",INDIRECT(B197)),$I$3,100),\"]\",\"\")","v":"'='Resources'!$K$107"},"","Number",null,null,"M2C4nviiiOtherStateDollar"]
["C.4n.ix.oth","M2C4nixOtherStateName",{"$f":"\"'='\" & SUBSTITUTE(MID(CELL(\"address\",INDIRECT(B198)),$I$3,100),\"]\",\"\")","v":"'='Resources'!$F$108"},"","Text",null,null,"M2C4nixOtherStateName"]
["C.4n.ix","M2C4nixOtherStateDollar",{"$f":"\"'='\" & SUBSTITUTE(MID(CELL(\"address\",INDIRECT(B199)),$I$3,100),\"]\",\"\")","v":"'='Resources'!$K$108"},"","Number",null,null,"M2C4nixOtherStateDollar"]
["C.4n.x.oth","M2C4nxOtherStateName",{"$f":"\"'='\" & SUBSTITUTE(MID(CELL(\"address\",INDIRECT(B200)),$I$3,100),\"]\",\"\")","v":"'='Resources'!$F$109"},"","Text",null,null,"M2C4nxOtherStateName"]
["C.4n.x","M2C4nxOtherStateDollar",{"$f":"\"'='\" & SUBSTITUTE(MID(CELL(\"address\",INDIRECT(B201)),$I$3,100),\"]\",\"\")","v":"'='Resources'!$K$109"},"","Number",null,null,"M2C4nxOtherStateDollar"]
["C.4o","M2C4oOtherStateTotal",{"$f":"\"'='\" & SUBSTITUTE(MID(CELL(\"address\",INDIRECT(B202)),$I$3,100),\"]\",\"\")","v":"'='Resources'!$K$110"},{"$f":" IF(ISBLANK(M2C4oOtherStateTotal),\"\",M2C4oOtherStateTotal)","v":0},"Number","M2C4oOtherStateTotal",null,null,null,{"$f":"IF(PY_M2C4oOtherStateTotal=\"\",\"\",PY_M2C4oOtherStateTotal)","v":0},{"$f":"\"PY_\"&B202","v":"PY_M2C4oOtherStateTotal"}]
["C.4p","M2C4pTotalState",{"$f":"\"'='\" & SUBSTITUTE(MID(CELL(\"address\",INDIRECT(B203)),$I$3,100),\"]\",\"\")","v":"'='Resources'!$K$112"},{"$f":" IF(ISBLANK(M2C4pTotalState),\"\",M2C4pTotalState)","v":0},"Number","M2C4pTotalState",null,null,null,{"$f":"IF(PY_M2C4pTotalState=\"\",\"\",PY_M2C4pTotalState)","v":0},"PY_M2C4pTotalState"]
["C.4q","M2C4qStateFedEst",{"$f":"\"'='\" & SUBSTITUTE(MID(CELL(\"address\",INDIRECT(B204)),$I$3,100),\"]\",\"\")","v":"'='Resources'!$K$113"},{"$f":" IF(ISBLANK(M2C4qStateFedEst),\"\",M2C4qStateFedEst)","v":""},"Number","M2C4qStateFedEst",null,null,null,{"$f":"IF(PY_M2C4qStateFedEst=\"\",\"\",PY_M2C4qStateFedEst)","v":""},"PY_M2C4qStateFedEst"]
["C.5a","M2C5aLocalUnrestricted",{"$f":"\"'='\" & SUBSTITUTE(MID(CELL(\"address\",INDIRECT(B205)),$I$3,100),\"]\",\"\")","v":"'='Resources'!$K$118"},{"$f":" IF(ISBLANK(M2C5aLocalUnrestricted),\"\",M2C5aLocalUnrestricted)","v":""},"Number","M2C5aLocalUnrestricted",null,null,null,{"$f":"IF(PY_M2C5aLocalUnrestricted=\"\",\"\",PY_M2C5aLocalUnrestricted)","v":""},"PY_M2C5aLocalUnrestricted"]
["C.5b","M2C5bLocalRestricted",{"$f":"\"'='\" & SUBSTITUTE(MID(CELL(\"address\",INDIRECT(B206)),$I$3,100),\"]\",\"\")","v":"'='Resources'!$K$119"},{"$f":" IF(ISBLANK(M2C5bLocalRestricted),\"\",M2C5bLocalRestricted)","v":""},"Number","M2C5bLocalRestricted",null,null,null,{"$f":"IF(PY_M2C5bLocalRestricted=\"\",\"\",PY_M2C5bLocalRestricted)","v":""},"PY_M2C5bLocalRestricted"]
["C.5c","M2C5cLocalContractServ",{"$f":"\"'='\" & SUBSTITUTE(MID(CELL(\"address\",INDIRECT(B207)),$I$3,100),\"]\",\"\")","v":"'='Resources'!$K$120"},{"$f":" IF(ISBLANK(M2C5cLocalContractServ),\"\",M2C5cLocalContractServ)","v":""},"Number","M2C5cLocalContractServ",null,null,null,{"$f":"IF(PY_M2C5cLocalContractServ=\"\",\"\",PY_M2C5cLocalContractServ)","v":""},"PY_M2C5cLocalContractServ"]
["C.5d","M2C5dLocalInKind",{"$f":"\"'='\" & SUBSTITUTE(MID(CELL(\"address\",INDIRECT(B208)),$I$3,100),\"]\",\"\")","v":"'='Resources'!$K$121"},{"$f":" IF(ISBLANK(M2C5dLocalInKind),\"\",M2C5dLocalInKind)","v":""},"Number","M2C5dLocalInKind",null,null,null,{"$f":"IF(PY_M2C5dLocalInKind=\"\",\"\",PY_M2C5dLocalInKind)","v":""},"PY_M2C5dLocalInKind"]
["C.5e","M2C5eTotalLocal",{"$f":"\"'='\" & SUBSTITUTE(MID(CELL(\"address\",INDIRECT(B209)),$I$3,100),\"]\",\"\")","v":"'='Resources'!$K$123"},{"$f":" IF(ISBLANK(M2C5eTotalLocal),\"\",M2C5eTotalLocal)","v":0},"Number","M2C5eTotalLocal",null,null,null,{"$f":"IF(PY_M2C5eTotalLocal=\"\",\"\",PY_M2C5eTotalLocal)","v":0},"PY_M2C5eTotalLocal"]
["C.5f","M2C5fLocalFedEst",{"$f":"\"'='\" & SUBSTITUTE(MID(CELL(\"address\",INDIRECT(B210)),$I$3,100),\"]\",\"\")","v":"'='Resources'!$K$125"},{"$f":" IF(ISBLANK(M2C5fLocalFedEst),\"\",M2C5fLocalFedEst)","v":""},"Number","M2C5fLocalFedEst",null,null,null,{"$f":"IF(PY_M2C5fLocalFedEst=\"\",\"\",PY_M2C5fLocalFedEst)","v":""},"PY_M2C5fLocalFedEst"]
["C.6a","M2C6aPrivateFoundations",{"$f":"\"'='\" & SUBSTITUTE(MID(CELL(\"address\",INDIRECT(B211)),$I$3,100),\"]\",\"\")","v":"'='Resources'!$K$130"},{"$f":" IF(ISBLANK(M2C6aPrivateFoundations),\"\",M2C6aPrivateFoundations)","v":""},"Number","M2C6aPrivateFoundations",null,null,null,{"$f":"IF(PY_M2C6aPrivateFoundations=\"\",\"\",PY_M2C6aPrivateFoundations)","v":""},"PY_M2C6aPrivateFoundations"]
["C.6b","M2C6bPrivateOtherDonated",{"$f":"\"'='\" & SUBSTITUTE(MID(CELL(\"address\",INDIRECT(B212)),$I$3,100),\"]\",\"\")","v":"'='Resources'!$K$131"},{"$f":" IF(ISBLANK(M2C6bPrivateOtherDonated),\"\",M2C6bPrivateOtherDonated)","v":""},"Number","M2C6bPrivateOtherDonated",null,null,null,{"$f":"IF(PY_M2C6bPrivateOtherDonated=\"\",\"\",PY_M2C6bPrivateOtherDonated)","v":""},"PY_M2C6bPrivateOtherDonated"]
["C.6c","M2C6cPrivateValueOther",{"$f":"\"'='\" & SUBSTITUTE(MID(CELL(\"address\",INDIRECT(B213)),$I$3,100),\"]\",\"\")","v":"'='Resources'!$K$132"},{"$f":" IF(ISBLANK(M2C6cPrivateValueOther),\"\",M2C6cPrivateValueOther)","v":""},"Number","M2C6cPrivateValueOther",null,null,null,{"$f":"IF(PY_M2C6cPrivateValueOther=\"\",\"\",PY_M2C6cPrivateValueOther)","v":""},"PY_M2C6cPrivateValueOther"]
["C.6d","M2C6dPrivateInKind",{"$f":"\"'='\" & SUBSTITUTE(MID(CELL(\"address\",INDIRECT(B214)),$I$3,100),\"]\",\"\")","v":"'='Resources'!$K$133"},{"$f":" IF(ISBLANK(M2C6dPrivateInKind),\"\",M2C6dPrivateInKind)","v":""},"Number","M2C6dPrivateInKind",null,null,null,{"$f":"IF(PY_M2C6dPrivateInKind=\"\",\"\",PY_M2C6dPrivateInKind)","v":""},"PY_M2C6dPrivateInKind"]
["C.6e","M2C6ePrivateClientPayments",{"$f":"\"'='\" & SUBSTITUTE(MID(CELL(\"address\",INDIRECT(B215)),$I$3,100),\"]\",\"\")","v":"'='Resources'!$K$134"},{"$f":" IF(ISBLANK(M2C6ePrivateClientPayments),\"\",M2C6ePrivateClientPayments)","v":""},"Number","M2C6ePrivateClientPayments",null,null,null,{"$f":"IF(PY_M2C6ePrivateClientPayments=\"\",\"\",PY_M2C6ePrivateClientPayments)","v":""},"PY_M2C6ePrivateClientPayments"]
["C.6f","M2C6fPrivateEntityGoods",{"$f":"\"'='\" & SUBSTITUTE(MID(CELL(\"address\",INDIRECT(B216)),$I$3,100),\"]\",\"\")","v":"'='Resources'!$K$135"},{"$f":" IF(ISBLANK(M2C6fPrivateEntityGoods),\"\",M2C6fPrivateEntityGoods)","v":""},"Number","M2C6fPrivateEntityGoods",null,null,null,{"$f":"IF(PY_M2C6fPrivateEntityGoods=\"\",\"\",PY_M2C6fPrivateEntityGoods)","v":""},"PY_M2C6fPrivateEntityGoods"]
["C.6g","M2C6gTotalPrivate",{"$f":"\"'='\" & SUBSTITUTE(MID(CELL(\"address\",INDIRECT(B217)),$I$3,100),\"]\",\"\")","v":"'='Resources'!$K$138"},{"$f":" IF(ISBLANK(M2C6gTotalPrivate),\"\",M2C6gTotalPrivate)","v":0},"Number","M2C6gTotalPrivate",null,null,null,{"$f":"IF(PY_M2C6gTotalPrivate=\"\",\"\",PY_M2C6gTotalPrivate)","v":0},"PY_M2C6gTotalPrivate"]
["C.6h","M2C6hPrivateFedEst",{"$f":"\"'='\" & SUBSTITUTE(MID(CELL(\"address\",INDIRECT(B218)),$I$3,100),\"]\",\"\")","v":"'='Resources'!$K$140"},{"$f":" IF(ISBLANK(M2C6hPrivateFedEst),\"\",M2C6hPrivateFedEst)","v":""},"Number","M2C6hPrivateFedEst",null,null,null,{"$f":"IF(PY_M2C6hPrivateFedEst=\"\",\"\",PY_M2C6hPrivateFedEst)","v":""},"PY_M2C6hPrivateFedEst"]
["C 7","M2C7TotalNonCSBG",{"$f":"\"'='\" & SUBSTITUTE(MID(CELL(\"address\",INDIRECT(B219)),$I$3,100),\"]\",\"\")","v":"'='Resources'!$K$144"},{"$f":" IF(ISBLANK(M2C7TotalNonCSBG),\"\",M2C7TotalNonCSBG)","v":0},"Number","M2C7TotalNonCSBG",null,null,null,{"$f":"IF(PY_M2C7TotalNonCSBG=\"\",\"\",PY_M2C7TotalNonCSBG)","v":0},"PY_M2C7TotalNonCSBG"]
["C 8","M2C8TotalWithCSBG",{"$f":"\"'='\" & SUBSTITUTE(MID(CELL(\"address\",INDIRECT(B220)),$I$3,100),\"]\",\"\")","v":"'='Resources'!$K$145"},{"$f":" IF(ISBLANK(M2C8TotalWithCSBG),\"\",M2C8TotalWithCSBG)","v":0},"Number","M2C8TotalWithCSBG",null,null,null,{"$f":"IF(PY_M2C8TotalWithCSBG=\"\",\"\",PY_M2C8TotalWithCSBG)","v":0},"PY_M2C8TotalWithCSBG"]
["C_Comments","M2CComments",{"$f":"\"'='\" & SUBSTITUTE(MID(CELL(\"address\",INDIRECT(B221)),$I$3,100),\"]\",\"\")","v":"'='Deprecated Fields'!$C$29"},{"$f":" IF(ISBLANK(M2CComments),\"\",M2CComments)","v":""},"Memo","M2CComments",5000,null,null,{"$f":"IF(PY_M2CComments=\"\",\"\",PY_M2CComments)","v":""},"PY_M2CComments"]

{"sheet":"XML Export Map M4","index":30,"n_rows":887,"n_cols":13,"rows_kept":887,"cut":false,"hidden":false,"merged":[]}
[null,null,null,null,null,null,null,null,false,"Has PY Data"]
["Question/Reference","Smartform Range Name","Address","Value","Type","XML Export Name for DB","Max Length",null,null,"FY",2025]
[null,null,null,null,null,null,null,null,{"$f":"FIND(\"]\",J3)","v":55},{"$f":"CELL(\"address\",INDIRECT(B4))","v":"'[UNPROTECTED Modules 2 and 4 SmartForm - 2024-25.xlsm]Identification M4'!$D$8"}]
["leadAgency","M4LeadAgency",{"$f":"\"'='\" & SUBSTITUTE(MID(CELL(\"address\",INDIRECT(B4)),$I$3,100),\"]\",\"\")","v":"'='Identification M4'!$D$8"},{"$f":"M4LeadAgency","v":0},"Text","GRANTEENAME",100]
["State Name","M4StateName",{"$f":"\"'='\" & SUBSTITUTE(MID(CELL(\"address\",INDIRECT(B5)),$I$3,100),\"]\",\"\")","v":"'='FNPIs Employment'!$D$6"},{"$f":"M4StateName","v":0},"Text"]
["Agency Name","M4AgencyName",{"$f":"\"'='\" & SUBSTITUTE(MID(CELL(\"address\",INDIRECT(B6)),$I$3,100),\"]\",\"\")","v":"'='FNPIs Employment'!$D$5"},{"$f":"M4AgencyName","v":0},"Text","ELIGIBLEENTITY"]
["orgAbbrev","M4OrgAbbrev",{"$f":"\"'='\" & SUBSTITUTE(MID(CELL(\"address\",INDIRECT(B7)),$I$3,100),\"]\",\"\")","v":"'='Identification M4'!$D$6"},{"$f":"M4OrgAbbrev","v":"ACF"},"Text","orgAbbrev"]
["programAcronym","M4ProgramAcronym",{"$f":"\"'='\" & SUBSTITUTE(MID(CELL(\"address\",INDIRECT(B8)),$I$3,100),\"]\",\"\")","v":"'='Identification M4'!$D$7"},{"$f":"M4ProgramAcronym","v":"CSBG"},"Text","programAcronym"]
["UEI Number","M4UEI",{"$f":"\"'='\" & SUBSTITUTE(MID(CELL(\"address\",INDIRECT(B9)),$I$3,100),\"]\",\"\")","v":"'='FNPIs Employment'!$H$6"},{"$f":"M4UEI","v":0},"Text","UEI"]
["reportPeriodStartDate","M4ReportPeriodStartDate",{"$f":"\"'='\" & SUBSTITUTE(MID(CELL(\"address\",INDIRECT(B10)),$I$3,100),\"]\",\"\")","v":"'='Identification M4'!$D$11"},{"$f":"M4ReportPeriodStartDate","v":"2024-10-01"},"Date","reportPeriodStartDate"]
["reportPeriodEndDate","M4ReportPeriodEndDate",{"$f":"\"'='\" & SUBSTITUTE(MID(CELL(\"address\",INDIRECT(B11)),$I$3,100),\"]\",\"\")","v":"'='Identification M4'!$D$12"},{"$f":"M4ReportPeriodEndDate","v":"2025-09-30"},"Date","reportPeriodEndDate"]
["grantNumber","M4GrantNumber",{"$f":"\"'='\" & SUBSTITUTE(MID(CELL(\"address\",INDIRECT(B12)),$I$3,100),\"]\",\"\")","v":"'='Identification M4'!$D$9"},{"$f":"M4GrantNumber","v":0},"Text","grantNumber",null,null,null,null,null,null,"Changed from the below to cols A - Feb 9 2025"]
["subGrantee",null,null,true,"True/False","subGrantee"]
["C. All:  A. Total unduplicated individuals ","M4CA1Individuals",{"$f":"\"'='\" & SUBSTITUTE(MID(CELL(\"address\",INDIRECT(B14)),$I$3,100),\"]\",\"\")","v":"'='Characteristics'!$N$7"},{"$f":" M4CA1Individuals","v":0},"Number","M4CA1Individuals",null,null,null,{"$f":"IF(PY_M4CA1Individuals=\"\",\"\",PY_M4CA1Individuals)","v":""},{"$f":"\"PY_\"&B14","v":"PY_M4CA1Individuals"},null,"All_A"]
["C. All: B. Total unduplicated  households","M4CB1Households",{"$f":"\"'='\" & SUBSTITUTE(MID(CELL(\"address\",INDIRECT(B15)),$I$3,100),\"]\",\"\")","v":"'='Characteristics'!$N$8"},{"$f":" M4CB1Households","v":0},"Number","M4CB1Households",null,null,null,{"$f":"IF(PY_M4CB1Households=\"\",\"\",PY_M4CB1Households)","v":""},"PY_M4CB1Households",null,"All_B"]
["C.1a Sex: Male","M4CC1aGenderMale",{"$f":"\"'='\" & SUBSTITUTE(MID(CELL(\"address\",INDIRECT(B16)),$I$3,100),\"]\",\"\")","v":"'='Characteristics'!$G$12"},{"$f":" M4CC1aGenderMale","v":0},"Number","M4CC1aGenderMale",null,null,null,{"$f":"IF(PY_M4CC1aGenderMale=\"\",\"\",PY_M4CC1aGenderMale)","v":""},"PY_M4CC1aGenderMale",null,"All_C.1a"]
["C.1b Sex: Female","M4CC1bGenderFemale",{"$f":"\"'='\" & SUBSTITUTE(MID(CELL(\"address\",INDIRECT(B17)),$I$3,100),\"]\",\"\")","v":"'='Characteristics'!$G$13"},{"$f":" M4CC1bGenderFemale","v":0},"Number","M4CC1bGenderFemale",null,null,null,{"$f":"IF(PY_M4CC1bGenderFemale=\"\",\"\",PY_M4CC1bGenderFemale)","v":""},"PY_M4CC1bGenderFemale",null,"All_C.1b"]
["C.6a.1 Ethnicity: Hispanic, Latino, or Spanish origins","M4CC6a1EthnicityHisp",{"$f":"\"'='\" & SUBSTITUTE(MID(CELL(\"address\",INDIRECT(B18)),$I$3,100),\"]\",\"\")","v":"'='Characteristics'!$N$13"},{"$f":" M4CC6a1EthnicityHisp","v":0},"Number","M4CC6a1EthnicityHisp",null,null,null,{"$f":"IF(PY_M4CC6a1EthnicityHisp=\"\",\"\",PY_M4CC6a1EthnicityHisp)","v":""},"PY_M4CC6a1EthnicityHisp",null,"All_C.6a.1"]
["C.1c Sex: Other","M4CC1cGenderOther",{"$f":"\"'='\" & SUBSTITUTE(MID(CELL(\"address\",INDIRECT(B19)),$I$3,100),\"]\",\"\")","v":"'='Deprecated Fields'!$G$6"},{"$f":" M4CC1cGenderOther","v":0},"Number","M4CC1cGenderOther",null,null,null,{"$f":"IF(PY_M4CC1cGenderOther=\"\",\"\",PY_M4CC1cGenderOther)","v":""},"PY_M4CC1cGenderOther",null,"All_C.1c"]
["C.6a.2 Ethnicity: Not Hispanic, Latino or Spanish origins","M4CC6a2EthnicityNonHisp",{"$f":"\"'='\" & SUBSTITUTE(MID(CELL(\"address\",INDIRECT(B20)),$I$3,100),\"]\",\"\")","v":"'='Characteristics'!$N$14"},{"$f":" M4CC6a2EthnicityNonHisp","v":0},"Number","M4CC6a2EthnicityNonHisp",null,null,null,{"$f":"IF(PY_M4CC6a2EthnicityNonHisp=\"\",\"\",PY_M4CC6a2EthnicityNonHisp)","v":""},"PY_M4CC6a2EthnicityNonHisp",null,"All_C.6a.2"]
["C.1d Sex: Unknown/not reported","M4CC1dGenderUnk",{"$f":"\"'='\" & SUBSTITUTE(MID(CELL(\"address\",INDIRECT(B21)),$I$3,100),\"]\",\"\")","v":"'='Deprecated Fields'!$G$7"},{"$f":" M4CC1dGenderUnk","v":0},"Number","M4CC1dGenderUnk",null,null,null,{"$f":"IF(PY_M4CC1dGenderUnk=\"\",\"\",PY_M4CC1dGenderUnk)","v":""},"PY_M4CC1dGenderUnk",null,"All_C.1d"]
["C.6a.3 Ethnicity: Unknown/not reported","M4CC6a3EthnicityUnk",{"$f":"\"'='\" & SUBSTITUTE(MID(CELL(\"address\",INDIRECT(B22)),$I$3,100),\"]\",\"\")","v":"'='Characteristics'!$N$15"},{"$f":" M4CC6a3EthnicityUnk","v":0},"Number","M4CC6a3EthnicityUnk",null,null,null,{"$f":"IF(PY_M4CC6a3EthnicityUnk=\"\",\"\",PY_M4CC6a3EthnicityUnk)","v":""},"PY_M4CC6a3EthnicityUnk",null,"All_C.6a.3"]
["C.1e Sex: Total","M4CC1eGenderTotal",{"$f":"\"'='\" & SUBSTITUTE(MID(CELL(\"address\",INDIRECT(B23)),$I$3,100),\"]\",\"\")","v":"'='Characteristics'!$G$14"},{"$f":" M4CC1eGenderTotal","v":0},"Number","M4CC1eGenderTotal",null,null,null,{"$f":"IF(PY_M4CC1eGenderTotal=\"\",\"\",PY_M4CC1eGenderTotal)","v":""},"PY_M4CC1eGenderTotal",null,"All_C.1e"]
["C.6a.4 Ethnicity: Total","M4CC6a4EthnicityTotal",{"$f":"\"'='\" & SUBSTITUTE(MID(CELL(\"address\",INDIRECT(B24)),$I$3,100),\"]\",\"\")","v":"'='Characteristics'!$N$16"},{"$f":" M4CC6a4EthnicityTotal","v":0},"Number","M4CC6a4EthnicityTotal",null,null,null,{"$f":"IF(PY_M4CC6a4EthnicityTotal=\"\",\"\",PY_M4CC6a4EthnicityTotal)","v":""},"PY_M4CC6a4EthnicityTotal",null,"All_C.6a.4"]
["C.2a Age: 0-5","M4CC2aAge0to5",{"$f":"\"'='\" & SUBSTITUTE(MID(CELL(\"address\",INDIRECT(B25)),$I$3,100),\"]\",\"\")","v":"'='Characteristics'!$G$22"},{"$f":" M4CC2aAge0to5","v":0},"Number","M4CC2aAge0to5",null,null,null,{"$f":"IF(PY_M4CC2aAge0to5=\"\",\"\",PY_M4CC2aAge0to5)","v":""},"PY_M4CC2aAge0to5",null,"All_C.2a"]
["C.6b.1 Race: American Indian or Alaska Native","M4CC6b1RaceAmericanIndian",{"$f":"\"'='\" & SUBSTITUTE(MID(CELL(\"address\",INDIRECT(B26)),$I$3,100),\"]\",\"\")","v":"'='Characteristics'!$N$22"},{"$f":" M4CC6b1RaceAmericanIndian","v":0},"Number","M4CC6b1RaceAmericanIndian",null,null,null,{"$f":"IF(PY_M4CC6b1RaceAmericanIndian=\"\",\"\",PY_M4CC6b1RaceAmericanIndian)","v":""},"PY_M4CC6b1RaceAmericanIndian",null,"All_C.6b.1"]
["C.2b Age: 6-13","M4CC2bAge6to13",{"$f":"\"'='\" & SUBSTITUTE(MID(CELL(\"address\",INDIRECT(B27)),$I$3,100),\"]\",\"\")","v":"'='Characteristics'!$G$23"},{"$f":" M4CC2bAge6to13","v":0},"Number","M4CC2bAge6to13",null,null,null,{"$f":"IF(PY_M4CC2bAge6to13=\"\",\"\",PY_M4CC2bAge6to13)","v":""},"PY_M4CC2bAge6to13",null,"All_C.2b"]
["C.6b.2 Race: Asian","M4CC6b2RaceAsian",{"$f":"\"'='\" & SUBSTITUTE(MID(CELL(\"address\",INDIRECT(B28)),$I$3,100),\"]\",\"\")","v":"'='Characteristics'!$N$23"},{"$f":" M4CC6b2RaceAsian","v":0},"Number","M4CC6b2RaceAsian",null,null,null,{"$f":"IF(PY_M4CC6b2RaceAsian=\"\",\"\",PY_M4CC6b2RaceAsian)","v":""},"PY_M4CC6b2RaceAsian",null,"All_C.6b.2"]
["C.2c Age: 14-17","M4CC2cAge14to17",{"$f":"\"'='\" & SUBSTITUTE(MID(CELL(\"address\",INDIRECT(B29)),$I$3,100),\"]\",\"\")","v":"'='Characteristics'!$G$24"},{"$f":" M4CC2cAge14to17","v":0},"Number","M4CC2cAge14to17",null,null,null,{"$f":"IF(PY_M4CC2cAge14to17=\"\",\"\",PY_M4CC2cAge14to17)","v":""},"PY_M4CC2cAge14to17",null,"All_C.2c"]
["C.6b.3 Race: Black or African American","M4CC6b3RaceBlack",{"$f":"\"'='\" & SUBSTITUTE(MID(CELL(\"address\",INDIRECT(B30)),$I$3,100),\"]\",\"\")","v":"'='Characteristics'!$N$24"},{"$f":" M4CC6b3RaceBlack","v":0},"Number","M4CC6b3RaceBlack",null,null,null,{"$f":"IF(PY_M4CC6b3RaceBlack=\"\",\"\",PY_M4CC6b3RaceBlack)","v":""},"PY_M4CC6b3RaceBlack",null,"All_C.6b.3"]
["C.2d Age: 18-24","M4CC2dAge18to24",{"$f":"\"'='\" & SUBSTITUTE(MID(CELL(\"address\",INDIRECT(B31)),$I$3,100),\"]\",\"\")","v":"'='Characteristics'!$G$25"},{"$f":" M4CC2dAge18to24","v":0},"Number","M4CC2dAge18to24",null,null,null,{"$f":"IF(PY_M4CC2dAge18to24=\"\",\"\",PY_M4CC2dAge18to24)","v":""},"PY_M4CC2dAge18to24",null,"All_C.2d"]
["C.6b.4 Race: Native Hawaiian and other Pacific Islander","M4CC6b4RaceHawaiian",{"$f":"\"'='\" & SUBSTITUTE(MID(CELL(\"address\",INDIRECT(B32)),$I$3,100),\"]\",\"\")","v":"'='Characteristics'!$N$25"},{"$f":" M4CC6b4RaceHawaiian","v":0},"Number","M4CC6b4RaceHawaiian",null,null,null,{"$f":"IF(PY_M4CC6b4RaceHawaiian=\"\",\"\",PY_M4CC6b4RaceHawaiian)","v":""},"PY_M4CC6b4RaceHawaiian",null,"All_C.6b.4"]
["C.2e Age: 25-44","M4CC2eAge25to44",{"$f":"\"'='\" & SUBSTITUTE(MID(CELL(\"address\",INDIRECT(B33)),$I$3,100),\"]\",\"\")","v":"'='Characteristics'!$G$26"},{"$f":" M4CC2eAge25to44","v":0},"Number","M4CC2eAge25to44",null,null,null,{"$f":"IF(PY_M4CC2eAge25to44=\"\",\"\",PY_M4CC2eAge25to44)","v":""},"PY_M4CC2eAge25to44",null,"All_C.2e"]
["C.6b.5 Race: White","M4CC6b5RaceWhite",{"$f":"\"'='\" & SUBSTITUTE(MID(CELL(\"address\",INDIRECT(B34)),$I$3,100),\"]\",\"\")","v":"'='Characteristics'!$N$26"},{"$f":" M4CC6b5RaceWhite","v":0},"Number","M4CC6b5RaceWhite",null,null,null,{"$f":"IF(PY_M4CC6b5RaceWhite=\"\",\"\",PY_M4CC6b5RaceWhite)","v":""},"PY_M4CC6b5RaceWhite",null,"All_C.6b.5"]
["C.2f Age: 45-54","M4CC2fAge45to54",{"$f":"\"'='\" & SUBSTITUTE(MID(CELL(\"address\",INDIRECT(B35)),$I$3,100),\"]\",\"\")","v":"'='Characteristics'!$G$27"},{"$f":" M4CC2fAge45to54","v":0},"Number","M4CC2fAge45to54",null,null,null,{"$f":"IF(PY_M4CC2fAge45to54=\"\",\"\",PY_M4CC2fAge45to54)","v":""},"PY_M4CC2fAge45to54",null,"All_C.2f"]
["C.6b.6 Race: Other","M4CC6b6RaceOther",{"$f":"\"'='\" & SUBSTITUTE(MID(CELL(\"address\",INDIRECT(B36)),$I$3,100),\"]\",\"\")","v":"'='Characteristics'!$N$27"},{"$f":" M4CC6b6RaceOther","v":0},"Number","M4CC6b6RaceOther",null,null,null,{"$f":"IF(PY_M4CC6b6RaceOther=\"\",\"\",PY_M4CC6b6RaceOther)","v":""},"PY_M4CC6b6RaceOther",null,"All_C.6b.6"]
["C.2g Age: 55-59","M4CC2gAge55to59",{"$f":"\"'='\" & SUBSTITUTE(MID(CELL(\"address\",INDIRECT(B37)),$I$3,100),\"]\",\"\")","v":"'='Characteristics'!$G$28"},{"$f":" M4CC2gAge55to59","v":0},"Number","M4CC2gAge55to59",null,null,null,{"$f":"IF(PY_M4CC2gAge55to59=\"\",\"\",PY_M4CC2gAge55to59)","v":""},"PY_M4CC2gAge55to59",null,"All_C.2g"]
["C.6b.7 Race: Multi-race","M4CC6b7RaceMulti",{"$f":"\"'='\" & SUBSTITUTE(MID(CELL(\"address\",INDIRECT(B38)),$I$3,100),\"]\",\"\")","v":"'='Characteristics'!$N$28"},{"$f":" M4CC6b7RaceMulti","v":0},"Number","M4CC6b7RaceMulti",null,null,null,{"$f":"IF(PY_M4CC6b7RaceMulti=\"\",\"\",PY_M4CC6b7RaceMulti)","v":""},"PY_M4CC6b7RaceMulti",null,"All_C.6b.7"]
["C.2h Age: 60-64","M4CC2hAge60to64",{"$f":"\"'='\" & SUBSTITUTE(MID(CELL(\"address\",INDIRECT(B39)),$I$3,100),\"]\",\"\")","v":"'='Characteristics'!$G$29"},{"$f":" M4CC2hAge60to64","v":0},"Number","M4CC2hAge60to64",null,null,null,{"$f":"IF(PY_M4CC2hAge60to64=\"\",\"\",PY_M4CC2hAge60to64)","v":""},"PY_M4CC2hAge60to64",null,"All_C.2h"]
["C.6b.8 Race: Unknown/not reported","M4CC6b8RaceUnk",{"$f":"\"'='\" & SUBSTITUTE(MID(CELL(\"address\",INDIRECT(B40)),$I$3,100),\"]\",\"\")","v":"'='Characteristics'!$N$29"},{"$f":" M4CC6b8RaceUnk","v":0},"Number","M4CC6b8RaceUnk",null,null,null,{"$f":"IF(PY_M4CC6b8RaceUnk=\"\",\"\",PY_M4CC6b8RaceUnk)","v":""},"PY_M4CC6b8RaceUnk",null,"All_C.6b.8"]
["C.2i Age: 65-74","M4CC2iAge65to74",{"$f":"\"'='\" & SUBSTITUTE(MID(CELL(\"address\",INDIRECT(B41)),$I$3,100),\"]\",\"\")","v":"'='Characteristics'!$G$30"},{"$f":" M4CC2iAge65to74","v":0},"Number","M4CC2iAge65to74",null,null,null,{"$f":"IF(PY_M4CC2iAge65to74=\"\",\"\",PY_M4CC2iAge65to74)","v":""},"PY_M4CC2iAge65to74",null,"All_C.2i"]
["C.6b.9 Race: Total","M4CC6b9RaceTotal",{"$f":"\"'='\" & SUBSTITUTE(MID(CELL(\"address\",INDIRECT(B42)),$I$3,100),\"]\",\"\")","v":"'='Characteristics'!$N$30"},{"$f":" M4CC6b9RaceTotal","v":0},"Number","M4CC6b9RaceTotal",null,null,null,{"$f":"IF(PY_M4CC6b9RaceTotal=\"\",\"\",PY_M4CC6b9RaceTotal)","v":""},"PY_M4CC6b9RaceTotal",null,"All_C.6b.9"]
["C.2j Age: 75+","M4CC2jAge75plus",{"$f":"\"'='\" & SUBSTITUTE(MID(CELL(\"address\",INDIRECT(B43)),$I$3,100),\"]\",\"\")","v":"'='Characteristics'!$G$31"},{"$f":" M4CC2jAge75plus","v":0},"Number","M4CC2jAge75plus",null,null,null,{"$f":"IF(PY_M4CC2jAge75plus=\"\",\"\",PY_M4CC2jAge75plus)","v":""},"PY_M4CC2jAge75plus",null,"All_C.2j"]
["C.2k Age: Unknown/not reported","M4CC2kAgeUnk",{"$f":"\"'='\" & SUBSTITUTE(MID(CELL(\"address\",INDIRECT(B44)),$I$3,100),\"]\",\"\")","v":"'='Characteristics'!$G$32"},{"$f":" M4CC2kAgeUnk","v":0},"Number","M4CC2kAgeUnk",null,null,null,{"$f":"IF(PY_M4CC2kAgeUnk=\"\",\"\",PY_M4CC2kAgeUnk)","v":""},"PY_M4CC2kAgeUnk",null,"All_C.2k"]
["C.2l Age: Total","M4CC2lAgeTotal",{"$f":"\"'='\" & SUBSTITUTE(MID(CELL(\"address\",INDIRECT(B45)),$I$3,100),\"]\",\"\")","v":"'='Characteristics'!$G$33"},{"$f":" M4CC2lAgeTotal","v":0},"Number","M4CC2lAgeTotal",null,null,null,{"$f":"IF(PY_M4CC2lAgeTotal=\"\",\"\",PY_M4CC2lAgeTotal)","v":""},"PY_M4CC2lAgeTotal",null,"All_C.2l"]
["C.7a Military Status: Veteran","M4CC7aMilitaryVeteran",{"$f":"\"'='\" & SUBSTITUTE(MID(CELL(\"address\",INDIRECT(B46)),$I$3,100),\"]\",\"\")","v":"'='Characteristics'!$N$37"},{"$f":" M4CC7aMilitaryVeteran","v":0},"Number","M4CC7aMilitaryVeteran",null,null,null,{"$f":"IF(PY_M4CC7aMilitaryVeteran=\"\",\"\",PY_M4CC7aMilitaryVeteran)","v":""},{"$f":"\"PY_\"&B46","v":"PY_M4CC7aMilitaryVeteran"},null,"All_C.7a"]
["C.7b Military Status: Active Military","M4CC7bMilitaryActive",{"$f":"\"'='\" & SUBSTITUTE(MID(CELL(\"address\",INDIRECT(B47)),$I$3,100),\"]\",\"\")","v":"'='Characteristics'!$N$38"},{"$f":" M4CC7bMilitaryActive","v":0},"Number","M4CC7bMilitaryActive",null,null,null,{"$f":"IF(PY_M4CC7bMilitaryActive=\"\",\"\",PY_M4CC7bMilitaryActive)","v":""},"PY_M4CC7bMilitaryActive",null,"All_C.7b"]
["C.7c Military Status: Never Served in the Military","M4CC7cNoMilitaryStatus",{"$f":"\"'='\" & SUBSTITUTE(MID(CELL(\"address\",INDIRECT(B48)),$I$3,100),\"]\",\"\")","v":"'='Characteristics'!$N$39"},{"$f":" M4CC7cNoMilitaryStatus","v":0},"Number","M4CC7cNoMilitaryStatus",null,null,null,{"$f":"IF(PY_M4CC7cNoMilitaryStatus=\"\",\"\",PY_M4CC7cNoMilitaryStatus)","v":""},"PY_M4CC7cNoMilitaryStatus",null,"All_C.7c"]
["C.7d Military Status: Unknown/not reported","M4CC7dMilitaryUnk",{"$f":"\"'='\" & SUBSTITUTE(MID(CELL(\"address\",INDIRECT(B49)),$I$3,100),\"]\",\"\")","v":"'='Characteristics'!$N$40"},{"$f":" M4CC7dMilitaryUnk","v":0},"Number","M4CC7dMilitaryUnk",null,null,null,{"$f":"IF(PY_M4CC7dMilitaryUnk=\"\",\"\",PY_M4CC7dMilitaryUnk)","v":""},"PY_M4CC7dMilitaryUnk",null,"All_C.7d"]
["C.3a. ED: Grades 0-8 [14-24]","M4CC3aEduGrade8Age14to24",{"$f":"\"'='\" & SUBSTITUTE(MID(CELL(\"address\",INDIRECT(B50)),$I$3,100),\"]\",\"\")","v":"'='Characteristics'!$F$41"},{"$f":" M4CC3aEduGrade8Age14to24","v":0},"Number","M4CC3aEduGrade8Age14to24",null,null,null,{"$f":"IF(PY_M4CC3aEduGrade8Age14to24=\"\",\"\",PY_M4CC3aEduGrade8Age14to24)","v":""},"PY_M4CC3aEduGrade8Age14to24",null,"All_C.3a_14"]
["C.3a. ED: Grades 0-8 [25+]","M4CC3aEduGrade8Age25plus",{"$f":"\"'='\" & SUBSTITUTE(MID(CELL(\"address\",INDIRECT(B51)),$I$3,100),\"]\",\"\")","v":"'='Characteristics'!$G$41"},{"$f":" M4CC3aEduGrade8Age25plus","v":0},"Number","M4CC3aEduGrade8Age25plus",null,null,null,{"$f":"IF(PY_M4CC3aEduGrade8Age25plus=\"\",\"\",PY_M4CC3aEduGrade8Age25plus)","v":""},"PY_M4CC3aEduGrade8Age25plus",null,"All_C.3a_25"]
["C.7 Military Status: Total","M4CC7eMilitaryTotal",{"$f":"\"'='\" & SUBSTITUTE(MID(CELL(\"address\",INDIRECT(B52)),$I$3,100),\"]\",\"\")","v":"'='Characteristics'!$N$41"},{"$f":" M4CC7eMilitaryTotal","v":0},"Number","M4CC7eMilitaryTotal",null,null,null,{"$f":"IF(PY_M4CC7eMilitaryTotal=\"\",\"\",PY_M4CC7eMilitaryTotal)","v":""},"PY_M4CC7eMilitaryTotal",null,"All_C.7e"]
["C.3b. ED: Grades 9-12 [14-24]","M4CC3bEduGrade12Age24und",{"$f":"\"'='\" & SUBSTITUTE(MID(CELL(\"address\",INDIRECT(B53)),$I$3,100),\"]\",\"\")","v":"'='Characteristics'!$F$42"},{"$f":" M4CC3bEduGrade12Age24und","v":0},"Number","M4CC3bEduGrade12Age24und",null,null,null,{"$f":"IF(PY_M4CC3bEduGrade12Age24und=\"\",\"\",PY_M4CC3bEduGrade12Age24und)","v":""},"PY_M4CC3bEduGrade12Age24und",null,"All_C.3b_14"]
["C.3b. ED: Grades 9-12 [25+]","M4CC3bEduGrade12Age25plus",{"$f":"\"'='\" & SUBSTITUTE(MID(CELL(\"address\",INDIRECT(B54)),$I$3,100),\"]\",\"\")","v":"'='Characteristics'!$G$42"},{"$f":" M4CC3bEduGrade12Age25plus","v":0},"Number","M4CC3bEduGrade12Age25plus",null,null,null,{"$f":"IF(PY_M4CC3bEduGrade12Age25plus=\"\",\"\",PY_M4CC3bEduGrade12Age25plus)","v":""},"PY_M4CC3bEduGrade12Age25plus",null,"All_C.3b_25"]
["C.3c. ED: HS Grad [14-24]","M4CC3cEduHSGradAge24und",{"$f":"\"'='\" & SUBSTITUTE(MID(CELL(\"address\",INDIRECT(B55)),$I$3,100),\"]\",\"\")","v":"'='Characteristics'!$F$43"},{"$f":" M4CC3cEduHSGradAge24und","v":0},"Number","M4CC3cEduHSGradAge24und",null,null,null,{"$f":"IF(PY_M4CC3cEduHSGradAge24und=\"\",\"\",PY_M4CC3cEduHSGradAge24und)","v":""},"PY_M4CC3cEduHSGradAge24und",null,"All_C.3c_14"]
["C.3c. ED: HS Grad [25+]","M4CC3cEduHSGradAge25plus",{"$f":"\"'='\" & SUBSTITUTE(MID(CELL(\"address\",INDIRECT(B56)),$I$3,100),\"]\",\"\")","v":"'='Characteristics'!$G$43"},{"$f":" M4CC3cEduHSGradAge25plus","v":0},"Number","M4CC3cEduHSGradAge25plus",null,null,null,{"$f":"IF(PY_M4CC3cEduHSGradAge25plus=\"\",\"\",PY_M4CC3cEduHSGradAge25plus)","v":""},"PY_M4CC3cEduHSGradAge25plus",null,"All_C.3c_25"]
["C.3d. ED: GED [14-24]","M4CC3dEquivDiplomaAge24und",{"$f":"\"'='\" & SUBSTITUTE(MID(CELL(\"address\",INDIRECT(B57)),$I$3,100),\"]\",\"\")","v":"'='Characteristics'!$F$44"},{"$f":" M4CC3dEquivDiplomaAge24und","v":0},"Number","M4CC3dEquivDiplomaAge24und",null,null,null,{"$f":"IF(PY_M4CC3dEquivDiplomaAge24und=\"\",\"\",PY_M4CC3dEquivDiplomaAge24und)","v":""},"PY_M4CC3dEquivDiplomaAge24und",null,"All_C.3d_14"]
["C.3d. ED: GED [25+]","M4CC3dEquivDiplomaAge25plus",{"$f":"\"'='\" & SUBSTITUTE(MID(CELL(\"address\",INDIRECT(B58)),$I$3,100),\"]\",\"\")","v":"'='Characteristics'!$G$44"},{"$f":" M4CC3dEquivDiplomaAge25plus","v":0},"Number","M4CC3dEquivDiplomaAge25plus",null,null,null,{"$f":"IF(PY_M4CC3dEquivDiplomaAge25plus=\"\",\"\",PY_M4CC3dEquivDiplomaAge25plus)","v":""},"PY_M4CC3dEquivDiplomaAge25plus",null,"All_C.3d_25"]
["C.3e. ED: 12 grade + Some Post-Secondary [14-24]","M4CC3eEduPostSecAge24und",{"$f":"\"'='\" & SUBSTITUTE(MID(CELL(\"address\",INDIRECT(B59)),$I$3,100),\"]\",\"\")","v":"'='Characteristics'!$F$45"},{"$f":" M4CC3eEduPostSecAge24und","v":0},"Number","M4CC3eEduPostSecAge24und",null,null,null,{"$f":"IF(PY_M4CC3eEduPostSecAge24und=\"\",\"\",PY_M4CC3eEduPostSecAge24und)","v":""},"PY_M4CC3eEduPostSecAge24und",null,"All_C.3e_14"]
["C.3e. ED: 12 grade + Some Post-Secondary [25+]","M4CC3eEduPostSecAge25plus",{"$f":"\"'='\" & SUBSTITUTE(MID(CELL(\"address\",INDIRECT(B60)),$I$3,100),\"]\",\"\")","v":"'='Characteristics'!$G$45"},{"$f":" M4CC3eEduPostSecAge25plus","v":0},"Number","M4CC3eEduPostSecAge25plus",null,null,null,{"$f":"IF(PY_M4CC3eEduPostSecAge25plus=\"\",\"\",PY_M4CC3eEduPostSecAge25plus)","v":""},"PY_M4CC3eEduPostSecAge25plus",null,"All_C.3e_25"]
["C.3f. ED: 2 or 4 years College Grad [14-24]","M4CC3fEduCollegeGradAge24und",{"$f":"\"'='\" & SUBSTITUTE(MID(CELL(\"address\",INDIRECT(B61)),$I$3,100),\"]\",\"\")","v":"'='Characteristics'!$F$46"},{"$f":" M4CC3fEduCollegeGradAge24und","v":0},"Number","M4CC3fEduCollegeGradAge24und",null,null,null,{"$f":"IF(PY_M4CC3fEduCollegeGradAge24und=\"\",\"\",PY_M4CC3fEduCollegeGradAge24und)","v":""},"PY_M4CC3fEduCollegeGradAge24und",null,"All_C.3f_14"]
["C.3f. ED: 2 or 4 years College Grad [25+]","M4CC3fEduCollegeGradAge25plus",{"$f":"\"'='\" & SUBSTITUTE(MID(CELL(\"address\",INDIRECT(B62)),$I$3,100),\"]\",\"\")","v":"'='Characteristics'!$G$46"},{"$f":" M4CC3fEduCollegeGradAge25plus","v":0},"Number","M4CC3fEduCollegeGradAge25plus",null,null,null,{"$f":"IF(PY_M4CC3fEduCollegeGradAge25plus=\"\",\"\",PY_M4CC3fEduCollegeGradAge25plus)","v":""},"PY_M4CC3fEduCollegeGradAge25plus",null,"All_C.3f_25"]
["C.3g. ED: Grad Other Post-Secondary [14-24]","M4CC3gEduGradPostSecAge24und",{"$f":"\"'='\" & SUBSTITUTE(MID(CELL(\"address\",INDIRECT(B63)),$I$3,100),\"]\",\"\")","v":"'='Characteristics'!$F$47"},{"$f":" M4CC3gEduGradPostSecAge24und","v":0},"Number","M4CC3gEduGradPostSecAge24und",null,null,null,{"$f":"IF(PY_M4CC3gEduGradPostSecAge24und=\"\",\"\",PY_M4CC3gEduGradPostSecAge24und)","v":""},"PY_M4CC3gEduGradPostSecAge24und",null,"All_C.3g_14"]
["C.3g. ED: Grad Other Post-Secondary [25+]","M4CC3gEduGradPostSecAge25plus",{"$f":"\"'='\" & SUBSTITUTE(MID(CELL(\"address\",INDIRECT(B64)),$I$3,100),\"]\",\"\")","v":"'='Characteristics'!$G$47"},{"$f":" M4CC3gEduGradPostSecAge25plus","v":0},"Number","M4CC3gEduGradPostSecAge25plus",null,null,null,{"$f":"IF(PY_M4CC3gEduGradPostSecAge25plus=\"\",\"\",PY_M4CC3gEduGradPostSecAge25plus)","v":""},"PY_M4CC3gEduGradPostSecAge25plus",null,"All_C.3g_25"]
["C.3h. ED: Unknown/not reported [14-24]","M4CC3hEduUnkAge24und",{"$f":"\"'='\" & SUBSTITUTE(MID(CELL(\"address\",INDIRECT(B65)),$I$3,100),\"]\",\"\")","v":"'='Characteristics'!$F$48"},{"$f":" M4CC3hEduUnkAge24und","v":0},"Number","M4CC3hEduUnkAge24und",null,null,null,{"$f":"IF(PY_M4CC3hEduUnkAge24und=\"\",\"\",PY_M4CC3hEduUnkAge24und)","v":""},"PY_M4CC3hEduUnkAge24und",null,"All_C.3h_14"]
["C.3h. ED: Unknown/not reported [25+]","M4CC3hEduUnkAge25plus",{"$f":"\"'='\" & SUBSTITUTE(MID(CELL(\"address\",INDIRECT(B66)),$I$3,100),\"]\",\"\")","v":"'='Characteristics'!$G$48"},{"$f":" M4CC3hEduUnkAge25plus","v":0},"Number","M4CC3hEduUnkAge25plus",null,null,null,{"$f":"IF(PY_M4CC3hEduUnkAge25plus=\"\",\"\",PY_M4CC3hEduUnkAge25plus)","v":""},"PY_M4CC3hEduUnkAge25plus",null,"All_C.3h_25"]
["C.8a Work Status: Employed full-time","M4CC8aWorkEmployFT",{"$f":"\"'='\" & SUBSTITUTE(MID(CELL(\"address\",INDIRECT(B67)),$I$3,100),\"]\",\"\")","v":"'='Characteristics'!$N$48"},{"$f":" M4CC8aWorkEmployFT","v":0},"Number","M4CC8aWorkEmployFT",null,null,null,{"$f":"IF(PY_M4CC8aWorkEmployFT=\"\",\"\",PY_M4CC8aWorkEmployFT)","v":""},"PY_M4CC8aWorkEmployFT",null,"All_C.8a"]
["C.3i. ED: Total [14-24]","M4CC3iEduTotalAge24und",{"$f":"\"'='\" & SUBSTITUTE(MID(CELL(\"address\",INDIRECT(B68)),$I$3,100),\"]\",\"\")","v":"'='Characteristics'!$F$49"},{"$f":" M4CC3iEduTotalAge24und","v":0},"Number","M4CC3iEduTotalAge24und",null,null,null,{"$f":"IF(PY_M4CC3iEduTotalAge24und=\"\",\"\",PY_M4CC3iEduTotalAge24und)","v":""},"PY_M4CC3iEduTotalAge24und",null,"All_C.3i_14"]
["C.3i. ED: Total [25+]","M4CC3iEduTotalAge25plus",{"$f":"\"'='\" & SUBSTITUTE(MID(CELL(\"address\",INDIRECT(B69)),$I$3,100),\"]\",\"\")","v":"'='Characteristics'!$G$49"},{"$f":" M4CC3iEduTotalAge25plus","v":0},"Number","M4CC3iEduTotalAge25plus",null,null,null,{"$f":"IF(PY_M4CC3iEduTotalAge25plus=\"\",\"\",PY_M4CC3iEduTotalAge25plus)","v":""},"PY_M4CC3iEduTotalAge25plus",null,"All_C.3i_25"]
["C.8b Work Status: Employed part-time","M4CC8bWorkEmployPT",{"$f":"\"'='\" & SUBSTITUTE(MID(CELL(\"address\",INDIRECT(B70)),$I$3,100),\"]\",\"\")","v":"'='Characteristics'!$N$49"},{"$f":" M4CC8bWorkEmployPT","v":0},"Number","M4CC8bWorkEmployPT",null,null,null,{"$f":"IF(PY_M4CC8bWorkEmployPT=\"\",\"\",PY_M4CC8bWorkEmployPT)","v":""},"PY_M4CC8bWorkEmployPT",null,"All_C.8b"]
["C.8c Work Status: Migrant seasonal farm worker","M4CC8cWorkSeasonal",{"$f":"\"'='\" & SUBSTITUTE(MID(CELL(\"address\",INDIRECT(B71)),$I$3,100),\"]\",\"\")","v":"'='Characteristics'!$N$50"},{"$f":" M4CC8cWorkSeasonal","v":0},"Number","M4CC8cWorkSeasonal",null,null,null,{"$f":"IF(PY_M4CC8cWorkSeasonal=\"\",\"\",PY_M4CC8cWorkSeasonal)","v":""},"PY_M4CC8cWorkSeasonal",null,"All_C.8c"]
["C.8d Work Status: Unemployed (Short-term, 6 months or less)","M4CC8dWorkUnemployShort",{"$f":"\"'='\" & SUBSTITUTE(MID(CELL(\"address\",INDIRECT(B72)),$I$3,100),\"]\",\"\")","v":"'='Characteristics'!$N$51"},{"$f":" M4CC8dWorkUnemployShort","v":0},"Number","M4CC8dWorkUnemployShort",null,null,null,{"$f":"IF(PY_M4CC8dWorkUnemployShort=\"\",\"\",PY_M4CC8dWorkUnemployShort)","v":""},"PY_M4CC8dWorkUnemployShort",null,"All_C.8d"]
["C.8e Work Status: Unemployed (Long-term, more than 6 months)","M4CC8eWorkUnemployLong",{"$f":"\"'='\" & SUBSTITUTE(MID(CELL(\"address\",INDIRECT(B73)),$I$3,100),\"]\",\"\")","v":"'='Characteristics'!$N$52"},{"$f":" M4CC8eWorkUnemployLong","v":0},"Number","M4CC8eWorkUnemployLong",null,null,null,{"$f":"IF(PY_M4CC8eWorkUnemployLong=\"\",\"\",PY_M4CC8eWorkUnemployLong)","v":""},"PY_M4CC8eWorkUnemployLong",null,"All_C.8e"]
["C.8f Work Status: Unemployed (not in labor force)","M4CC8fWorkUnemployNLF",{"$f":"\"'='\" & SUBSTITUTE(MID(CELL(\"address\",INDIRECT(B74)),$I$3,100),\"]\",\"\")","v":"'='Characteristics'!$N$53"},{"$f":" M4CC8fWorkUnemployNLF","v":0},"Number","M4CC8fWorkUnemployNLF",null,null,null,{"$f":"IF(PY_M4CC8fWorkUnemployNLF=\"\",\"\",PY_M4CC8fWorkUnemployNLF)","v":""},"PY_M4CC8fWorkUnemployNLF",null,"All_C.8f"]
["C.8g Work Status: Retired","M4CC8gWorkRetired",{"$f":"\"'='\" & SUBSTITUTE(MID(CELL(\"address\",INDIRECT(B75)),$I$3,100),\"]\",\"\")","v":"'='Characteristics'!$N$54"},{"$f":" M4CC8gWorkRetired","v":0},"Number","M4CC8gWorkRetired",null,null,null,{"$f":"IF(PY_M4CC8gWorkRetired=\"\",\"\",PY_M4CC8gWorkRetired)","v":""},"PY_M4CC8gWorkRetired",null,"All_C.8g"]
["C.8h Work Status: Unknown/not reported","M4CC8hWorkUnk",{"$f":"\"'='\" & SUBSTITUTE(MID(CELL(\"address\",INDIRECT(B76)),$I$3,100),\"]\",\"\")","v":"'='Characteristics'!$N$55"},{"$f":" M4CC8hWorkUnk","v":0},"Number","M4CC8hWorkUnk",null,null,null,{"$f":"IF(PY_M4CC8hWorkUnk=\"\",\"\",PY_M4CC8hWorkUnk)","v":""},"PY_M4CC8hWorkUnk",null,"All_C.8h"]
["C.8i Work Status: Total","M4CC8iWorkTotal",{"$f":"\"'='\" & SUBSTITUTE(MID(CELL(\"address\",INDIRECT(B77)),$I$3,100),\"]\",\"\")","v":"'='Characteristics'!$N$56"},{"$f":" M4CC8iWorkTotal","v":0},"Number","M4CC8iWorkTotal",null,null,null,{"$f":"IF(PY_M4CC8iWorkTotal=\"\",\"\",PY_M4CC8iWorkTotal)","v":""},"PY_M4CC8iWorkTotal",null,"All_C.8i"]
["C.4a. Disconnected Youth: Neither working nor in school","M4CC4aDisconnectedYouth",{"$f":"\"'='\" & SUBSTITUTE(MID(CELL(\"address\",INDIRECT(B78)),$I$3,100),\"]\",\"\")","v":"'='Characteristics'!$G$60"},{"$f":" M4CC4aDisconnectedYouth","v":0},"Number","M4CC4aDisconnectedYouth",null,null,null,{"$f":"IF(PY_M4CC4aDisconnectedYouth=\"\",\"\",PY_M4CC4aDisconnectedYouth)","v":""},{"$f":"\"PY_\"&B78","v":"PY_M4CC4aDisconnectedYouth"},null,"All_C.4a"]
["C.5a.1 Health Disabling condition: Yes","M4CC5aHealthDisableYes",{"$f":"\"'='\" & SUBSTITUTE(MID(CELL(\"address\",INDIRECT(B79)),$I$3,100),\"]\",\"\")","v":"'='Characteristics'!$E$64"},{"$f":" M4CC5aHealthDisableYes","v":0},"Number","M4CC5aHealthDisableYes",null,null,null,{"$f":"IF(PY_M4CC5aHealthDisableYes=\"\",\"\",PY_M4CC5aHealthDisableYes)","v":""},"PY_M4CC5aHealthDisableYes",null,"All_C.5a_Yes"]
["C.5a.3 Health Disabling condition: Unknown","M4CC5aHealthDisableUnk",{"$f":"\"'='\" & SUBSTITUTE(MID(CELL(\"address\",INDIRECT(B80)),$I$3,100),\"]\",\"\")","v":"'='Characteristics'!$G$64"},{"$f":" M4CC5aHealthDisableUnk","v":0},"Number","M4CC5aHealthDisableUnk",null,null,null,{"$f":"IF(PY_M4CC5aHealthDisableUnk=\"\",\"\",PY_M4CC5aHealthDisableUnk)","v":""},"PY_M4CC5aHealthDisableUnk",null,"All_C.5a_Unknown"]
["C.5a.2 Health Disabling condition: No","M4CC5aHealthDisableNo",{"$f":"\"'='\" & SUBSTITUTE(MID(CELL(\"address\",INDIRECT(B81)),$I$3,100),\"]\",\"\")","v":"'='Characteristics'!$F$64"},{"$f":" M4CC5aHealthDisableNo","v":0},"Number","M4CC5aHealthDisableNo",null,null,null,{"$f":"IF(PY_M4CC5aHealthDisableNo=\"\",\"\",PY_M4CC5aHealthDisableNo)","v":""},"PY_M4CC5aHealthDisableNo",null,"All_C.5a_No"]
["C.5b.1 Health insurance: Yes","M4CC5b1HealthInsuranceYes",{"$f":"\"'='\" & SUBSTITUTE(MID(CELL(\"address\",INDIRECT(B82)),$I$3,100),\"]\",\"\")","v":"'='Characteristics'!$E$66"},{"$f":" M4CC5b1HealthInsuranceYes","v":0},"Number","M4CC5b1HealthInsuranceYes",null,null,null,{"$f":"IF(PY_M4CC5b1HealthInsuranceYes=\"\",\"\",PY_M4CC5b1HealthInsuranceYes)","v":""},"PY_M4CC5b1HealthInsuranceYes",null,"All_C.5b_Yes"]
["C.5b.2 Health insurance: No","M4CC5b2HealthInsuranceNo",{"$f":"\"'='\" & SUBSTITUTE(MID(CELL(\"address\",INDIRECT(B83)),$I$3,100),\"]\",\"\")","v":"'='Characteristics'!$F$66"},{"$f":" M4CC5b2HealthInsuranceNo","v":0},"Number","M4CC5b2HealthInsuranceNo",null,null,null,{"$f":"IF(PY_M4CC5b2HealthInsuranceNo=\"\",\"\",PY_M4CC5b2HealthInsuranceNo)","v":""},"PY_M4CC5b2HealthInsuranceNo",null,"All_C.5b_No"]
["C.5b.3 Health insurance: Unknown","M4CC5b3HealthInsuranceUnk",{"$f":"\"'='\" & SUBSTITUTE(MID(CELL(\"address\",INDIRECT(B84)),$I$3,100),\"]\",\"\")","v":"'='Characteristics'!$G$66"},{"$f":" M4CC5b3HealthInsuranceUnk","v":0},"Number","M4CC5b3HealthInsuranceUnk",null,null,null,{"$f":"IF(PY_M4CC5b3HealthInsuranceUnk=\"\",\"\",PY_M4CC5b3HealthInsuranceUnk)","v":""},"PY_M4CC5b3HealthInsuranceUnk",null,"All_C.5b_Unknown"]
["C.5c.1 Health insurance: Medicaid","M4CC5c1InsuranceMedicaid",{"$f":"\"'='\" & SUBSTITUTE(MID(CELL(\"address\",INDIRECT(B85)),$I$3,100),\"]\",\"\")","v":"'='Characteristics'!$G$69"},{"$f":" M4CC5c1InsuranceMedicaid","v":0},"Number","M4CC5c1InsuranceMedicaid",null,null,null,{"$f":"IF(PY_M4CC5c1InsuranceMedicaid=\"\",\"\",PY_M4CC5c1InsuranceMedicaid)","v":""},"PY_M4CC5c1InsuranceMedicaid",null,"All_C.5c.1"]
["C.5c.2 Health insurance: Medicare","M4CC5c2InsuranceMedicare",{"$f":"\"'='\" & SUBSTITUTE(MID(CELL(\"address\",INDIRECT(B86)),$I$3,100),\"]\",\"\")","v":"'='Characteristics'!$G$70"},{"$f":" M4CC5c2InsuranceMedicare","v":0},"Number","M4CC5c2InsuranceMedicare",null,null,null,{"$f":"IF(PY_M4CC5c2InsuranceMedicare=\"\",\"\",PY_M4CC5c2InsuranceMedicare)","v":""},"PY_M4CC5c2InsuranceMedicare",null,"All_C.5c.2"]
["C.5c.3 Health insurance: State Childrens Health Insurance Program","M4CC5c3InsuranceStateChild",{"$f":"\"'='\" & SUBSTITUTE(MID(CELL(\"address\",INDIRECT(B87)),$I$3,100),\"]\",\"\")","v":"'='Characteristics'!$G$71"},{"$f":" M4CC5c3InsuranceStateChild","v":0},"Number","M4CC5c3InsuranceStateChild",null,null,null,{"$f":"IF(PY_M4CC5c3InsuranceStateChild=\"\",\"\",PY_M4CC5c3InsuranceStateChild)","v":""},"PY_M4CC5c3InsuranceStateChild",null,"All_C.5c.3"]
["C.5c.4 Health insurance: State Health Insurance for Adults","M4CC5c4InsuranceStateAdult",{"$f":"\"'='\" & SUBSTITUTE(MID(CELL(\"address\",INDIRECT(B88)),$I$3,100),\"]\",\"\")","v":"'='Characteristics'!$G$72"},{"$f":" M4CC5c4InsuranceStateAdult","v":0},"Number","M4CC5c4InsuranceStateAdult",null,null,null,{"$f":"IF(PY_M4CC5c4InsuranceStateAdult=\"\",\"\",PY_M4CC5c4InsuranceStateAdult)","v":""},"PY_M4CC5c4InsuranceStateAdult",null,"All_C.5c.4"]
["C.5c.5 Health insurance: Military Health Care","M4CC5c5InsuranceMilitary",{"$f":"\"'='\" & SUBSTITUTE(MID(CELL(\"address\",INDIRECT(B89)),$I$3,100),\"]\",\"\")","v":"'='Characteristics'!$G$73"},{"$f":" M4CC5c5InsuranceMilitary","v":0},"Number","M4CC5c5InsuranceMilitary",null,null,null,{"$f":"IF(PY_M4CC5c5InsuranceMilitary=\"\",\"\",PY_M4CC5c5InsuranceMilitary)","v":""},"PY_M4CC5c5InsuranceMilitary",null,"All_C.5c.5"]
["C.5c.6 Health insurance: Direct-Purchase","M4CC5c6InsuranceDirectPurch",{"$f":"\"'='\" & SUBSTITUTE(MID(CELL(\"address\",INDIRECT(B90)),$I$3,100),\"]\",\"\")","v":"'='Characteristics'!$G$74"},{"$f":" M4CC5c6InsuranceDirectPurch","v":0},"Number","M4CC5c6InsuranceDirectPurch",null,null,null,{"$f":"IF(PY_M4CC5c6InsuranceDirectPurch=\"\",\"\",PY_M4CC5c6InsuranceDirectPurch)","v":""},"PY_M4CC5c6InsuranceDirectPurch",null,"All_C.5c.6"]
["C.5c.7 Health insurance: Employment Based","M4CC5c7InsuranceEmploy",{"$f":"\"'='\" & SUBSTITUTE(MID(CELL(\"address\",INDIRECT(B91)),$I$3,100),\"]\",\"\")","v":"'='Characteristics'!$G$75"},{"$f":" M4CC5c7InsuranceEmploy","v":0},"Number","M4CC5c7InsuranceEmploy",null,null,null,{"$f":"IF(PY_M4CC5c7InsuranceEmploy=\"\",\"\",PY_M4CC5c7InsuranceEmploy)","v":""},"PY_M4CC5c7InsuranceEmploy",null,"All_C.5c.7"]
["C.5c.8 Health insurance: Unknown/not reported","M4CC5c8InsuranceUnk",{"$f":"\"'='\" & SUBSTITUTE(MID(CELL(\"address\",INDIRECT(B92)),$I$3,100),\"]\",\"\")","v":"'='Characteristics'!$G$76"},{"$f":" M4CC5c8InsuranceUnk","v":0},"Number","M4CC5c8InsuranceUnk",null,null,null,{"$f":"IF(PY_M4CC5c8InsuranceUnk=\"\",\"\",PY_M4CC5c8InsuranceUnk)","v":""},"PY_M4CC5c8InsuranceUnk",null,"All_C.5c.8"]
["C.5c.9 Health insurance: Total","M4CC5c9InsuranceTotal",{"$f":"\"'='\" & SUBSTITUTE(MID(CELL(\"address\",INDIRECT(B93)),$I$3,100),\"]\",\"\")","v":"'='Characteristics'!$G$77"},{"$f":" M4CC5c9InsuranceTotal","v":0},"Number","M4CC5c9InsuranceTotal",null,null,null,{"$f":"IF(PY_M4CC5c9InsuranceTotal=\"\",\"\",PY_M4CC5c9InsuranceTotal)","v":""},"PY_M4CC5c9InsuranceTotal",null,"All_C.5c.9"]
["D.9a Household Type: Single Person","M4CD9aHHTypeOne",{"$f":"\"'='\" & SUBSTITUTE(MID(CELL(\"address\",INDIRECT(B94)),$I$3,100),\"]\",\"\")","v":"'='Characteristics'!$F$90"},{"$f":" M4CD9aHHTypeOne","v":0},"Number","M4CD9aHHTypeOne",null,null,null,{"$f":"IF(PY_M4CD9aHHTypeOne=\"\",\"\",PY_M4CD9aHHTypeOne)","v":""},"PY_M4CD9aHHTypeOne",null,"All_D.9a"]
["D.13a Sources of Household Income: Income from Employment Only","M4CD13aIncomeEmployOnly",{"$f":"\"'='\" & SUBSTITUTE(MID(CELL(\"address\",INDIRECT(B95)),$I$3,100),\"]\",\"\")","v":"'='Characteristics'!$N$90"},{"$f":" M4CD13aIncomeEmployOnly","v":0},"Number","M4CD13aIncomeEmployOnly",null,null,null,{"$f":"IF(PY_M4CD13aIncomeEmployOnly=\"\",\"\",PY_M4CD13aIncomeEmployOnly)","v":""},"PY_M4CD13aIncomeEmployOnly",null,"All_D.13a"]
["D.9b Household Type: Two Adults NO Children","M4CD9bHHTypeTwoNoChild",{"$f":"\"'='\" & SUBSTITUTE(MID(CELL(\"address\",INDIRECT(B96)),$I$3,100),\"]\",\"\")","v":"'='Characteristics'!$F$91"},{"$f":" M4CD9bHHTypeTwoNoChild","v":0},"Number","M4CD9bHHTypeTwoNoChild",null,null,null,{"$f":"IF(PY_M4CD9bHHTypeTwoNoChild=\"\",\"\",PY_M4CD9bHHTypeTwoNoChild)","v":""},"PY_M4CD9bHHTypeTwoNoChild",null,"All_D.9b"]
["D.13b Sources of Household Income: Income from Employment and Other Income Source","M4CD13bIncomeEmployOther",{"$f":"\"'='\" & SUBSTITUTE(MID(CELL(\"address\",INDIRECT(B97)),$I$3,100),\"]\",\"\")","v":"'='Characteristics'!$N$91"},{"$f":" M4CD13bIncomeEmployOther","v":0},"Number","M4CD13bIncomeEmployOther",null,null,null,{"$f":"IF(PY_M4CD13bIncomeEmployOther=\"\",\"\",PY_M4CD13bIncomeEmployOther)","v":""},"PY_M4CD13bIncomeEmployOther",null,"All_D.13b"]
["D.9c Household Type: Single Parent Female","M4CD9cHHTypeSingleParentFem",{"$f":"\"'='\" & SUBSTITUTE(MID(CELL(\"address\",INDIRECT(B98)),$I$3,100),\"]\",\"\")","v":"'='Characteristics'!$F$92"},{"$f":" M4CD9cHHTypeSingleParentFem","v":0},"Number","M4CD9cHHTypeSingleParentFem",null,null,null,{"$f":"IF(PY_M4CD9cHHTypeSingleParentFem=\"\",\"\",PY_M4CD9cHHTypeSingleParentFem)","v":""},"PY_M4CD9cHHTypeSingleParentFem",null,"All_D.9c"]
["D.13c Sources of Household Income: Income from Employment, Other Income Source, and Non-Cash Benefits","M4CD13cIncomeEmployOtherNoncash",{"$f":"\"'='\" & SUBSTITUTE(MID(CELL(\"address\",INDIRECT(B99)),$I$3,100),\"]\",\"\")","v":"'='Characteristics'!$N$92"},{"$f":" M4CD13cIncomeEmployOtherNoncash","v":0},"Number","M4CD13cIncomeEmployOtherNoncash",null,null,null,{"$f":"IF(PY_M4CD13cIncomeEmployOtherNoncash=\"\",\"\",PY_M4CD13cIncomeEmployOtherNoncash)","v":""},"PY_M4CD13cIncomeEmployOtherNoncash",null,"All_D.13c"]
["D.9d Household Type: Single Parent Male","M4CD9dHHTypeSingleParentMale",{"$f":"\"'='\" & SUBSTITUTE(MID(CELL(\"address\",INDIRECT(B100)),$I$3,100),\"]\",\"\")","v":"'='Characteristics'!$F$93"},{"$f":" M4CD9dHHTypeSingleParentMale","v":0},"Number","M4CD9dHHTypeSingleParentMale",null,null,null,{"$f":"IF(PY_M4CD9dHHTypeSingleParentMale=\"\",\"\",PY_M4CD9dHHTypeSingleParentMale)","v":""},"PY_M4CD9dHHTypeSingleParentMale",null,"All_D.9d"]
["D.13d Sources of Household Income: Income from Employment and Non-Cash Benefits","M4CD13dIncomeEmployNoncash",{"$f":"\"'='\" & SUBSTITUTE(MID(CELL(\"address\",INDIRECT(B101)),$I$3,100),\"]\",\"\")","v":"'='Characteristics'!$N$93"},{"$f":" M4CD13dIncomeEmployNoncash","v":0},"Number","M4CD13dIncomeEmployNoncash",null,null,null,{"$f":"IF(PY_M4CD13dIncomeEmployNoncash=\"\",\"\",PY_M4CD13dIncomeEmployNoncash)","v":""},"PY_M4CD13dIncomeEmployNoncash",null,"All_D.13d"]
["D.9e Household Type: Two Parent Household","M4CD9eHHTypeTwoParent",{"$f":"\"'='\" & SUBSTITUTE(MID(CELL(\"address\",INDIRECT(B102)),$I$3,100),\"]\",\"\")","v":"'='Characteristics'!$F$94"},{"$f":" M4CD9eHHTypeTwoParent","v":0},"Number","M4CD9eHHTypeTwoParent",null,null,null,{"$f":"IF(PY_M4CD9eHHTypeTwoParent=\"\",\"\",PY_M4CD9eHHTypeTwoParent)","v":""},"PY_M4CD9eHHTypeTwoParent",null,"All_D.9e"]
["D.13e Sources of Household Income: Other Income Source Only","M4CD13eIncomeOtherOnly",{"$f":"\"'='\" & SUBSTITUTE(MID(CELL(\"address\",INDIRECT(B103)),$I$3,100),\"]\",\"\")","v":"'='Characteristics'!$N$94"},{"$f":" M4CD13eIncomeOtherOnly","v":0},"Number","M4CD13eIncomeOtherOnly",null,null,null,{"$f":"IF(PY_M4CD13eIncomeOtherOnly=\"\",\"\",PY_M4CD13eIncomeOtherOnly)","v":""},"PY_M4CD13eIncomeOtherOnly",null,"All_D.13e"]
["D.9f Household Type: Non-Related Adults with Children","M4CD9fHHTypeUnrelAdultsChild",{"$f":"\"'='\" & SUBSTITUTE(MID(CELL(\"address\",INDIRECT(B104)),$I$3,100),\"]\",\"\")","v":"'='Characteristics'!$F$95"},{"$f":" M4CD9fHHTypeUnrelAdultsChild","v":0},"Number","M4CD9fHHTypeUnrelAdultsChild",null,null,null,{"$f":"IF(PY_M4CD9fHHTypeUnrelAdultsChild=\"\",\"\",PY_M4CD9fHHTypeUnrelAdultsChild)","v":""},"PY_M4CD9fHHTypeUnrelAdultsChild",null,"All_D.9f"]
["D.13f Sources of Household Income: Other Income Source and Non-Cash Benefits","M4CD13fIncomeOtherNoncash",{"$f":"\"'='\" & SUBSTITUTE(MID(CELL(\"address\",INDIRECT(B105)),$I$3,100),\"]\",\"\")","v":"'='Characteristics'!$N$95"},{"$f":" M4CD13fIncomeOtherNoncash","v":0},"Number","M4CD13fIncomeOtherNoncash",null,null,null,{"$f":"IF(PY_M4CD13fIncomeOtherNoncash=\"\",\"\",PY_M4CD13fIncomeOtherNoncash)","v":""},"PY_M4CD13fIncomeOtherNoncash",null,"All_D.13f"]
["D.9g Multigenerational Household","M4CD9gHHTypeMultigen",{"$f":"\"'='\" & SUBSTITUTE(MID(CELL(\"address\",INDIRECT(B106)),$I$3,100),\"]\",\"\")","v":"'='Characteristics'!$F$96"},{"$f":" M4CD9gHHTypeMultigen","v":0},"Number","M4CD9gHHTypeMultigen",null,null,null,{"$f":"IF(PY_M4CD9gHHTypeMultigen=\"\",\"\",PY_M4CD9gHHTypeMultigen)","v":""},"PY_M4CD9gHHTypeMultigen",null,"All_D.9g"]
["D.13g Sources of Household Income: No Income","M4CD13gIncomeNone",{"$f":"\"'='\" & SUBSTITUTE(MID(CELL(\"address\",INDIRECT(B107)),$I$3,100),\"]\",\"\")","v":"'='Characteristics'!$N$96"},{"$f":" M4CD13gIncomeNone","v":0},"Number","M4CD13gIncomeNone",null,null,null,{"$f":"IF(PY_M4CD13gIncomeNone=\"\",\"\",PY_M4CD13gIncomeNone)","v":""},"PY_M4CD13gIncomeNone",null,"All_D.13g"]
["D.9h Household Type: Other","M4CD9hHHTypeOther",{"$f":"\"'='\" & SUBSTITUTE(MID(CELL(\"address\",INDIRECT(B108)),$I$3,100),\"]\",\"\")","v":"'='Characteristics'!$F$97"},{"$f":" M4CD9hHHTypeOther","v":0},"Number","M4CD9hHHTypeOther",null,null,null,{"$f":"IF(PY_M4CD9hHHTypeOther=\"\",\"\",PY_M4CD9hHHTypeOther)","v":""},"PY_M4CD9hHHTypeOther",null,"All_D.9h"]
["D.13h Sources of Household Income: Non-Cash Benefits Only","M4CD13hIncomeNoncashOnly",{"$f":"\"'='\" & SUBSTITUTE(MID(CELL(\"address\",INDIRECT(B109)),$I$3,100),\"]\",\"\")","v":"'='Characteristics'!$N$97"},{"$f":" M4CD13hIncomeNoncashOnly","v":0},"Number","M4CD13hIncomeNoncashOnly",null,null,null,{"$f":"IF(PY_M4CD13hIncomeNoncashOnly=\"\",\"\",PY_M4CD13hIncomeNoncashOnly)","v":""},"PY_M4CD13hIncomeNoncashOnly",null,"All_D.13h"]
["D.9i Household Type: Unknown/not reported","M4CD9iHHTypeUnk",{"$f":"\"'='\" & SUBSTITUTE(MID(CELL(\"address\",INDIRECT(B110)),$I$3,100),\"]\",\"\")","v":"'='Characteristics'!$F$98"},{"$f":" M4CD9iHHTypeUnk","v":0},"Number","M4CD9iHHTypeUnk",null,null,null,{"$f":"IF(PY_M4CD9iHHTypeUnk=\"\",\"\",PY_M4CD9iHHTypeUnk)","v":""},{"$f":"\"PY_\"&B110","v":"PY_M4CD9iHHTypeUnk"},null,"All_D.9i"]
["D.13i Sources of Household Income: Unknown/not reported","M4CD13iIncomeUnk",{"$f":"\"'='\" & SUBSTITUTE(MID(CELL(\"address\",INDIRECT(B111)),$I$3,100),\"]\",\"\")","v":"'='Characteristics'!$N$98"},{"$f":" M4CD13iIncomeUnk","v":0},"Number","M4CD13iIncomeUnk",null,null,null,{"$f":"IF(PY_M4CD13iIncomeUnk=\"\",\"\",PY_M4CD13iIncomeUnk)","v":""},"PY_M4CD13iIncomeUnk",null,"All_D.13i"]
["D.9j Household Type: Total","M4CD9jHHTypeTotal",{"$f":"\"'='\" & SUBSTITUTE(MID(CELL(\"address\",INDIRECT(B112)),$I$3,100),\"]\",\"\")","v":"'='Characteristics'!$F$99"},{"$f":" M4CD9jHHTypeTotal","v":0},"Number","M4CD9jHHTypeTotal",null,null,null,{"$f":"IF(PY_M4CD9jHHTypeTotal=\"\",\"\",PY_M4CD9jHHTypeTotal)","v":""},"PY_M4CD9jHHTypeTotal",null,"All_D.9j"]
["D.13j Sources of Household Income: Total","M4CD13jIncomeTotal",{"$f":"\"'='\" & SUBSTITUTE(MID(CELL(\"address\",INDIRECT(B113)),$I$3,100),\"]\",\"\")","v":"'='Characteristics'!$N$99"},{"$f":" M4CD13jIncomeTotal","v":0},"Number","M4CD13jIncomeTotal",null,null,null,{"$f":"IF(PY_M4CD13jIncomeTotal=\"\",\"\",PY_M4CD13jIncomeTotal)","v":""},"PY_M4CD13jIncomeTotal",null,"All_D.13j"]
["D.10a Household Size: Single Person","M4CD10aHHSize1",{"$f":"\"'='\" & SUBSTITUTE(MID(CELL(\"address\",INDIRECT(B114)),$I$3,100),\"]\",\"\")","v":"'='Characteristics'!$F$106"},{"$f":" M4CD10aHHSize1","v":0},"Number","M4CD10aHHSize1",null,null,null,{"$f":"IF(PY_M4CD10aHHSize1=\"\",\"\",PY_M4CD10aHHSize1)","v":""},"PY_M4CD10aHHSize1",null,"All_D.10a"]
["D.10b Household Size: Two","M4CD10bHHSize2",{"$f":"\"'='\" & SUBSTITUTE(MID(CELL(\"address\",INDIRECT(B115)),$I$3,100),\"]\",\"\")","v":"'='Characteristics'!$F$107"},{"$f":" M4CD10bHHSize2","v":0},"Number","M4CD10bHHSize2",null,null,null,{"$f":"IF(PY_M4CD10bHHSize2=\"\",\"\",PY_M4CD10bHHSize2)","v":""},"PY_M4CD10bHHSize2",null,"All_D.10b"]
["D.10c Household Size: Three","M4CD10cHHSize3",{"$f":"\"'='\" & SUBSTITUTE(MID(CELL(\"address\",INDIRECT(B116)),$I$3,100),\"]\",\"\")","v":"'='Characteristics'!$F$108"},{"$f":" M4CD10cHHSize3","v":0},"Number","M4CD10cHHSize3",null,null,null,{"$f":"IF(PY_M4CD10cHHSize3=\"\",\"\",PY_M4CD10cHHSize3)","v":""},"PY_M4CD10cHHSize3",null,"All_D.10c"]
["D.10d Household Size: Four","M4CD10dHHSize4",{"$f":"\"'='\" & SUBSTITUTE(MID(CELL(\"address\",INDIRECT(B117)),$I$3,100),\"]\",\"\")","v":"'='Characteristics'!$F$109"},{"$f":" M4CD10dHHSize4","v":0},"Number","M4CD10dHHSize4",null,null,null,{"$f":"IF(PY_M4CD10dHHSize4=\"\",\"\",PY_M4CD10dHHSize4)","v":""},"PY_M4CD10dHHSize4",null,"All_D.10d"]
["D.10e Household Size: Five","M4CD10eHHSize5",{"$f":"\"'='\" & SUBSTITUTE(MID(CELL(\"address\",INDIRECT(B118)),$I$3,100),\"]\",\"\")","v":"'='Characteristics'!$F$110"},{"$f":" M4CD10eHHSize5","v":0},"Number","M4CD10eHHSize5",null,null,null,{"$f":"IF(PY_M4CD10eHHSize5=\"\",\"\",PY_M4CD10eHHSize5)","v":""},"PY_M4CD10eHHSize5",null,"All_D.10e"]
["D.14a Other Income Source: TANF","M4CD14aOtherincTANF",{"$f":"\"'='\" & SUBSTITUTE(MID(CELL(\"address\",INDIRECT(B119)),$I$3,100),\"]\",\"\")","v":"'='Characteristics'!$N$110"},{"$f":" M4CD14aOtherincTANF","v":0},"Number","M4CD14aOtherincTANF",null,null,null,{"$f":"IF(PY_M4CD14aOtherincTANF=\"\",\"\",PY_M4CD14aOtherincTANF)","v":""},"PY_M4CD14aOtherincTANF",null,"All_D.14a"]
["D.10f Household Size: Six or more","M4CD10fHHSize6plus",{"$f":"\"'='\" & SUBSTITUTE(MID(CELL(\"address\",INDIRECT(B120)),$I$3,100),\"]\",\"\")","v":"'='Characteristics'!$F$111"},{"$f":" M4CD10fHHSize6plus","v":0},"Number","M4CD10fHHSize6plus",null,null,null,{"$f":"IF(PY_M4CD10fHHSize6plus=\"\",\"\",PY_M4CD10fHHSize6plus)","v":""},"PY_M4CD10fHHSize6plus",null,"All_D.10f"]
["D.14b Other Income Source: Supplemental Security Income (SSI)","M4CD14bOtherincSSI",{"$f":"\"'='\" & SUBSTITUTE(MID(CELL(\"address\",INDIRECT(B121)),$I$3,100),\"]\",\"\")","v":"'='Characteristics'!$N$111"},{"$f":" M4CD14bOtherincSSI","v":0},"Number","M4CD14bOtherincSSI",null,null,null,{"$f":"IF(PY_M4CD14bOtherincSSI=\"\",\"\",PY_M4CD14bOtherincSSI)","v":""},"PY_M4CD14bOtherincSSI",null,"All_D.14b"]
["D.10g Household Size: Unknown/not reported","M4CD10gHHSizeUnk",{"$f":"\"'='\" & SUBSTITUTE(MID(CELL(\"address\",INDIRECT(B122)),$I$3,100),\"]\",\"\")","v":"'='Characteristics'!$F$112"},{"$f":" M4CD10gHHSizeUnk","v":0},"Number","M4CD10gHHSizeUnk",null,null,null,{"$f":"IF(PY_M4CD10gHHSizeUnk=\"\",\"\",PY_M4CD10gHHSizeUnk)","v":""},"PY_M4CD10gHHSizeUnk",null,"All_D.10g"]
["D.14c Other Income Source: Social Security Disability Income (SSDI)","M4CD14cOtherincSSDI",{"$f":"\"'='\" & SUBSTITUTE(MID(CELL(\"address\",INDIRECT(B123)),$I$3,100),\"]\",\"\")","v":"'='Characteristics'!$N$112"},{"$f":" M4CD14cOtherincSSDI","v":0},"Number","M4CD14cOtherincSSDI",null,null,null,{"$f":"IF(PY_M4CD14cOtherincSSDI=\"\",\"\",PY_M4CD14cOtherincSSDI)","v":""},"PY_M4CD14cOtherincSSDI",null,"All_D.14c"]
["D.10h Household Size: Total","M4CD10hHHSizeTotal",{"$f":"\"'='\" & SUBSTITUTE(MID(CELL(\"address\",INDIRECT(B124)),$I$3,100),\"]\",\"\")","v":"'='Characteristics'!$F$113"},{"$f":" M4CD10hHHSizeTotal","v":0},"Number","M4CD10hHHSizeTotal",null,null,null,{"$f":"IF(PY_M4CD10hHHSizeTotal=\"\",\"\",PY_M4CD10hHHSizeTotal)","v":""},"PY_M4CD10hHHSizeTotal",null,"All_D.10h"]
["D.14d Other Income Source: VA Service-Connected Disability Compensation","M4CD14dOtherincVADisComp",{"$f":"\"'='\" & SUBSTITUTE(MID(CELL(\"address\",INDIRECT(B125)),$I$3,100),\"]\",\"\")","v":"'='Characteristics'!$N$113"},{"$f":" M4CD14dOtherincVADisComp","v":0},"Number","M4CD14dOtherincVADisComp",null,null,null,{"$f":"IF(PY_M4CD14dOtherincVADisComp=\"\",\"\",PY_M4CD14dOtherincVADisComp)","v":""},"PY_M4CD14dOtherincVADisComp",null,"All_D.14d"]
["D.14e Other Income Source: VA Non-Service Connected Disability Pension","M4CD14eOtherincVADisPension",{"$f":"\"'='\" & SUBSTITUTE(MID(CELL(\"address\",INDIRECT(B126)),$I$3,100),\"]\",\"\")","v":"'='Characteristics'!$N$114"},{"$f":" M4CD14eOtherincVADisPension","v":0},"Number","M4CD14eOtherincVADisPension",null,null,null,{"$f":"IF(PY_M4CD14eOtherincVADisPension=\"\",\"\",PY_M4CD14eOtherincVADisPension)","v":""},"PY_M4CD14eOtherincVADisPension",null,"All_D.14e"]
["D.14f Other Income Source: Private Disability Insurance","M4CD14fOtherincPrivateDis",{"$f":"\"'='\" & SUBSTITUTE(MID(CELL(\"address\",INDIRECT(B127)),$I$3,100),\"]\",\"\")","v":"'='Characteristics'!$N$115"},{"$f":" M4CD14fOtherincPrivateDis","v":0},"Number","M4CD14fOtherincPrivateDis",null,null,null,{"$f":"IF(PY_M4CD14fOtherincPrivateDis=\"\",\"\",PY_M4CD14fOtherincPrivateDis)","v":""},"PY_M4CD14fOtherincPrivateDis",null,"All_D.14f"]
["D.14g Other Income Source: Workers Compensation","M4CD14gOtherincWorkerComp",{"$f":"\"'='\" & SUBSTITUTE(MID(CELL(\"address\",INDIRECT(B128)),$I$3,100),\"]\",\"\")","v":"'='Characteristics'!$N$116"},{"$f":" M4CD14gOtherincWorkerComp","v":0},"Number","M4CD14gOtherincWorkerComp",null,null,null,{"$f":"IF(PY_M4CD14gOtherincWorkerComp=\"\",\"\",PY_M4CD14gOtherincWorkerComp)","v":""},"PY_M4CD14gOtherincWorkerComp",null,"All_D.14g"]
["D.14h Other Income Source: Retirement Income from Social Security","M4CD14hOtherincRetirement",{"$f":"\"'='\" & SUBSTITUTE(MID(CELL(\"address\",INDIRECT(B129)),$I$3,100),\"]\",\"\")","v":"'='Characteristics'!$N$117"},{"$f":" M4CD14hOtherincRetirement","v":0},"Number","M4CD14hOtherincRetirement",null,null,null,{"$f":"IF(PY_M4CD14hOtherincRetirement=\"\",\"\",PY_M4CD14hOtherincRetirement)","v":""},"PY_M4CD14hOtherincRetirement",null,"All_D.14h"]
["D.14i Other Income Source: Pension","M4CD14iOtherincPension",{"$f":"\"'='\" & SUBSTITUTE(MID(CELL(\"address\",INDIRECT(B130)),$I$3,100),\"]\",\"\")","v":"'='Characteristics'!$N$118"},{"$f":" M4CD14iOtherincPension","v":0},"Number","M4CD14iOtherincPension",null,null,null,{"$f":"IF(PY_M4CD14iOtherincPension=\"\",\"\",PY_M4CD14iOtherincPension)","v":""},"PY_M4CD14iOtherincPension",null,"All_D.14i"]
["D.14j Other Income Source: Child Support","M4CD14jOtherincChildSupp",{"$f":"\"'='\" & SUBSTITUTE(MID(CELL(\"address\",INDIRECT(B131)),$I$3,100),\"]\",\"\")","v":"'='Characteristics'!$N$119"},{"$f":" M4CD14jOtherincChildSupp","v":0},"Number","M4CD14jOtherincChildSupp",null,null,null,{"$f":"IF(PY_M4CD14jOtherincChildSupp=\"\",\"\",PY_M4CD14jOtherincChildSupp)","v":""},"PY_M4CD14jOtherincChildSupp",null,"All_D.14j"]
["D.11a Housing: Own","M4CD11aHousingOwn",{"$f":"\"'='\" & SUBSTITUTE(MID(CELL(\"address\",INDIRECT(B132)),$I$3,100),\"]\",\"\")","v":"'='Characteristics'!$F$120"},{"$f":" M4CD11aHousingOwn","v":0},"Number","M4CD11aHousingOwn",null,null,null,{"$f":"IF(PY_M4CD11aHousingOwn=\"\",\"\",PY_M4CD11aHousingOwn)","v":""},"PY_M4CD11aHousingOwn",null,"All_D.11a"]
["D.14k Other Income Source: Alimony","M4CD14kOtherincAlimony",{"$f":"\"'='\" & SUBSTITUTE(MID(CELL(\"address\",INDIRECT(B133)),$I$3,100),\"]\",\"\")","v":"'='Characteristics'!$N$120"},{"$f":" M4CD14kOtherincAlimony","v":0},"Number","M4CD14kOtherincAlimony",null,null,null,{"$f":"IF(PY_M4CD14kOtherincAlimony=\"\",\"\",PY_M4CD14kOtherincAlimony)","v":""},"PY_M4CD14kOtherincAlimony",null,"All_D.14k"]
["D.11b Housing: Rent","M4CD11bHousingRent",{"$f":"\"'='\" & SUBSTITUTE(MID(CELL(\"address\",INDIRECT(B134)),$I$3,100),\"]\",\"\")","v":"'='Characteristics'!$F$121"},{"$f":" M4CD11bHousingRent","v":0},"Number","M4CD11bHousingRent",null,null,null,{"$f":"IF(PY_M4CD11bHousingRent=\"\",\"\",PY_M4CD11bHousingRent)","v":""},"PY_M4CD11bHousingRent",null,"All_D.11b"]
["D.14l Other Income Source: Unemployment Insurance","M4CD14lOtherincUnemploy",{"$f":"\"'='\" & SUBSTITUTE(MID(CELL(\"address\",INDIRECT(B135)),$I$3,100),\"]\",\"\")","v":"'='Characteristics'!$N$121"},{"$f":" M4CD14lOtherincUnemploy","v":0},"Number","M4CD14lOtherincUnemploy",null,null,null,{"$f":"IF(PY_M4CD14lOtherincUnemploy=\"\",\"\",PY_M4CD14lOtherincUnemploy)","v":""},"PY_M4CD14lOtherincUnemploy",null,"All_D.14l"]
["D.11c Housing: Other permanent housing","M4CD11cHousingOtherPerm",{"$f":"\"'='\" & SUBSTITUTE(MID(CELL(\"address\",INDIRECT(B136)),$I$3,100),\"]\",\"\")","v":"'='Characteristics'!$F$122"},{"$f":" M4CD11cHousingOtherPerm","v":0},"Number","M4CD11cHousingOtherPerm",null,null,null,{"$f":"IF(PY_M4CD11cHousingOtherPerm=\"\",\"\",PY_M4CD11cHousingOtherPerm)","v":""},"PY_M4CD11cHousingOtherPerm",null,"All_D.11c"]
["D.14m Other Income Source: EITC","M4CD14mOtherincEITC",{"$f":"\"'='\" & SUBSTITUTE(MID(CELL(\"address\",INDIRECT(B137)),$I$3,100),\"]\",\"\")","v":"'='Characteristics'!$N$122"},{"$f":" M4CD14mOtherincEITC","v":0},"Number","M4CD14mOtherincEITC",null,null,null,{"$f":"IF(PY_M4CD14mOtherincEITC=\"\",\"\",PY_M4CD14mOtherincEITC)","v":""},"PY_M4CD14mOtherincEITC",null,"All_D.14m"]
["D.11d Housing: Homeless","M4CD11dHousingHomeless",{"$f":"\"'='\" & SUBSTITUTE(MID(CELL(\"address\",INDIRECT(B138)),$I$3,100),\"]\",\"\")","v":"'='Characteristics'!$F$123"},{"$f":" M4CD11dHousingHomeless","v":0},"Number","M4CD11dHousingHomeless",null,null,null,{"$f":"IF(PY_M4CD11dHousingHomeless=\"\",\"\",PY_M4CD11dHousingHomeless)","v":""},"PY_M4CD11dHousingHomeless",null,"All_D.11d"]
["D.14n Other Income Source: Other","M4CD14nOtherincOther",{"$f":"\"'='\" & SUBSTITUTE(MID(CELL(\"address\",INDIRECT(B139)),$I$3,100),\"]\",\"\")","v":"'='Characteristics'!$N$123"},{"$f":" M4CD14nOtherincOther","v":0},"Number","M4CD14nOtherincOther",null,null,null,{"$f":"IF(PY_M4CD14nOtherincOther=\"\",\"\",PY_M4CD14nOtherincOther)","v":""},"PY_M4CD14nOtherincOther",null,"All_D.14n"]
["D.11e Housing: Other","M4CD11eHousingOther",{"$f":"\"'='\" & SUBSTITUTE(MID(CELL(\"address\",INDIRECT(B140)),$I$3,100),\"]\",\"\")","v":"'='Characteristics'!$F$124"},{"$f":" M4CD11eHousingOther","v":0},"Number","M4CD11eHousingOther",null,null,null,{"$f":"IF(PY_M4CD11eHousingOther=\"\",\"\",PY_M4CD11eHousingOther)","v":""},"PY_M4CD11eHousingOther",null,"All_D.11e"]
["D.14o Other Income Source: Unknown/not reported","M4CD14oOtherincUnk",{"$f":"\"'='\" & SUBSTITUTE(MID(CELL(\"address\",INDIRECT(B141)),$I$3,100),\"]\",\"\")","v":"'='Characteristics'!$N$124"},{"$f":" M4CD14oOtherincUnk","v":0},"Number","M4CD14oOtherincUnk",null,null,null,{"$f":"IF(PY_M4CD14oOtherincUnk=\"\",\"\",PY_M4CD14oOtherincUnk)","v":""},"PY_M4CD14oOtherincUnk",null,"All_D.14o"]
["D.11f Housing: Unknown/not reported","M4CD11fHousingUnk",{"$f":"\"'='\" & SUBSTITUTE(MID(CELL(\"address\",INDIRECT(B142)),$I$3,100),\"]\",\"\")","v":"'='Characteristics'!$F$125"},{"$f":" M4CD11fHousingUnk","v":0},"Number","M4CD11fHousingUnk",null,null,null,{"$f":"IF(PY_M4CD11fHousingUnk=\"\",\"\",PY_M4CD11fHousingUnk)","v":""},{"$f":"\"PY_\"&B142","v":"PY_M4CD11fHousingUnk"},null,"All_D.11f"]
["D.11g Housing: Total","M4CD11gHousingTotal",{"$f":"\"'='\" & SUBSTITUTE(MID(CELL(\"address\",INDIRECT(B143)),$I$3,100),\"]\",\"\")","v":"'='Characteristics'!$F$126"},{"$f":" M4CD11gHousingTotal","v":0},"Number","M4CD11gHousingTotal",null,null,null,{"$f":"IF(PY_M4CD11gHousingTotal=\"\",\"\",PY_M4CD11gHousingTotal)","v":""},"PY_M4CD11gHousingTotal",null,"All_D.11g"]
["D.15a Non-Cash Benefits: SNAP","M4CD15aNoncashSNAP",{"$f":"\"'='\" & SUBSTITUTE(MID(CELL(\"address\",INDIRECT(B144)),$I$3,100),\"]\",\"\")","v":"'='Characteristics'!$N$131"},{"$f":" M4CD15aNoncashSNAP","v":0},"Number","M4CD15aNoncashSNAP",null,null,null,{"$f":"IF(PY_M4CD15aNoncashSNAP=\"\",\"\",PY_M4CD15aNoncashSNAP)","v":""},"PY_M4CD15aNoncashSNAP",null,"All_D.15a"]
["D.15b Non-Cash Benefits: WIC","M4CD15bNoncashWIC",{"$f":"\"'='\" & SUBSTITUTE(MID(CELL(\"address\",INDIRECT(B145)),$I$3,100),\"]\",\"\")","v":"'='Characteristics'!$N$132"},{"$f":" M4CD15bNoncashWIC","v":0},"Number","M4CD15bNoncashWIC",null,null,null,{"$f":"IF(PY_M4CD15bNoncashWIC=\"\",\"\",PY_M4CD15bNoncashWIC)","v":""},"PY_M4CD15bNoncashWIC",null,"All_D.15b"]
["D.15c Non-Cash Benefits: LIHEAP","M4CD15cNoncashLIHEAP",{"$f":"\"'='\" & SUBSTITUTE(MID(CELL(\"address\",INDIRECT(B146)),$I$3,100),\"]\",\"\")","v":"'='Characteristics'!$N$133"},{"$f":" M4CD15cNoncashLIHEAP","v":0},"Number","M4CD15cNoncashLIHEAP",null,null,null,{"$f":"IF(PY_M4CD15cNoncashLIHEAP=\"\",\"\",PY_M4CD15cNoncashLIHEAP)","v":""},"PY_M4CD15cNoncashLIHEAP",null,"All_D.15c"]
["D.12a Level of Household Income: Up to 50%","M4CD12aPov50",{"$f":"\"'='\" & SUBSTITUTE(MID(CELL(\"address\",INDIRECT(B147)),$I$3,100),\"]\",\"\")","v":"'='Characteristics'!$F$134"},{"$f":" M4CD12aPov50","v":0},"Number","M4CD12aPov50",null,null,null,{"$f":"IF(PY_M4CD12aPov50=\"\",\"\",PY_M4CD12aPov50)","v":""},"PY_M4CD12aPov50",null,"All_D.12a"]
["D.15d Non-Cash Benefits: Housing Choice Voucher","M4CD15dNoncashHCVP",{"$f":"\"'='\" & SUBSTITUTE(MID(CELL(\"address\",INDIRECT(B148)),$I$3,100),\"]\",\"\")","v":"'='Characteristics'!$N$134"},{"$f":" M4CD15dNoncashHCVP","v":0},"Number","M4CD15dNoncashHCVP",null,null,null,{"$f":"IF(PY_M4CD15dNoncashHCVP=\"\",\"\",PY_M4CD15dNoncashHCVP)","v":""},"PY_M4CD15dNoncashHCVP",null,"All_D.15d"]
["D.12b Level of Household Income: 51% to 75%","M4CD12bPov51to75",{"$f":"\"'='\" & SUBSTITUTE(MID(CELL(\"address\",INDIRECT(B149)),$I$3,100),\"]\",\"\")","v":"'='Characteristics'!$F$135"},{"$f":" M4CD12bPov51to75","v":0},"Number","M4CD12bPov51to75",null,null,null,{"$f":"IF(PY_M4CD12bPov51to75=\"\",\"\",PY_M4CD12bPov51to75)","v":""},"PY_M4CD12bPov51to75",null,"All_D.12b"]
["D.15e Non-Cash Benefits: Public Housing","M4CD15eNoncashPubHouse",{"$f":"\"'='\" & SUBSTITUTE(MID(CELL(\"address\",INDIRECT(B150)),$I$3,100),\"]\",\"\")","v":"'='Characteristics'!$N$135"},{"$f":" M4CD15eNoncashPubHouse","v":0},"Number","M4CD15eNoncashPubHouse",null,null,null,{"$f":"IF(PY_M4CD15eNoncashPubHouse=\"\",\"\",PY_M4CD15eNoncashPubHouse)","v":""},"PY_M4CD15eNoncashPubHouse",null,"All_D.15e"]
["D.12c Level of Household Income: 76% to 100%","M4CD12cPov76to100",{"$f":"\"'='\" & SUBSTITUTE(MID(CELL(\"address\",INDIRECT(B151)),$I$3,100),\"]\",\"\")","v":"'='Characteristics'!$F$136"},{"$f":" M4CD12cPov76to100","v":0},"Number","M4CD12cPov76to100",null,null,null,{"$f":"IF(PY_M4CD12cPov76to100=\"\",\"\",PY_M4CD12cPov76to100)","v":""},"PY_M4CD12cPov76to100",null,"All_D.12c"]
["D.15f Non-Cash Benefits: Permanent Supportive Housing","M4CD15fNoncashPermHouse",{"$f":"\"'='\" & SUBSTITUTE(MID(CELL(\"address\",INDIRECT(B152)),$I$3,100),\"]\",\"\")","v":"'='Characteristics'!$N$136"},{"$f":" M4CD15fNoncashPermHouse","v":0},"Number","M4CD15fNoncashPermHouse",null,null,null,{"$f":"IF(PY_M4CD15fNoncashPermHouse=\"\",\"\",PY_M4CD15fNoncashPermHouse)","v":""},"PY_M4CD15fNoncashPermHouse",null,"All_D.15f"]
["D.12d Level of Household Income: 101% to 125%","M4CD12dPov101to125",{"$f":"\"'='\" & SUBSTITUTE(MID(CELL(\"address\",INDIRECT(B153)),$I$3,100),\"]\",\"\")","v":"'='Characteristics'!$F$137"},{"$f":" M4CD12dPov101to125","v":0},"Number","M4CD12dPov101to125",null,null,null,{"$f":"IF(PY_M4CD12dPov101to125=\"\",\"\",PY_M4CD12dPov101to125)","v":""},"PY_M4CD12dPov101to125",null,"All_D.12d"]
["D.15g Non-Cash Benefits: HUD-VASH","M4CD15gNoncashHUDVASH",{"$f":"\"'='\" & SUBSTITUTE(MID(CELL(\"address\",INDIRECT(B154)),$I$3,100),\"]\",\"\")","v":"'='Characteristics'!$N$137"},{"$f":" M4CD15gNoncashHUDVASH","v":0},"Number","M4CD15gNoncashHUDVASH",null,null,null,{"$f":"IF(PY_M4CD15gNoncashHUDVASH=\"\",\"\",PY_M4CD15gNoncashHUDVASH)","v":""},"PY_M4CD15gNoncashHUDVASH",null,"All_D.15g"]
["D.12e Level of Household Income: 126% to 150%","M4CD12ePov126to150",{"$f":"\"'='\" & SUBSTITUTE(MID(CELL(\"address\",INDIRECT(B155)),$I$3,100),\"]\",\"\")","v":"'='Characteristics'!$F$138"},{"$f":" M4CD12ePov126to150","v":0},"Number","M4CD12ePov126to150",null,null,null,{"$f":"IF(PY_M4CD12ePov126to150=\"\",\"\",PY_M4CD12ePov126to150)","v":""},"PY_M4CD12ePov126to150",null,"All_D.12e"]
["D.15h Non-Cash Benefits: Childcare Voucher","M4CD15hNoncashChildcareVouch",{"$f":"\"'='\" & SUBSTITUTE(MID(CELL(\"address\",INDIRECT(B156)),$I$3,100),\"]\",\"\")","v":"'='Characteristics'!$N$138"},{"$f":" M4CD15hNoncashChildcareVouch","v":0},"Number","M4CD15hNoncashChildcareVouch",null,null,null,{"$f":"IF(PY_M4CD15hNoncashChildcareVouch=\"\",\"\",PY_M4CD15hNoncashChildcareVouch)","v":""},"PY_M4CD15hNoncashChildcareVouch",null,"All_D.15h"]
["D.12f Level of Household Income: 151% to 175%","M4CD12fPov151to175",{"$f":"\"'='\" & SUBSTITUTE(MID(CELL(\"address\",INDIRECT(B157)),$I$3,100),\"]\",\"\")","v":"'='Characteristics'!$F$139"},{"$f":" M4CD12fPov151to175","v":0},"Number","M4CD12fPov151to175",null,null,null,{"$f":"IF(PY_M4CD12fPov151to175=\"\",\"\",PY_M4CD12fPov151to175)","v":""},"PY_M4CD12fPov151to175",null,"All_D.12f"]
["D.15i Non-Cash Benefits: Affordable Care Act Subsidy","M4CD15iNoncashACA",{"$f":"\"'='\" & SUBSTITUTE(MID(CELL(\"address\",INDIRECT(B158)),$I$3,100),\"]\",\"\")","v":"'='Characteristics'!$N$139"},{"$f":" M4CD15iNoncashACA","v":0},"Number","M4CD15iNoncashACA",null,null,null,{"$f":"IF(PY_M4CD15iNoncashACA=\"\",\"\",PY_M4CD15iNoncashACA)","v":""},"PY_M4CD15iNoncashACA",null,"All_D.15i"]
["D.12g Level of Household Income: 176% to 200%","M4CD12gPov176to200",{"$f":"\"'='\" & SUBSTITUTE(MID(CELL(\"address\",INDIRECT(B159)),$I$3,100),\"]\",\"\")","v":"'='Characteristics'!$F$140"},{"$f":" M4CD12gPov176to200","v":0},"Number","M4CD12gPov176to200",null,null,null,{"$f":"IF(PY_M4CD12gPov176to200=\"\",\"\",PY_M4CD12gPov176to200)","v":""},"PY_M4CD12gPov176to200",null,"All_D.12g"]
["D.15j Non-Cash Benefits: Other","M4CD15jNoncashOther",{"$f":"\"'='\" & SUBSTITUTE(MID(CELL(\"address\",INDIRECT(B160)),$I$3,100),\"]\",\"\")","v":"'='Characteristics'!$N$140"},{"$f":" M4CD15jNoncashOther","v":0},"Number","M4CD15jNoncashOther",null,null,null,{"$f":"IF(PY_M4CD15jNoncashOther=\"\",\"\",PY_M4CD15jNoncashOther)","v":""},"PY_M4CD15jNoncashOther",null,"All_D.15j"]
["D.12h Level of Household Income: 201% to 250%","M4CD12hPov201to250",{"$f":"\"'='\" & SUBSTITUTE(MID(CELL(\"address\",INDIRECT(B161)),$I$3,100),\"]\",\"\")","v":"'='Characteristics'!$F$141"},{"$f":" M4CD12hPov201to250","v":0},"Number","M4CD12hPov201to250",null,null,null,{"$f":"IF(PY_M4CD12hPov201to250=\"\",\"\",PY_M4CD12hPov201to250)","v":""},"PY_M4CD12hPov201to250",null,"All_D.12h"]
["D.15k Non-Cash Benefits: Unknown/not reported","M4CD15kNoncashUnk",{"$f":"\"'='\" & SUBSTITUTE(MID(CELL(\"address\",INDIRECT(B162)),$I$3,100),\"]\",\"\")","v":"'='Characteristics'!$N$141"},{"$f":" M4CD15kNoncashUnk","v":0},"Number","M4CD15kNoncashUnk",null,null,null,{"$f":"IF(PY_M4CD15kNoncashUnk=\"\",\"\",PY_M4CD15kNoncashUnk)","v":""},"PY_M4CD15kNoncashUnk",null,"All_D.15k"]
["D.12i Level of Household Income: 251% and over","M4CD12iPov250plus",{"$f":"\"'='\" & SUBSTITUTE(MID(CELL(\"address\",INDIRECT(B163)),$I$3,100),\"]\",\"\")","v":"'='Characteristics'!$F$142"},{"$f":" M4CD12iPov250plus","v":0},"Number","M4CD12iPov250plus",null,null,null,{"$f":"IF(PY_M4CD12iPov250plus=\"\",\"\",PY_M4CD12iPov250plus)","v":""},"PY_M4CD12iPov250plus",null,"All_D.12i"]
["D.12j Level of Household Income: Unknown/not reported","M4CD12jPovUnk",{"$f":"\"'='\" & SUBSTITUTE(MID(CELL(\"address\",INDIRECT(B164)),$I$3,100),\"]\",\"\")","v":"'='Characteristics'!$F$143"},{"$f":" M4CD12jPovUnk","v":0},"Number","M4CD12jPovUnk",null,null,null,{"$f":"IF(PY_M4CD12jPovUnk=\"\",\"\",PY_M4CD12jPovUnk)","v":""},"PY_M4CD12jPovUnk",null,"All_D.12j"]
["D.12k Level of Household Income: Total","M4CD12kPovTotal",{"$f":"\"'='\" & SUBSTITUTE(MID(CELL(\"address\",INDIRECT(B165)),$I$3,100),\"]\",\"\")","v":"'='Characteristics'!$F$144"},{"$f":" M4CD12kPovTotal","v":0},"Number","M4CD12kPovTotal",null,null,null,{"$f":"IF(PY_M4CD12kPovTotal=\"\",\"\",PY_M4CD12kPovTotal)","v":""},"PY_M4CD12kPovTotal",null,"All_D.12k"]
["Mod 4 Sec C Sub E Item 1a - Program Name","M4CE1aIndivNotIncluded1",{"$f":"\"'='\" & SUBSTITUTE(MID(CELL(\"address\",INDIRECT(B166)),$I$3,100),\"]\",\"\")","v":"'='Characteristics'!$J$151"},{"$f":" IF(ISBLANK(M4CE1aIndivNotIncluded1),\"\",M4CE1aIndivNotIncluded1)","v":""},"Text","M4CE1aIndivNotIncluded1",100]
["Mod 4 Sec C Sub E Item 1b - Number of Individuals","M4CE1bIndivNotIncluded1",{"$f":"\"'='\" & SUBSTITUTE(MID(CELL(\"address\",INDIRECT(B167)),$I$3,100),\"]\",\"\")","v":"'='Characteristics'!$L$151"},{"$f":" M4CE1bIndivNotIncluded1","v":0},"Number","M4CE1bIndivNotIncluded1"]
["Mod 4 Sec C Sub E Item 2a - Program Name","M4CE2aIndivNotIncluded2",{"$f":"\"'='\" & SUBSTITUTE(MID(CELL(\"address\",INDIRECT(B168)),$I$3,100),\"]\",\"\")","v":"'='Characteristics'!$J$152"},{"$f":" IF(ISBLANK(M4CE2aIndivNotIncluded2),\"\",M4CE2aIndivNotIncluded2)","v":""},"Text","M4CE2aIndivNotIncluded2",100]
["Mod 4 Sec C Sub E Item 2b - Number of Individuals","M4CE2bIndivNotIncluded2",{"$f":"\"'='\" & SUBSTITUTE(MID(CELL(\"address\",INDIRECT(B169)),$I$3,100),\"]\",\"\")","v":"'='Characteristics'!$L$152"},{"$f":" M4CE2bIndivNotIncluded2","v":0},"Number","M4CE2bIndivNotIncluded2"]
["Mod 4 Sec C Sub E Item 3a - Program Name","M4CE3aIndivNotIncluded3",{"$f":"\"'='\" & SUBSTITUTE(MID(CELL(\"address\",INDIRECT(B170)),$I$3,100),\"]\",\"\")","v":"'='Characteristics'!$J$153"},{"$f":" IF(ISBLANK(M4CE3aIndivNotIncluded3),\"\",M4CE3aIndivNotIncluded3)","v":""},"Text","M4CE3aIndivNotIncluded3",100]
["Mod 4 Sec C Sub E Item 3b - Number of Individuals","M4CE3bIndivNotIncluded3",{"$f":"\"'='\" & SUBSTITUTE(MID(CELL(\"address\",INDIRECT(B171)),$I$3,100),\"]\",\"\")","v":"'='Characteristics'!$L$153"},{"$f":" M4CE3bIndivNotIncluded3","v":0},"Number","M4CE3bIndivNotIncluded3"]
["Mod 4 Sec C Sub E Item 4a - Program Name","M4CE4aIndivNotIncluded4",{"$f":"\"'='\" & SUBSTITUTE(MID(CELL(\"address\",INDIRECT(B172)),$I$3,100),\"]\",\"\")","v":"'='Characteristics'!$J$154"},{"$f":" IF(ISBLANK(M4CE4aIndivNotIncluded4),\"\",M4CE4aIndivNotIncluded4)","v":""},"Text","M4CE4aIndivNotIncluded4",100]
["Mod 4 Sec C Sub E Item 4b - Number of Individuals","M4CE4bIndivNotIncluded4",{"$f":"\"'='\" & SUBSTITUTE(MID(CELL(\"address\",INDIRECT(B173)),$I$3,100),\"]\",\"\")","v":"'='Characteristics'!$L$154"},{"$f":" M4CE4bIndivNotIncluded4","v":0},"Number","M4CE4bIndivNotIncluded4"]
["Mod 4 Sec C Sub E Item 5a - Program Name","M4CE5aIndivNotIncluded5",{"$f":"\"'='\" & SUBSTITUTE(MID(CELL(\"address\",INDIRECT(B174)),$I$3,100),\"]\",\"\")","v":"'='Characteristics'!$J$155"},{"$f":" IF(ISBLANK(M4CE5aIndivNotIncluded5),\"\",M4CE5aIndivNotIncluded5)","v":""},"Text","M4CE5aIndivNotIncluded5",100]
["Mod 4 Sec C Sub E Item 5b - Number of Individuals","M4CE5bIndivNotIncluded5",{"$f":"\"'='\" & SUBSTITUTE(MID(CELL(\"address\",INDIRECT(B175)),$I$3,100),\"]\",\"\")","v":"'='Characteristics'!$L$155"},{"$f":" M4CE5bIndivNotIncluded5","v":0},"Number","M4CE5bIndivNotIncluded5"]
["Mod 4 Sec C Sub E Item 6a - Program Name","M4CE6aIndivNotIncluded6",{"$f":"\"'='\" & SUBSTITUTE(MID(CELL(\"address\",INDIRECT(B176)),$I$3,100),\"]\",\"\")","v":"'='Characteristics'!$J$156"},{"$f":" IF(ISBLANK(M4CE6aIndivNotIncluded6),\"\",M4CE6aIndivNotIncluded6)","v":""},"Text","M4CE6aIndivNotIncluded6",100]
["Mod 4 Sec C Sub E Item 6b - Number of Individuals","M4CE6bIndivNotIncluded6",{"$f":"\"'='\" & SUBSTITUTE(MID(CELL(\"address\",INDIRECT(B177)),$I$3,100),\"]\",\"\")","v":"'='Characteristics'!$L$156"},{"$f":" M4CE6bIndivNotIncluded6","v":0},"Number","M4CE6bIndivNotIncluded6"]
["Mod 4 Sec C Sub E Item 7a - Program Name","M4CE7aIndivNotIncluded7",{"$f":"\"'='\" & SUBSTITUTE(MID(CELL(\"address\",INDIRECT(B178)),$I$3,100),\"]\",\"\")","v":"'='Characteristics'!$J$157"},{"$f":" IF(ISBLANK(M4CE7aIndivNotIncluded7),\"\",M4CE7aIndivNotIncluded7)","v":""},"Text","M4CE7aIndivNotIncluded7",100]
["Mod 4 Sec C Sub E Item 7b - Number of Individuals","M4CE7bIndivNotIncluded7",{"$f":"\"'='\" & SUBSTITUTE(MID(CELL(\"address\",INDIRECT(B179)),$I$3,100),\"]\",\"\")","v":"'='Characteristics'!$L$157"},{"$f":" M4CE7bIndivNotIncluded7","v":0},"Number","M4CE7bIndivNotIncluded7"]
["Mod 4 Sec C Sub E Item 8a - Program Name","M4CE8aIndivNotIncluded8",{"$f":"\"'='\" & SUBSTITUTE(MID(CELL(\"address\",INDIRECT(B180)),$I$3,100),\"]\",\"\")","v":"'='Characteristics'!$J$158"},{"$f":" IF(ISBLANK(M4CE8aIndivNotIncluded8),\"\",M4CE8aIndivNotIncluded8)","v":""},"Text","M4CE8aIndivNotIncluded8",100]
["Mod 4 Sec C Sub E Item 8b - Number of Individuals","M4CE8bIndivNotIncluded8",{"$f":"\"'='\" & SUBSTITUTE(MID(CELL(\"address\",INDIRECT(B181)),$I$3,100),\"]\",\"\")","v":"'='Characteristics'!$L$158"},{"$f":" M4CE8bIndivNotIncluded8","v":0},"Number","M4CE8bIndivNotIncluded8"]
["Mod 4 Sec C Sub E Item 9a - Program Name","M4CE9aIndivNotIncluded9",{"$f":"\"'='\" & SUBSTITUTE(MID(CELL(\"address\",INDIRECT(B182)),$I$3,100),\"]\",\"\")","v":"'='Characteristics'!$J$159"},{"$f":" IF(ISBLANK(M4CE9aIndivNotIncluded9),\"\",M4CE9aIndivNotIncluded9)","v":""},"Text","M4CE9aIndivNotIncluded9",100]
["Mod 4 Sec C Sub E Item 9b - Number of Individuals","M4CE9bIndivNotIncluded9",{"$f":"\"'='\" & SUBSTITUTE(MID(CELL(\"address\",INDIRECT(B183)),$I$3,100),\"]\",\"\")","v":"'='Characteristics'!$L$159"},{"$f":" M4CE9bIndivNotIncluded9","v":0},"Number","M4CE9bIndivNotIncluded9"]
["Mod 4 Sec C Sub E Item 10a - Program Name","M4CE10aIndivNotIncluded10",{"$f":"\"'='\" & SUBSTITUTE(MID(CELL(\"address\",INDIRECT(B184)),$I$3,100),\"]\",\"\")","v":"'='Characteristics'!$J$160"},{"$f":" IF(ISBLANK(M4CE10aIndivNotIncluded10),\"\",M4CE10aIndivNotIncluded10)","v":""},"Text","M4CE10aIndivNotIncluded10",100]
["Mod 4 Sec C Sub E Item 10b - Number of Individuals","M4CE10bIndivNotIncluded10",{"$f":"\"'='\" & SUBSTITUTE(MID(CELL(\"address\",INDIRECT(B185)),$I$3,100),\"]\",\"\")","v":"'='Characteristics'!$L$160"},{"$f":" M4CE10bIndivNotIncluded10","v":0},"Number","M4CE10bIndivNotIncluded10"]
["Mod 4 Sec C Sub E Item 11a - Program Name","M4CE11aIndivNotIncluded11",{"$f":"\"'='\" & SUBSTITUTE(MID(CELL(\"address\",INDIRECT(B186)),$I$3,100),\"]\",\"\")","v":"'='Characteristics'!$J$161"},{"$f":" IF(ISBLANK(M4CE11aIndivNotIncluded11),\"\",M4CE11aIndivNotIncluded11)","v":""},"Text","M4CE11aIndivNotIncluded11",100]
["Mod 4 Sec C Sub E Item 11b - Number of Individuals","M4CE11bIndivNotIncluded11",{"$f":"\"'='\" & SUBSTITUTE(MID(CELL(\"address\",INDIRECT(B187)),$I$3,100),\"]\",\"\")","v":"'='Characteristics'!$L$161"},{"$f":" M4CE11bIndivNotIncluded11","v":0},"Number","M4CE11bIndivNotIncluded11"]
["Mod 4 Sec C Sub E Item 12a - Program Name","M4CE12aIndivNotIncluded12",{"$f":"\"'='\" & SUBSTITUTE(MID(CELL(\"address\",INDIRECT(B188)),$I$3,100),\"]\",\"\")","v":"'='Characteristics'!$J$162"},{"$f":" IF(ISBLANK(M4CE12aIndivNotIncluded12),\"\",M4CE12aIndivNotIncluded12)","v":""},"Text","M4CE12aIndivNotIncluded12",100]
["Mod 4 Sec C Sub E Item 12b - Number of Individuals","M4CE12bIndivNotIncluded12",{"$f":"\"'='\" & SUBSTITUTE(MID(CELL(\"address\",INDIRECT(B189)),$I$3,100),\"]\",\"\")","v":"'='Characteristics'!$L$162"},{"$f":" M4CE12bIndivNotIncluded12","v":0},"Number","M4CE12bIndivNotIncluded12"]
["Mod 4 Sec C Sub E Item 13a - Program Name","M4CE13aIndivNotIncluded13",{"$f":"\"'='\" & SUBSTITUTE(MID(CELL(\"address\",INDIRECT(B190)),$I$3,100),\"]\",\"\")","v":"'='Characteristics'!$J$163"},{"$f":" IF(ISBLANK(M4CE13aIndivNotIncluded13),\"\",M4CE13aIndivNotIncluded13)","v":""},"Text","M4CE13aIndivNotIncluded13",100]
["Mod 4 Sec C Sub E Item 13b - Number of Individuals","M4CE13bIndivNotIncluded13",{"$f":"\"'='\" & SUBSTITUTE(MID(CELL(\"address\",INDIRECT(B191)),$I$3,100),\"]\",\"\")","v":"'='Characteristics'!$L$163"},{"$f":" M4CE13bIndivNotIncluded13","v":0},"Number","M4CE13bIndivNotIncluded13"]
["Mod 4 Sec C Sub E Item 14a - Program Name","M4CE14aIndivNotIncluded14",{"$f":"\"'='\" & SUBSTITUTE(MID(CELL(\"address\",INDIRECT(B192)),$I$3,100),\"]\",\"\")","v":"'='Characteristics'!$J$164"},{"$f":" IF(ISBLANK(M4CE14aIndivNotIncluded14),\"\",M4CE14aIndivNotIncluded14)","v":""},"Text","M4CE14aIndivNotIncluded14",100]
["Mod 4 Sec C Sub E Item 14b - Number of Individuals","M4CE14bIndivNotIncluded14",{"$f":"\"'='\" & SUBSTITUTE(MID(CELL(\"address\",INDIRECT(B193)),$I$3,100),\"]\",\"\")","v":"'='Characteristics'!$L$164"},{"$f":" M4CE14bIndivNotIncluded14","v":0},"Number","M4CE14bIndivNotIncluded14"]
["Mod 4 Sec C Sub E Item 15a - Program Name","M4CE15aIndivNotIncluded15",{"$f":"\"'='\" & SUBSTITUTE(MID(CELL(\"address\",INDIRECT(B194)),$I$3,100),\"]\",\"\")","v":"'='Characteristics'!$J$165"},{"$f":" IF(ISBLANK(M4CE15aIndivNotIncluded15),\"\",M4CE15aIndivNotIncluded15)","v":""},"Text","M4CE15aIndivNotIncluded15",100]
["Mod 4 Sec C Sub E Item 15b - Number of Individuals","M4CE15bIndivNotIncluded15",{"$f":"\"'='\" & SUBSTITUTE(MID(CELL(\"address\",INDIRECT(B195)),$I$3,100),\"]\",\"\")","v":"'='Characteristics'!$L$165"},{"$f":" M4CE15bIndivNotIncluded15","v":0},"Number","M4CE15bIndivNotIncluded15"]
["Mod 4 Sec C Sub F Item 1a - Program Name","M4CF1aHHNotIncluded1",{"$f":"\"'='\" & SUBSTITUTE(MID(CELL(\"address\",INDIRECT(B196)),$I$3,100),\"]\",\"\")","v":"'='Characteristics'!$J$169"},{"$f":" IF(ISBLANK(M4CF1aHHNotIncluded1),\"\",M4CF1aHHNotIncluded1)","v":""},"Text","M4CF1aHHNotIncluded1",100]
["Mod 4 Sec C Sub F Item 1b - Number of Individuals","M4CF1bHHNotIncluded1",{"$f":"\"'='\" & SUBSTITUTE(MID(CELL(\"address\",INDIRECT(B197)),$I$3,100),\"]\",\"\")","v":"'='Characteristics'!$L$169"},{"$f":" M4CF1bHHNotIncluded1","v":0},"Number","M4CF1bHHNotIncluded1"]
["Mod 4 Sec C Sub F Item 2a - Program Name","M4CF2aHHNotIncluded2",{"$f":"\"'='\" & SUBSTITUTE(MID(CELL(\"address\",INDIRECT(B198)),$I$3,100),\"]\",\"\")","v":"'='Characteristics'!$J$170"},{"$f":" IF(ISBLANK(M4CF2aHHNotIncluded2),\"\",M4CF2aHHNotIncluded2)","v":""},"Text","M4CF2aHHNotIncluded2",100]
["Mod 4 Sec C Sub F Item 2b - Number of Individuals","M4CF2bHHNotIncluded2",{"$f":"\"'='\" & SUBSTITUTE(MID(CELL(\"address\",INDIRECT(B199)),$I$3,100),\"]\",\"\")","v":"'='Characteristics'!$L$170"},{"$f":" M4CF2bHHNotIncluded2","v":0},"Number","M4CF2bHHNotIncluded2"]
["Mod 4 Sec C Sub F Item 3a - Program Name","M4CF3aHHNotIncluded3",{"$f":"\"'='\" & SUBSTITUTE(MID(CELL(\"address\",INDIRECT(B200)),$I$3,100),\"]\",\"\")","v":"'='Characteristics'!$J$171"},{"$f":" IF(ISBLANK(M4CF3aHHNotIncluded3),\"\",M4CF3aHHNotIncluded3)","v":""},"Text","M4CF3aHHNotIncluded3",100]
["Mod 4 Sec C Sub F Item 3b - Number of Individuals","M4CF3bHHNotIncluded3",{"$f":"\"'='\" & SUBSTITUTE(MID(CELL(\"address\",INDIRECT(B201)),$I$3,100),\"]\",\"\")","v":"'='Characteristics'!$L$171"},{"$f":" M4CF3bHHNotIncluded3","v":0},"Number","M4CF3bHHNotIncluded3"]
["Mod 4 Sec C Sub F Item 4a - Program Name","M4CF4aHHNotIncluded4",{"$f":"\"'='\" & SUBSTITUTE(MID(CELL(\"address\",INDIRECT(B202)),$I$3,100),\"]\",\"\")","v":"'='Characteristics'!$J$172"},{"$f":" IF(ISBLANK(M4CF4aHHNotIncluded4),\"\",M4CF4aHHNotIncluded4)","v":""},"Text","M4CF4aHHNotIncluded4",100]
["Mod 4 Sec C Sub F Item 4b - Number of Individuals","M4CF4bHHNotIncluded4",{"$f":"\"'='\" & SUBSTITUTE(MID(CELL(\"address\",INDIRECT(B203)),$I$3,100),\"]\",\"\")","v":"'='Characteristics'!$L$172"},{"$f":" M4CF4bHHNotIncluded4","v":0},"Number","M4CF4bHHNotIncluded4"]
["Mod 4 Sec C Sub F Item 5a - Program Name","M4CF5aHHNotIncluded5",{"$f":"\"'='\" & SUBSTITUTE(MID(CELL(\"address\",INDIRECT(B204)),$I$3,100),\"]\",\"\")","v":"'='Characteristics'!$J$173"},{"$f":" IF(ISBLANK(M4CF5aHHNotIncluded5),\"\",M4CF5aHHNotIncluded5)","v":""},"Text","M4CF5aHHNotIncluded5",100]
["Mod 4 Sec C Sub F Item 5b - Number of Individuals","M4CF5bHHNotIncluded5",{"$f":"\"'='\" & SUBSTITUTE(MID(CELL(\"address\",INDIRECT(B205)),$I$3,100),\"]\",\"\")","v":"'='Characteristics'!$L$173"},{"$f":" M4CF5bHHNotIncluded5","v":0},"Number","M4CF5bHHNotIncluded5"]
["Mod 4 Sec C Sub F Item 6a - Program Name","M4CF6aHHNotIncluded6",{"$f":"\"'='\" & SUBSTITUTE(MID(CELL(\"address\",INDIRECT(B206)),$I$3,100),\"]\",\"\")","v":"'='Characteristics'!$J$174"},{"$f":" IF(ISBLANK(M4CF6aHHNotIncluded6),\"\",M4CF6aHHNotIncluded6)","v":""},"Text","M4CF6aHHNotIncluded6",100]
["Mod 4 Sec C Sub F Item 6b - Number of Individuals","M4CF6bHHNotIncluded6",{"$f":"\"'='\" & SUBSTITUTE(MID(CELL(\"address\",INDIRECT(B207)),$I$3,100),\"]\",\"\")","v":"'='Characteristics'!$L$174"},{"$f":" M4CF6bHHNotIncluded6","v":0},"Number","M4CF6bHHNotIncluded6"]
["Mod 4 Sec C Sub F Item 7a - Program Name","M4CF7aHHNotIncluded7",{"$f":"\"'='\" & SUBSTITUTE(MID(CELL(\"address\",INDIRECT(B208)),$I$3,100),\"]\",\"\")","v":"'='Characteristics'!$J$175"},{"$f":" IF(ISBLANK(M4CF7aHHNotIncluded7),\"\",M4CF7aHHNotIncluded7)","v":""},"Text","M4CF7aHHNotIncluded7",100]
["Mod 4 Sec C Sub F Item 7b - Number of Individuals","M4CF7bHHNotIncluded7",{"$f":"\"'='\" & SUBSTITUTE(MID(CELL(\"address\",INDIRECT(B209)),$I$3,100),\"]\",\"\")","v":"'='Characteristics'!$L$175"},{"$f":" M4CF7bHHNotIncluded7","v":0},"Number","M4CF7bHHNotIncluded7"]
["Mod 4 Sec C Sub F Item 8a - Program Name","M4CF8aHHNotIncluded8",{"$f":"\"'='\" & SUBSTITUTE(MID(CELL(\"address\",INDIRECT(B210)),$I$3,100),\"]\",\"\")","v":"'='Characteristics'!$J$176"},{"$f":" IF(ISBLANK(M4CF8aHHNotIncluded8),\"\",M4CF8aHHNotIncluded8)","v":""},"Text","M4CF8aHHNotIncluded8",100]
["Mod 4 Sec C Sub F Item 8b - Number of Individuals","M4CF8bHHNotIncluded8",{"$f":"\"'='\" & SUBSTITUTE(MID(CELL(\"address\",INDIRECT(B211)),$I$3,100),\"]\",\"\")","v":"'='Characteristics'!$L$176"},{"$f":" M4CF8bHHNotIncluded8","v":0},"Number","M4CF8bHHNotIncluded8"]
["Mod 4 Sec C Sub F Item 9a - Program Name","M4CF9aHHNotIncluded9",{"$f":"\"'='\" & SUBSTITUTE(MID(CELL(\"address\",INDIRECT(B212)),$I$3,100),\"]\",\"\")","v":"'='Characteristics'!$J$177"},{"$f":" IF(ISBLANK(M4CF9aHHNotIncluded9),\"\",M4CF9aHHNotIncluded9)","v":""},"Text","M4CF9aHHNotIncluded9",100]
["Mod 4 Sec C Sub F Item 9b - Number of Individuals","M4CF9bHHNotIncluded9",{"$f":"\"'='\" & SUBSTITUTE(MID(CELL(\"address\",INDIRECT(B213)),$I$3,100),\"]\",\"\")","v":"'='Characteristics'!$L$177"},{"$f":" M4CF9bHHNotIncluded9","v":0},"Number","M4CF9bHHNotIncluded9"]
["Mod 4 Sec C Sub F Item 10a - Program Name","M4CF10aHHNotIncluded10",{"$f":"\"'='\" & SUBSTITUTE(MID(CELL(\"address\",INDIRECT(B214)),$I$3,100),\"]\",\"\")","v":"'='Characteristics'!$J$178"},{"$f":" IF(ISBLANK(M4CF10aHHNotIncluded10),\"\",M4CF10aHHNotIncluded10)","v":""},"Text","M4CF10aHHNotIncluded10",100]
["Mod 4 Sec C Sub F Item 10b - Number of Individuals","M4CF10bHHNotIncluded10",{"$f":"\"'='\" & SUBSTITUTE(MID(CELL(\"address\",INDIRECT(B215)),$I$3,100),\"]\",\"\")","v":"'='Characteristics'!$L$178"},{"$f":" M4CF10bHHNotIncluded10","v":0},"Number","M4CF10bHHNotIncluded10"]
["Mod 4 Sec C Sub F Item 11a - Program Name","M4CF11aHHNotIncluded11",{"$f":"\"'='\" & SUBSTITUTE(MID(CELL(\"address\",INDIRECT(B216)),$I$3,100),\"]\",\"\")","v":"'='Characteristics'!$J$179"},{"$f":" IF(ISBLANK(M4CF11aHHNotIncluded11),\"\",M4CF11aHHNotIncluded11)","v":""},"Text","M4CF11aHHNotIncluded11",100]
["Mod 4 Sec C Sub F Item 11b - Number of Individuals","M4CF11bHHNotIncluded11",{"$f":"\"'='\" & SUBSTITUTE(MID(CELL(\"address\",INDIRECT(B217)),$I$3,100),\"]\",\"\")","v":"'='Characteristics'!$L$179"},{"$f":" M4CF11bHHNotIncluded11","v":0},"Number","M4CF11bHHNotIncluded11"]
["Mod 4 Sec C Sub F Item 12a - Program Name","M4CF12aHHNotIncluded12",{"$f":"\"'='\" & SUBSTITUTE(MID(CELL(\"address\",INDIRECT(B218)),$I$3,100),\"]\",\"\")","v":"'='Characteristics'!$J$180"},{"$f":" IF(ISBLANK(M4CF12aHHNotIncluded12),\"\",M4CF12aHHNotIncluded12)","v":""},"Text","M4CF12aHHNotIncluded12",100]
["Mod 4 Sec C Sub F Item 12b - Number of Individuals","M4CF12bHHNotIncluded12",{"$f":"\"'='\" & SUBSTITUTE(MID(CELL(\"address\",INDIRECT(B219)),$I$3,100),\"]\",\"\")","v":"'='Characteristics'!$L$180"},{"$f":" M4CF12bHHNotIncluded12","v":0},"Number","M4CF12bHHNotIncluded12"]
["Mod 4 Sec C Sub F Item 13a - Program Name","M4CF13aHHNotIncluded13",{"$f":"\"'='\" & SUBSTITUTE(MID(CELL(\"address\",INDIRECT(B220)),$I$3,100),\"]\",\"\")","v":"'='Characteristics'!$J$181"},{"$f":" IF(ISBLANK(M4CF13aHHNotIncluded13),\"\",M4CF13aHHNotIncluded13)","v":""},"Text","M4CF13aHHNotIncluded13",100]
["Mod 4 Sec C Sub F Item 13b - Number of Individuals","M4CF13bHHNotIncluded13",{"$f":"\"'='\" & SUBSTITUTE(MID(CELL(\"address\",INDIRECT(B221)),$I$3,100),\"]\",\"\")","v":"'='Characteristics'!$L$181"},{"$f":" M4CF13bHHNotIncluded13","v":0},"Number","M4CF13bHHNotIncluded13"]
["Mod 4 Sec C Sub F Item 14a - Program Name","M4CF14aHHNotIncluded14",{"$f":"\"'='\" & SUBSTITUTE(MID(CELL(\"address\",INDIRECT(B222)),$I$3,100),\"]\",\"\")","v":"'='Characteristics'!$J$182"},{"$f":" IF(ISBLANK(M4CF14aHHNotIncluded14),\"\",M4CF14aHHNotIncluded14)","v":""},"Text","M4CF14aHHNotIncluded14",100]
["Mod 4 Sec C Sub F Item 14b - Number of Individuals","M4CF14bHHNotIncluded14",{"$f":"\"'='\" & SUBSTITUTE(MID(CELL(\"address\",INDIRECT(B223)),$I$3,100),\"]\",\"\")","v":"'='Characteristics'!$L$182"},{"$f":" M4CF14bHHNotIncluded14","v":0},"Number","M4CF14bHHNotIncluded14"]
["Mod 4 Sec C Sub F Item 15a - Program Name","M4CF15aHHNotIncluded15",{"$f":"\"'='\" & SUBSTITUTE(MID(CELL(\"address\",INDIRECT(B224)),$I$3,100),\"]\",\"\")","v":"'='Characteristics'!$J$183"},{"$f":" IF(ISBLANK(M4CF15aHHNotIncluded15),\"\",M4CF15aHHNotIncluded15)","v":""},"Text","M4CF15aHHNotIncluded15",100]
["Mod 4 Sec C Sub F Item 15b - Number of Individuals","M4CF15bHHNotIncluded15",{"$f":"\"'='\" & SUBSTITUTE(MID(CELL(\"address\",INDIRECT(B225)),$I$3,100),\"]\",\"\")","v":"'='Characteristics'!$L$183"},{"$f":" M4CF15bHHNotIncluded15","v":0},"Number","M4CF15bHHNotIncluded15"]
["FNPI_6a_I","M4A6aImprCommCondPart",{"$f":"\"'='\" & SUBSTITUTE(MID(CELL(\"address\",INDIRECT(B226)),$I$3,100),\"]\",\"\")","v":"'='FNPIs Civic Eng. & Comm. Inv.'!$D$9"},{"$f":" M4A6aImprCommCondPart","v":0},"Number","M4A6aImprCommCondPart",null,null,null,{"$f":"IF(PY_M4A6aImprCommCondPart=\"\",\"\",PY_M4A6aImprCommCondPart)","v":""},{"$f":"\"PY_\"&B226","v":"PY_M4A6aImprCommCondPart"}]
["FNPI_6a_II","M4A6aImprCommCondTarget",{"$f":"\"'='\" & SUBSTITUTE(MID(CELL(\"address\",INDIRECT(B227)),$I$3,100),\"]\",\"\")","v":"'='FNPIs Civic Eng. & Comm. Inv.'!$E$9"},{"$f":" M4A6aImprCommCondTarget","v":0},"Number","M4A6aImprCommCondTarget"]
["FNPI_6a_III","M4A6aImprCommCondResults",{"$f":"\"'='\" & SUBSTITUTE(MID(CELL(\"address\",INDIRECT(B228)),$I$3,100),\"]\",\"\")","v":"'='FNPIs Civic Eng. & Comm. Inv.'!$F$9"},{"$f":" M4A6aImprCommCondResults","v":0},"Number","M4A6aImprCommCondResults",null,null,null,{"$f":"IF(PY_M4A6aImprCommCondResults=\"\",\"\",PY_M4A6aImprCommCondResults)","v":""},{"$f":"\"PY_\"&B228","v":"PY_M4A6aImprCommCondResults"}]
["FNPI_6a_iv","M4A6aImprCommCondOutcome",{"$f":"\"'='\" & SUBSTITUTE(MID(CELL(\"address\",INDIRECT(B229)),$I$3,100),\"]\",\"\")","v":"'='FNPIs Civic Eng. & Comm. Inv.'!$G$9"},{"$f":" M4A6aImprCommCondOutcome","v":""},"Number","M4A6aImprCommCondOutcome"]
["FNPI_6a_v","M4A6aImprCommCondAccuracy",{"$f":"\"'='\" & SUBSTITUTE(MID(CELL(\"address\",INDIRECT(B230)),$I$3,100),\"]\",\"\")","v":"'='FNPIs Civic Eng. & Comm. Inv.'!$H$9"},{"$f":" M4A6aImprCommCondAccuracy","v":""},"Number","M4A6aImprCommCondAccuracy"]
["FNPI 6a.1 Of the above, the number of Community Action program participants who improved their leadership skills.","M4A6a1ImprLeadSkillsPart",{"$f":"\"'='\" & SUBSTITUTE(MID(CELL(\"address\",INDIRECT(B231)),$I$3,100),\"]\",\"\")","v":"'='FNPIs Civic Eng. & Comm. Inv.'!$D$10"},{"$f":" M4A6a1ImprLeadSkillsPart","v":0},"Number","M4A6a1ImprLeadSkillsPart",null,null,null,{"$f":"IF(PY_M4A6a1ImprLeadSkillsPart=\"\",\"\",PY_M4A6a1ImprLeadSkillsPart)","v":""},{"$f":"\"PY_\"&B231","v":"PY_M4A6a1ImprLeadSkillsPart"}]
["FNPI_6a.1_II","M4A6a1ImprLeadSkillsTarget",{"$f":"\"'='\" & SUBSTITUTE(MID(CELL(\"address\",INDIRECT(B232)),$I$3,100),\"]\",\"\")","v":"'='FNPIs Civic Eng. & Comm. Inv.'!$E$10"},{"$f":" M4A6a1ImprLeadSkillsTarget","v":0},"Number","M4A6a1ImprLeadSkillsTarget"]
["FNPI_6a.1_III","M4A6a1ImprLeadSkillsResults",{"$f":"\"'='\" & SUBSTITUTE(MID(CELL(\"address\",INDIRECT(B233)),$I$3,100),\"]\",\"\")","v":"'='FNPIs Civic Eng. & Comm. Inv.'!$F$10"},{"$f":" M4A6a1ImprLeadSkillsResults","v":0},"Number","M4A6a1ImprLeadSkillsResults",null,null,null,{"$f":"IF(PY_M4A6a1ImprLeadSkillsResults=\"\",\"\",PY_M4A6a1ImprLeadSkillsResults)","v":""},{"$f":"\"PY_\"&B233","v":"PY_M4A6a1ImprLeadSkillsResults"}]
["FNPI_6a.1_iv","M4A6a1ImprLeadSkillsOutcome",{"$f":"\"'='\" & SUBSTITUTE(MID(CELL(\"address\",INDIRECT(B234)),$I$3,100),\"]\",\"\")","v":"'='FNPIs Civic Eng. & Comm. Inv.'!$G$10"},{"$f":" M4A6a1ImprLeadSkillsOutcome","v":""},"Number","M4A6a1ImprLeadSkillsOutcome"]
["FNPI_6a.1_v","M4A6a1ImprLeadSkillsAccuracy",{"$f":"\"'='\" & SUBSTITUTE(MID(CELL(\"address\",INDIRECT(B235)),$I$3,100),\"]\",\"\")","v":"'='FNPIs Civic Eng. & Comm. Inv.'!$H$10"},{"$f":" M4A6a1ImprLeadSkillsAccuracy","v":""},"Number","M4A6a1ImprLeadSkillsAccuracy"]
["FNPI 6a.2 Of the above, the number of Community Action program participants who improved their social networks.","M4A6a2ImprSocNetworkPart",{"$f":"\"'='\" & SUBSTITUTE(MID(CELL(\"address\",INDIRECT(B236)),$I$3,100),\"]\",\"\")","v":"'='FNPIs Civic Eng. & Comm. Inv.'!$D$11"},{"$f":" M4A6a2ImprSocNetworkPart","v":0},"Number","M4A6a2ImprSocNetworkPart",null,null,null,{"$f":"IF(PY_M4A6a2ImprSocNetworkPart=\"\",\"\",PY_M4A6a2ImprSocNetworkPart)","v":""},{"$f":"\"PY_\"&B236","v":"PY_M4A6a2ImprSocNetworkPart"}]
["FNPI_6a.2_II","M4A6a2ImprSocNetworkTarget",{"$f":"\"'='\" & SUBSTITUTE(MID(CELL(\"address\",INDIRECT(B237)),$I$3,100),\"]\",\"\")","v":"'='FNPIs Civic Eng. & Comm. Inv.'!$E$11"},{"$f":" M4A6a2ImprSocNetworkTarget","v":0},"Number","M4A6a2ImprSocNetworkTarget"]
["FNPI_6a.2_III","M4A6a2ImprSocNetworkResults",{"$f":"\"'='\" & SUBSTITUTE(MID(CELL(\"address\",INDIRECT(B238)),$I$3,100),\"]\",\"\")","v":"'='FNPIs Civic Eng. & Comm. Inv.'!$F$11"},{"$f":" M4A6a2ImprSocNetworkResults","v":0},"Number","M4A6a2ImprSocNetworkResults",null,null,null,{"$f":"IF(PY_M4A6a2ImprSocNetworkResults=\"\",\"\",PY_M4A6a2ImprSocNetworkResults)","v":""},{"$f":"\"PY_\"&B238","v":"PY_M4A6a2ImprSocNetworkResults"}]
["FNPI_6a.2_iv","M4A6a2ImprSocNetworkOutcome",{"$f":"\"'='\" & SUBSTITUTE(MID(CELL(\"address\",INDIRECT(B239)),$I$3,100),\"]\",\"\")","v":"'='FNPIs Civic Eng. & Comm. Inv.'!$G$11"},{"$f":" M4A6a2ImprSocNetworkOutcome","v":""},"Number","M4A6a2ImprSocNetworkOutcome"]
["FNPI_6a.2_v","M4A6a2ImprSocNetworkAccuracy",{"$f":"\"'='\" & SUBSTITUTE(MID(CELL(\"address\",INDIRECT(B240)),$I$3,100),\"]\",\"\")","v":"'='FNPIs Civic Eng. & Comm. Inv.'!$H$11"},{"$f":" M4A6a2ImprSocNetworkAccuracy","v":""},"Number","M4A6a2ImprSocNetworkAccuracy"]
["FNPI 6a.3 Of the above, the number of Community Action program participants who gained other skills, knowledge and abilities to enhance their ability to engage. ","M4A6a3EnhanceEngAbilityPart",{"$f":"\"'='\" & SUBSTITUTE(MID(CELL(\"address\",INDIRECT(B241)),$I$3,100),\"]\",\"\")","v":"'='FNPIs Civic Eng. & Comm. Inv.'!$D$12"},{"$f":" M4A6a3EnhanceEngAbilityPart","v":0},"Number","M4A6a3EnhanceEngAbilityPart",null,null,null,{"$f":"IF(PY_M4A6a3EnhanceEngAbilityPart=\"\",\"\",PY_M4A6a3EnhanceEngAbilityPart)","v":""},{"$f":"\"PY_\"&B241","v":"PY_M4A6a3EnhanceEngAbilityPart"}]
["FNPI_6a.3_II","M4A6a3EnhanceEngAbilityTarget",{"$f":"\"'='\" & SUBSTITUTE(MID(CELL(\"address\",INDIRECT(B242)),$I$3,100),\"]\",\"\")","v":"'='FNPIs Civic Eng. & Comm. Inv.'!$E$12"},{"$f":" M4A6a3EnhanceEngAbilityTarget","v":0},"Number","M4A6a3EnhanceEngAbilityTarget"]
["FNPI_6a.3_III","M4A6a3EnhanceEngAbilityResults",{"$f":"\"'='\" & SUBSTITUTE(MID(CELL(\"address\",INDIRECT(B243)),$I$3,100),\"]\",\"\")","v":"'='FNPIs Civic Eng. & Comm. Inv.'!$F$12"},{"$f":" M4A6a3EnhanceEngAbilityResults","v":0},"Number","M4A6a3EnhanceEngAbilityResults",null,null,null,{"$f":"IF(PY_M4A6a3EnhanceEngAbilityResults=\"\",\"\",PY_M4A6a3EnhanceEngAbilityResults)","v":""},{"$f":"\"PY_\"&B243","v":"PY_M4A6a3EnhanceEngAbilityResults"}]
["FNPI_6a.3_iv","M4A6a3EnhanceEngAbilityOutcome",{"$f":"\"'='\" & SUBSTITUTE(MID(CELL(\"address\",INDIRECT(B244)),$I$3,100),\"]\",\"\")","v":"'='FNPIs Civic Eng. & Comm. Inv.'!$G$12"},{"$f":" M4A6a3EnhanceEngAbilityOutcome","v":""},"Number","M4A6a3EnhanceEngAbilityOutcome"]
["FNPI_6a.3_v","M4A6a3EnhanceEngAbilityAccuracy",{"$f":"\"'='\" & SUBSTITUTE(MID(CELL(\"address\",INDIRECT(B245)),$I$3,100),\"]\",\"\")","v":"'='FNPIs Civic Eng. & Comm. Inv.'!$H$12"},{"$f":" M4A6a3EnhanceEngAbilityAccuracy","v":""},"Number","M4A6a3EnhanceEngAbilityAccuracy"]
["FNPI 6z.1","M4A6zOtherCivic1Name",{"$f":"\"'='\" & SUBSTITUTE(MID(CELL(\"address\",INDIRECT(B246)),$I$3,100),\"]\",\"\")","v":"'='FNPIs Civic Eng. & Comm. Inv.'!$C$15"},{"$f":" IF(ISBLANK(M4A6zOtherCivic1Name),\"\",M4A6zOtherCivic1Name)","v":""},"Text","M4A6zOtherCivic1Name",1000]
["FNPI_6z.1_I","M4A6zOtherCivic1Part",{"$f":"\"'='\" & SUBSTITUTE(MID(CELL(\"address\",INDIRECT(B247)),$I$3,100),\"]\",\"\")","v":"'='FNPIs Civic Eng. & Comm. Inv.'!$D$15"},{"$f":" M4A6zOtherCivic1Part","v":0},"Number","M4A6zOtherCivic1Part"]
["FNPI_6z.1_II","M4A6zOtherCivic1Target",{"$f":"\"'='\" & SUBSTITUTE(MID(CELL(\"address\",INDIRECT(B248)),$I$3,100),\"]\",\"\")","v":"'='FNPIs Civic Eng. & Comm. Inv.'!$E$15"},{"$f":" M4A6zOtherCivic1Target","v":0},"Number","M4A6zOtherCivic1Target"]
["FNPI_6z.1_III","M4A6zOtherCivic1Results",{"$f":"\"'='\" & SUBSTITUTE(MID(CELL(\"address\",INDIRECT(B249)),$I$3,100),\"]\",\"\")","v":"'='FNPIs Civic Eng. & Comm. Inv.'!$F$15"},{"$f":" M4A6zOtherCivic1Results","v":0},"Number","M4A6zOtherCivic1Results"]
["FNPI 6z.1iv","M4A6zOtherCivic1Outcome",{"$f":"\"'='\" & SUBSTITUTE(MID(CELL(\"address\",INDIRECT(B250)),$I$3,100),\"]\",\"\")","v":"'='FNPIs Civic Eng. & Comm. Inv.'!$G$15"},{"$f":" M4A6zOtherCivic1Outcome","v":""},"Number","M4A6zOtherCivic1Outcome"]
["FNPI 6z.1v","M4A6zOtherCivic1Accuracy",{"$f":"\"'='\" & SUBSTITUTE(MID(CELL(\"address\",INDIRECT(B251)),$I$3,100),\"]\",\"\")","v":"'='FNPIs Civic Eng. & Comm. Inv.'!$H$15"},{"$f":" M4A6zOtherCivic1Accuracy","v":""},"Number","M4A6zOtherCivic1Accuracy"]
["FNPI 6z.2","M4A6zOtherCivic2Name",{"$f":"\"'='\" & SUBSTITUTE(MID(CELL(\"address\",INDIRECT(B252)),$I$3,100),\"]\",\"\")","v":"'='FNPIs Civic Eng. & Comm. Inv.'!$C$16"},{"$f":" IF(ISBLANK(M4A6zOtherCivic2Name),\"\",M4A6zOtherCivic2Name)","v":""},"Text","M4A6zOtherCivic2Name",1000]
["FNPI_6z.2_I","M4A6zOtherCivic2Part",{"$f":"\"'='\" & SUBSTITUTE(MID(CELL(\"address\",INDIRECT(B253)),$I$3,100),\"]\",\"\")","v":"'='FNPIs Civic Eng. & Comm. Inv.'!$D$16"},{"$f":" M4A6zOtherCivic2Part","v":0},"Number","M4A6zOtherCivic2Part"]
["FNPI_6z.2_II","M4A6zOtherCivic2Target",{"$f":"\"'='\" & SUBSTITUTE(MID(CELL(\"address\",INDIRECT(B254)),$I$3,100),\"]\",\"\")","v":"'='FNPIs Civic Eng. & Comm. Inv.'!$E$16"},{"$f":" M4A6zOtherCivic2Target","v":0},"Number","M4A6zOtherCivic2Target"]
["FNPI_6z.2_III","M4A6zOtherCivic2Results",{"$f":"\"'='\" & SUBSTITUTE(MID(CELL(\"address\",INDIRECT(B255)),$I$3,100),\"]\",\"\")","v":"'='FNPIs Civic Eng. & Comm. Inv.'!$F$16"},{"$f":" M4A6zOtherCivic2Results","v":0},"Number","M4A6zOtherCivic2Results"]
["FNPI 6z.2iv","M4A6zOtherCivic2Outcome",{"$f":"\"'='\" & SUBSTITUTE(MID(CELL(\"address\",INDIRECT(B256)),$I$3,100),\"]\",\"\")","v":"'='FNPIs Civic Eng. & Comm. Inv.'!$G$16"},{"$f":" M4A6zOtherCivic2Outcome","v":""},"Number","M4A6zOtherCivic2Outcome"]
["FNPI 6z.2v","M4A6zOtherCivic2Accuracy",{"$f":"\"'='\" & SUBSTITUTE(MID(CELL(\"address\",INDIRECT(B257)),$I$3,100),\"]\",\"\")","v":"'='FNPIs Civic Eng. & Comm. Inv.'!$H$16"},{"$f":" M4A6zOtherCivic2Accuracy","v":""},"Number","M4A6zOtherCivic2Accuracy"]
["FNPI 6z.3","M4A6zOtherCivic3Name",{"$f":"\"'='\" & SUBSTITUTE(MID(CELL(\"address\",INDIRECT(B258)),$I$3,100),\"]\",\"\")","v":"'='FNPIs Civic Eng. & Comm. Inv.'!$C$17"},{"$f":" IF(ISBLANK(M4A6zOtherCivic3Name),\"\",M4A6zOtherCivic3Name)","v":""},"Text","M4A6zOtherCivic3Name",1000]
["FNPI_6z.3_I","M4A6zOtherCivic3Part",{"$f":"\"'='\" & SUBSTITUTE(MID(CELL(\"address\",INDIRECT(B259)),$I$3,100),\"]\",\"\")","v":"'='FNPIs Civic Eng. & Comm. Inv.'!$D$17"},{"$f":" M4A6zOtherCivic3Part","v":0},"Number","M4A6zOtherCivic3Part"]
["FNPI_6z.3_II","M4A6zOtherCivic3Target",{"$f":"\"'='\" & SUBSTITUTE(MID(CELL(\"address\",INDIRECT(B260)),$I$3,100),\"]\",\"\")","v":"'='FNPIs Civic Eng. & Comm. Inv.'!$E$17"},{"$f":" M4A6zOtherCivic3Target","v":0},"Number","M4A6zOtherCivic3Target"]
["FNPI_6z.3_III","M4A6zOtherCivic3Results",{"$f":"\"'='\" & SUBSTITUTE(MID(CELL(\"address\",INDIRECT(B261)),$I$3,100),\"]\",\"\")","v":"'='FNPIs Civic Eng. & Comm. Inv.'!$F$17"},{"$f":" M4A6zOtherCivic3Results","v":0},"Number","M4A6zOtherCivic3Results"]
["FNPI 6z.3iv","M4A6zOtherCivic3Outcome",{"$f":"\"'='\" & SUBSTITUTE(MID(CELL(\"address\",INDIRECT(B262)),$I$3,100),\"]\",\"\")","v":"'='FNPIs Civic Eng. & Comm. Inv.'!$G$17"},{"$f":" M4A6zOtherCivic3Outcome","v":""},"Number","M4A6zOtherCivic3Outcome"]
["FNPI 6z.3v","M4A6zOtherCivic3Accuracy",{"$f":"\"'='\" & SUBSTITUTE(MID(CELL(\"address\",INDIRECT(B263)),$I$3,100),\"]\",\"\")","v":"'='FNPIs Civic Eng. & Comm. Inv.'!$H$17"},{"$f":" M4A6zOtherCivic3Accuracy","v":""},"Number","M4A6zOtherCivic3Accuracy"]
["FNPI 6z.4","M4A6zOtherCivic4Name",{"$f":"\"'='\" & SUBSTITUTE(MID(CELL(\"address\",INDIRECT(B264)),$I$3,100),\"]\",\"\")","v":"'='FNPIs Civic Eng. & Comm. Inv.'!$C$18"},{"$f":" IF(ISBLANK(M4A6zOtherCivic4Name),\"\",M4A6zOtherCivic4Name)","v":""},"Text","M4A6zOtherCivic4Name",1000]
["FNPI_6z.4_I","M4A6zOtherCivic4Part",{"$f":"\"'='\" & SUBSTITUTE(MID(CELL(\"address\",INDIRECT(B265)),$I$3,100),\"]\",\"\")","v":"'='FNPIs Civic Eng. & Comm. Inv.'!$D$18"},{"$f":" M4A6zOtherCivic4Part","v":0},"Number","M4A6zOtherCivic4Part"]
["FNPI_6z.4_II","M4A6zOtherCivic4Target",{"$f":"\"'='\" & SUBSTITUTE(MID(CELL(\"address\",INDIRECT(B266)),$I$3,100),\"]\",\"\")","v":"'='FNPIs Civic Eng. & Comm. Inv.'!$E$18"},{"$f":" M4A6zOtherCivic4Target","v":0},"Number","M4A6zOtherCivic4Target"]
["FNPI_6z.4_III","M4A6zOtherCivic4Results",{"$f":"\"'='\" & SUBSTITUTE(MID(CELL(\"address\",INDIRECT(B267)),$I$3,100),\"]\",\"\")","v":"'='FNPIs Civic Eng. & Comm. Inv.'!$F$18"},{"$f":" M4A6zOtherCivic4Results","v":0},"Number","M4A6zOtherCivic4Results"]
["FNPI 6z.4iv","M4A6zOtherCivic4Outcome",{"$f":"\"'='\" & SUBSTITUTE(MID(CELL(\"address\",INDIRECT(B268)),$I$3,100),\"]\",\"\")","v":"'='FNPIs Civic Eng. & Comm. Inv.'!$G$18"},{"$f":" M4A6zOtherCivic4Outcome","v":""},"Number","M4A6zOtherCivic4Outcome"]
["FNPI 6z.4v","M4A6zOtherCivic4Accuracy",{"$f":"\"'='\" & SUBSTITUTE(MID(CELL(\"address\",INDIRECT(B269)),$I$3,100),\"]\",\"\")","v":"'='FNPIs Civic Eng. & Comm. Inv.'!$H$18"},{"$f":" M4A6zOtherCivic4Accuracy","v":""},"Number","M4A6zOtherCivic4Accuracy"]
["FNPI 6z.5","M4A6zOtherCivic5Name",{"$f":"\"'='\" & SUBSTITUTE(MID(CELL(\"address\",INDIRECT(B270)),$I$3,100),\"]\",\"\")","v":"'='FNPIs Civic Eng. & Comm. Inv.'!$C$19"},{"$f":" IF(ISBLANK(M4A6zOtherCivic5Name),\"\",M4A6zOtherCivic5Name)","v":""},"Text","M4A6zOtherCivic5Name",1000]
["FNPI_6z.5_I","M4A6zOtherCivic5Part",{"$f":"\"'='\" & SUBSTITUTE(MID(CELL(\"address\",INDIRECT(B271)),$I$3,100),\"]\",\"\")","v":"'='FNPIs Civic Eng. & Comm. Inv.'!$D$19"},{"$f":" M4A6zOtherCivic5Part","v":0},"Number","M4A6zOtherCivic5Part"]
["FNPI_6z.5_II","M4A6zOtherCivic5Target",{"$f":"\"'='\" & SUBSTITUTE(MID(CELL(\"address\",INDIRECT(B272)),$I$3,100),\"]\",\"\")","v":"'='FNPIs Civic Eng. & Comm. Inv.'!$E$19"},{"$f":" M4A6zOtherCivic5Target","v":0},"Number","M4A6zOtherCivic5Target"]
["FNPI_6z.5_III","M4A6zOtherCivic5Results",{"$f":"\"'='\" & SUBSTITUTE(MID(CELL(\"address\",INDIRECT(B273)),$I$3,100),\"]\",\"\")","v":"'='FNPIs Civic Eng. & Comm. Inv.'!$F$19"},{"$f":" M4A6zOtherCivic5Results","v":0},"Number","M4A6zOtherCivic5Results"]
["FNPI 6z.5iv","M4A6zOtherCivic5Outcome",{"$f":"\"'='\" & SUBSTITUTE(MID(CELL(\"address\",INDIRECT(B274)),$I$3,100),\"]\",\"\")","v":"'='FNPIs Civic Eng. & Comm. Inv.'!$G$19"},{"$f":" M4A6zOtherCivic5Outcome","v":""},"Number","M4A6zOtherCivic5Outcome"]
["FNPI 6z.5v","M4A6zOtherCivic5Accuracy",{"$f":"\"'='\" & SUBSTITUTE(MID(CELL(\"address\",INDIRECT(B275)),$I$3,100),\"]\",\"\")","v":"'='FNPIs Civic Eng. & Comm. Inv.'!$H$19"},{"$f":" M4A6zOtherCivic5Accuracy","v":""},"Number","M4A6zOtherCivic5Accuracy"]
["FNPI_Civic_Comments","M4A6Comments",{"$f":"\"'='\" & SUBSTITUTE(MID(CELL(\"address\",INDIRECT(B276)),$I$3,100),\"]\",\"\")","v":"'='Deprecated Fields'!$C$36"},{"$f":" M4A6Comments","v":0},"Memo","M4A6Comments",5000]
["FNPI_2a_I","M4A2aChildLitSkillsPart",{"$f":"\"'='\" & SUBSTITUTE(MID(CELL(\"address\",INDIRECT(B277)),$I$3,100),\"]\",\"\")","v":"'='FNPIs Education'!$D$9"},{"$f":" M4A2aChildLitSkillsPart","v":0},"Number","M4A2aChildLitSkillsPart",null,null,null,{"$f":"IF(PY_M4A2aChildLitSkillsPart=\"\",\"\",PY_M4A2aChildLitSkillsPart)","v":""},{"$f":"\"PY_\"&B277","v":"PY_M4A2aChildLitSkillsPart"}]
["FNPI_2a_II","M4A2aChildLitSkillsTarget",{"$f":"\"'='\" & SUBSTITUTE(MID(CELL(\"address\",INDIRECT(B278)),$I$3,100),\"]\",\"\")","v":"'='FNPIs Education'!$E$9"},{"$f":" M4A2aChildLitSkillsTarget","v":0},"Number","M4A2aChildLitSkillsTarget"]
["FNPI_2a_III","M4A2aChildLitSkillsResults",{"$f":"\"'='\" & SUBSTITUTE(MID(CELL(\"address\",INDIRECT(B279)),$I$3,100),\"]\",\"\")","v":"'='FNPIs Education'!$F$9"},{"$f":" M4A2aChildLitSkillsResults","v":0},"Number","M4A2aChildLitSkillsResults",null,null,null,{"$f":"IF(PY_M4A2aChildLitSkillsResults=\"\",\"\",PY_M4A2aChildLitSkillsResults)","v":""},{"$f":"\"PY_\"&B279","v":"PY_M4A2aChildLitSkillsResults"}]
["FNPI_2a_iv","M4A2aChildLitSkillsOutcome",{"$f":"\"'='\" & SUBSTITUTE(MID(CELL(\"address\",INDIRECT(B280)),$I$3,100),\"]\",\"\")","v":"'='FNPIs Education'!$G$9"},{"$f":" M4A2aChildLitSkillsOutcome","v":""},"Number","M4A2aChildLitSkillsOutcome"]
["FNPI_2a_v","M4A2aChildLitSkillsAccuracy",{"$f":"\"'='\" & SUBSTITUTE(MID(CELL(\"address\",INDIRECT(B281)),$I$3,100),\"]\",\"\")","v":"'='FNPIs Education'!$H$9"},{"$f":" M4A2aChildLitSkillsAccuracy","v":""},"Number","M4A2aChildLitSkillsAccuracy"]
["FNPI_2b_I","M4A2bChildSchoolReadyPart",{"$f":"\"'='\" & SUBSTITUTE(MID(CELL(\"address\",INDIRECT(B282)),$I$3,100),\"]\",\"\")","v":"'='FNPIs Education'!$D$10"},{"$f":" M4A2bChildSchoolReadyPart","v":0},"Number","M4A2bChildSchoolReadyPart",null,null,null,{"$f":"IF(PY_M4A2bChildSchoolReadyPart=\"\",\"\",PY_M4A2bChildSchoolReadyPart)","v":""},{"$f":"\"PY_\"&B282","v":"PY_M4A2bChildSchoolReadyPart"}]
["FNPI_2b_II","M4A2bChildSchoolReadyTarget",{"$f":"\"'='\" & SUBSTITUTE(MID(CELL(\"address\",INDIRECT(B283)),$I$3,100),\"]\",\"\")","v":"'='FNPIs Education'!$E$10"},{"$f":" M4A2bChildSchoolReadyTarget","v":0},"Number","M4A2bChildSchoolReadyTarget"]
["FNPI_2b_III","M4A2bChildSchoolReadyResults",{"$f":"\"'='\" & SUBSTITUTE(MID(CELL(\"address\",INDIRECT(B284)),$I$3,100),\"]\",\"\")","v":"'='FNPIs Education'!$F$10"},{"$f":" M4A2bChildSchoolReadyResults","v":0},"Number","M4A2bChildSchoolReadyResults",null,null,null,{"$f":"IF(PY_M4A2bChildSchoolReadyResults=\"\",\"\",PY_M4A2bChildSchoolReadyResults)","v":""},{"$f":"\"PY_\"&B284","v":"PY_M4A2bChildSchoolReadyResults"}]
["FNPI_2b_iv","M4A2bChildSchoolReadyOutcome",{"$f":"\"'='\" & SUBSTITUTE(MID(CELL(\"address\",INDIRECT(B285)),$I$3,100),\"]\",\"\")","v":"'='FNPIs Education'!$G$10"},{"$f":" M4A2bChildSchoolReadyOutcome","v":""},"Number","M4A2bChildSchoolReadyOutcome"]
["FNPI_2b_v","M4A2bChildSchoolReadyAccuracy",{"$f":"\"'='\" & SUBSTITUTE(MID(CELL(\"address\",INDIRECT(B286)),$I$3,100),\"]\",\"\")","v":"'='FNPIs Education'!$H$10"},{"$f":" M4A2bChildSchoolReadyAccuracy","v":""},"Number","M4A2bChildSchoolReadyAccuracy"]
["FNPI_2c_i","M4A2cPosLearnPart",{"$f":"\"'='\" & SUBSTITUTE(MID(CELL(\"address\",INDIRECT(B287)),$I$3,100),\"]\",\"\")","v":"'='FNPIs Education'!$D$11"},{"$f":" M4A2cPosLearnPart","v":0},"Number","M4A2cPosLearnPart",null,null,null,{"$f":"IF(PY_M4A2cPosLearnPart=\"\",\"\",PY_M4A2cPosLearnPart)","v":""},{"$f":"\"PY_\"&B287","v":"PY_M4A2cPosLearnPart"}]
["FNPI_2c_iii","M4A2cPosLearnTarget",{"$f":"\"'='\" & SUBSTITUTE(MID(CELL(\"address\",INDIRECT(B288)),$I$3,100),\"]\",\"\")","v":"'='FNPIs Education'!$E$11"},{"$f":" M4A2cPosLearnTarget","v":0},"Number","M4A2cPosLearnTarget"]
["FNPI_2c_iii","M4A2cPosLearnResults",{"$f":"\"'='\" & SUBSTITUTE(MID(CELL(\"address\",INDIRECT(B289)),$I$3,100),\"]\",\"\")","v":"'='FNPIs Education'!$F$11"},{"$f":" M4A2cPosLearnResults","v":0},"Number","M4A2cPosLearnResults",null,null,null,{"$f":"IF(PY_M4A2cPosLearnResults=\"\",\"\",PY_M4A2cPosLearnResults)","v":""},{"$f":"\"PY_\"&B289","v":"PY_M4A2cPosLearnResults"}]
["FNPI_2c_iv","M4A2cPosLearnOutcome",{"$f":"\"'='\" & SUBSTITUTE(MID(CELL(\"address\",INDIRECT(B290)),$I$3,100),\"]\",\"\")","v":"'='FNPIs Education'!$G$11"},{"$f":" M4A2cPosLearnOutcome","v":""},"Number","M4A2cPosLearnOutcome"]
["FNPI_2c_v","M4A2cPosLearnAccuracy",{"$f":"\"'='\" & SUBSTITUTE(MID(CELL(\"address\",INDIRECT(B291)),$I$3,100),\"]\",\"\")","v":"'='FNPIs Education'!$H$11"},{"$f":" M4A2cPosLearnAccuracy","v":""},"Number","M4A2cPosLearnAccuracy"]
["FNPI 2c.1    Early Childhood Education (ages 0-5)","M4A2c1PosLearnAge0to5Part",{"$f":"\"'='\" & SUBSTITUTE(MID(CELL(\"address\",INDIRECT(B292)),$I$3,100),\"]\",\"\")","v":"'='FNPIs Education'!$D$12"},{"$f":" M4A2c1PosLearnAge0to5Part","v":0},"Number","M4A2c1PosLearnAge0to5Part",null,null,null,{"$f":"IF(PY_M4A2c1PosLearnAge0to5Part=\"\",\"\",PY_M4A2c1PosLearnAge0to5Part)","v":""},{"$f":"\"PY_\"&B292","v":"PY_M4A2c1PosLearnAge0to5Part"}]
["FNPI_2c.1_II","M4A2c1PosLearnAge0to5Target",{"$f":"\"'='\" & SUBSTITUTE(MID(CELL(\"address\",INDIRECT(B293)),$I$3,100),\"]\",\"\")","v":"'='FNPIs Education'!$E$12"},{"$f":" M4A2c1PosLearnAge0to5Target","v":0},"Number","M4A2c1PosLearnAge0to5Target"]
["FNPI_2c.1_III","M4A2c1PosLearnAge0to5Results",{"$f":"\"'='\" & SUBSTITUTE(MID(CELL(\"address\",INDIRECT(B294)),$I$3,100),\"]\",\"\")","v":"'='FNPIs Education'!$F$12"},{"$f":" M4A2c1PosLearnAge0to5Results","v":0},"Number","M4A2c1PosLearnAge0to5Results",null,null,null,{"$f":"IF(PY_M4A2c1PosLearnAge0to5Results=\"\",\"\",PY_M4A2c1PosLearnAge0to5Results)","v":""},{"$f":"\"PY_\"&B294","v":"PY_M4A2c1PosLearnAge0to5Results"}]
["FNPI_2c.1_iv","M4A2c1PosLearnAge0to5Outcome",{"$f":"\"'='\" & SUBSTITUTE(MID(CELL(\"address\",INDIRECT(B295)),$I$3,100),\"]\",\"\")","v":"'='FNPIs Education'!$G$12"},{"$f":" M4A2c1PosLearnAge0to5Outcome","v":""},"Number","M4A2c1PosLearnAge0to5Outcome"]
["FNPI_2c.1_v","M4A2c1PosLearnAge0to5Accuracy",{"$f":"\"'='\" & SUBSTITUTE(MID(CELL(\"address\",INDIRECT(B296)),$I$3,100),\"]\",\"\")","v":"'='FNPIs Education'!$H$12"},{"$f":" M4A2c1PosLearnAge0to5Accuracy","v":""},"Number","M4A2c1PosLearnAge0to5Accuracy"]
["FNPI 2c.2    1st grade-8th grade","M4A2c2PosLearnGrade1to8Part",{"$f":"\"'='\" & SUBSTITUTE(MID(CELL(\"address\",INDIRECT(B297)),$I$3,100),\"]\",\"\")","v":"'='FNPIs Education'!$D$13"},{"$f":" M4A2c2PosLearnGrade1to8Part","v":0},"Number","M4A2c2PosLearnGrade1to8Part",null,null,null,{"$f":"IF(PY_M4A2c2PosLearnGrade1to8Part=\"\",\"\",PY_M4A2c2PosLearnGrade1to8Part)","v":""},{"$f":"\"PY_\"&B297","v":"PY_M4A2c2PosLearnGrade1to8Part"}]
["FNPI_2c.2_II","M4A2c2PosLearnGrade1to8Target",{"$f":"\"'='\" & SUBSTITUTE(MID(CELL(\"address\",INDIRECT(B298)),$I$3,100),\"]\",\"\")","v":"'='FNPIs Education'!$E$13"},{"$f":" M4A2c2PosLearnGrade1to8Target","v":0},"Number","M4A2c2PosLearnGrade1to8Target"]
["FNPI_2c.2_III","M4A2c2PosLearnGrade1to8Results",{"$f":"\"'='\" & SUBSTITUTE(MID(CELL(\"address\",INDIRECT(B299)),$I$3,100),\"]\",\"\")","v":"'='FNPIs Education'!$F$13"},{"$f":" M4A2c2PosLearnGrade1to8Results","v":0},"Number","M4A2c2PosLearnGrade1to8Results",null,null,null,{"$f":"IF(PY_M4A2c2PosLearnGrade1to8Results=\"\",\"\",PY_M4A2c2PosLearnGrade1to8Results)","v":""},{"$f":"\"PY_\"&B299","v":"PY_M4A2c2PosLearnGrade1to8Results"}]
["FNPI_2c.2_iv","M4A2c2PosLearnGrade1to8Outcome",{"$f":"\"'='\" & SUBSTITUTE(MID(CELL(\"address\",INDIRECT(B300)),$I$3,100),\"]\",\"\")","v":"'='FNPIs Education'!$G$13"},{"$f":" M4A2c2PosLearnGrade1to8Outcome","v":""},"Number","M4A2c2PosLearnGrade1to8Outcome"]
["FNPI_2c.2_v","M4A2c2PosLearnGrade1to8Accuracy",{"$f":"\"'='\" & SUBSTITUTE(MID(CELL(\"address\",INDIRECT(B301)),$I$3,100),\"]\",\"\")","v":"'='FNPIs Education'!$H$13"},{"$f":" M4A2c2PosLearnGrade1to8Accuracy","v":""},"Number","M4A2c2PosLearnGrade1to8Accuracy"]
["FNPI 2c.3    9th grade-12th grade","M4A2c3PosLearnGrade9to12Part",{"$f":"\"'='\" & SUBSTITUTE(MID(CELL(\"address\",INDIRECT(B302)),$I$3,100),\"]\",\"\")","v":"'='FNPIs Education'!$D$14"},{"$f":" M4A2c3PosLearnGrade9to12Part","v":0},"Number","M4A2c3PosLearnGrade9to12Part",null,null,null,{"$f":"IF(PY_M4A2c3PosLearnGrade9to12Part=\"\",\"\",PY_M4A2c3PosLearnGrade9to12Part)","v":""},{"$f":"\"PY_\"&B302","v":"PY_M4A2c3PosLearnGrade9to12Part"}]
["FNPI_2c.3_II","M4A2c3PosLearnGrade9to12Target",{"$f":"\"'='\" & SUBSTITUTE(MID(CELL(\"address\",INDIRECT(B303)),$I$3,100),\"]\",\"\")","v":"'='FNPIs Education'!$E$14"},{"$f":" M4A2c3PosLearnGrade9to12Target","v":0},"Number","M4A2c3PosLearnGrade9to12Target"]
["FNPI_2c.3_III","M4A2c3PosLearnGrade9to12Results",{"$f":"\"'='\" & SUBSTITUTE(MID(CELL(\"address\",INDIRECT(B304)),$I$3,100),\"]\",\"\")","v":"'='FNPIs Education'!$F$14"},{"$f":" M4A2c3PosLearnGrade9to12Results","v":0},"Number","M4A2c3PosLearnGrade9to12Results",null,null,null,{"$f":"IF(PY_M4A2c3PosLearnGrade9to12Results=\"\",\"\",PY_M4A2c3PosLearnGrade9to12Results)","v":""},{"$f":"\"PY_\"&B304","v":"PY_M4A2c3PosLearnGrade9to12Results"}]
["FNPI_2c.3_iv","M4A2c3PosLearnGrade9to12Outcome",{"$f":"\"'='\" & SUBSTITUTE(MID(CELL(\"address\",INDIRECT(B305)),$I$3,100),\"]\",\"\")","v":"'='FNPIs Education'!$G$14"},{"$f":" M4A2c3PosLearnGrade9to12Outcome","v":""},"Number","M4A2c3PosLearnGrade9to12Outcome"]
["FNPI_2c.3_v","M4A2c3PosLearnGrade9to12Accuracy",{"$f":"\"'='\" & SUBSTITUTE(MID(CELL(\"address\",INDIRECT(B306)),$I$3,100),\"]\",\"\")","v":"'='FNPIs Education'!$H$14"},{"$f":" M4A2c3PosLearnGrade9to12Accuracy","v":""},"Number","M4A2c3PosLearnGrade9to12Accuracy"]
["FNPI_2d_i","M4A2dBasicLevelPart",{"$f":"\"'='\" & SUBSTITUTE(MID(CELL(\"address\",INDIRECT(B307)),$I$3,100),\"]\",\"\")","v":"'='FNPIs Education'!$D$15"},{"$f":" M4A2dBasicLevelPart","v":0},"Number","M4A2dBasicLevelPart",null,null,null,{"$f":"IF(PY_M4A2dBasicLevelPart=\"\",\"\",PY_M4A2dBasicLevelPart)","v":""},{"$f":"\"PY_\"&B307","v":"PY_M4A2dBasicLevelPart"}]
["FNPI_2d_iii","M4A2dBasicLevelTarget",{"$f":"\"'='\" & SUBSTITUTE(MID(CELL(\"address\",INDIRECT(B308)),$I$3,100),\"]\",\"\")","v":"'='FNPIs Education'!$E$15"},{"$f":" M4A2dBasicLevelTarget","v":0},"Number","M4A2dBasicLevelTarget"]
["FNPI_2d_iii","M4A2dBasicLevelResults",{"$f":"\"'='\" & SUBSTITUTE(MID(CELL(\"address\",INDIRECT(B309)),$I$3,100),\"]\",\"\")","v":"'='FNPIs Education'!$F$15"},{"$f":" M4A2dBasicLevelResults","v":0},"Number","M4A2dBasicLevelResults",null,null,null,{"$f":"IF(PY_M4A2dBasicLevelResults=\"\",\"\",PY_M4A2dBasicLevelResults)","v":""},{"$f":"\"PY_\"&B309","v":"PY_M4A2dBasicLevelResults"}]
["FNPI_2d_iv","M4A2dBasicLevelOutcome",{"$f":"\"'='\" & SUBSTITUTE(MID(CELL(\"address\",INDIRECT(B310)),$I$3,100),\"]\",\"\")","v":"'='FNPIs Education'!$G$15"},{"$f":" M4A2dBasicLevelOutcome","v":""},"Number","M4A2dBasicLevelOutcome"]
["FNPI_2d_v","M4A2dBasicLevelAccuracy",{"$f":"\"'='\" & SUBSTITUTE(MID(CELL(\"address\",INDIRECT(B311)),$I$3,100),\"]\",\"\")","v":"'='FNPIs Education'!$H$15"},{"$f":" M4A2dBasicLevelAccuracy","v":""},"Number","M4A2dBasicLevelAccuracy"]
["FNPI 2d.1    Early Childhood Education (ages 0-5)","M4A2d1BasicLevel0to5Part",{"$f":"\"'='\" & SUBSTITUTE(MID(CELL(\"address\",INDIRECT(B312)),$I$3,100),\"]\",\"\")","v":"'='FNPIs Education'!$D$16"},{"$f":" M4A2d1BasicLevel0to5Part","v":0},"Number","M4A2d1BasicLevel0to5Part",null,null,null,{"$f":"IF(PY_M4A2d1BasicLevel0to5Part=\"\",\"\",PY_M4A2d1BasicLevel0to5Part)","v":""},{"$f":"\"PY_\"&B312","v":"PY_M4A2d1BasicLevel0to5Part"}]
["FNPI_2d.1_II","M4A2d1BasicLevel0to5Target",{"$f":"\"'='\" & SUBSTITUTE(MID(CELL(\"address\",INDIRECT(B313)),$I$3,100),\"]\",\"\")","v":"'='FNPIs Education'!$E$16"},{"$f":" M4A2d1BasicLevel0to5Target","v":0},"Number","M4A2d1BasicLevel0to5Target"]
["FNPI_2d.1_III","M4A2d1BasicLevel0to5Results",{"$f":"\"'='\" & SUBSTITUTE(MID(CELL(\"address\",INDIRECT(B314)),$I$3,100),\"]\",\"\")","v":"'='FNPIs Education'!$F$16"},{"$f":" M4A2d1BasicLevel0to5Results","v":0},"Number","M4A2d1BasicLevel0to5Results",null,null,null,{"$f":"IF(PY_M4A2d1BasicLevel0to5Results=\"\",\"\",PY_M4A2d1BasicLevel0to5Results)","v":""},{"$f":"\"PY_\"&B314","v":"PY_M4A2d1BasicLevel0to5Results"}]
["FNPI_2d.1_iv","M4A2d1BasicLevel0to5Outcome",{"$f":"\"'='\" & SUBSTITUTE(MID(CELL(\"address\",INDIRECT(B315)),$I$3,100),\"]\",\"\")","v":"'='FNPIs Education'!$G$16"},{"$f":" M4A2d1BasicLevel0to5Outcome","v":""},"Number","M4A2d1BasicLevel0to5Outcome"]
["FNPI_2d.1_v","M4A2d1BasicLevel0to5Accuracy",{"$f":"\"'='\" & SUBSTITUTE(MID(CELL(\"address\",INDIRECT(B316)),$I$3,100),\"]\",\"\")","v":"'='FNPIs Education'!$H$16"},{"$f":" M4A2d1BasicLevel0to5Accuracy","v":""},"Number","M4A2d1BasicLevel0to5Accuracy"]
["FNPI 2d.2    1st grade-8th grade","M4A2d2BasicLevelGrade1to8Part",{"$f":"\"'='\" & SUBSTITUTE(MID(CELL(\"address\",INDIRECT(B317)),$I$3,100),\"]\",\"\")","v":"'='FNPIs Education'!$D$17"},{"$f":" M4A2d2BasicLevelGrade1to8Part","v":0},"Number","M4A2d2BasicLevelGrade1to8Part",null,null,null,{"$f":"IF(PY_M4A2d2BasicLevelGrade1to8Part=\"\",\"\",PY_M4A2d2BasicLevelGrade1to8Part)","v":""},{"$f":"\"PY_\"&B317","v":"PY_M4A2d2BasicLevelGrade1to8Part"}]
["FNPI_2d.2_II","M4A2d2BasicLevelGrade1to8Target",{"$f":"\"'='\" & SUBSTITUTE(MID(CELL(\"address\",INDIRECT(B318)),$I$3,100),\"]\",\"\")","v":"'='FNPIs Education'!$E$17"},{"$f":" M4A2d2BasicLevelGrade1to8Target","v":0},"Number","M4A2d2BasicLevelGrade1to8Target"]
["FNPI_2d.2_III","M4A2d2BasicLevelGrade1to8Results",{"$f":"\"'='\" & SUBSTITUTE(MID(CELL(\"address\",INDIRECT(B319)),$I$3,100),\"]\",\"\")","v":"'='FNPIs Education'!$F$17"},{"$f":" M4A2d2BasicLevelGrade1to8Results","v":0},"Number","M4A2d2BasicLevelGrade1to8Results",null,null,null,{"$f":"IF(PY_M4A2d2BasicLevelGrade1to8Results=\"\",\"\",PY_M4A2d2BasicLevelGrade1to8Results)","v":""},{"$f":"\"PY_\"&B319","v":"PY_M4A2d2BasicLevelGrade1to8Results"}]
["FNPI_2d.2_iv","M4A2d2BasicLevelGrade1to8Outcome",{"$f":"\"'='\" & SUBSTITUTE(MID(CELL(\"address\",INDIRECT(B320)),$I$3,100),\"]\",\"\")","v":"'='FNPIs Education'!$G$17"},{"$f":" M4A2d2BasicLevelGrade1to8Outcome","v":""},"Number","M4A2d2BasicLevelGrade1to8Outcome"]
["FNPI_2d.2_v","M4A2d2BasicLevelGrade1to8Accuracy",{"$f":"\"'='\" & SUBSTITUTE(MID(CELL(\"address\",INDIRECT(B321)),$I$3,100),\"]\",\"\")","v":"'='FNPIs Education'!$H$17"},{"$f":" M4A2d2BasicLevelGrade1to8Accuracy","v":""},"Number","M4A2d2BasicLevelGrade1to8Accuracy"]
["FNPI 2d.3   9th grade-12th grade","M4A2d3BasicLevelGrade9to12Part",{"$f":"\"'='\" & SUBSTITUTE(MID(CELL(\"address\",INDIRECT(B322)),$I$3,100),\"]\",\"\")","v":"'='FNPIs Education'!$D$18"},{"$f":" M4A2d3BasicLevelGrade9to12Part","v":0},"Number","M4A2d3BasicLevelGrade9to12Part",null,null,null,{"$f":"IF(PY_M4A2d3BasicLevelGrade9to12Part=\"\",\"\",PY_M4A2d3BasicLevelGrade9to12Part)","v":""},{"$f":"\"PY_\"&B322","v":"PY_M4A2d3BasicLevelGrade9to12Part"}]
["FNPI_2d.3_II","M4A2d3BasicLevelGrade9to12Target",{"$f":"\"'='\" & SUBSTITUTE(MID(CELL(\"address\",INDIRECT(B323)),$I$3,100),\"]\",\"\")","v":"'='FNPIs Education'!$E$18"},{"$f":" M4A2d3BasicLevelGrade9to12Target","v":0},"Number","M4A2d3BasicLevelGrade9to12Target"]
["FNPI_2d.3_III","M4A2d3BasicLevelGrade9to12Results",{"$f":"\"'='\" & SUBSTITUTE(MID(CELL(\"address\",INDIRECT(B324)),$I$3,100),\"]\",\"\")","v":"'='FNPIs Education'!$F$18"},{"$f":" M4A2d3BasicLevelGrade9to12Results","v":0},"Number","M4A2d3BasicLevelGrade9to12Results",null,null,null,{"$f":"IF(PY_M4A2d3BasicLevelGrade9to12Results=\"\",\"\",PY_M4A2d3BasicLevelGrade9to12Results)","v":""},{"$f":"\"PY_\"&B324","v":"PY_M4A2d3BasicLevelGrade9to12Results"}]
["FNPI_2d.3_iv","M4A2d3BasicLevelGrade9to12Outcome",{"$f":"\"'='\" & SUBSTITUTE(MID(CELL(\"address\",INDIRECT(B325)),$I$3,100),\"]\",\"\")","v":"'='FNPIs Education'!$G$18"},{"$f":" M4A2d3BasicLevelGrade9to12Outcome","v":""},"Number","M4A2d3BasicLevelGrade9to12Outcome"]
["FNPI_2d.3_v","M4A2d3BasicLevelGrade9to12Accuracy",{"$f":"\"'='\" & SUBSTITUTE(MID(CELL(\"address\",INDIRECT(B326)),$I$3,100),\"]\",\"\")","v":"'='FNPIs Education'!$H$18"},{"$f":" M4A2d3BasicLevelGrade9to12Accuracy","v":""},"Number","M4A2d3BasicLevelGrade9to12Accuracy"]
["FNPI_2e_I","M4A2eParentHomeEnvPart",{"$f":"\"'='\" & SUBSTITUTE(MID(CELL(\"address\",INDIRECT(B327)),$I$3,100),\"]\",\"\")","v":"'='FNPIs Education'!$D$19"},{"$f":" M4A2eParentHomeEnvPart","v":0},"Number","M4A2eParentHomeEnvPart",null,null,null,{"$f":"IF(PY_M4A2eParentHomeEnvPart=\"\",\"\",PY_M4A2eParentHomeEnvPart)","v":""},{"$f":"\"PY_\"&B327","v":"PY_M4A2eParentHomeEnvPart"}]
["FNPI_2e_II","M4A2eParentHomeEnvTarget",{"$f":"\"'='\" & SUBSTITUTE(MID(CELL(\"address\",INDIRECT(B328)),$I$3,100),\"]\",\"\")","v":"'='FNPIs Education'!$E$19"},{"$f":" M4A2eParentHomeEnvTarget","v":0},"Number","M4A2eParentHomeEnvTarget"]
["FNPI_2e_III","M4A2eParentHomeEnvResults",{"$f":"\"'='\" & SUBSTITUTE(MID(CELL(\"address\",INDIRECT(B329)),$I$3,100),\"]\",\"\")","v":"'='FNPIs Education'!$F$19"},{"$f":" M4A2eParentHomeEnvResults","v":0},"Number","M4A2eParentHomeEnvResults",null,null,null,{"$f":"IF(PY_M4A2eParentHomeEnvResults=\"\",\"\",PY_M4A2eParentHomeEnvResults)","v":""},{"$f":"\"PY_\"&B329","v":"PY_M4A2eParentHomeEnvResults"}]
["FNPI_2e_iv","M4A2eParentHomeEnvOutcome",{"$f":"\"'='\" & SUBSTITUTE(MID(CELL(\"address\",INDIRECT(B330)),$I$3,100),\"]\",\"\")","v":"'='FNPIs Education'!$G$19"},{"$f":" M4A2eParentHomeEnvOutcome","v":""},"Number","M4A2eParentHomeEnvOutcome"]
["FNPI_2e_v","M4A2eParentHomeEnvAccuracy",{"$f":"\"'='\" & SUBSTITUTE(MID(CELL(\"address\",INDIRECT(B331)),$I$3,100),\"]\",\"\")","v":"'='FNPIs Education'!$H$19"},{"$f":" M4A2eParentHomeEnvAccuracy","v":""},"Number","M4A2eParentHomeEnvAccuracy"]
["FNPI_2f_I","M4A2fAdultBasicEdPart",{"$f":"\"'='\" & SUBSTITUTE(MID(CELL(\"address\",INDIRECT(B332)),$I$3,100),\"]\",\"\")","v":"'='FNPIs Education'!$D$20"},{"$f":" M4A2fAdultBasicEdPart","v":0},"Number","M4A2fAdultBasicEdPart",null,null,null,{"$f":"IF(PY_M4A2fAdultBasicEdPart=\"\",\"\",PY_M4A2fAdultBasicEdPart)","v":""},{"$f":"\"PY_\"&B332","v":"PY_M4A2fAdultBasicEdPart"}]
["FNPI_2f_II","M4A2fAdultBasicEdTarget",{"$f":"\"'='\" & SUBSTITUTE(MID(CELL(\"address\",INDIRECT(B333)),$I$3,100),\"]\",\"\")","v":"'='FNPIs Education'!$E$20"},{"$f":" M4A2fAdultBasicEdTarget","v":0},"Number","M4A2fAdultBasicEdTarget"]
["FNPI_2f_III","M4A2fAdultBasicEdResults",{"$f":"\"'='\" & SUBSTITUTE(MID(CELL(\"address\",INDIRECT(B334)),$I$3,100),\"]\",\"\")","v":"'='FNPIs Education'!$F$20"},{"$f":" M4A2fAdultBasicEdResults","v":0},"Number","M4A2fAdultBasicEdResults",null,null,null,{"$f":"IF(PY_M4A2fAdultBasicEdResults=\"\",\"\",PY_M4A2fAdultBasicEdResults)","v":""},{"$f":"\"PY_\"&B334","v":"PY_M4A2fAdultBasicEdResults"}]
["FNPI_2f_iv","M4A2fAdultBasicEdOutcome",{"$f":"\"'='\" & SUBSTITUTE(MID(CELL(\"address\",INDIRECT(B335)),$I$3,100),\"]\",\"\")","v":"'='FNPIs Education'!$G$20"},{"$f":" M4A2fAdultBasicEdOutcome","v":""},"Number","M4A2fAdultBasicEdOutcome"]
["FNPI_2f_v","M4A2fAdultBasicEdAccuracy",{"$f":"\"'='\" & SUBSTITUTE(MID(CELL(\"address\",INDIRECT(B336)),$I$3,100),\"]\",\"\")","v":"'='FNPIs Education'!$H$20"},{"$f":" M4A2fAdultBasicEdAccuracy","v":""},"Number","M4A2fAdultBasicEdAccuracy"]
["FNPI_2g_I","M4A2gHighSchoolPart",{"$f":"\"'='\" & SUBSTITUTE(MID(CELL(\"address\",INDIRECT(B337)),$I$3,100),\"]\",\"\")","v":"'='FNPIs Education'!$D$21"},{"$f":" M4A2gHighSchoolPart","v":0},"Number","M4A2gHighSchoolPart",null,null,null,{"$f":"IF(PY_M4A2gHighSchoolPart=\"\",\"\",PY_M4A2gHighSchoolPart)","v":""},{"$f":"\"PY_\"&B337","v":"PY_M4A2gHighSchoolPart"}]
["FNPI_2g_II","M4A2gHighSchoolTarget",{"$f":"\"'='\" & SUBSTITUTE(MID(CELL(\"address\",INDIRECT(B338)),$I$3,100),\"]\",\"\")","v":"'='FNPIs Education'!$E$21"},{"$f":" M4A2gHighSchoolTarget","v":0},"Number","M4A2gHighSchoolTarget"]
["FNPI_2g_III","M4A2gHighSchoolResults",{"$f":"\"'='\" & SUBSTITUTE(MID(CELL(\"address\",INDIRECT(B339)),$I$3,100),\"]\",\"\")","v":"'='FNPIs Education'!$F$21"},{"$f":" M4A2gHighSchoolResults","v":0},"Number","M4A2gHighSchoolResults",null,null,null,{"$f":"IF(PY_M4A2gHighSchoolResults=\"\",\"\",PY_M4A2gHighSchoolResults)","v":""},{"$f":"\"PY_\"&B339","v":"PY_M4A2gHighSchoolResults"}]
["FNPI_2g_iv","M4A2gHighSchoolOutcome",{"$f":"\"'='\" & SUBSTITUTE(MID(CELL(\"address\",INDIRECT(B340)),$I$3,100),\"]\",\"\")","v":"'='FNPIs Education'!$G$21"},{"$f":" M4A2gHighSchoolOutcome","v":""},"Number","M4A2gHighSchoolOutcome"]
["FNPI_2g_v","M4A2gHighSchoolAccuracy",{"$f":"\"'='\" & SUBSTITUTE(MID(CELL(\"address\",INDIRECT(B341)),$I$3,100),\"]\",\"\")","v":"'='FNPIs Education'!$H$21"},{"$f":" M4A2gHighSchoolAccuracy","v":""},"Number","M4A2gHighSchoolAccuracy"]
["FNPI_2h_I","M4A2hEdVocPart",{"$f":"\"'='\" & SUBSTITUTE(MID(CELL(\"address\",INDIRECT(B342)),$I$3,100),\"]\",\"\")","v":"'='FNPIs Education'!$D$22"},{"$f":" M4A2hEdVocPart","v":0},"Number","M4A2hEdVocPart",null,null,null,{"$f":"IF(PY_M4A2hEdVocPart=\"\",\"\",PY_M4A2hEdVocPart)","v":""},{"$f":"\"PY_\"&B342","v":"PY_M4A2hEdVocPart"}]
["FNPI_2h_II","M4A2hEdVocTarget",{"$f":"\"'='\" & SUBSTITUTE(MID(CELL(\"address\",INDIRECT(B343)),$I$3,100),\"]\",\"\")","v":"'='FNPIs Education'!$E$22"},{"$f":" M4A2hEdVocTarget","v":0},"Number","M4A2hEdVocTarget"]
["FNPI_2h_III","M4A2hEdVocResults",{"$f":"\"'='\" & SUBSTITUTE(MID(CELL(\"address\",INDIRECT(B344)),$I$3,100),\"]\",\"\")","v":"'='FNPIs Education'!$F$22"},{"$f":" M4A2hEdVocResults","v":0},"Number","M4A2hEdVocResults",null,null,null,{"$f":"IF(PY_M4A2hEdVocResults=\"\",\"\",PY_M4A2hEdVocResults)","v":""},{"$f":"\"PY_\"&B344","v":"PY_M4A2hEdVocResults"}]
["FNPI_2h_iv","M4A2hEdVocOutcome",{"$f":"\"'='\" & SUBSTITUTE(MID(CELL(\"address\",INDIRECT(B345)),$I$3,100),\"]\",\"\")","v":"'='FNPIs Education'!$G$22"},{"$f":" M4A2hEdVocOutcome","v":""},"Number","M4A2hEdVocOutcome"]
["FNPI_2h_v","M4A2hEdVocAccuracy",{"$f":"\"'='\" & SUBSTITUTE(MID(CELL(\"address\",INDIRECT(B346)),$I$3,100),\"]\",\"\")","v":"'='FNPIs Education'!$H$22"},{"$f":" M4A2hEdVocAccuracy","v":""},"Number","M4A2hEdVocAccuracy"]
["FNPI_2i_I","M4A2iAssocDegPart",{"$f":"\"'='\" & SUBSTITUTE(MID(CELL(\"address\",INDIRECT(B347)),$I$3,100),\"]\",\"\")","v":"'='FNPIs Education'!$D$23"},{"$f":" M4A2iAssocDegPart","v":0},"Number","M4A2iAssocDegPart",null,null,null,{"$f":"IF(PY_M4A2iAssocDegPart=\"\",\"\",PY_M4A2iAssocDegPart)","v":""},{"$f":"\"PY_\"&B347","v":"PY_M4A2iAssocDegPart"}]
["FNPI_2i_II","M4A2iAssocDegTarget",{"$f":"\"'='\" & SUBSTITUTE(MID(CELL(\"address\",INDIRECT(B348)),$I$3,100),\"]\",\"\")","v":"'='FNPIs Education'!$E$23"},{"$f":" M4A2iAssocDegTarget","v":0},"Number","M4A2iAssocDegTarget"]
["FNPI_2i_III","M4A2iAssocDegResults",{"$f":"\"'='\" & SUBSTITUTE(MID(CELL(\"address\",INDIRECT(B349)),$I$3,100),\"]\",\"\")","v":"'='FNPIs Education'!$F$23"},{"$f":" M4A2iAssocDegResults","v":0},"Number","M4A2iAssocDegResults",null,null,null,{"$f":"IF(PY_M4A2iAssocDegResults=\"\",\"\",PY_M4A2iAssocDegResults)","v":""},{"$f":"\"PY_\"&B349","v":"PY_M4A2iAssocDegResults"}]
["FNPI_2i_iv","M4A2iAssocDegOutcome",{"$f":"\"'='\" & SUBSTITUTE(MID(CELL(\"address\",INDIRECT(B350)),$I$3,100),\"]\",\"\")","v":"'='FNPIs Education'!$G$23"},{"$f":" M4A2iAssocDegOutcome","v":""},"Number","M4A2iAssocDegOutcome"]
["FNPI_2i_v","M4A2iAssocDegAccuracy",{"$f":"\"'='\" & SUBSTITUTE(MID(CELL(\"address\",INDIRECT(B351)),$I$3,100),\"]\",\"\")","v":"'='FNPIs Education'!$H$23"},{"$f":" M4A2iAssocDegAccuracy","v":""},"Number","M4A2iAssocDegAccuracy"]
["FNPI_2j_I","M4A2jBachDegPart",{"$f":"\"'='\" & SUBSTITUTE(MID(CELL(\"address\",INDIRECT(B352)),$I$3,100),\"]\",\"\")","v":"'='FNPIs Education'!$D$24"},{"$f":" M4A2jBachDegPart","v":0},"Number","M4A2jBachDegPart",null,null,null,{"$f":"IF(PY_M4A2jBachDegPart=\"\",\"\",PY_M4A2jBachDegPart)","v":""},{"$f":"\"PY_\"&B352","v":"PY_M4A2jBachDegPart"}]
["FNPI_2j_II","M4A2jBachDegTarget",{"$f":"\"'='\" & SUBSTITUTE(MID(CELL(\"address\",INDIRECT(B353)),$I$3,100),\"]\",\"\")","v":"'='FNPIs Education'!$E$24"},{"$f":" M4A2jBachDegTarget","v":0},"Number","M4A2jBachDegTarget"]
["FNPI_2j_III","M4A2jBachDegResults",{"$f":"\"'='\" & SUBSTITUTE(MID(CELL(\"address\",INDIRECT(B354)),$I$3,100),\"]\",\"\")","v":"'='FNPIs Education'!$F$24"},{"$f":" M4A2jBachDegResults","v":0},"Number","M4A2jBachDegResults",null,null,null,{"$f":"IF(PY_M4A2jBachDegResults=\"\",\"\",PY_M4A2jBachDegResults)","v":""},{"$f":"\"PY_\"&B354","v":"PY_M4A2jBachDegResults"}]
["FNPI_2j_iv","M4A2jBachDegOutcome",{"$f":"\"'='\" & SUBSTITUTE(MID(CELL(\"address\",INDIRECT(B355)),$I$3,100),\"]\",\"\")","v":"'='FNPIs Education'!$G$24"},{"$f":" M4A2jBachDegOutcome","v":""},"Number","M4A2jBachDegOutcome"]
["FNPI_2j_v","M4A2jBachDegAccuracy",{"$f":"\"'='\" & SUBSTITUTE(MID(CELL(\"address\",INDIRECT(B356)),$I$3,100),\"]\",\"\")","v":"'='FNPIs Education'!$H$24"},{"$f":" M4A2jBachDegAccuracy","v":""},"Number","M4A2jBachDegAccuracy"]
["FNPI 2z.1","M4A2zOtherEdu1Name",{"$f":"\"'='\" & SUBSTITUTE(MID(CELL(\"address\",INDIRECT(B357)),$I$3,100),\"]\",\"\")","v":"'='FNPIs Education'!$C$27"},{"$f":" IF(ISBLANK(M4A2zOtherEdu1Name),\"\",M4A2zOtherEdu1Name)","v":""},"Text","M4A2zOtherEdu1Name",1000]
["FNPI_2z.1_I","M4A2zOtherEdu1Part",{"$f":"\"'='\" & SUBSTITUTE(MID(CELL(\"address\",INDIRECT(B358)),$I$3,100),\"]\",\"\")","v":"'='FNPIs Education'!$D$27"},{"$f":" M4A2zOtherEdu1Part","v":0},"Number","M4A2zOtherEdu1Part"]
["FNPI_2z.1_II","M4A2zOtherEdu1Target",{"$f":"\"'='\" & SUBSTITUTE(MID(CELL(\"address\",INDIRECT(B359)),$I$3,100),\"]\",\"\")","v":"'='FNPIs Education'!$E$27"},{"$f":" M4A2zOtherEdu1Target","v":0},"Number","M4A2zOtherEdu1Target"]
["FNPI_2z.1_III","M4A2zOtherEdu1Results",{"$f":"\"'='\" & SUBSTITUTE(MID(CELL(\"address\",INDIRECT(B360)),$I$3,100),\"]\",\"\")","v":"'='FNPIs Education'!$F$27"},{"$f":" M4A2zOtherEdu1Results","v":0},"Number","M4A2zOtherEdu1Results"]
["FNPI 2z.1iv","M4A2zOtherEdu1Outcome",{"$f":"\"'='\" & SUBSTITUTE(MID(CELL(\"address\",INDIRECT(B361)),$I$3,100),\"]\",\"\")","v":"'='FNPIs Education'!$G$27"},{"$f":" M4A2zOtherEdu1Outcome","v":""},"Number","M4A2zOtherEdu1Outcome"]
["FNPI 2z.1v","M4A2zOtherEdu1Accuracy",{"$f":"\"'='\" & SUBSTITUTE(MID(CELL(\"address\",INDIRECT(B362)),$I$3,100),\"]\",\"\")","v":"'='FNPIs Education'!$H$27"},{"$f":" M4A2zOtherEdu1Accuracy","v":""},"Number","M4A2zOtherEdu1Accuracy"]
["FNPI 2z.2","M4A2zOtherEdu2Name",{"$f":"\"'='\" & SUBSTITUTE(MID(CELL(\"address\",INDIRECT(B363)),$I$3,100),\"]\",\"\")","v":"'='FNPIs Education'!$C$28"},{"$f":" IF(ISBLANK(M4A2zOtherEdu2Name),\"\",M4A2zOtherEdu2Name)","v":""},"Text","M4A2zOtherEdu2Name",1000]
["FNPI_2z.2_I","M4A2zOtherEdu2Part",{"$f":"\"'='\" & SUBSTITUTE(MID(CELL(\"address\",INDIRECT(B364)),$I$3,100),\"]\",\"\")","v":"'='FNPIs Education'!$D$28"},{"$f":" M4A2zOtherEdu2Part","v":0},"Number","M4A2zOtherEdu2Part"]
["FNPI_2z.2_II","M4A2zOtherEdu2Target",{"$f":"\"'='\" & SUBSTITUTE(MID(CELL(\"address\",INDIRECT(B365)),$I$3,100),\"]\",\"\")","v":"'='FNPIs Education'!$E$28"},{"$f":" M4A2zOtherEdu2Target","v":0},"Number","M4A2zOtherEdu2Target"]
["FNPI_2z.2_III","M4A2zOtherEdu2Results",{"$f":"\"'='\" & SUBSTITUTE(MID(CELL(\"address\",INDIRECT(B366)),$I$3,100),\"]\",\"\")","v":"'='FNPIs Education'!$F$28"},{"$f":" M4A2zOtherEdu2Results","v":0},"Number","M4A2zOtherEdu2Results"]
["FNPI 2z.2iv","M4A2zOtherEdu2Outcome",{"$f":"\"'='\" & SUBSTITUTE(MID(CELL(\"address\",INDIRECT(B367)),$I$3,100),\"]\",\"\")","v":"'='FNPIs Education'!$G$28"},{"$f":" M4A2zOtherEdu2Outcome","v":""},"Number","M4A2zOtherEdu2Outcome"]
["FNPI 2z.2v","M4A2zOtherEdu2Accuracy",{"$f":"\"'='\" & SUBSTITUTE(MID(CELL(\"address\",INDIRECT(B368)),$I$3,100),\"]\",\"\")","v":"'='FNPIs Education'!$H$28"},{"$f":" M4A2zOtherEdu2Accuracy","v":""},"Number","M4A2zOtherEdu2Accuracy"]
["FNPI 2z.3","M4A2zOtherEdu3Name",{"$f":"\"'='\" & SUBSTITUTE(MID(CELL(\"address\",INDIRECT(B369)),$I$3,100),\"]\",\"\")","v":"'='FNPIs Education'!$C$29"},{"$f":" IF(ISBLANK(M4A2zOtherEdu3Name),\"\",M4A2zOtherEdu3Name)","v":""},"Text","M4A2zOtherEdu3Name",1000]
["FNPI_2z.3_I","M4A2zOtherEdu3Part",{"$f":"\"'='\" & SUBSTITUTE(MID(CELL(\"address\",INDIRECT(B370)),$I$3,100),\"]\",\"\")","v":"'='FNPIs Education'!$D$29"},{"$f":" M4A2zOtherEdu3Part","v":0},"Number","M4A2zOtherEdu3Part"]
["FNPI_2z.3_II","M4A2zOtherEdu3Target",{"$f":"\"'='\" & SUBSTITUTE(MID(CELL(\"address\",INDIRECT(B371)),$I$3,100),\"]\",\"\")","v":"'='FNPIs Education'!$E$29"},{"$f":" M4A2zOtherEdu3Target","v":0},"Number","M4A2zOtherEdu3Target"]
["FNPI_2z.3_III","M4A2zOtherEdu3Results",{"$f":"\"'='\" & SUBSTITUTE(MID(CELL(\"address\",INDIRECT(B372)),$I$3,100),\"]\",\"\")","v":"'='FNPIs Education'!$F$29"},{"$f":" M4A2zOtherEdu3Results","v":0},"Number","M4A2zOtherEdu3Results"]
["FNPI 2z.3iv","M4A2zOtherEdu3Outcome",{"$f":"\"'='\" & SUBSTITUTE(MID(CELL(\"address\",INDIRECT(B373)),$I$3,100),\"]\",\"\")","v":"'='FNPIs Education'!$G$29"},{"$f":" M4A2zOtherEdu3Outcome","v":""},"Number","M4A2zOtherEdu3Outcome"]
["FNPI 2z.3v","M4A2zOtherEdu3Accuracy",{"$f":"\"'='\" & SUBSTITUTE(MID(CELL(\"address\",INDIRECT(B374)),$I$3,100),\"]\",\"\")","v":"'='FNPIs Education'!$H$29"},{"$f":" M4A2zOtherEdu3Accuracy","v":""},"Number","M4A2zOtherEdu3Accuracy"]
["FNPI 2z.4","M4A2zOtherEdu4Name",{"$f":"\"'='\" & SUBSTITUTE(MID(CELL(\"address\",INDIRECT(B375)),$I$3,100),\"]\",\"\")","v":"'='FNPIs Education'!$C$30"},{"$f":" IF(ISBLANK(M4A2zOtherEdu4Name),\"\",M4A2zOtherEdu4Name)","v":""},"Text","M4A2zOtherEdu4Name",1000]
["FNPI_2z.4_I","M4A2zOtherEdu4Part",{"$f":"\"'='\" & SUBSTITUTE(MID(CELL(\"address\",INDIRECT(B376)),$I$3,100),\"]\",\"\")","v":"'='FNPIs Education'!$D$30"},{"$f":" M4A2zOtherEdu4Part","v":0},"Number","M4A2zOtherEdu4Part"]
["FNPI_2z.4_II","M4A2zOtherEdu4Target",{"$f":"\"'='\" & SUBSTITUTE(MID(CELL(\"address\",INDIRECT(B377)),$I$3,100),\"]\",\"\")","v":"'='FNPIs Education'!$E$30"},{"$f":" M4A2zOtherEdu4Target","v":0},"Number","M4A2zOtherEdu4Target"]
["FNPI_2z.4_III","M4A2zOtherEdu4Results",{"$f":"\"'='\" & SUBSTITUTE(MID(CELL(\"address\",INDIRECT(B378)),$I$3,100),\"]\",\"\")","v":"'='FNPIs Education'!$F$30"},{"$f":" M4A2zOtherEdu4Results","v":0},"Number","M4A2zOtherEdu4Results"]
["FNPI 2z.4iv","M4A2zOtherEdu4Outcome",{"$f":"\"'='\" & SUBSTITUTE(MID(CELL(\"address\",INDIRECT(B379)),$I$3,100),\"]\",\"\")","v":"'='FNPIs Education'!$G$30"},{"$f":" M4A2zOtherEdu4Outcome","v":""},"Number","M4A2zOtherEdu4Outcome"]
["FNPI 2z.4v","M4A2zOtherEdu4Accuracy",{"$f":"\"'='\" & SUBSTITUTE(MID(CELL(\"address\",INDIRECT(B380)),$I$3,100),\"]\",\"\")","v":"'='FNPIs Education'!$H$30"},{"$f":" M4A2zOtherEdu4Accuracy","v":""},"Number","M4A2zOtherEdu4Accuracy"]
["FNPI 2z.5","M4A2zOtherEdu5Name",{"$f":"\"'='\" & SUBSTITUTE(MID(CELL(\"address\",INDIRECT(B381)),$I$3,100),\"]\",\"\")","v":"'='FNPIs Education'!$C$31"},{"$f":" IF(ISBLANK(M4A2zOtherEdu5Name),\"\",M4A2zOtherEdu5Name)","v":""},"Text","M4A2zOtherEdu5Name",1000]
["FNPI_2z.5_I","M4A2zOtherEdu5Part",{"$f":"\"'='\" & SUBSTITUTE(MID(CELL(\"address\",INDIRECT(B382)),$I$3,100),\"]\",\"\")","v":"'='FNPIs Education'!$D$31"},{"$f":" M4A2zOtherEdu5Part","v":0},"Number","M4A2zOtherEdu5Part"]
["FNPI_2z.5_II","M4A2zOtherEdu5Target",{"$f":"\"'='\" & SUBSTITUTE(MID(CELL(\"address\",INDIRECT(B383)),$I$3,100),\"]\",\"\")","v":"'='FNPIs Education'!$E$31"},{"$f":" M4A2zOtherEdu5Target","v":0},"Number","M4A2zOtherEdu5Target"]
["FNPI_2z.5_III","M4A2zOtherEdu5Results",{"$f":"\"'='\" & SUBSTITUTE(MID(CELL(\"address\",INDIRECT(B384)),$I$3,100),\"]\",\"\")","v":"'='FNPIs Education'!$F$31"},{"$f":" M4A2zOtherEdu5Results","v":0},"Number","M4A2zOtherEdu5Results"]
["FNPI 2z.5iv","M4A2zOtherEdu5Outcome",{"$f":"\"'='\" & SUBSTITUTE(MID(CELL(\"address\",INDIRECT(B385)),$I$3,100),\"]\",\"\")","v":"'='FNPIs Education'!$G$31"},{"$f":" M4A2zOtherEdu5Outcome","v":""},"Number","M4A2zOtherEdu5Outcome"]
["FNPI 2z.5v","M4A2zOtherEdu5Accuracy",{"$f":"\"'='\" & SUBSTITUTE(MID(CELL(\"address\",INDIRECT(B386)),$I$3,100),\"]\",\"\")","v":"'='FNPIs Education'!$H$31"},{"$f":" M4A2zOtherEdu5Accuracy","v":""},"Number","M4A2zOtherEdu5Accuracy"]
["FNPI_Ed_Comments","M4A2Comments",{"$f":"\"'='\" & SUBSTITUTE(MID(CELL(\"address\",INDIRECT(B387)),$I$3,100),\"]\",\"\")","v":"'='Deprecated Fields'!$C$32"},{"$f":" M4A2Comments","v":0},"Memo","M4A2Comments",5000]
["FNPI_1a_I","M4A1aEmployYouthPart",{"$f":"\"'='\" & SUBSTITUTE(MID(CELL(\"address\",INDIRECT(B388)),$I$3,100),\"]\",\"\")","v":"'='FNPIs Employment'!$D$9"},{"$f":" M4A1aEmployYouthPart","v":0},"Number","M4A1aEmployYouthPart",null,null,null,{"$f":"IF(PY_M4A1aEmployYouthPart=\"\",\"\",PY_M4A1aEmployYouthPart)","v":""},{"$f":"\"PY_\"&B388","v":"PY_M4A1aEmployYouthPart"}]
["FNPI_1a_II","M4A1aEmployYouthTarget",{"$f":"\"'='\" & SUBSTITUTE(MID(CELL(\"address\",INDIRECT(B389)),$I$3,100),\"]\",\"\")","v":"'='FNPIs Employment'!$E$9"},{"$f":" M4A1aEmployYouthTarget","v":0},"Number","M4A1aEmployYouthTarget"]
["FNPI_1a_III","M4A1aEmployYouthResults",{"$f":"\"'='\" & SUBSTITUTE(MID(CELL(\"address\",INDIRECT(B390)),$I$3,100),\"]\",\"\")","v":"'='FNPIs Employment'!$F$9"},{"$f":" M4A1aEmployYouthResults","v":0},"Number","M4A1aEmployYouthResults",null,null,null,{"$f":"IF(PY_M4A1aEmployYouthResults=\"\",\"\",PY_M4A1aEmployYouthResults)","v":""},{"$f":"\"PY_\"&B390","v":"PY_M4A1aEmployYouthResults"}]
["FNPI_1a_iv","M4A1aEmployYouthOutcome",{"$f":"\"'='\" & SUBSTITUTE(MID(CELL(\"address\",INDIRECT(B391)),$I$3,100),\"]\",\"\")","v":"'='FNPIs Employment'!$G$9"},{"$f":" M4A1aEmployYouthOutcome","v":""},"Number","M4A1aEmployYouthOutcome"]
["FNPI_1a_v","M4A1aEmployYouthAccuracy",{"$f":"\"'='\" & SUBSTITUTE(MID(CELL(\"address\",INDIRECT(B392)),$I$3,100),\"]\",\"\")","v":"'='FNPIs Employment'!$H$9"},{"$f":" M4A1aEmployYouthAccuracy","v":""},"Number","M4A1aEmployYouthAccuracy"]
["FNPI_1b_I","M4A1bEmployAdultWagePart",{"$f":"\"'='\" & SUBSTITUTE(MID(CELL(\"address\",INDIRECT(B393)),$I$3,100),\"]\",\"\")","v":"'='FNPIs Employment'!$D$10"},{"$f":" M4A1bEmployAdultWagePart","v":0},"Number","M4A1bEmployAdultWagePart",null,null,null,{"$f":"IF(PY_M4A1bEmployAdultWagePart=\"\",\"\",PY_M4A1bEmployAdultWagePart)","v":""},{"$f":"\"PY_\"&B393","v":"PY_M4A1bEmployAdultWagePart"}]
["FNPI_1b_II","M4A1bEmployAdultWageTarget",{"$f":"\"'='\" & SUBSTITUTE(MID(CELL(\"address\",INDIRECT(B394)),$I$3,100),\"]\",\"\")","v":"'='FNPIs Employment'!$E$10"},{"$f":" M4A1bEmployAdultWageTarget","v":0},"Number","M4A1bEmployAdultWageTarget"]
["FNPI_1b_III","M4A1bEmployAdultWageResults",{"$f":"\"'='\" & SUBSTITUTE(MID(CELL(\"address\",INDIRECT(B395)),$I$3,100),\"]\",\"\")","v":"'='FNPIs Employment'!$F$10"},{"$f":" M4A1bEmployAdultWageResults","v":0},"Number","M4A1bEmployAdultWageResults",null,null,null,{"$f":"IF(PY_M4A1bEmployAdultWageResults=\"\",\"\",PY_M4A1bEmployAdultWageResults)","v":""},{"$f":"\"PY_\"&B395","v":"PY_M4A1bEmployAdultWageResults"}]
["FNPI_1b_iv","M4A1bEmployAdultWageOutcome",{"$f":"\"'='\" & SUBSTITUTE(MID(CELL(\"address\",INDIRECT(B396)),$I$3,100),\"]\",\"\")","v":"'='FNPIs Employment'!$G$10"},{"$f":" M4A1bEmployAdultWageOutcome","v":""},"Number","M4A1bEmployAdultWageOutcome"]
["FNPI_1b_v","M4A1bEmployAdultWageAccuracy",{"$f":"\"'='\" & SUBSTITUTE(MID(CELL(\"address\",INDIRECT(B397)),$I$3,100),\"]\",\"\")","v":"'='FNPIs Employment'!$H$10"},{"$f":" M4A1bEmployAdultWageAccuracy","v":""},"Number","M4A1bEmployAdultWageAccuracy"]
["FNPI_1c_I","M4A1cEmployAdultWage90daysPart",{"$f":"\"'='\" & SUBSTITUTE(MID(CELL(\"address\",INDIRECT(B398)),$I$3,100),\"]\",\"\")","v":"'='FNPIs Employment'!$D$11"},{"$f":" M4A1cEmployAdultWage90daysPart","v":0},"Number","M4A1cEmployAdultWage90daysPart",null,null,null,{"$f":"IF(PY_M4A1cEmployAdultWage90daysPart=\"\",\"\",PY_M4A1cEmployAdultWage90daysPart)","v":""},{"$f":"\"PY_\"&B398","v":"PY_M4A1cEmployAdultWage90daysPart"}]
["FNPI_1c_II","M4A1cEmployAdultWage90daysTarget",{"$f":"\"'='\" & SUBSTITUTE(MID(CELL(\"address\",INDIRECT(B399)),$I$3,100),\"]\",\"\")","v":"'='FNPIs Employment'!$E$11"},{"$f":" M4A1cEmployAdultWage90daysTarget","v":0},"Number","M4A1cEmployAdultWage90daysTarget"]
["FNPI_1c_III","M4A1cEmployAdultWage90daysResults",{"$f":"\"'='\" & SUBSTITUTE(MID(CELL(\"address\",INDIRECT(B400)),$I$3,100),\"]\",\"\")","v":"'='FNPIs Employment'!$F$11"},{"$f":" M4A1cEmployAdultWage90daysResults","v":0},"Number","M4A1cEmployAdultWage90daysResults",null,null,null,{"$f":"IF(PY_M4A1cEmployAdultWage90daysResults=\"\",\"\",PY_M4A1cEmployAdultWage90daysResults)","v":""},{"$f":"\"PY_\"&B400","v":"PY_M4A1cEmployAdultWage90daysResults"}]
["FNPI_1c_iv","M4A1cEmployAdultWage90daysOutcome",{"$f":"\"'='\" & SUBSTITUTE(MID(CELL(\"address\",INDIRECT(B401)),$I$3,100),\"]\",\"\")","v":"'='FNPIs Employment'!$G$11"},{"$f":" M4A1cEmployAdultWage90daysOutcome","v":""},"Number","M4A1cEmployAdultWage90daysOutcome"]
["FNPI_1c_v","M4A1cEmployAdultWage90daysAccuracy",{"$f":"\"'='\" & SUBSTITUTE(MID(CELL(\"address\",INDIRECT(B402)),$I$3,100),\"]\",\"\")","v":"'='FNPIs Employment'!$H$11"},{"$f":" M4A1cEmployAdultWage90daysAccuracy","v":""},"Number","M4A1cEmployAdultWage90daysAccuracy"]
["FNPI_1d_I","M4A1dEmployAdultWage180daysPart",{"$f":"\"'='\" & SUBSTITUTE(MID(CELL(\"address\",INDIRECT(B403)),$I$3,100),\"]\",\"\")","v":"'='FNPIs Employment'!$D$12"},{"$f":" M4A1dEmployAdultWage180daysPart","v":0},"Number","M4A1dEmployAdultWage180daysPart",null,null,null,{"$f":"IF(PY_M4A1dEmployAdultWage180daysPart=\"\",\"\",PY_M4A1dEmployAdultWage180daysPart)","v":""},{"$f":"\"PY_\"&B403","v":"PY_M4A1dEmployAdultWage180daysPart"}]
["FNPI_1d_II","M4A1dEmployAdultWage180daysTarget",{"$f":"\"'='\" & SUBSTITUTE(MID(CELL(\"address\",INDIRECT(B404)),$I$3,100),\"]\",\"\")","v":"'='FNPIs Employment'!$E$12"},{"$f":" M4A1dEmployAdultWage180daysTarget","v":0},"Number","M4A1dEmployAdultWage180daysTarget"]
["FNPI_1d_III","M4A1dEmployAdultWage180daysResults",{"$f":"\"'='\" & SUBSTITUTE(MID(CELL(\"address\",INDIRECT(B405)),$I$3,100),\"]\",\"\")","v":"'='FNPIs Employment'!$F$12"},{"$f":" M4A1dEmployAdultWage180daysResults","v":0},"Number","M4A1dEmployAdultWage180daysResults",null,null,null,{"$f":"IF(PY_M4A1dEmployAdultWage180daysResults=\"\",\"\",PY_M4A1dEmployAdultWage180daysResults)","v":""},{"$f":"\"PY_\"&B405","v":"PY_M4A1dEmployAdultWage180daysResults"}]
["FNPI_1d_iv","M4A1dEmployAdultWage180daysOutcome",{"$f":"\"'='\" & SUBSTITUTE(MID(CELL(\"address\",INDIRECT(B406)),$I$3,100),\"]\",\"\")","v":"'='FNPIs Employment'!$G$12"},{"$f":" M4A1dEmployAdultWage180daysOutcome","v":""},"Number","M4A1dEmployAdultWage180daysOutcome"]
["FNPI_1d_v","M4A1dEmployAdultWage180daysAccuracy",{"$f":"\"'='\" & SUBSTITUTE(MID(CELL(\"address\",INDIRECT(B407)),$I$3,100),\"]\",\"\")","v":"'='FNPIs Employment'!$H$12"},{"$f":" M4A1dEmployAdultWage180daysAccuracy","v":""},"Number","M4A1dEmployAdultWage180daysAccuracy"]
["FNPI_1e_I","M4A1eEmployAdultAbovePart",{"$f":"\"'='\" & SUBSTITUTE(MID(CELL(\"address\",INDIRECT(B408)),$I$3,100),\"]\",\"\")","v":"'='FNPIs Employment'!$D$13"},{"$f":" M4A1eEmployAdultAbovePart","v":0},"Number","M4A1eEmployAdultAbovePart",null,null,null,{"$f":"IF(PY_M4A1eEmployAdultAbovePart=\"\",\"\",PY_M4A1eEmployAdultAbovePart)","v":""},{"$f":"\"PY_\"&B408","v":"PY_M4A1eEmployAdultAbovePart"}]
["FNPI_1e_II","M4A1eEmployAdultAboveTarget",{"$f":"\"'='\" & SUBSTITUTE(MID(CELL(\"address\",INDIRECT(B409)),$I$3,100),\"]\",\"\")","v":"'='FNPIs Employment'!$E$13"},{"$f":" M4A1eEmployAdultAboveTarget","v":0},"Number","M4A1eEmployAdultAboveTarget"]
["FNPI_1e_III","M4A1eEmployAdultAboveResults",{"$f":"\"'='\" & SUBSTITUTE(MID(CELL(\"address\",INDIRECT(B410)),$I$3,100),\"]\",\"\")","v":"'='FNPIs Employment'!$F$13"},{"$f":" M4A1eEmployAdultAboveResults","v":0},"Number","M4A1eEmployAdultAboveResults",null,null,null,{"$f":"IF(PY_M4A1eEmployAdultAboveResults=\"\",\"\",PY_M4A1eEmployAdultAboveResults)","v":""},{"$f":"\"PY_\"&B410","v":"PY_M4A1eEmployAdultAboveResults"}]
["FNPI_1e_iv","M4A1eEmployAdultAboveOutcome",{"$f":"\"'='\" & SUBSTITUTE(MID(CELL(\"address\",INDIRECT(B411)),$I$3,100),\"]\",\"\")","v":"'='FNPIs Employment'!$G$13"},{"$f":" M4A1eEmployAdultAboveOutcome","v":""},"Number","M4A1eEmployAdultAboveOutcome"]
["FNPI_1e_v","M4A1eEmployAdultAboveAccuracy",{"$f":"\"'='\" & SUBSTITUTE(MID(CELL(\"address\",INDIRECT(B412)),$I$3,100),\"]\",\"\")","v":"'='FNPIs Employment'!$H$13"},{"$f":" M4A1eEmployAdultAboveAccuracy","v":""},"Number","M4A1eEmployAdultAboveAccuracy"]
["FNPI_1f_I","M4A1fEmployAdultAbove90daysPart",{"$f":"\"'='\" & SUBSTITUTE(MID(CELL(\"address\",INDIRECT(B413)),$I$3,100),\"]\",\"\")","v":"'='FNPIs Employment'!$D$14"},{"$f":" M4A1fEmployAdultAbove90daysPart","v":0},"Number","M4A1fEmployAdultAbove90daysPart",null,null,null,{"$f":"IF(PY_M4A1fEmployAdultAbove90daysPart=\"\",\"\",PY_M4A1fEmployAdultAbove90daysPart)","v":""},{"$f":"\"PY_\"&B413","v":"PY_M4A1fEmployAdultAbove90daysPart"}]
["FNPI_1f_II","M4A1fEmployAdultAbove90daysTarget",{"$f":"\"'='\" & SUBSTITUTE(MID(CELL(\"address\",INDIRECT(B414)),$I$3,100),\"]\",\"\")","v":"'='FNPIs Employment'!$E$14"},{"$f":" M4A1fEmployAdultAbove90daysTarget","v":0},"Number","M4A1fEmployAdultAbove90daysTarget"]
["FNPI_1f_III","M4A1fEmployAdultAbove90daysResults",{"$f":"\"'='\" & SUBSTITUTE(MID(CELL(\"address\",INDIRECT(B415)),$I$3,100),\"]\",\"\")","v":"'='FNPIs Employment'!$F$14"},{"$f":" M4A1fEmployAdultAbove90daysResults","v":0},"Number","M4A1fEmployAdultAbove90daysResults",null,null,null,{"$f":"IF(PY_M4A1fEmployAdultAbove90daysResults=\"\",\"\",PY_M4A1fEmployAdultAbove90daysResults)","v":""},{"$f":"\"PY_\"&B415","v":"PY_M4A1fEmployAdultAbove90daysResults"}]
["FNPI_1f_iv","M4A1fEmployAdultAbove90daysOutcome",{"$f":"\"'='\" & SUBSTITUTE(MID(CELL(\"address\",INDIRECT(B416)),$I$3,100),\"]\",\"\")","v":"'='FNPIs Employment'!$G$14"},{"$f":" M4A1fEmployAdultAbove90daysOutcome","v":""},"Number","M4A1fEmployAdultAbove90daysOutcome"]
["FNPI_1f_v","M4A1fEmployAdultAbove90daysAccuracy",{"$f":"\"'='\" & SUBSTITUTE(MID(CELL(\"address\",INDIRECT(B417)),$I$3,100),\"]\",\"\")","v":"'='FNPIs Employment'!$H$14"},{"$f":" M4A1fEmployAdultAbove90daysAccuracy","v":""},"Number","M4A1fEmployAdultAbove90daysAccuracy"]
["FNPI_1g_I","M4A1gEmployAdultAbove180daysPart",{"$f":"\"'='\" & SUBSTITUTE(MID(CELL(\"address\",INDIRECT(B418)),$I$3,100),\"]\",\"\")","v":"'='FNPIs Employment'!$D$15"},{"$f":" M4A1gEmployAdultAbove180daysPart","v":0},"Number","M4A1gEmployAdultAbove180daysPart",null,null,null,{"$f":"IF(PY_M4A1gEmployAdultAbove180daysPart=\"\",\"\",PY_M4A1gEmployAdultAbove180daysPart)","v":""},{"$f":"\"PY_\"&B418","v":"PY_M4A1gEmployAdultAbove180daysPart"}]
["FNPI_1g_II","M4A1gEmployAdultAbove180daysTarget",{"$f":"\"'='\" & SUBSTITUTE(MID(CELL(\"address\",INDIRECT(B419)),$I$3,100),\"]\",\"\")","v":"'='FNPIs Employment'!$E$15"},{"$f":" M4A1gEmployAdultAbove180daysTarget","v":0},"Number","M4A1gEmployAdultAbove180daysTarget"]
["FNPI_1g_III","M4A1gEmployAdultAbove180daysResults",{"$f":"\"'='\" & SUBSTITUTE(MID(CELL(\"address\",INDIRECT(B420)),$I$3,100),\"]\",\"\")","v":"'='FNPIs Employment'!$F$15"},{"$f":" M4A1gEmployAdultAbove180daysResults","v":0},"Number","M4A1gEmployAdultAbove180daysResults",null,null,null,{"$f":"IF(PY_M4A1gEmployAdultAbove180daysResults=\"\",\"\",PY_M4A1gEmployAdultAbove180daysResults)","v":""},{"$f":"\"PY_\"&B420","v":"PY_M4A1gEmployAdultAbove180daysResults"}]
["FNPI_1g_iv","M4A1gEmployAdultAbove180daysOutcome",{"$f":"\"'='\" & SUBSTITUTE(MID(CELL(\"address\",INDIRECT(B421)),$I$3,100),\"]\",\"\")","v":"'='FNPIs Employment'!$G$15"},{"$f":" M4A1gEmployAdultAbove180daysOutcome","v":""},"Number","M4A1gEmployAdultAbove180daysOutcome"]
["FNPI_1g_v","M4A1gEmployAdultAbove180daysAccuracy",{"$f":"\"'='\" & SUBSTITUTE(MID(CELL(\"address\",INDIRECT(B422)),$I$3,100),\"]\",\"\")","v":"'='FNPIs Employment'!$H$15"},{"$f":" M4A1gEmployAdultAbove180daysAccuracy","v":""},"Number","M4A1gEmployAdultAbove180daysAccuracy"]
["FNPI_1h_I","M4A1hCareerAdvPart",{"$f":"\"'='\" & SUBSTITUTE(MID(CELL(\"address\",INDIRECT(B423)),$I$3,100),\"]\",\"\")","v":"'='FNPIs Employment'!$D$18"},{"$f":" M4A1hCareerAdvPart","v":0},"Number","M4A1hCareerAdvPart",null,null,null,{"$f":"IF(PY_M4A1hCareerAdvPart=\"\",\"\",PY_M4A1hCareerAdvPart)","v":""},{"$f":"\"PY_\"&B423","v":"PY_M4A1hCareerAdvPart"}]
["FNPI_1h_II","M4A1hCareerAdvTarget",{"$f":"\"'='\" & SUBSTITUTE(MID(CELL(\"address\",INDIRECT(B424)),$I$3,100),\"]\",\"\")","v":"'='FNPIs Employment'!$E$18"},{"$f":" M4A1hCareerAdvTarget","v":0},"Number","M4A1hCareerAdvTarget"]
["FNPI_1h_III","M4A1hCareerAdvResults",{"$f":"\"'='\" & SUBSTITUTE(MID(CELL(\"address\",INDIRECT(B425)),$I$3,100),\"]\",\"\")","v":"'='FNPIs Employment'!$F$18"},{"$f":" M4A1hCareerAdvResults","v":0},"Number","M4A1hCareerAdvResults",null,null,null,{"$f":"IF(PY_M4A1hCareerAdvResults=\"\",\"\",PY_M4A1hCareerAdvResults)","v":""},{"$f":"\"PY_\"&B425","v":"PY_M4A1hCareerAdvResults"}]
["FNPI_1h_iv","M4A1hCareerAdvOutcome",{"$f":"\"'='\" & SUBSTITUTE(MID(CELL(\"address\",INDIRECT(B426)),$I$3,100),\"]\",\"\")","v":"'='FNPIs Employment'!$G$18"},{"$f":" M4A1hCareerAdvOutcome","v":""},"Number","M4A1hCareerAdvOutcome"]
["FNPI_1h_v","M4A1hCareerAdvAccuracy",{"$f":"\"'='\" & SUBSTITUTE(MID(CELL(\"address\",INDIRECT(B427)),$I$3,100),\"]\",\"\")","v":"'='FNPIs Employment'!$H$18"},{"$f":" M4A1hCareerAdvAccuracy","v":""},"Number","M4A1hCareerAdvAccuracy"]
["FNPI 1h.1 Of the above, the number of employed participants who Increased income from employment through wage or salary amount increase.","M4A1h1CareerAdvIncPart",{"$f":"\"'='\" & SUBSTITUTE(MID(CELL(\"address\",INDIRECT(B428)),$I$3,100),\"]\",\"\")","v":"'='FNPIs Employment'!$D$19"},{"$f":" M4A1h1CareerAdvIncPart","v":0},"Number","M4A1h1CareerAdvIncPart",null,null,null,{"$f":"IF(PY_M4A1h1CareerAdvIncPart=\"\",\"\",PY_M4A1h1CareerAdvIncPart)","v":""},{"$f":"\"PY_\"&B428","v":"PY_M4A1h1CareerAdvIncPart"}]
["FNPI_1h.1_II","M4A1h1CareerAdvIncTarget",{"$f":"\"'='\" & SUBSTITUTE(MID(CELL(\"address\",INDIRECT(B429)),$I$3,100),\"]\",\"\")","v":"'='FNPIs Employment'!$E$19"},{"$f":" M4A1h1CareerAdvIncTarget","v":0},"Number","M4A1h1CareerAdvIncTarget"]
["FNPI_1h.1_III","M4A1h1CareerAdvIncResults",{"$f":"\"'='\" & SUBSTITUTE(MID(CELL(\"address\",INDIRECT(B430)),$I$3,100),\"]\",\"\")","v":"'='FNPIs Employment'!$F$19"},{"$f":" M4A1h1CareerAdvIncResults","v":0},"Number","M4A1h1CareerAdvIncResults",null,null,null,{"$f":"IF(PY_M4A1h1CareerAdvIncResults=\"\",\"\",PY_M4A1h1CareerAdvIncResults)","v":""},{"$f":"\"PY_\"&B430","v":"PY_M4A1h1CareerAdvIncResults"}]
["FNPI_1h.1_iv","M4A1h1CareerAdvIncOutcome",{"$f":"\"'='\" & SUBSTITUTE(MID(CELL(\"address\",INDIRECT(B431)),$I$3,100),\"]\",\"\")","v":"'='FNPIs Employment'!$G$19"},{"$f":" M4A1h1CareerAdvIncOutcome","v":""},"Number","M4A1h1CareerAdvIncOutcome"]
["FNPI_1h.1_v","M4A1h1CareerAdvIncAccuracy",{"$f":"\"'='\" & SUBSTITUTE(MID(CELL(\"address\",INDIRECT(B432)),$I$3,100),\"]\",\"\")","v":"'='FNPIs Employment'!$H$19"},{"$f":" M4A1h1CareerAdvIncAccuracy","v":""},"Number","M4A1h1CareerAdvIncAccuracy"]
["FNPI 1h.2 Of the above, the number of employed participants who increased income from employment through hours worked increase.","M4A1h2CareerAdvHoursPart",{"$f":"\"'='\" & SUBSTITUTE(MID(CELL(\"address\",INDIRECT(B433)),$I$3,100),\"]\",\"\")","v":"'='FNPIs Employment'!$D$20"},{"$f":" M4A1h2CareerAdvHoursPart","v":0},"Number","M4A1h2CareerAdvHoursPart",null,null,null,{"$f":"IF(PY_M4A1h2CareerAdvHoursPart=\"\",\"\",PY_M4A1h2CareerAdvHoursPart)","v":""},{"$f":"\"PY_\"&B433","v":"PY_M4A1h2CareerAdvHoursPart"}]
["FNPI_1h.2_II","M4A1h2CareerAdvHoursTarget",{"$f":"\"'='\" & SUBSTITUTE(MID(CELL(\"address\",INDIRECT(B434)),$I$3,100),\"]\",\"\")","v":"'='FNPIs Employment'!$E$20"},{"$f":" M4A1h2CareerAdvHoursTarget","v":0},"Number","M4A1h2CareerAdvHoursTarget"]
["FNPI_1h.2_III","M4A1h2CareerAdvHoursResults",{"$f":"\"'='\" & SUBSTITUTE(MID(CELL(\"address\",INDIRECT(B435)),$I$3,100),\"]\",\"\")","v":"'='FNPIs Employment'!$F$20"},{"$f":" M4A1h2CareerAdvHoursResults","v":0},"Number","M4A1h2CareerAdvHoursResults",null,null,null,{"$f":"IF(PY_M4A1h2CareerAdvHoursResults=\"\",\"\",PY_M4A1h2CareerAdvHoursResults)","v":""},{"$f":"\"PY_\"&B435","v":"PY_M4A1h2CareerAdvHoursResults"}]
["FNPI_1h.2_iv","M4A1h2CareerAdvHoursOutcome",{"$f":"\"'='\" & SUBSTITUTE(MID(CELL(\"address\",INDIRECT(B436)),$I$3,100),\"]\",\"\")","v":"'='FNPIs Employment'!$G$20"},{"$f":" M4A1h2CareerAdvHoursOutcome","v":""},"Number","M4A1h2CareerAdvHoursOutcome"]
["FNPI_1h.2_v","M4A1h2CareerAdvHoursAccuracy",{"$f":"\"'='\" & SUBSTITUTE(MID(CELL(\"address\",INDIRECT(B437)),$I$3,100),\"]\",\"\")","v":"'='FNPIs Employment'!$H$20"},{"$f":" M4A1h2CareerAdvHoursAccuracy","v":""},"Number","M4A1h2CareerAdvHoursAccuracy"]
["FNPI 1h.3 Of the above, the number of employed participants who increased benefits related to employment.","M4A1h3CareerAdvBensPart",{"$f":"\"'='\" & SUBSTITUTE(MID(CELL(\"address\",INDIRECT(B438)),$I$3,100),\"]\",\"\")","v":"'='FNPIs Employment'!$D$21"},{"$f":" M4A1h3CareerAdvBensPart","v":0},"Number","M4A1h3CareerAdvBensPart",null,null,null,{"$f":"IF(PY_M4A1h3CareerAdvBensPart=\"\",\"\",PY_M4A1h3CareerAdvBensPart)","v":""},{"$f":"\"PY_\"&B438","v":"PY_M4A1h3CareerAdvBensPart"}]
["FNPI_1h.3_II","M4A1h3CareerAdvBensTarget",{"$f":"\"'='\" & SUBSTITUTE(MID(CELL(\"address\",INDIRECT(B439)),$I$3,100),\"]\",\"\")","v":"'='FNPIs Employment'!$E$21"},{"$f":" M4A1h3CareerAdvBensTarget","v":0},"Number","M4A1h3CareerAdvBensTarget"]
["FNPI_1h.3_III","M4A1h3CareerAdvBensResults",{"$f":"\"'='\" & SUBSTITUTE(MID(CELL(\"address\",INDIRECT(B440)),$I$3,100),\"]\",\"\")","v":"'='FNPIs Employment'!$F$21"},{"$f":" M4A1h3CareerAdvBensResults","v":0},"Number","M4A1h3CareerAdvBensResults",null,null,null,{"$f":"IF(PY_M4A1h3CareerAdvBensResults=\"\",\"\",PY_M4A1h3CareerAdvBensResults)","v":""},{"$f":"\"PY_\"&B440","v":"PY_M4A1h3CareerAdvBensResults"}]
["FNPI_1h.3_iv","M4A1h3CareerAdvBensOutcome",{"$f":"\"'='\" & SUBSTITUTE(MID(CELL(\"address\",INDIRECT(B441)),$I$3,100),\"]\",\"\")","v":"'='FNPIs Employment'!$G$21"},{"$f":" M4A1h3CareerAdvBensOutcome","v":""},"Number","M4A1h3CareerAdvBensOutcome"]
["FNPI_1h.3_v","M4A1h3CareerAdvBensAccuracy",{"$f":"\"'='\" & SUBSTITUTE(MID(CELL(\"address\",INDIRECT(B442)),$I$3,100),\"]\",\"\")","v":"'='FNPIs Employment'!$H$21"},{"$f":" M4A1h3CareerAdvBensAccuracy","v":""},"Number","M4A1h3CareerAdvBensAccuracy"]
["FNPI 1z.1","M4A1z1OtherEmploy1Name",{"$f":"\"'='\" & SUBSTITUTE(MID(CELL(\"address\",INDIRECT(B443)),$I$3,100),\"]\",\"\")","v":"'='FNPIs Employment'!$C$24"},{"$f":" IF(ISBLANK(M4A1z1OtherEmploy1Name),\"\",M4A1z1OtherEmploy1Name)","v":""},"Text","M4A1z1OtherEmploy1Name",1000]
["FNPI_1z.1_I","M4A1zOtherEmploy1Part",{"$f":"\"'='\" & SUBSTITUTE(MID(CELL(\"address\",INDIRECT(B444)),$I$3,100),\"]\",\"\")","v":"'='FNPIs Employment'!$D$24"},{"$f":" M4A1zOtherEmploy1Part","v":0},"Number","M4A1zOtherEmploy1Part"]
["FNPI_1z.1_II","M4A1zOtherEmploy1Target",{"$f":"\"'='\" & SUBSTITUTE(MID(CELL(\"address\",INDIRECT(B445)),$I$3,100),\"]\",\"\")","v":"'='FNPIs Employment'!$E$24"},{"$f":" M4A1zOtherEmploy1Target","v":0},"Number","M4A1zOtherEmploy1Target"]
["FNPI_1z.1_III","M4A1zOtherEmploy1Results",{"$f":"\"'='\" & SUBSTITUTE(MID(CELL(\"address\",INDIRECT(B446)),$I$3,100),\"]\",\"\")","v":"'='FNPIs Employment'!$F$24"},{"$f":" M4A1zOtherEmploy1Results","v":0},"Number","M4A1zOtherEmploy1Results"]
["FNPI 1z.1iv","M4A1zOtherEmploy1Outcome",{"$f":"\"'='\" & SUBSTITUTE(MID(CELL(\"address\",INDIRECT(B447)),$I$3,100),\"]\",\"\")","v":"'='FNPIs Employment'!$G$24"},{"$f":" M4A1zOtherEmploy1Outcome","v":""},"Number","M4A1zOtherEmploy1Outcome"]
["FNPI 1z.1v","M4A1zOtherEmploy1Accuracy",{"$f":"\"'='\" & SUBSTITUTE(MID(CELL(\"address\",INDIRECT(B448)),$I$3,100),\"]\",\"\")","v":"'='FNPIs Employment'!$H$24"},{"$f":" M4A1zOtherEmploy1Accuracy","v":""},"Number","M4A1zOtherEmploy1Accuracy"]
["FNPI 1z.2","M4A1zOtherEmploy2Name",{"$f":"\"'='\" & SUBSTITUTE(MID(CELL(\"address\",INDIRECT(B449)),$I$3,100),\"]\",\"\")","v":"'='FNPIs Employment'!$C$25"},{"$f":" IF(ISBLANK(M4A1zOtherEmploy2Name),\"\",M4A1zOtherEmploy2Name)","v":""},"Text","M4A1zOtherEmploy2Name",1000]
["FNPI_1z.2_I","M4A1zOtherEmploy2Part",{"$f":"\"'='\" & SUBSTITUTE(MID(CELL(\"address\",INDIRECT(B450)),$I$3,100),\"]\",\"\")","v":"'='FNPIs Employment'!$D$25"},{"$f":" M4A1zOtherEmploy2Part","v":0},"Number","M4A1zOtherEmploy2Part"]
["FNPI_1z.2_II","M4A1zOtherEmploy2Target",{"$f":"\"'='\" & SUBSTITUTE(MID(CELL(\"address\",INDIRECT(B451)),$I$3,100),\"]\",\"\")","v":"'='FNPIs Employment'!$E$25"},{"$f":" M4A1zOtherEmploy2Target","v":0},"Number","M4A1zOtherEmploy2Target"]
["FNPI_1z.2_III","M4A1zOtherEmploy2Results",{"$f":"\"'='\" & SUBSTITUTE(MID(CELL(\"address\",INDIRECT(B452)),$I$3,100),\"]\",\"\")","v":"'='FNPIs Employment'!$F$25"},{"$f":" M4A1zOtherEmploy2Results","v":0},"Number","M4A1zOtherEmploy2Results"]
["FNPI 1z.2iv","M4A1zOtherEmploy2Outcome",{"$f":"\"'='\" & SUBSTITUTE(MID(CELL(\"address\",INDIRECT(B453)),$I$3,100),\"]\",\"\")","v":"'='FNPIs Employment'!$G$25"},{"$f":" M4A1zOtherEmploy2Outcome","v":""},"Number","M4A1zOtherEmploy2Outcome"]
["FNPI 1z.2v","M4A1zOtherEmploy2Accuracy",{"$f":"\"'='\" & SUBSTITUTE(MID(CELL(\"address\",INDIRECT(B454)),$I$3,100),\"]\",\"\")","v":"'='FNPIs Employment'!$H$25"},{"$f":" M4A1zOtherEmploy2Accuracy","v":""},"Number","M4A1zOtherEmploy2Accuracy"]
["FNPI 1z.3","M4A1zOtherEmploy3Name",{"$f":"\"'='\" & SUBSTITUTE(MID(CELL(\"address\",INDIRECT(B455)),$I$3,100),\"]\",\"\")","v":"'='FNPIs Employment'!$C$26"},{"$f":" IF(ISBLANK(M4A1zOtherEmploy3Name),\"\",M4A1zOtherEmploy3Name)","v":""},"Text","M4A1zOtherEmploy3Name",1000]
["FNPI_1z.3_I","M4A1zOtherEmploy3Part",{"$f":"\"'='\" & SUBSTITUTE(MID(CELL(\"address\",INDIRECT(B456)),$I$3,100),\"]\",\"\")","v":"'='FNPIs Employment'!$D$26"},{"$f":" M4A1zOtherEmploy3Part","v":0},"Number","M4A1zOtherEmploy3Part"]
["FNPI_1z.3_II","M4A1zOtherEmploy3Target",{"$f":"\"'='\" & SUBSTITUTE(MID(CELL(\"address\",INDIRECT(B457)),$I$3,100),\"]\",\"\")","v":"'='FNPIs Employment'!$E$26"},{"$f":" M4A1zOtherEmploy3Target","v":0},"Number","M4A1zOtherEmploy3Target"]
["FNPI_1z.3_III","M4A1zOtherEmploy3Results",{"$f":"\"'='\" & SUBSTITUTE(MID(CELL(\"address\",INDIRECT(B458)),$I$3,100),\"]\",\"\")","v":"'='FNPIs Employment'!$F$26"},{"$f":" M4A1zOtherEmploy3Results","v":0},"Number","M4A1zOtherEmploy3Results"]
["FNPI 1z.3iv","M4A1zOtherEmploy3Outcome",{"$f":"\"'='\" & SUBSTITUTE(MID(CELL(\"address\",INDIRECT(B459)),$I$3,100),\"]\",\"\")","v":"'='FNPIs Employment'!$G$26"},{"$f":" M4A1zOtherEmploy3Outcome","v":""},"Number","M4A1zOtherEmploy3Outcome"]
["FNPI 1z.3v","M4A1zOtherEmploy3Accuracy",{"$f":"\"'='\" & SUBSTITUTE(MID(CELL(\"address\",INDIRECT(B460)),$I$3,100),\"]\",\"\")","v":"'='FNPIs Employment'!$H$26"},{"$f":" M4A1zOtherEmploy3Accuracy","v":""},"Number","M4A1zOtherEmploy3Accuracy"]
["FNPI 1z.4","M4A1zOtherEmploy4Name",{"$f":"\"'='\" & SUBSTITUTE(MID(CELL(\"address\",INDIRECT(B461)),$I$3,100),\"]\",\"\")","v":"'='FNPIs Employment'!$C$27"},{"$f":" IF(ISBLANK(M4A1zOtherEmploy4Name),\"\",M4A1zOtherEmploy4Name)","v":""},"Text","M4A1zOtherEmploy4Name",1000]
["FNPI_1z.4_I","M4A1zOtherEmploy4Part",{"$f":"\"'='\" & SUBSTITUTE(MID(CELL(\"address\",INDIRECT(B462)),$I$3,100),\"]\",\"\")","v":"'='FNPIs Employment'!$D$27"},{"$f":" M4A1zOtherEmploy4Part","v":0},"Number","M4A1zOtherEmploy4Part"]
["FNPI_1z.4_II","M4A1zOtherEmploy4Target",{"$f":"\"'='\" & SUBSTITUTE(MID(CELL(\"address\",INDIRECT(B463)),$I$3,100),\"]\",\"\")","v":"'='FNPIs Employment'!$E$27"},{"$f":" M4A1zOtherEmploy4Target","v":0},"Number","M4A1zOtherEmploy4Target"]
["FNPI_1z.4_III","M4A1zOtherEmploy4Results",{"$f":"\"'='\" & SUBSTITUTE(MID(CELL(\"address\",INDIRECT(B464)),$I$3,100),\"]\",\"\")","v":"'='FNPIs Employment'!$F$27"},{"$f":" M4A1zOtherEmploy4Results","v":0},"Number","M4A1zOtherEmploy4Results"]
["FNPI 1z.4iv","M4A1zOtherEmploy4Outcome",{"$f":"\"'='\" & SUBSTITUTE(MID(CELL(\"address\",INDIRECT(B465)),$I$3,100),\"]\",\"\")","v":"'='FNPIs Employment'!$G$27"},{"$f":" M4A1zOtherEmploy4Outcome","v":""},"Number","M4A1zOtherEmploy4Outcome"]
["FNPI 1z.4v","M4A1zOtherEmploy4Accuracy",{"$f":"\"'='\" & SUBSTITUTE(MID(CELL(\"address\",INDIRECT(B466)),$I$3,100),\"]\",\"\")","v":"'='FNPIs Employment'!$H$27"},{"$f":" M4A1zOtherEmploy4Accuracy","v":""},"Number","M4A1zOtherEmploy4Accuracy"]
["FNPI 1z.5","M4A1zOtherEmploy5Name",{"$f":"\"'='\" & SUBSTITUTE(MID(CELL(\"address\",INDIRECT(B467)),$I$3,100),\"]\",\"\")","v":"'='FNPIs Employment'!$C$28"},{"$f":" IF(ISBLANK(M4A1zOtherEmploy5Name),\"\",M4A1zOtherEmploy5Name)","v":""},"Text","M4A1zOtherEmploy5Name",1000]
["FNPI_1z.5_I","M4A1zOtherEmploy5Part",{"$f":"\"'='\" & SUBSTITUTE(MID(CELL(\"address\",INDIRECT(B468)),$I$3,100),\"]\",\"\")","v":"'='FNPIs Employment'!$D$28"},{"$f":" M4A1zOtherEmploy5Part","v":0},"Number","M4A1zOtherEmploy5Part"]
["FNPI_1z.5_II","M4A1zOtherEmploy5Target",{"$f":"\"'='\" & SUBSTITUTE(MID(CELL(\"address\",INDIRECT(B469)),$I$3,100),\"]\",\"\")","v":"'='FNPIs Employment'!$E$28"},{"$f":" M4A1zOtherEmploy5Target","v":0},"Number","M4A1zOtherEmploy5Target"]
["FNPI_1z.5_III","M4A1zOtherEmploy5Results",{"$f":"\"'='\" & SUBSTITUTE(MID(CELL(\"address\",INDIRECT(B470)),$I$3,100),\"]\",\"\")","v":"'='FNPIs Employment'!$F$28"},{"$f":" M4A1zOtherEmploy5Results","v":0},"Number","M4A1zOtherEmploy5Results"]
["FNPI 1z.5iv","M4A1zOtherEmploy5Outcome",{"$f":"\"'='\" & SUBSTITUTE(MID(CELL(\"address\",INDIRECT(B471)),$I$3,100),\"]\",\"\")","v":"'='FNPIs Employment'!$G$28"},{"$f":" M4A1zOtherEmploy5Outcome","v":""},"Number","M4A1zOtherEmploy5Outcome"]
["FNPI 1z.5v","M4A1zOtherEmploy5Accuracy",{"$f":"\"'='\" & SUBSTITUTE(MID(CELL(\"address\",INDIRECT(B472)),$I$3,100),\"]\",\"\")","v":"'='FNPIs Employment'!$H$28"},{"$f":" M4A1zOtherEmploy5Accuracy","v":""},"Number","M4A1zOtherEmploy5Accuracy"]
["FNPI_Employ_Comments","M4A1Comments",{"$f":"\"'='\" & SUBSTITUTE(MID(CELL(\"address\",INDIRECT(B473)),$I$3,100),\"]\",\"\")","v":"'='Deprecated Fields'!$C$31"},{"$f":" M4A1Comments","v":0},"Memo","M4A1Comments",5000]
["FNPI_5a_I","M4A5aNutrSkillIncrPart",{"$f":"\"'='\" & SUBSTITUTE(MID(CELL(\"address\",INDIRECT(B474)),$I$3,100),\"]\",\"\")","v":"'='FNPIs Health'!$D$9"},{"$f":" M4A5aNutrSkillIncrPart","v":0},"Number","M4A5aNutrSkillIncrPart",null,null,null,{"$f":"IF(PY_M4A5aNutrSkillIncrPart=\"\",\"\",PY_M4A5aNutrSkillIncrPart)","v":""},{"$f":"\"PY_\"&B474","v":"PY_M4A5aNutrSkillIncrPart"}]
["FNPI_5a_II","M4A5aNutrSkillIncrTarget",{"$f":"\"'='\" & SUBSTITUTE(MID(CELL(\"address\",INDIRECT(B475)),$I$3,100),\"]\",\"\")","v":"'='FNPIs Health'!$E$9"},{"$f":" M4A5aNutrSkillIncrTarget","v":0},"Number","M4A5aNutrSkillIncrTarget"]
["FNPI_5a_III","M4A5aNutrSkillIncrResults",{"$f":"\"'='\" & SUBSTITUTE(MID(CELL(\"address\",INDIRECT(B476)),$I$3,100),\"]\",\"\")","v":"'='FNPIs Health'!$F$9"},{"$f":" M4A5aNutrSkillIncrResults","v":0},"Number","M4A5aNutrSkillIncrResults",null,null,null,{"$f":"IF(PY_M4A5aNutrSkillIncrResults=\"\",\"\",PY_M4A5aNutrSkillIncrResults)","v":""},{"$f":"\"PY_\"&B476","v":"PY_M4A5aNutrSkillIncrResults"}]
["FNPI_5a_iv","M4A5aNutrSkillIncrOutcome",{"$f":"\"'='\" & SUBSTITUTE(MID(CELL(\"address\",INDIRECT(B477)),$I$3,100),\"]\",\"\")","v":"'='FNPIs Health'!$G$9"},{"$f":" M4A5aNutrSkillIncrOutcome","v":""},"Number","M4A5aNutrSkillIncrOutcome"]
["FNPI_5a_v","M4A5aNutrSkillIncrAccuracy",{"$f":"\"'='\" & SUBSTITUTE(MID(CELL(\"address\",INDIRECT(B478)),$I$3,100),\"]\",\"\")","v":"'='FNPIs Health'!$H$9"},{"$f":" M4A5aNutrSkillIncrAccuracy","v":""},"Number","M4A5aNutrSkillIncrAccuracy"]
["FNPI_5b_I","M4A5bPhysHealthImprPart",{"$f":"\"'='\" & SUBSTITUTE(MID(CELL(\"address\",INDIRECT(B479)),$I$3,100),\"]\",\"\")","v":"'='FNPIs Health'!$D$10"},{"$f":" M4A5bPhysHealthImprPart","v":0},"Number","M4A5bPhysHealthImprPart",null,null,null,{"$f":"IF(PY_M4A5bPhysHealthImprPart=\"\",\"\",PY_M4A5bPhysHealthImprPart)","v":""},{"$f":"\"PY_\"&B479","v":"PY_M4A5bPhysHealthImprPart"}]
["FNPI_5b_II","M4A5bPhysHealthImprTarget",{"$f":"\"'='\" & SUBSTITUTE(MID(CELL(\"address\",INDIRECT(B480)),$I$3,100),\"]\",\"\")","v":"'='FNPIs Health'!$E$10"},{"$f":" M4A5bPhysHealthImprTarget","v":0},"Number","M4A5bPhysHealthImprTarget"]
["FNPI_5b_III","M4A5bPhysHealthImprResults",{"$f":"\"'='\" & SUBSTITUTE(MID(CELL(\"address\",INDIRECT(B481)),$I$3,100),\"]\",\"\")","v":"'='FNPIs Health'!$F$10"},{"$f":" M4A5bPhysHealthImprResults","v":0},"Number","M4A5bPhysHealthImprResults",null,null,null,{"$f":"IF(PY_M4A5bPhysHealthImprResults=\"\",\"\",PY_M4A5bPhysHealthImprResults)","v":""},{"$f":"\"PY_\"&B481","v":"PY_M4A5bPhysHealthImprResults"}]
["FNPI_5b_iv","M4A5bPhysHealthImprOutcome",{"$f":"\"'='\" & SUBSTITUTE(MID(CELL(\"address\",INDIRECT(B482)),$I$3,100),\"]\",\"\")","v":"'='FNPIs Health'!$G$10"},{"$f":" M4A5bPhysHealthImprOutcome","v":""},"Number","M4A5bPhysHealthImprOutcome"]
["FNPI_5b_v","M4A5bPhysHealthImprAccuracy",{"$f":"\"'='\" & SUBSTITUTE(MID(CELL(\"address\",INDIRECT(B483)),$I$3,100),\"]\",\"\")","v":"'='FNPIs Health'!$H$10"},{"$f":" M4A5bPhysHealthImprAccuracy","v":""},"Number","M4A5bPhysHealthImprAccuracy"]
["FNPI_5c_I","M4A5cMentHealthImprPart",{"$f":"\"'='\" & SUBSTITUTE(MID(CELL(\"address\",INDIRECT(B484)),$I$3,100),\"]\",\"\")","v":"'='FNPIs Health'!$D$11"},{"$f":" M4A5cMentHealthImprPart","v":0},"Number","M4A5cMentHealthImprPart",null,null,null,{"$f":"IF(PY_M4A5cMentHealthImprPart=\"\",\"\",PY_M4A5cMentHealthImprPart)","v":""},{"$f":"\"PY_\"&B484","v":"PY_M4A5cMentHealthImprPart"}]
["FNPI_5c_II","M4A5cMentHealthImprTarget",{"$f":"\"'='\" & SUBSTITUTE(MID(CELL(\"address\",INDIRECT(B485)),$I$3,100),\"]\",\"\")","v":"'='FNPIs Health'!$E$11"},{"$f":" M4A5cMentHealthImprTarget","v":0},"Number","M4A5cMentHealthImprTarget"]
["FNPI_5c_III","M4A5cMentHealthImprResults",{"$f":"\"'='\" & SUBSTITUTE(MID(CELL(\"address\",INDIRECT(B486)),$I$3,100),\"]\",\"\")","v":"'='FNPIs Health'!$F$11"},{"$f":" M4A5cMentHealthImprResults","v":0},"Number","M4A5cMentHealthImprResults",null,null,null,{"$f":"IF(PY_M4A5cMentHealthImprResults=\"\",\"\",PY_M4A5cMentHealthImprResults)","v":""},{"$f":"\"PY_\"&B486","v":"PY_M4A5cMentHealthImprResults"}]
["FNPI_5c_iv","M4A5cMentHealthImprOutcome",{"$f":"\"'='\" & SUBSTITUTE(MID(CELL(\"address\",INDIRECT(B487)),$I$3,100),\"]\",\"\")","v":"'='FNPIs Health'!$G$11"},{"$f":" M4A5cMentHealthImprOutcome","v":""},"Number","M4A5cMentHealthImprOutcome"]
["FNPI_5c_v","M4A5cMentHealthImprAccuracy",{"$f":"\"'='\" & SUBSTITUTE(MID(CELL(\"address\",INDIRECT(B488)),$I$3,100),\"]\",\"\")","v":"'='FNPIs Health'!$H$11"},{"$f":" M4A5cMentHealthImprAccuracy","v":""},"Number","M4A5cMentHealthImprAccuracy"]
["FNPI_5d_I","M4A5dAdultRoleSkillsImprPart",{"$f":"\"'='\" & SUBSTITUTE(MID(CELL(\"address\",INDIRECT(B489)),$I$3,100),\"]\",\"\")","v":"'='FNPIs Health'!$D$12"},{"$f":" M4A5dAdultRoleSkillsImprPart","v":0},"Number","M4A5dAdultRoleSkillsImprPart",null,null,null,{"$f":"IF(PY_M4A5dAdultRoleSkillsImprPart=\"\",\"\",PY_M4A5dAdultRoleSkillsImprPart)","v":""},{"$f":"\"PY_\"&B489","v":"PY_M4A5dAdultRoleSkillsImprPart"}]
["FNPI_5d_II","M4A5dAdultRoleSkillsImprTarget",{"$f":"\"'='\" & SUBSTITUTE(MID(CELL(\"address\",INDIRECT(B490)),$I$3,100),\"]\",\"\")","v":"'='FNPIs Health'!$E$12"},{"$f":" M4A5dAdultRoleSkillsImprTarget","v":0},"Number","M4A5dAdultRoleSkillsImprTarget"]
["FNPI_5d_III","M4A5dAdultRoleSkillsImprResults",{"$f":"\"'='\" & SUBSTITUTE(MID(CELL(\"address\",INDIRECT(B491)),$I$3,100),\"]\",\"\")","v":"'='FNPIs Health'!$F$12"},{"$f":" M4A5dAdultRoleSkillsImprResults","v":0},"Number","M4A5dAdultRoleSkillsImprResults",null,null,null,{"$f":"IF(PY_M4A5dAdultRoleSkillsImprResults=\"\",\"\",PY_M4A5dAdultRoleSkillsImprResults)","v":""},{"$f":"\"PY_\"&B491","v":"PY_M4A5dAdultRoleSkillsImprResults"}]
["FNPI_5d_iv","M4A5dAdultRoleSkillsImprOutcome",{"$f":"\"'='\" & SUBSTITUTE(MID(CELL(\"address\",INDIRECT(B492)),$I$3,100),\"]\",\"\")","v":"'='FNPIs Health'!$G$12"},{"$f":" M4A5dAdultRoleSkillsImprOutcome","v":""},"Number","M4A5dAdultRoleSkillsImprOutcome"]
["FNPI_5d_v","M4A5dAdultRoleSkillsImprAccuracy",{"$f":"\"'='\" & SUBSTITUTE(MID(CELL(\"address\",INDIRECT(B493)),$I$3,100),\"]\",\"\")","v":"'='FNPIs Health'!$H$12"},{"$f":" M4A5dAdultRoleSkillsImprAccuracy","v":""},"Number","M4A5dAdultRoleSkillsImprAccuracy"]
["FNPI_5e_I","M4A5eSensRespIncrPart",{"$f":"\"'='\" & SUBSTITUTE(MID(CELL(\"address\",INDIRECT(B494)),$I$3,100),\"]\",\"\")","v":"'='FNPIs Health'!$D$13"},{"$f":" M4A5eSensRespIncrPart","v":0},"Number","M4A5eSensRespIncrPart",null,null,null,{"$f":"IF(PY_M4A5eSensRespIncrPart=\"\",\"\",PY_M4A5eSensRespIncrPart)","v":""},{"$f":"\"PY_\"&B494","v":"PY_M4A5eSensRespIncrPart"}]
["FNPI_5e_II","M4A5eSensRespIncrTarget",{"$f":"\"'='\" & SUBSTITUTE(MID(CELL(\"address\",INDIRECT(B495)),$I$3,100),\"]\",\"\")","v":"'='FNPIs Health'!$E$13"},{"$f":" M4A5eSensRespIncrTarget","v":0},"Number","M4A5eSensRespIncrTarget"]
["FNPI_5e_III","M4A5eSensRespIncrResults",{"$f":"\"'='\" & SUBSTITUTE(MID(CELL(\"address\",INDIRECT(B496)),$I$3,100),\"]\",\"\")","v":"'='FNPIs Health'!$F$13"},{"$f":" M4A5eSensRespIncrResults","v":0},"Number","M4A5eSensRespIncrResults",null,null,null,{"$f":"IF(PY_M4A5eSensRespIncrResults=\"\",\"\",PY_M4A5eSensRespIncrResults)","v":""},{"$f":"\"PY_\"&B496","v":"PY_M4A5eSensRespIncrResults"}]
["FNPI_5e_iv","M4A5eSensRespIncrOutcome",{"$f":"\"'='\" & SUBSTITUTE(MID(CELL(\"address\",INDIRECT(B497)),$I$3,100),\"]\",\"\")","v":"'='FNPIs Health'!$G$13"},{"$f":" M4A5eSensRespIncrOutcome","v":""},"Number","M4A5eSensRespIncrOutcome"]
["FNPI_5e_v","M4A5eSensRespIncrAccuracy",{"$f":"\"'='\" & SUBSTITUTE(MID(CELL(\"address\",INDIRECT(B498)),$I$3,100),\"]\",\"\")","v":"'='FNPIs Health'!$H$13"},{"$f":" M4A5eSensRespIncrAccuracy","v":""},"Number","M4A5eSensRespIncrAccuracy"]
["FNPI_5f_I","M4A5fSensIndLivingPart",{"$f":"\"'='\" & SUBSTITUTE(MID(CELL(\"address\",INDIRECT(B499)),$I$3,100),\"]\",\"\")","v":"'='FNPIs Health'!$D$14"},{"$f":" M4A5fSensIndLivingPart","v":0},"Number","M4A5fSensIndLivingPart",null,null,null,{"$f":"IF(PY_M4A5fSensIndLivingPart=\"\",\"\",PY_M4A5fSensIndLivingPart)","v":""},{"$f":"\"PY_\"&B499","v":"PY_M4A5fSensIndLivingPart"}]
["FNPI_5f_II","M4A5fSensIndLivingTarget",{"$f":"\"'='\" & SUBSTITUTE(MID(CELL(\"address\",INDIRECT(B500)),$I$3,100),\"]\",\"\")","v":"'='FNPIs Health'!$E$14"},{"$f":" M4A5fSensIndLivingTarget","v":0},"Number","M4A5fSensIndLivingTarget"]
["FNPI_5f_III","M4A5fSensIndLivingResults",{"$f":"\"'='\" & SUBSTITUTE(MID(CELL(\"address\",INDIRECT(B501)),$I$3,100),\"]\",\"\")","v":"'='FNPIs Health'!$F$14"},{"$f":" M4A5fSensIndLivingResults","v":0},"Number","M4A5fSensIndLivingResults",null,null,null,{"$f":"IF(PY_M4A5fSensIndLivingResults=\"\",\"\",PY_M4A5fSensIndLivingResults)","v":""},{"$f":"\"PY_\"&B501","v":"PY_M4A5fSensIndLivingResults"}]
["FNPI_5f_iv","M4A5fSensIndLivingOutcome",{"$f":"\"'='\" & SUBSTITUTE(MID(CELL(\"address\",INDIRECT(B502)),$I$3,100),\"]\",\"\")","v":"'='FNPIs Health'!$G$14"},{"$f":" M4A5fSensIndLivingOutcome","v":""},"Number","M4A5fSensIndLivingOutcome"]
["FNPI_5f_v","M4A5fSensIndLivingAccuracy",{"$f":"\"'='\" & SUBSTITUTE(MID(CELL(\"address\",INDIRECT(B503)),$I$3,100),\"]\",\"\")","v":"'='FNPIs Health'!$H$14"},{"$f":" M4A5fSensIndLivingAccuracy","v":""},"Number","M4A5fSensIndLivingAccuracy"]
["FNPI_5g_I","M4A5gDisIndLivingPart",{"$f":"\"'='\" & SUBSTITUTE(MID(CELL(\"address\",INDIRECT(B504)),$I$3,100),\"]\",\"\")","v":"'='FNPIs Health'!$D$15"},{"$f":" M4A5gDisIndLivingPart","v":0},"Number","M4A5gDisIndLivingPart",null,null,null,{"$f":"IF(PY_M4A5gDisIndLivingPart=\"\",\"\",PY_M4A5gDisIndLivingPart)","v":""},{"$f":"\"PY_\"&B504","v":"PY_M4A5gDisIndLivingPart"}]
["FNPI_5g_II","M4A5gDisIndLivingTarget",{"$f":"\"'='\" & SUBSTITUTE(MID(CELL(\"address\",INDIRECT(B505)),$I$3,100),\"]\",\"\")","v":"'='FNPIs Health'!$E$15"},{"$f":" M4A5gDisIndLivingTarget","v":0},"Number","M4A5gDisIndLivingTarget"]
["FNPI_5g_III","M4A5gDisIndLivingResults",{"$f":"\"'='\" & SUBSTITUTE(MID(CELL(\"address\",INDIRECT(B506)),$I$3,100),\"]\",\"\")","v":"'='FNPIs Health'!$F$15"},{"$f":" M4A5gDisIndLivingResults","v":0},"Number","M4A5gDisIndLivingResults",null,null,null,{"$f":"IF(PY_M4A5gDisIndLivingResults=\"\",\"\",PY_M4A5gDisIndLivingResults)","v":""},{"$f":"\"PY_\"&B506","v":"PY_M4A5gDisIndLivingResults"}]
["FNPI_5g_iv","M4A5gDisIndLivingOutcome",{"$f":"\"'='\" & SUBSTITUTE(MID(CELL(\"address\",INDIRECT(B507)),$I$3,100),\"]\",\"\")","v":"'='FNPIs Health'!$G$15"},{"$f":" M4A5gDisIndLivingOutcome","v":""},"Number","M4A5gDisIndLivingOutcome"]
["FNPI_5g_v","M4A5gDisIndLivingAccuracy",{"$f":"\"'='\" & SUBSTITUTE(MID(CELL(\"address\",INDIRECT(B508)),$I$3,100),\"]\",\"\")","v":"'='FNPIs Health'!$H$15"},{"$f":" M4A5gDisIndLivingAccuracy","v":""},"Number","M4A5gDisIndLivingAccuracy"]
["FNPI_5h_I","M4A5hIllIndLivingPart",{"$f":"\"'='\" & SUBSTITUTE(MID(CELL(\"address\",INDIRECT(B509)),$I$3,100),\"]\",\"\")","v":"'='FNPIs Health'!$D$16"},{"$f":" M4A5hIllIndLivingPart","v":0},"Number","M4A5hIllIndLivingPart",null,null,null,{"$f":"IF(PY_M4A5hIllIndLivingPart=\"\",\"\",PY_M4A5hIllIndLivingPart)","v":""},{"$f":"\"PY_\"&B509","v":"PY_M4A5hIllIndLivingPart"}]
["FNPI_5h_II","M4A5hIllIndLivingTarget",{"$f":"\"'='\" & SUBSTITUTE(MID(CELL(\"address\",INDIRECT(B510)),$I$3,100),\"]\",\"\")","v":"'='FNPIs Health'!$E$16"},{"$f":" M4A5hIllIndLivingTarget","v":0},"Number","M4A5hIllIndLivingTarget"]
["FNPI_5h_III","M4A5hIllIndLivingResults",{"$f":"\"'='\" & SUBSTITUTE(MID(CELL(\"address\",INDIRECT(B511)),$I$3,100),\"]\",\"\")","v":"'='FNPIs Health'!$F$16"},{"$f":" M4A5hIllIndLivingResults","v":0},"Number","M4A5hIllIndLivingResults",null,null,null,{"$f":"IF(PY_M4A5hIllIndLivingResults=\"\",\"\",PY_M4A5hIllIndLivingResults)","v":""},{"$f":"\"PY_\"&B511","v":"PY_M4A5hIllIndLivingResults"}]
["FNPI_5h_iv","M4A5hIllIndLivingOutcome",{"$f":"\"'='\" & SUBSTITUTE(MID(CELL(\"address\",INDIRECT(B512)),$I$3,100),\"]\",\"\")","v":"'='FNPIs Health'!$G$16"},{"$f":" M4A5hIllIndLivingOutcome","v":""},"Number","M4A5hIllIndLivingOutcome"]
["FNPI_5h_v","M4A5hIllIndLivingAccuracy",{"$f":"\"'='\" & SUBSTITUTE(MID(CELL(\"address\",INDIRECT(B513)),$I$3,100),\"]\",\"\")","v":"'='FNPIs Health'!$H$16"},{"$f":" M4A5hIllIndLivingAccuracy","v":""},"Number","M4A5hIllIndLivingAccuracy"]
["FNPI_5i_I","M4A5iNoRecidEventPart",{"$f":"\"'='\" & SUBSTITUTE(MID(CELL(\"address\",INDIRECT(B514)),$I$3,100),\"]\",\"\")","v":"'='FNPIs Health'!$D$17"},{"$f":" M4A5iNoRecidEventPart","v":0},"Number","M4A5iNoRecidEventPart",null,null,null,{"$f":"IF(PY_M4A5iNoRecidEventPart=\"\",\"\",PY_M4A5iNoRecidEventPart)","v":""},{"$f":"\"PY_\"&B514","v":"PY_M4A5iNoRecidEventPart"}]
["FNPI_5i_II","M4A5iNoRecidEventTarget",{"$f":"\"'='\" & SUBSTITUTE(MID(CELL(\"address\",INDIRECT(B515)),$I$3,100),\"]\",\"\")","v":"'='FNPIs Health'!$E$17"},{"$f":" M4A5iNoRecidEventTarget","v":0},"Number","M4A5iNoRecidEventTarget"]
["FNPI_5i_III","M4A5iNoRecidEventResults",{"$f":"\"'='\" & SUBSTITUTE(MID(CELL(\"address\",INDIRECT(B516)),$I$3,100),\"]\",\"\")","v":"'='FNPIs Health'!$F$17"},{"$f":" M4A5iNoRecidEventResults","v":0},"Number","M4A5iNoRecidEventResults",null,null,null,{"$f":"IF(PY_M4A5iNoRecidEventResults=\"\",\"\",PY_M4A5iNoRecidEventResults)","v":""},{"$f":"\"PY_\"&B516","v":"PY_M4A5iNoRecidEventResults"}]
["FNPI_5i_iv","M4A5iNoRecidEventOutcome",{"$f":"\"'='\" & SUBSTITUTE(MID(CELL(\"address\",INDIRECT(B517)),$I$3,100),\"]\",\"\")","v":"'='FNPIs Health'!$G$17"},{"$f":" M4A5iNoRecidEventOutcome","v":""},"Number","M4A5iNoRecidEventOutcome"]
["FNPI_5i_v","M4A5iNoRecidEventAccuracy",{"$f":"\"'='\" & SUBSTITUTE(MID(CELL(\"address\",INDIRECT(B518)),$I$3,100),\"]\",\"\")","v":"'='FNPIs Health'!$H$17"},{"$f":" M4A5iNoRecidEventAccuracy","v":""},"Number","M4A5iNoRecidEventAccuracy"]
["FNPI 5i.1 Youth (ages 14-17)","M4A5i1NoRecidEventYouthPart",{"$f":"\"'='\" & SUBSTITUTE(MID(CELL(\"address\",INDIRECT(B519)),$I$3,100),\"]\",\"\")","v":"'='FNPIs Health'!$D$18"},{"$f":" M4A5i1NoRecidEventYouthPart","v":0},"Number","M4A5i1NoRecidEventYouthPart",null,null,null,{"$f":"IF(PY_M4A5i1NoRecidEventYouthPart=\"\",\"\",PY_M4A5i1NoRecidEventYouthPart)","v":""},{"$f":"\"PY_\"&B519","v":"PY_M4A5i1NoRecidEventYouthPart"}]
["FNPI_5i.1_II","M4A5i1NoRecidEventYouthTarget",{"$f":"\"'='\" & SUBSTITUTE(MID(CELL(\"address\",INDIRECT(B520)),$I$3,100),\"]\",\"\")","v":"'='FNPIs Health'!$E$18"},{"$f":" M4A5i1NoRecidEventYouthTarget","v":0},"Number","M4A5i1NoRecidEventYouthTarget"]
["FNPI_5i.1_III","M4A5i1NoRecidEventYouthResults",{"$f":"\"'='\" & SUBSTITUTE(MID(CELL(\"address\",INDIRECT(B521)),$I$3,100),\"]\",\"\")","v":"'='FNPIs Health'!$F$18"},{"$f":" M4A5i1NoRecidEventYouthResults","v":0},"Number","M4A5i1NoRecidEventYouthResults",null,null,null,{"$f":"IF(PY_M4A5i1NoRecidEventYouthResults=\"\",\"\",PY_M4A5i1NoRecidEventYouthResults)","v":""},{"$f":"\"PY_\"&B521","v":"PY_M4A5i1NoRecidEventYouthResults"}]
["FNPI_5i.1_iv","M4A5i1NoRecidEventYouthOutcome",{"$f":"\"'='\" & SUBSTITUTE(MID(CELL(\"address\",INDIRECT(B522)),$I$3,100),\"]\",\"\")","v":"'='FNPIs Health'!$G$18"},{"$f":" M4A5i1NoRecidEventYouthOutcome","v":""},"Number","M4A5i1NoRecidEventYouthOutcome"]
["FNPI_5i.1_v","M4A5i1NoRecidEventYouthAccuracy",{"$f":"\"'='\" & SUBSTITUTE(MID(CELL(\"address\",INDIRECT(B523)),$I$3,100),\"]\",\"\")","v":"'='FNPIs Health'!$H$18"},{"$f":" M4A5i1NoRecidEventYouthAccuracy","v":""},"Number","M4A5i1NoRecidEventYouthAccuracy"]
["FNPI 5i.2 Adults (ages 18+)","M4A5i2NoRecidEventAdultPart",{"$f":"\"'='\" & SUBSTITUTE(MID(CELL(\"address\",INDIRECT(B524)),$I$3,100),\"]\",\"\")","v":"'='FNPIs Health'!$D$19"},{"$f":" M4A5i2NoRecidEventAdultPart","v":0},"Number","M4A5i2NoRecidEventAdultPart",null,null,null,{"$f":"IF(PY_M4A5i2NoRecidEventAdultPart=\"\",\"\",PY_M4A5i2NoRecidEventAdultPart)","v":""},{"$f":"\"PY_\"&B524","v":"PY_M4A5i2NoRecidEventAdultPart"}]
["FNPI_5i.2_II","M4A5i2NoRecidEventAdultTarget",{"$f":"\"'='\" & SUBSTITUTE(MID(CELL(\"address\",INDIRECT(B525)),$I$3,100),\"]\",\"\")","v":"'='FNPIs Health'!$E$19"},{"$f":" M4A5i2NoRecidEventAdultTarget","v":0},"Number","M4A5i2NoRecidEventAdultTarget"]
["FNPI_5i.2_III","M4A5i2NoRecidEventAdultResults",{"$f":"\"'='\" & SUBSTITUTE(MID(CELL(\"address\",INDIRECT(B526)),$I$3,100),\"]\",\"\")","v":"'='FNPIs Health'!$F$19"},{"$f":" M4A5i2NoRecidEventAdultResults","v":0},"Number","M4A5i2NoRecidEventAdultResults",null,null,null,{"$f":"IF(PY_M4A5i2NoRecidEventAdultResults=\"\",\"\",PY_M4A5i2NoRecidEventAdultResults)","v":""},{"$f":"\"PY_\"&B526","v":"PY_M4A5i2NoRecidEventAdultResults"}]
["FNPI_5i.2_iv","M4A5i2NoRecidEventAdultOutcome",{"$f":"\"'='\" & SUBSTITUTE(MID(CELL(\"address\",INDIRECT(B527)),$I$3,100),\"]\",\"\")","v":"'='FNPIs Health'!$G$19"},{"$f":" M4A5i2NoRecidEventAdultOutcome","v":""},"Number","M4A5i2NoRecidEventAdultOutcome"]
["FNPI_5i.2_v","M4A5i2NoRecidEventAdultAccuracy",{"$f":"\"'='\" & SUBSTITUTE(MID(CELL(\"address\",INDIRECT(B528)),$I$3,100),\"]\",\"\")","v":"'='FNPIs Health'!$H$19"},{"$f":" M4A5i2NoRecidEventAdultAccuracy","v":""},"Number","M4A5i2NoRecidEventAdultAccuracy"]
["FNPI 5z.1","M4A5zOtherHealth1Name",{"$f":"\"'='\" & SUBSTITUTE(MID(CELL(\"address\",INDIRECT(B529)),$I$3,100),\"]\",\"\")","v":"'='FNPIs Health'!$C$22"},{"$f":" IF(ISBLANK(M4A5zOtherHealth1Name),\"\",M4A5zOtherHealth1Name)","v":""},"Text","M4A5zOtherHealth1Name",1000]
["FNPI_5z.1_I","M4A5zOtherHealth1Part",{"$f":"\"'='\" & SUBSTITUTE(MID(CELL(\"address\",INDIRECT(B530)),$I$3,100),\"]\",\"\")","v":"'='FNPIs Health'!$D$22"},{"$f":" M4A5zOtherHealth1Part","v":0},"Number","M4A5zOtherHealth1Part"]
["FNPI_5z.1_II","M4A5zOtherHealth1Target",{"$f":"\"'='\" & SUBSTITUTE(MID(CELL(\"address\",INDIRECT(B531)),$I$3,100),\"]\",\"\")","v":"'='FNPIs Health'!$E$22"},{"$f":" M4A5zOtherHealth1Target","v":0},"Number","M4A5zOtherHealth1Target"]
["FNPI_5z.1_III","M4A5zOtherHealth1Results",{"$f":"\"'='\" & SUBSTITUTE(MID(CELL(\"address\",INDIRECT(B532)),$I$3,100),\"]\",\"\")","v":"'='FNPIs Health'!$F$22"},{"$f":" M4A5zOtherHealth1Results","v":0},"Number","M4A5zOtherHealth1Results"]
["FNPI 5z.1iv","M4A5zOtherHealth1Outcome",{"$f":"\"'='\" & SUBSTITUTE(MID(CELL(\"address\",INDIRECT(B533)),$I$3,100),\"]\",\"\")","v":"'='FNPIs Health'!$G$22"},{"$f":" M4A5zOtherHealth1Outcome","v":""},"Number","M4A5zOtherHealth1Outcome"]
["FNPI 5z.1v","M4A5zOtherHealth1Accuracy",{"$f":"\"'='\" & SUBSTITUTE(MID(CELL(\"address\",INDIRECT(B534)),$I$3,100),\"]\",\"\")","v":"'='FNPIs Health'!$H$22"},{"$f":" M4A5zOtherHealth1Accuracy","v":""},"Number","M4A5zOtherHealth1Accuracy"]
["FNPI 5z.2","M4A5zOtherHealth2Name",{"$f":"\"'='\" & SUBSTITUTE(MID(CELL(\"address\",INDIRECT(B535)),$I$3,100),\"]\",\"\")","v":"'='FNPIs Health'!$C$23"},{"$f":" IF(ISBLANK(M4A5zOtherHealth2Name),\"\",M4A5zOtherHealth2Name)","v":""},"Text","M4A5zOtherHealth2Name",1000]
["FNPI_5z.2_I","M4A5zOtherHealth2Part",{"$f":"\"'='\" & SUBSTITUTE(MID(CELL(\"address\",INDIRECT(B536)),$I$3,100),\"]\",\"\")","v":"'='FNPIs Health'!$D$23"},{"$f":" M4A5zOtherHealth2Part","v":0},"Number","M4A5zOtherHealth2Part"]
["FNPI_5z.2_II","M4A5zOtherHealth2Target",{"$f":"\"'='\" & SUBSTITUTE(MID(CELL(\"address\",INDIRECT(B537)),$I$3,100),\"]\",\"\")","v":"'='FNPIs Health'!$E$23"},{"$f":" M4A5zOtherHealth2Target","v":0},"Number","M4A5zOtherHealth2Target"]
["FNPI_5z.2_III","M4A5zOtherHealth2Results",{"$f":"\"'='\" & SUBSTITUTE(MID(CELL(\"address\",INDIRECT(B538)),$I$3,100),\"]\",\"\")","v":"'='FNPIs Health'!$F$23"},{"$f":" M4A5zOtherHealth2Results","v":0},"Number","M4A5zOtherHealth2Results"]
["FNPI 5z.2iv","M4A5zOtherHealth2Outcome",{"$f":"\"'='\" & SUBSTITUTE(MID(CELL(\"address\",INDIRECT(B539)),$I$3,100),\"]\",\"\")","v":"'='FNPIs Health'!$G$23"},{"$f":" M4A5zOtherHealth2Outcome","v":""},"Number","M4A5zOtherHealth2Outcome"]
["FNPI 5z.2v","M4A5zOtherHealth2Accuracy",{"$f":"\"'='\" & SUBSTITUTE(MID(CELL(\"address\",INDIRECT(B540)),$I$3,100),\"]\",\"\")","v":"'='FNPIs Health'!$H$23"},{"$f":" M4A5zOtherHealth2Accuracy","v":""},"Number","M4A5zOtherHealth2Accuracy"]
["FNPI 5z.3","M4A5zOtherHealth3Name",{"$f":"\"'='\" & SUBSTITUTE(MID(CELL(\"address\",INDIRECT(B541)),$I$3,100),\"]\",\"\")","v":"'='FNPIs Health'!$C$24"},{"$f":" IF(ISBLANK(M4A5zOtherHealth3Name),\"\",M4A5zOtherHealth3Name)","v":""},"Text","M4A5zOtherHealth3Name",1000]
["FNPI_5z.3_I","M4A5zOtherHealth3Part",{"$f":"\"'='\" & SUBSTITUTE(MID(CELL(\"address\",INDIRECT(B542)),$I$3,100),\"]\",\"\")","v":"'='FNPIs Health'!$D$24"},{"$f":" M4A5zOtherHealth3Part","v":0},"Number","M4A5zOtherHealth3Part"]
["FNPI_5z.3_II","M4A5zOtherHealth3Target",{"$f":"\"'='\" & SUBSTITUTE(MID(CELL(\"address\",INDIRECT(B543)),$I$3,100),\"]\",\"\")","v":"'='FNPIs Health'!$E$24"},{"$f":" M4A5zOtherHealth3Target","v":0},"Number","M4A5zOtherHealth3Target"]
["FNPI_5z.3_III","M4A5zOtherHealth3Results",{"$f":"\"'='\" & SUBSTITUTE(MID(CELL(\"address\",INDIRECT(B544)),$I$3,100),\"]\",\"\")","v":"'='FNPIs Health'!$F$24"},{"$f":" M4A5zOtherHealth3Results","v":0},"Number","M4A5zOtherHealth3Results"]
["FNPI 5z.3iv","M4A5zOtherHealth3Outcome",{"$f":"\"'='\" & SUBSTITUTE(MID(CELL(\"address\",INDIRECT(B545)),$I$3,100),\"]\",\"\")","v":"'='FNPIs Health'!$G$24"},{"$f":" M4A5zOtherHealth3Outcome","v":""},"Number","M4A5zOtherHealth3Outcome"]
["FNPI 5z.3v","M4A5zOtherHealth3Accuracy",{"$f":"\"'='\" & SUBSTITUTE(MID(CELL(\"address\",INDIRECT(B546)),$I$3,100),\"]\",\"\")","v":"'='FNPIs Health'!$H$24"},{"$f":" M4A5zOtherHealth3Accuracy","v":""},"Number","M4A5zOtherHealth3Accuracy"]
["FNPI 5z.4","M4A5zOtherHealth4Name",{"$f":"\"'='\" & SUBSTITUTE(MID(CELL(\"address\",INDIRECT(B547)),$I$3,100),\"]\",\"\")","v":"'='FNPIs Health'!$C$25"},{"$f":" IF(ISBLANK(M4A5zOtherHealth4Name),\"\",M4A5zOtherHealth4Name)","v":""},"Text","M4A5zOtherHealth4Name",1000]
["FNPI_5z.4_I","M4A5zOtherHealth4Part",{"$f":"\"'='\" & SUBSTITUTE(MID(CELL(\"address\",INDIRECT(B548)),$I$3,100),\"]\",\"\")","v":"'='FNPIs Health'!$D$25"},{"$f":" M4A5zOtherHealth4Part","v":0},"Number","M4A5zOtherHealth4Part"]
["FNPI_5z.4_II","M4A5zOtherHealth4Target",{"$f":"\"'='\" & SUBSTITUTE(MID(CELL(\"address\",INDIRECT(B549)),$I$3,100),\"]\",\"\")","v":"'='FNPIs Health'!$E$25"},{"$f":" M4A5zOtherHealth4Target","v":0},"Number","M4A5zOtherHealth4Target"]
["FNPI_5z.4_III","M4A5zOtherHealth4Results",{"$f":"\"'='\" & SUBSTITUTE(MID(CELL(\"address\",INDIRECT(B550)),$I$3,100),\"]\",\"\")","v":"'='FNPIs Health'!$F$25"},{"$f":" M4A5zOtherHealth4Results","v":0},"Number","M4A5zOtherHealth4Results"]
["FNPI 5z.4iv","M4A5zOtherHealth4Outcome",{"$f":"\"'='\" & SUBSTITUTE(MID(CELL(\"address\",INDIRECT(B551)),$I$3,100),\"]\",\"\")","v":"'='FNPIs Health'!$G$25"},{"$f":" M4A5zOtherHealth4Outcome","v":""},"Number","M4A5zOtherHealth4Outcome"]
["FNPI 5z.4v","M4A5zOtherHealth4Accuracy",{"$f":"\"'='\" & SUBSTITUTE(MID(CELL(\"address\",INDIRECT(B552)),$I$3,100),\"]\",\"\")","v":"'='FNPIs Health'!$H$25"},{"$f":" M4A5zOtherHealth4Accuracy","v":""},"Number","M4A5zOtherHealth4Accuracy"]
["FNPI 5z.5","M4A5zOtherHealth5Name",{"$f":"\"'='\" & SUBSTITUTE(MID(CELL(\"address\",INDIRECT(B553)),$I$3,100),\"]\",\"\")","v":"'='FNPIs Health'!$C$26"},{"$f":" IF(ISBLANK(M4A5zOtherHealth5Name),\"\",M4A5zOtherHealth5Name)","v":""},"Text","M4A5zOtherHealth5Name",1000]
["FNPI_5z.5_I","M4A5zOtherHealth5Part",{"$f":"\"'='\" & SUBSTITUTE(MID(CELL(\"address\",INDIRECT(B554)),$I$3,100),\"]\",\"\")","v":"'='FNPIs Health'!$D$26"},{"$f":" M4A5zOtherHealth5Part","v":0},"Number","M4A5zOtherHealth5Part"]
["FNPI_5z.5_II","M4A5zOtherHealth5Target",{"$f":"\"'='\" & SUBSTITUTE(MID(CELL(\"address\",INDIRECT(B555)),$I$3,100),\"]\",\"\")","v":"'='FNPIs Health'!$E$26"},{"$f":" M4A5zOtherHealth5Target","v":0},"Number","M4A5zOtherHealth5Target"]
["FNPI_5z.5_III","M4A5zOtherHealth5Results",{"$f":"\"'='\" & SUBSTITUTE(MID(CELL(\"address\",INDIRECT(B556)),$I$3,100),\"]\",\"\")","v":"'='FNPIs Health'!$F$26"},{"$f":" M4A5zOtherHealth5Results","v":0},"Number","M4A5zOtherHealth5Results"]
["FNPI 5z.5iv","M4A5zOtherHealth5Outcome",{"$f":"\"'='\" & SUBSTITUTE(MID(CELL(\"address\",INDIRECT(B557)),$I$3,100),\"]\",\"\")","v":"'='FNPIs Health'!$G$26"},{"$f":" M4A5zOtherHealth5Outcome","v":""},"Number","M4A5zOtherHealth5Outcome"]
["FNPI 5z.5v","M4A5zOtherHealth5Accuracy",{"$f":"\"'='\" & SUBSTITUTE(MID(CELL(\"address\",INDIRECT(B558)),$I$3,100),\"]\",\"\")","v":"'='FNPIs Health'!$H$26"},{"$f":" M4A5zOtherHealth5Accuracy","v":""},"Number","M4A5zOtherHealth5Accuracy"]
["FNPI_Health_Comments","M4A5Comments",{"$f":"\"'='\" & SUBSTITUTE(MID(CELL(\"address\",INDIRECT(B559)),$I$3,100),\"]\",\"\")","v":"'='Deprecated Fields'!$C$35"},{"$f":" M4A5Comments","v":0},"Memo","M4A5Comments",5000]
["FNPI_4a_I","M4A4aTempShelterPart",{"$f":"\"'='\" & SUBSTITUTE(MID(CELL(\"address\",INDIRECT(B560)),$I$3,100),\"]\",\"\")","v":"'='FNPIs Housing'!$D$9"},{"$f":" M4A4aTempShelterPart","v":0},"Number","M4A4aTempShelterPart",null,null,null,{"$f":"IF(PY_M4A4aTempShelterPart=\"\",\"\",PY_M4A4aTempShelterPart)","v":""},{"$f":"\"PY_\"&B560","v":"PY_M4A4aTempShelterPart"}]
["FNPI_4a_II","M4A4aTempShelterTarget",{"$f":"\"'='\" & SUBSTITUTE(MID(CELL(\"address\",INDIRECT(B561)),$I$3,100),\"]\",\"\")","v":"'='FNPIs Housing'!$E$9"},{"$f":" M4A4aTempShelterTarget","v":0},"Number","M4A4aTempShelterTarget"]
["FNPI_4a_III","M4A4aTempShelterResults",{"$f":"\"'='\" & SUBSTITUTE(MID(CELL(\"address\",INDIRECT(B562)),$I$3,100),\"]\",\"\")","v":"'='FNPIs Housing'!$F$9"},{"$f":" M4A4aTempShelterResults","v":0},"Number","M4A4aTempShelterResults",null,null,null,{"$f":"IF(PY_M4A4aTempShelterResults=\"\",\"\",PY_M4A4aTempShelterResults)","v":""},{"$f":"\"PY_\"&B562","v":"PY_M4A4aTempShelterResults"}]
["FNPI_4a_iv","M4A4aTempShelterOutcome",{"$f":"\"'='\" & SUBSTITUTE(MID(CELL(\"address\",INDIRECT(B563)),$I$3,100),\"]\",\"\")","v":"'='FNPIs Housing'!$G$9"},{"$f":" M4A4aTempShelterOutcome","v":""},"Number","M4A4aTempShelterOutcome"]
["FNPI_4a_v","M4A4aTempShelterAccuracy",{"$f":"\"'='\" & SUBSTITUTE(MID(CELL(\"address\",INDIRECT(B564)),$I$3,100),\"]\",\"\")","v":"'='FNPIs Housing'!$H$9"},{"$f":" M4A4aTempShelterAccuracy","v":""},"Number","M4A4aTempShelterAccuracy"]
["FNPI_4b_I","M4A4bAffordHousingPart",{"$f":"\"'='\" & SUBSTITUTE(MID(CELL(\"address\",INDIRECT(B565)),$I$3,100),\"]\",\"\")","v":"'='FNPIs Housing'!$D$10"},{"$f":" M4A4bAffordHousingPart","v":0},"Number","M4A4bAffordHousingPart",null,null,null,{"$f":"IF(PY_M4A4bAffordHousingPart=\"\",\"\",PY_M4A4bAffordHousingPart)","v":""},{"$f":"\"PY_\"&B565","v":"PY_M4A4bAffordHousingPart"}]
["FNPI_4b_II","M4A4bAffordHousingTarget",{"$f":"\"'='\" & SUBSTITUTE(MID(CELL(\"address\",INDIRECT(B566)),$I$3,100),\"]\",\"\")","v":"'='FNPIs Housing'!$E$10"},{"$f":" M4A4bAffordHousingTarget","v":0},"Number","M4A4bAffordHousingTarget"]
["FNPI_4b_III","M4A4bAffordHousingResults",{"$f":"\"'='\" & SUBSTITUTE(MID(CELL(\"address\",INDIRECT(B567)),$I$3,100),\"]\",\"\")","v":"'='FNPIs Housing'!$F$10"},{"$f":" M4A4bAffordHousingResults","v":0},"Number","M4A4bAffordHousingResults",null,null,null,{"$f":"IF(PY_M4A4bAffordHousingResults=\"\",\"\",PY_M4A4bAffordHousingResults)","v":""},{"$f":"\"PY_\"&B567","v":"PY_M4A4bAffordHousingResults"}]
["FNPI_4b_iv","M4A4bAffordHousingOutcome",{"$f":"\"'='\" & SUBSTITUTE(MID(CELL(\"address\",INDIRECT(B568)),$I$3,100),\"]\",\"\")","v":"'='FNPIs Housing'!$G$10"},{"$f":" M4A4bAffordHousingOutcome","v":""},"Number","M4A4bAffordHousingOutcome"]
["FNPI_4b_v","M4A4bAffordHousingAccuracy",{"$f":"\"'='\" & SUBSTITUTE(MID(CELL(\"address\",INDIRECT(B569)),$I$3,100),\"]\",\"\")","v":"'='FNPIs Housing'!$H$10"},{"$f":" M4A4bAffordHousingAccuracy","v":""},"Number","M4A4bAffordHousingAccuracy"]
["FNPI_4c_I","M4A4cAffordHousing90Part",{"$f":"\"'='\" & SUBSTITUTE(MID(CELL(\"address\",INDIRECT(B570)),$I$3,100),\"]\",\"\")","v":"'='FNPIs Housing'!$D$11"},{"$f":" M4A4cAffordHousing90Part","v":0},"Number","M4A4cAffordHousing90Part",null,null,null,{"$f":"IF(PY_M4A4cAffordHousing90Part=\"\",\"\",PY_M4A4cAffordHousing90Part)","v":""},{"$f":"\"PY_\"&B570","v":"PY_M4A4cAffordHousing90Part"}]
["FNPI_4c_II","M4A4cAffordHousing90Target",{"$f":"\"'='\" & SUBSTITUTE(MID(CELL(\"address\",INDIRECT(B571)),$I$3,100),\"]\",\"\")","v":"'='FNPIs Housing'!$E$11"},{"$f":" M4A4cAffordHousing90Target","v":0},"Number","M4A4cAffordHousing90Target"]
["FNPI_4c_III","M4A4cAffordHousing90Results",{"$f":"\"'='\" & SUBSTITUTE(MID(CELL(\"address\",INDIRECT(B572)),$I$3,100),\"]\",\"\")","v":"'='FNPIs Housing'!$F$11"},{"$f":" M4A4cAffordHousing90Results","v":0},"Number","M4A4cAffordHousing90Results",null,null,null,{"$f":"IF(PY_M4A4cAffordHousing90Results=\"\",\"\",PY_M4A4cAffordHousing90Results)","v":""},{"$f":"\"PY_\"&B572","v":"PY_M4A4cAffordHousing90Results"}]
["FNPI_4c_iv","M4A4cAffordHousing90Outcome",{"$f":"\"'='\" & SUBSTITUTE(MID(CELL(\"address\",INDIRECT(B573)),$I$3,100),\"]\",\"\")","v":"'='FNPIs Housing'!$G$11"},{"$f":" M4A4cAffordHousing90Outcome","v":""},"Number","M4A4cAffordHousing90Outcome"]
["FNPI_4c_v","M4A4cAffordHousing90Accuracy",{"$f":"\"'='\" & SUBSTITUTE(MID(CELL(\"address\",INDIRECT(B574)),$I$3,100),\"]\",\"\")","v":"'='FNPIs Housing'!$H$11"},{"$f":" M4A4cAffordHousing90Accuracy","v":""},"Number","M4A4cAffordHousing90Accuracy"]
["FNPI_4d_I","M4A4dAffordHousing180Part",{"$f":"\"'='\" & SUBSTITUTE(MID(CELL(\"address\",INDIRECT(B575)),$I$3,100),\"]\",\"\")","v":"'='FNPIs Housing'!$D$12"},{"$f":" M4A4dAffordHousing180Part","v":0},"Number","M4A4dAffordHousing180Part",null,null,null,{"$f":"IF(PY_M4A4dAffordHousing180Part=\"\",\"\",PY_M4A4dAffordHousing180Part)","v":""},{"$f":"\"PY_\"&B575","v":"PY_M4A4dAffordHousing180Part"}]
["FNPI_4d_II","M4A4dAffordHousing180Target",{"$f":"\"'='\" & SUBSTITUTE(MID(CELL(\"address\",INDIRECT(B576)),$I$3,100),\"]\",\"\")","v":"'='FNPIs Housing'!$E$12"},{"$f":" M4A4dAffordHousing180Target","v":0},"Number","M4A4dAffordHousing180Target"]
["FNPI_4d_III","M4A4dAffordHousing180Results",{"$f":"\"'='\" & SUBSTITUTE(MID(CELL(\"address\",INDIRECT(B577)),$I$3,100),\"]\",\"\")","v":"'='FNPIs Housing'!$F$12"},{"$f":" M4A4dAffordHousing180Results","v":0},"Number","M4A4dAffordHousing180Results",null,null,null,{"$f":"IF(PY_M4A4dAffordHousing180Results=\"\",\"\",PY_M4A4dAffordHousing180Results)","v":""},{"$f":"\"PY_\"&B577","v":"PY_M4A4dAffordHousing180Results"}]
["FNPI_4d_iv","M4A4dAffordHousing180Outcome",{"$f":"\"'='\" & SUBSTITUTE(MID(CELL(\"address\",INDIRECT(B578)),$I$3,100),\"]\",\"\")","v":"'='FNPIs Housing'!$G$12"},{"$f":" M4A4dAffordHousing180Outcome","v":""},"Number","M4A4dAffordHousing180Outcome"]
["FNPI_4d_v","M4A4dAffordHousing180Accuracy",{"$f":"\"'='\" & SUBSTITUTE(MID(CELL(\"address\",INDIRECT(B579)),$I$3,100),\"]\",\"\")","v":"'='FNPIs Housing'!$H$12"},{"$f":" M4A4dAffordHousing180Accuracy","v":""},"Number","M4A4dAffordHousing180Accuracy"]
["FNPI_4e_I","M4A4eAvoidEvictionPart",{"$f":"\"'='\" & SUBSTITUTE(MID(CELL(\"address\",INDIRECT(B580)),$I$3,100),\"]\",\"\")","v":"'='FNPIs Housing'!$D$13"},{"$f":" M4A4eAvoidEvictionPart","v":0},"Number","M4A4eAvoidEvictionPart",null,null,null,{"$f":"IF(PY_M4A4eAvoidEvictionPart=\"\",\"\",PY_M4A4eAvoidEvictionPart)","v":""},{"$f":"\"PY_\"&B580","v":"PY_M4A4eAvoidEvictionPart"}]
["FNPI_4e_II","M4A4eAvoidEvictionTarget",{"$f":"\"'='\" & SUBSTITUTE(MID(CELL(\"address\",INDIRECT(B581)),$I$3,100),\"]\",\"\")","v":"'='FNPIs Housing'!$E$13"},{"$f":" M4A4eAvoidEvictionTarget","v":0},"Number","M4A4eAvoidEvictionTarget"]
["FNPI_4e_III","M4A4eAvoidEvictionResults",{"$f":"\"'='\" & SUBSTITUTE(MID(CELL(\"address\",INDIRECT(B582)),$I$3,100),\"]\",\"\")","v":"'='FNPIs Housing'!$F$13"},{"$f":" M4A4eAvoidEvictionResults","v":0},"Number","M4A4eAvoidEvictionResults",null,null,null,{"$f":"IF(PY_M4A4eAvoidEvictionResults=\"\",\"\",PY_M4A4eAvoidEvictionResults)","v":""},{"$f":"\"PY_\"&B582","v":"PY_M4A4eAvoidEvictionResults"}]
["FNPI_4e_iv","M4A4eAvoidEvictionOutcome",{"$f":"\"'='\" & SUBSTITUTE(MID(CELL(\"address\",INDIRECT(B583)),$I$3,100),\"]\",\"\")","v":"'='FNPIs Housing'!$G$13"},{"$f":" M4A4eAvoidEvictionOutcome","v":""},"Number","M4A4eAvoidEvictionOutcome"]
["FNPI_4e_v","M4A4eAvoidEvictionAccuracy",{"$f":"\"'='\" & SUBSTITUTE(MID(CELL(\"address\",INDIRECT(B584)),$I$3,100),\"]\",\"\")","v":"'='FNPIs Housing'!$H$13"},{"$f":" M4A4eAvoidEvictionAccuracy","v":""},"Number","M4A4eAvoidEvictionAccuracy"]
["FNPI_4f_I","M4A4fAvoidForeclosePart",{"$f":"\"'='\" & SUBSTITUTE(MID(CELL(\"address\",INDIRECT(B585)),$I$3,100),\"]\",\"\")","v":"'='FNPIs Housing'!$D$14"},{"$f":" M4A4fAvoidForeclosePart","v":0},"Number","M4A4fAvoidForeclosePart",null,null,null,{"$f":"IF(PY_M4A4fAvoidForeclosePart=\"\",\"\",PY_M4A4fAvoidForeclosePart)","v":""},{"$f":"\"PY_\"&B585","v":"PY_M4A4fAvoidForeclosePart"}]
["FNPI_4f_II","M4A4fAvoidForecloseTarget",{"$f":"\"'='\" & SUBSTITUTE(MID(CELL(\"address\",INDIRECT(B586)),$I$3,100),\"]\",\"\")","v":"'='FNPIs Housing'!$E$14"},{"$f":" M4A4fAvoidForecloseTarget","v":0},"Number","M4A4fAvoidForecloseTarget"]
["FNPI_4f_III","M4A4fAvoidForecloseResults",{"$f":"\"'='\" & SUBSTITUTE(MID(CELL(\"address\",INDIRECT(B587)),$I$3,100),\"]\",\"\")","v":"'='FNPIs Housing'!$F$14"},{"$f":" M4A4fAvoidForecloseResults","v":0},"Number","M4A4fAvoidForecloseResults",null,null,null,{"$f":"IF(PY_M4A4fAvoidForecloseResults=\"\",\"\",PY_M4A4fAvoidForecloseResults)","v":""},{"$f":"\"PY_\"&B587","v":"PY_M4A4fAvoidForecloseResults"}]
["FNPI_4f_iv","M4A4fAvoidForecloseOutcome",{"$f":"\"'='\" & SUBSTITUTE(MID(CELL(\"address\",INDIRECT(B588)),$I$3,100),\"]\",\"\")","v":"'='FNPIs Housing'!$G$14"},{"$f":" M4A4fAvoidForecloseOutcome","v":""},"Number","M4A4fAvoidForecloseOutcome"]
["FNPI_4f_v","M4A4fAvoidForecloseAccuracy",{"$f":"\"'='\" & SUBSTITUTE(MID(CELL(\"address\",INDIRECT(B589)),$I$3,100),\"]\",\"\")","v":"'='FNPIs Housing'!$H$14"},{"$f":" M4A4fAvoidForecloseAccuracy","v":""},"Number","M4A4fAvoidForecloseAccuracy"]
["FNPI_4g_I","M4A4gHealthSafeImprPart",{"$f":"\"'='\" & SUBSTITUTE(MID(CELL(\"address\",INDIRECT(B590)),$I$3,100),\"]\",\"\")","v":"'='FNPIs Housing'!$D$15"},{"$f":" M4A4gHealthSafeImprPart","v":0},"Number","M4A4gHealthSafeImprPart",null,null,null,{"$f":"IF(PY_M4A4gHealthSafeImprPart=\"\",\"\",PY_M4A4gHealthSafeImprPart)","v":""},{"$f":"\"PY_\"&B590","v":"PY_M4A4gHealthSafeImprPart"}]
["FNPI_4g_II","M4A4gHealthSafeImprTarget",{"$f":"\"'='\" & SUBSTITUTE(MID(CELL(\"address\",INDIRECT(B591)),$I$3,100),\"]\",\"\")","v":"'='FNPIs Housing'!$E$15"},{"$f":" M4A4gHealthSafeImprTarget","v":0},"Number","M4A4gHealthSafeImprTarget"]
["FNPI_4g_III","M4A4gHealthSafeImprResults",{"$f":"\"'='\" & SUBSTITUTE(MID(CELL(\"address\",INDIRECT(B592)),$I$3,100),\"]\",\"\")","v":"'='FNPIs Housing'!$F$15"},{"$f":" M4A4gHealthSafeImprResults","v":0},"Number","M4A4gHealthSafeImprResults",null,null,null,{"$f":"IF(PY_M4A4gHealthSafeImprResults=\"\",\"\",PY_M4A4gHealthSafeImprResults)","v":""},{"$f":"\"PY_\"&B592","v":"PY_M4A4gHealthSafeImprResults"}]
["FNPI_4g_iv","M4A4gHealthSafeImprOutcome",{"$f":"\"'='\" & SUBSTITUTE(MID(CELL(\"address\",INDIRECT(B593)),$I$3,100),\"]\",\"\")","v":"'='FNPIs Housing'!$G$15"},{"$f":" M4A4gHealthSafeImprOutcome","v":""},"Number","M4A4gHealthSafeImprOutcome"]
["FNPI_4g_v","M4A4gHealthSafeImprAccuracy",{"$f":"\"'='\" & SUBSTITUTE(MID(CELL(\"address\",INDIRECT(B594)),$I$3,100),\"]\",\"\")","v":"'='FNPIs Housing'!$H$15"},{"$f":" M4A4gHealthSafeImprAccuracy","v":""},"Number","M4A4gHealthSafeImprAccuracy"]
["FNPI_4h_I","M4A4hEnergyEffImprPart",{"$f":"\"'='\" & SUBSTITUTE(MID(CELL(\"address\",INDIRECT(B595)),$I$3,100),\"]\",\"\")","v":"'='FNPIs Housing'!$D$16"},{"$f":" M4A4hEnergyEffImprPart","v":0},"Number","M4A4hEnergyEffImprPart",null,null,null,{"$f":"IF(PY_M4A4hEnergyEffImprPart=\"\",\"\",PY_M4A4hEnergyEffImprPart)","v":""},{"$f":"\"PY_\"&B595","v":"PY_M4A4hEnergyEffImprPart"}]
["FNPI_4h_II","M4A4hEnergyEffImprTarget",{"$f":"\"'='\" & SUBSTITUTE(MID(CELL(\"address\",INDIRECT(B596)),$I$3,100),\"]\",\"\")","v":"'='FNPIs Housing'!$E$16"},{"$f":" M4A4hEnergyEffImprTarget","v":0},"Number","M4A4hEnergyEffImprTarget"]
["FNPI_4h_III","M4A4hEnergyEffImprResults",{"$f":"\"'='\" & SUBSTITUTE(MID(CELL(\"address\",INDIRECT(B597)),$I$3,100),\"]\",\"\")","v":"'='FNPIs Housing'!$F$16"},{"$f":" M4A4hEnergyEffImprResults","v":0},"Number","M4A4hEnergyEffImprResults",null,null,null,{"$f":"IF(PY_M4A4hEnergyEffImprResults=\"\",\"\",PY_M4A4hEnergyEffImprResults)","v":""},{"$f":"\"PY_\"&B597","v":"PY_M4A4hEnergyEffImprResults"}]
["FNPI_4h_iv","M4A4hEnergyEffImprOutcome",{"$f":"\"'='\" & SUBSTITUTE(MID(CELL(\"address\",INDIRECT(B598)),$I$3,100),\"]\",\"\")","v":"'='FNPIs Housing'!$G$16"},{"$f":" M4A4hEnergyEffImprOutcome","v":""},"Number","M4A4hEnergyEffImprOutcome"]
["FNPI_4h_v","M4A4hEnergyEffImprAccuracy",{"$f":"\"'='\" & SUBSTITUTE(MID(CELL(\"address\",INDIRECT(B599)),$I$3,100),\"]\",\"\")","v":"'='FNPIs Housing'!$H$16"},{"$f":" M4A4hEnergyEffImprAccuracy","v":""},"Number","M4A4hEnergyEffImprAccuracy"]
["FNPI 4z.1","M4A4zOtherHouse1Name",{"$f":"\"'='\" & SUBSTITUTE(MID(CELL(\"address\",INDIRECT(B600)),$I$3,100),\"]\",\"\")","v":"'='FNPIs Housing'!$C$19"},{"$f":" IF(ISBLANK(M4A4zOtherHouse1Name),\"\",M4A4zOtherHouse1Name)","v":""},"Text","M4A4zOtherHouse1Name",1000]
["FNPI_4z.1_I","M4A4zOtherHouse1Part",{"$f":"\"'='\" & SUBSTITUTE(MID(CELL(\"address\",INDIRECT(B601)),$I$3,100),\"]\",\"\")","v":"'='FNPIs Housing'!$D$19"},{"$f":" M4A4zOtherHouse1Part","v":0},"Number","M4A4zOtherHouse1Part"]
["FNPI_4z.1_II","M4A4zOtherHouse1Target",{"$f":"\"'='\" & SUBSTITUTE(MID(CELL(\"address\",INDIRECT(B602)),$I$3,100),\"]\",\"\")","v":"'='FNPIs Housing'!$E$19"},{"$f":" M4A4zOtherHouse1Target","v":0},"Number","M4A4zOtherHouse1Target"]
["FNPI_4z.1_III","M4A4zOtherHouse1Results",{"$f":"\"'='\" & SUBSTITUTE(MID(CELL(\"address\",INDIRECT(B603)),$I$3,100),\"]\",\"\")","v":"'='FNPIs Housing'!$F$19"},{"$f":" M4A4zOtherHouse1Results","v":0},"Number","M4A4zOtherHouse1Results"]
["FNPI 4z.1iv","M4A4zOtherHouse1Outcome",{"$f":"\"'='\" & SUBSTITUTE(MID(CELL(\"address\",INDIRECT(B604)),$I$3,100),\"]\",\"\")","v":"'='FNPIs Housing'!$G$19"},{"$f":" M4A4zOtherHouse1Outcome","v":""},"Number","M4A4zOtherHouse1Outcome"]
["FNPI 4z.1v","M4A4zOtherHouse1Accuracy",{"$f":"\"'='\" & SUBSTITUTE(MID(CELL(\"address\",INDIRECT(B605)),$I$3,100),\"]\",\"\")","v":"'='FNPIs Housing'!$H$19"},{"$f":" M4A4zOtherHouse1Accuracy","v":""},"Number","M4A4zOtherHouse1Accuracy"]
["FNPI 4z.2","M4A4zOtherHouse2Name",{"$f":"\"'='\" & SUBSTITUTE(MID(CELL(\"address\",INDIRECT(B606)),$I$3,100),\"]\",\"\")","v":"'='FNPIs Housing'!$C$20"},{"$f":" IF(ISBLANK(M4A4zOtherHouse2Name),\"\",M4A4zOtherHouse2Name)","v":""},"Text","M4A4zOtherHouse2Name",1000]
["FNPI_4z.2_I","M4A4zOtherHouse2Part",{"$f":"\"'='\" & SUBSTITUTE(MID(CELL(\"address\",INDIRECT(B607)),$I$3,100),\"]\",\"\")","v":"'='FNPIs Housing'!$D$20"},{"$f":" M4A4zOtherHouse2Part","v":0},"Number","M4A4zOtherHouse2Part"]
["FNPI_4z.2_II","M4A4zOtherHouse2Target",{"$f":"\"'='\" & SUBSTITUTE(MID(CELL(\"address\",INDIRECT(B608)),$I$3,100),\"]\",\"\")","v":"'='FNPIs Housing'!$E$20"},{"$f":" M4A4zOtherHouse2Target","v":0},"Number","M4A4zOtherHouse2Target"]
["FNPI_4z.2_III","M4A4zOtherHouse2Results",{"$f":"\"'='\" & SUBSTITUTE(MID(CELL(\"address\",INDIRECT(B609)),$I$3,100),\"]\",\"\")","v":"'='FNPIs Housing'!$F$20"},{"$f":" M4A4zOtherHouse2Results","v":0},"Number","M4A4zOtherHouse2Results"]
["FNPI 4z.2iv","M4A4zOtherHouse2Outcome",{"$f":"\"'='\" & SUBSTITUTE(MID(CELL(\"address\",INDIRECT(B610)),$I$3,100),\"]\",\"\")","v":"'='FNPIs Housing'!$G$20"},{"$f":" M4A4zOtherHouse2Outcome","v":""},"Number","M4A4zOtherHouse2Outcome"]
["FNPI 4z.2v","M4A4zOtherHouse2Accuracy",{"$f":"\"'='\" & SUBSTITUTE(MID(CELL(\"address\",INDIRECT(B611)),$I$3,100),\"]\",\"\")","v":"'='FNPIs Housing'!$H$20"},{"$f":" M4A4zOtherHouse2Accuracy","v":""},"Number","M4A4zOtherHouse2Accuracy"]
["FNPI 4z.3","M4A4zOtherHouse3Name",{"$f":"\"'='\" & SUBSTITUTE(MID(CELL(\"address\",INDIRECT(B612)),$I$3,100),\"]\",\"\")","v":"'='FNPIs Housing'!$C$21"},{"$f":" IF(ISBLANK(M4A4zOtherHouse3Name),\"\",M4A4zOtherHouse3Name)","v":""},"Text","M4A4zOtherHouse3Name",1000]
["FNPI_4z.3_I","M4A4zOtherHouse3Part",{"$f":"\"'='\" & SUBSTITUTE(MID(CELL(\"address\",INDIRECT(B613)),$I$3,100),\"]\",\"\")","v":"'='FNPIs Housing'!$D$21"},{"$f":" M4A4zOtherHouse3Part","v":0},"Number","M4A4zOtherHouse3Part"]
["FNPI_4z.3_II","M4A4zOtherHouse3Target",{"$f":"\"'='\" & SUBSTITUTE(MID(CELL(\"address\",INDIRECT(B614)),$I$3,100),\"]\",\"\")","v":"'='FNPIs Housing'!$E$21"},{"$f":" M4A4zOtherHouse3Target","v":0},"Number","M4A4zOtherHouse3Target"]
["FNPI_4z.3_III","M4A4zOtherHouse3Results",{"$f":"\"'='\" & SUBSTITUTE(MID(CELL(\"address\",INDIRECT(B615)),$I$3,100),\"]\",\"\")","v":"'='FNPIs Housing'!$F$21"},{"$f":" M4A4zOtherHouse3Results","v":0},"Number","M4A4zOtherHouse3Results"]
["FNPI 4z.3iv","M4A4zOtherHouse3Outcome",{"$f":"\"'='\" & SUBSTITUTE(MID(CELL(\"address\",INDIRECT(B616)),$I$3,100),\"]\",\"\")","v":"'='FNPIs Housing'!$G$21"},{"$f":" M4A4zOtherHouse3Outcome","v":""},"Number","M4A4zOtherHouse3Outcome"]
["FNPI 4z.3v","M4A4zOtherHouse3Accuracy",{"$f":"\"'='\" & SUBSTITUTE(MID(CELL(\"address\",INDIRECT(B617)),$I$3,100),\"]\",\"\")","v":"'='FNPIs Housing'!$H$21"},{"$f":" M4A4zOtherHouse3Accuracy","v":""},"Number","M4A4zOtherHouse3Accuracy"]
["FNPI 4z.4","M4A4zOtherHouse4Name",{"$f":"\"'='\" & SUBSTITUTE(MID(CELL(\"address\",INDIRECT(B618)),$I$3,100),\"]\",\"\")","v":"'='FNPIs Housing'!$C$22"},{"$f":" IF(ISBLANK(M4A4zOtherHouse4Name),\"\",M4A4zOtherHouse4Name)","v":""},"Text","M4A4zOtherHouse4Name",1000]
["FNPI_4z.4_I","M4A4zOtherHouse4Part",{"$f":"\"'='\" & SUBSTITUTE(MID(CELL(\"address\",INDIRECT(B619)),$I$3,100),\"]\",\"\")","v":"'='FNPIs Housing'!$D$22"},{"$f":" M4A4zOtherHouse4Part","v":0},"Number","M4A4zOtherHouse4Part"]
["FNPI_4z.4_II","M4A4zOtherHouse4Target",{"$f":"\"'='\" & SUBSTITUTE(MID(CELL(\"address\",INDIRECT(B620)),$I$3,100),\"]\",\"\")","v":"'='FNPIs Housing'!$E$22"},{"$f":" M4A4zOtherHouse4Target","v":0},"Number","M4A4zOtherHouse4Target"]
["FNPI_4z.4_III","M4A4zOtherHouse4Results",{"$f":"\"'='\" & SUBSTITUTE(MID(CELL(\"address\",INDIRECT(B621)),$I$3,100),\"]\",\"\")","v":"'='FNPIs Housing'!$F$22"},{"$f":" M4A4zOtherHouse4Results","v":0},"Number","M4A4zOtherHouse4Results"]
["FNPI 4z.4iv","M4A4zOtherHouse4Outcome",{"$f":"\"'='\" & SUBSTITUTE(MID(CELL(\"address\",INDIRECT(B622)),$I$3,100),\"]\",\"\")","v":"'='FNPIs Housing'!$G$22"},{"$f":" M4A4zOtherHouse4Outcome","v":""},"Number","M4A4zOtherHouse4Outcome"]
["FNPI 4z.4v","M4A4zOtherHouse4Accuracy",{"$f":"\"'='\" & SUBSTITUTE(MID(CELL(\"address\",INDIRECT(B623)),$I$3,100),\"]\",\"\")","v":"'='FNPIs Housing'!$H$22"},{"$f":" M4A4zOtherHouse4Accuracy","v":""},"Number","M4A4zOtherHouse4Accuracy"]
["FNPI 4z.5","M4A4zOtherHouse5Name",{"$f":"\"'='\" & SUBSTITUTE(MID(CELL(\"address\",INDIRECT(B624)),$I$3,100),\"]\",\"\")","v":"'='FNPIs Housing'!$C$23"},{"$f":" IF(ISBLANK(M4A4zOtherHouse5Name),\"\",M4A4zOtherHouse5Name)","v":""},"Text","M4A4zOtherHouse5Name",1000]
["FNPI_4z.5_I","M4A4zOtherHouse5Part",{"$f":"\"'='\" & SUBSTITUTE(MID(CELL(\"address\",INDIRECT(B625)),$I$3,100),\"]\",\"\")","v":"'='FNPIs Housing'!$D$23"},{"$f":" M4A4zOtherHouse5Part","v":0},"Number","M4A4zOtherHouse5Part"]
["FNPI_4z.5_II","M4A4zOtherHouse5Target",{"$f":"\"'='\" & SUBSTITUTE(MID(CELL(\"address\",INDIRECT(B626)),$I$3,100),\"]\",\"\")","v":"'='FNPIs Housing'!$E$23"},{"$f":" M4A4zOtherHouse5Target","v":0},"Number","M4A4zOtherHouse5Target"]
["FNPI_4z.5_III","M4A4zOtherHouse5Results",{"$f":"\"'='\" & SUBSTITUTE(MID(CELL(\"address\",INDIRECT(B627)),$I$3,100),\"]\",\"\")","v":"'='FNPIs Housing'!$F$23"},{"$f":" M4A4zOtherHouse5Results","v":0},"Number","M4A4zOtherHouse5Results"]
["FNPI 4z.5iv","M4A4zOtherHouse5Outcome",{"$f":"\"'='\" & SUBSTITUTE(MID(CELL(\"address\",INDIRECT(B628)),$I$3,100),\"]\",\"\")","v":"'='FNPIs Housing'!$G$23"},{"$f":" M4A4zOtherHouse5Outcome","v":""},"Number","M4A4zOtherHouse5Outcome"]
["FNPI 4z.5v","M4A4zOtherHouse5Accuracy",{"$f":"\"'='\" & SUBSTITUTE(MID(CELL(\"address\",INDIRECT(B629)),$I$3,100),\"]\",\"\")","v":"'='FNPIs Housing'!$H$23"},{"$f":" M4A4zOtherHouse5Accuracy","v":""},"Number","M4A4zOtherHouse5Accuracy"]
["FNPI_Housing_Comments","M4A4Comments",{"$f":"\"'='\" & SUBSTITUTE(MID(CELL(\"address\",INDIRECT(B630)),$I$3,100),\"]\",\"\")","v":"'='Deprecated Fields'!$C$34"},{"$f":" M4A4Comments","v":0},"Memo","M4A4Comments",5000]
["FNPI_3a_I","M4A3aBasicNeeds90Part",{"$f":"\"'='\" & SUBSTITUTE(MID(CELL(\"address\",INDIRECT(B631)),$I$3,100),\"]\",\"\")","v":"'='FNPIs Income'!$D$9"},{"$f":" M4A3aBasicNeeds90Part","v":0},"Number","M4A3aBasicNeeds90Part",null,null,null,{"$f":"IF(PY_M4A3aBasicNeeds90Part=\"\",\"\",PY_M4A3aBasicNeeds90Part)","v":""},{"$f":"\"PY_\"&B631","v":"PY_M4A3aBasicNeeds90Part"}]
["FNPI_3a_II","M4A3aBasicNeeds90Target",{"$f":"\"'='\" & SUBSTITUTE(MID(CELL(\"address\",INDIRECT(B632)),$I$3,100),\"]\",\"\")","v":"'='FNPIs Income'!$E$9"},{"$f":" M4A3aBasicNeeds90Target","v":0},"Number","M4A3aBasicNeeds90Target"]
["FNPI_3a_III","M4A3aBasicNeeds90Results",{"$f":"\"'='\" & SUBSTITUTE(MID(CELL(\"address\",INDIRECT(B633)),$I$3,100),\"]\",\"\")","v":"'='FNPIs Income'!$F$9"},{"$f":" M4A3aBasicNeeds90Results","v":0},"Number","M4A3aBasicNeeds90Results",null,null,null,{"$f":"IF(PY_M4A3aBasicNeeds90Results=\"\",\"\",PY_M4A3aBasicNeeds90Results)","v":""},{"$f":"\"PY_\"&B633","v":"PY_M4A3aBasicNeeds90Results"}]
["FNPI_3a_iv","M4A3aBasicNeeds90Outcome",{"$f":"\"'='\" & SUBSTITUTE(MID(CELL(\"address\",INDIRECT(B634)),$I$3,100),\"]\",\"\")","v":"'='FNPIs Income'!$G$9"},{"$f":" M4A3aBasicNeeds90Outcome","v":""},"Number","M4A3aBasicNeeds90Outcome"]
["FNPI_3a_v","M4A3aBasicNeeds90Accuracy",{"$f":"\"'='\" & SUBSTITUTE(MID(CELL(\"address\",INDIRECT(B635)),$I$3,100),\"]\",\"\")","v":"'='FNPIs Income'!$H$9"},{"$f":" M4A3aBasicNeeds90Accuracy","v":""},"Number","M4A3aBasicNeeds90Accuracy"]
["FNPI_3b_I","M4A3bBasicNeeds180Part",{"$f":"\"'='\" & SUBSTITUTE(MID(CELL(\"address\",INDIRECT(B636)),$I$3,100),\"]\",\"\")","v":"'='FNPIs Income'!$D$10"},{"$f":" M4A3bBasicNeeds180Part","v":0},"Number","M4A3bBasicNeeds180Part",null,null,null,{"$f":"IF(PY_M4A3bBasicNeeds180Part=\"\",\"\",PY_M4A3bBasicNeeds180Part)","v":""},{"$f":"\"PY_\"&B636","v":"PY_M4A3bBasicNeeds180Part"}]
["FNPI_3b_II","M4A3bBasicNeeds180Target",{"$f":"\"'='\" & SUBSTITUTE(MID(CELL(\"address\",INDIRECT(B637)),$I$3,100),\"]\",\"\")","v":"'='FNPIs Income'!$E$10"},{"$f":" M4A3bBasicNeeds180Target","v":0},"Number","M4A3bBasicNeeds180Target"]
["FNPI_3b_III","M4A3bBasicNeeds180Results",{"$f":"\"'='\" & SUBSTITUTE(MID(CELL(\"address\",INDIRECT(B638)),$I$3,100),\"]\",\"\")","v":"'='FNPIs Income'!$F$10"},{"$f":" M4A3bBasicNeeds180Results","v":0},"Number","M4A3bBasicNeeds180Results",null,null,null,{"$f":"IF(PY_M4A3bBasicNeeds180Results=\"\",\"\",PY_M4A3bBasicNeeds180Results)","v":""},{"$f":"\"PY_\"&B638","v":"PY_M4A3bBasicNeeds180Results"}]
["FNPI_3b_iv","M4A3bBasicNeeds180Outcome",{"$f":"\"'='\" & SUBSTITUTE(MID(CELL(\"address\",INDIRECT(B639)),$I$3,100),\"]\",\"\")","v":"'='FNPIs Income'!$G$10"},{"$f":" M4A3bBasicNeeds180Outcome","v":""},"Number","M4A3bBasicNeeds180Outcome"]
["FNPI_3b_v","M4A3bBasicNeeds180Accuracy",{"$f":"\"'='\" & SUBSTITUTE(MID(CELL(\"address\",INDIRECT(B640)),$I$3,100),\"]\",\"\")","v":"'='FNPIs Income'!$H$10"},{"$f":" M4A3bBasicNeeds180Accuracy","v":""},"Number","M4A3bBasicNeeds180Accuracy"]
["FNPI_3c_I","M4A3cSavingsAcctPart",{"$f":"\"'='\" & SUBSTITUTE(MID(CELL(\"address\",INDIRECT(B641)),$I$3,100),\"]\",\"\")","v":"'='FNPIs Income'!$D$11"},{"$f":" M4A3cSavingsAcctPart","v":0},"Number","M4A3cSavingsAcctPart",null,null,null,{"$f":"IF(PY_M4A3cSavingsAcctPart=\"\",\"\",PY_M4A3cSavingsAcctPart)","v":""},{"$f":"\"PY_\"&B641","v":"PY_M4A3cSavingsAcctPart"}]
["FNPI_3c_II","M4A3cSavingsAcctTarget",{"$f":"\"'='\" & SUBSTITUTE(MID(CELL(\"address\",INDIRECT(B642)),$I$3,100),\"]\",\"\")","v":"'='FNPIs Income'!$E$11"},{"$f":" M4A3cSavingsAcctTarget","v":0},"Number","M4A3cSavingsAcctTarget"]
["FNPI_3c_III","M4A3cSavingsAcctResults",{"$f":"\"'='\" & SUBSTITUTE(MID(CELL(\"address\",INDIRECT(B643)),$I$3,100),\"]\",\"\")","v":"'='FNPIs Income'!$F$11"},{"$f":" M4A3cSavingsAcctResults","v":0},"Number","M4A3cSavingsAcctResults",null,null,null,{"$f":"IF(PY_M4A3cSavingsAcctResults=\"\",\"\",PY_M4A3cSavingsAcctResults)","v":""},{"$f":"\"PY_\"&B643","v":"PY_M4A3cSavingsAcctResults"}]
["FNPI_3c_iv","M4A3cSavingsAcctOutcome",{"$f":"\"'='\" & SUBSTITUTE(MID(CELL(\"address\",INDIRECT(B644)),$I$3,100),\"]\",\"\")","v":"'='FNPIs Income'!$G$11"},{"$f":" M4A3cSavingsAcctOutcome","v":""},"Number","M4A3cSavingsAcctOutcome"]
["FNPI_3c_v","M4A3cSavingsAcctAccuracy",{"$f":"\"'='\" & SUBSTITUTE(MID(CELL(\"address\",INDIRECT(B645)),$I$3,100),\"]\",\"\")","v":"'='FNPIs Income'!$H$11"},{"$f":" M4A3cSavingsAcctAccuracy","v":""},"Number","M4A3cSavingsAcctAccuracy"]
["FNPI_3d_I","M4A3dSavingsIncrPart",{"$f":"\"'='\" & SUBSTITUTE(MID(CELL(\"address\",INDIRECT(B646)),$I$3,100),\"]\",\"\")","v":"'='FNPIs Income'!$D$12"},{"$f":" M4A3dSavingsIncrPart","v":0},"Number","M4A3dSavingsIncrPart",null,null,null,{"$f":"IF(PY_M4A3dSavingsIncrPart=\"\",\"\",PY_M4A3dSavingsIncrPart)","v":""},{"$f":"\"PY_\"&B646","v":"PY_M4A3dSavingsIncrPart"}]
["FNPI_3d_II","M4A3dSavingsIncrTarget",{"$f":"\"'='\" & SUBSTITUTE(MID(CELL(\"address\",INDIRECT(B647)),$I$3,100),\"]\",\"\")","v":"'='FNPIs Income'!$E$12"},{"$f":" M4A3dSavingsIncrTarget","v":0},"Number","M4A3dSavingsIncrTarget"]
["FNPI_3d_III","M4A3dSavingsIncrResults",{"$f":"\"'='\" & SUBSTITUTE(MID(CELL(\"address\",INDIRECT(B648)),$I$3,100),\"]\",\"\")","v":"'='FNPIs Income'!$F$12"},{"$f":" M4A3dSavingsIncrResults","v":0},"Number","M4A3dSavingsIncrResults",null,null,null,{"$f":"IF(PY_M4A3dSavingsIncrResults=\"\",\"\",PY_M4A3dSavingsIncrResults)","v":""},{"$f":"\"PY_\"&B648","v":"PY_M4A3dSavingsIncrResults"}]
["FNPI_3d_iv","M4A3dSavingsIncrOutcome",{"$f":"\"'='\" & SUBSTITUTE(MID(CELL(\"address\",INDIRECT(B649)),$I$3,100),\"]\",\"\")","v":"'='FNPIs Income'!$G$12"},{"$f":" M4A3dSavingsIncrOutcome","v":""},"Number","M4A3dSavingsIncrOutcome"]
["FNPI_3d_v","M4A3dSavingsIncrAccuracy",{"$f":"\"'='\" & SUBSTITUTE(MID(CELL(\"address\",INDIRECT(B650)),$I$3,100),\"]\",\"\")","v":"'='FNPIs Income'!$H$12"},{"$f":" M4A3dSavingsIncrAccuracy","v":""},"Number","M4A3dSavingsIncrAccuracy"]
["FNPI 3e_1","M4A3ePurchAssetPart",{"$f":"\"'='\" & SUBSTITUTE(MID(CELL(\"address\",INDIRECT(B651)),$I$3,100),\"]\",\"\")","v":"'='FNPIs Income'!$D$13"},{"$f":" M4A3ePurchAssetPart","v":0},"Number","M4A3ePurchAssetPart",null,null,null,{"$f":"IF(PY_M4A3ePurchAssetPart=\"\",\"\",PY_M4A3ePurchAssetPart)","v":""},{"$f":"\"PY_\"&B651","v":"PY_M4A3ePurchAssetPart"}]
["FNPI_3e_II","M4A3ePurchAssetTarget",{"$f":"\"'='\" & SUBSTITUTE(MID(CELL(\"address\",INDIRECT(B652)),$I$3,100),\"]\",\"\")","v":"'='FNPIs Income'!$E$13"},{"$f":" M4A3ePurchAssetTarget","v":0},"Number","M4A3ePurchAssetTarget"]
["FNPI_3e_III","M4A3ePurchAssetResults",{"$f":"\"'='\" & SUBSTITUTE(MID(CELL(\"address\",INDIRECT(B653)),$I$3,100),\"]\",\"\")","v":"'='FNPIs Income'!$F$13"},{"$f":" M4A3ePurchAssetResults","v":0},"Number","M4A3ePurchAssetResults",null,null,null,{"$f":"IF(PY_M4A3ePurchAssetResults=\"\",\"\",PY_M4A3ePurchAssetResults)","v":""},{"$f":"\"PY_\"&B653","v":"PY_M4A3ePurchAssetResults"}]
["FNPI_3e_iv","M4A3ePurchAssetOutcome",{"$f":"\"'='\" & SUBSTITUTE(MID(CELL(\"address\",INDIRECT(B654)),$I$3,100),\"]\",\"\")","v":"'='FNPIs Income'!$G$13"},{"$f":" M4A3ePurchAssetOutcome","v":""},"Number","M4A3ePurchAssetOutcome"]
["FNPI_3e_v","M4A3ePurchAssetAccuracy",{"$f":"\"'='\" & SUBSTITUTE(MID(CELL(\"address\",INDIRECT(B655)),$I$3,100),\"]\",\"\")","v":"'='FNPIs Income'!$H$13"},{"$f":" M4A3ePurchAssetAccuracy","v":""},"Number","M4A3ePurchAssetAccuracy"]
["FNPI_3f_I","M4A3fPurchHomePart",{"$f":"\"'='\" & SUBSTITUTE(MID(CELL(\"address\",INDIRECT(B656)),$I$3,100),\"]\",\"\")","v":"'='FNPIs Income'!$D$14"},{"$f":" M4A3fPurchHomePart","v":0},"Number","M4A3fPurchHomePart",null,null,null,{"$f":"IF(PY_M4A3fPurchHomePart=\"\",\"\",PY_M4A3fPurchHomePart)","v":""},{"$f":"\"PY_\"&B656","v":"PY_M4A3fPurchHomePart"}]
["FNPI_3f_II","M4A3fPurchHomeTarget",{"$f":"\"'='\" & SUBSTITUTE(MID(CELL(\"address\",INDIRECT(B657)),$I$3,100),\"]\",\"\")","v":"'='FNPIs Income'!$E$14"},{"$f":" M4A3fPurchHomeTarget","v":0},"Number","M4A3fPurchHomeTarget"]
["FNPI_3f_III","M4A3fPurchHomeResults",{"$f":"\"'='\" & SUBSTITUTE(MID(CELL(\"address\",INDIRECT(B658)),$I$3,100),\"]\",\"\")","v":"'='FNPIs Income'!$F$14"},{"$f":" M4A3fPurchHomeResults","v":0},"Number","M4A3fPurchHomeResults",null,null,null,{"$f":"IF(PY_M4A3fPurchHomeResults=\"\",\"\",PY_M4A3fPurchHomeResults)","v":""},{"$f":"\"PY_\"&B658","v":"PY_M4A3fPurchHomeResults"}]
["FNPI_3f_iv","M4A3fPurchHomeOutcome",{"$f":"\"'='\" & SUBSTITUTE(MID(CELL(\"address\",INDIRECT(B659)),$I$3,100),\"]\",\"\")","v":"'='FNPIs Income'!$G$14"},{"$f":" M4A3fPurchHomeOutcome","v":""},"Number","M4A3fPurchHomeOutcome"]
["FNPI_3f_v","M4A3fPurchHomeAccuracy",{"$f":"\"'='\" & SUBSTITUTE(MID(CELL(\"address\",INDIRECT(B660)),$I$3,100),\"]\",\"\")","v":"'='FNPIs Income'!$H$14"},{"$f":" M4A3fPurchHomeAccuracy","v":""},"Number","M4A3fPurchHomeAccuracy"]
["FNPI_3g_I","M4A3gCreditScoreImprPart",{"$f":"\"'='\" & SUBSTITUTE(MID(CELL(\"address\",INDIRECT(B661)),$I$3,100),\"]\",\"\")","v":"'='FNPIs Income'!$D$15"},{"$f":" M4A3gCreditScoreImprPart","v":0},"Number","M4A3gCreditScoreImprPart",null,null,null,{"$f":"IF(PY_M4A3gCreditScoreImprPart=\"\",\"\",PY_M4A3gCreditScoreImprPart)","v":""},{"$f":"\"PY_\"&B661","v":"PY_M4A3gCreditScoreImprPart"}]
["FNPI_3g_II","M4A3gCreditScoreImprTarget",{"$f":"\"'='\" & SUBSTITUTE(MID(CELL(\"address\",INDIRECT(B662)),$I$3,100),\"]\",\"\")","v":"'='FNPIs Income'!$E$15"},{"$f":" M4A3gCreditScoreImprTarget","v":0},"Number","M4A3gCreditScoreImprTarget"]
["FNPI_3g_III","M4A3gCreditScoreImprResults",{"$f":"\"'='\" & SUBSTITUTE(MID(CELL(\"address\",INDIRECT(B663)),$I$3,100),\"]\",\"\")","v":"'='FNPIs Income'!$F$15"},{"$f":" M4A3gCreditScoreImprResults","v":0},"Number","M4A3gCreditScoreImprResults",null,null,null,{"$f":"IF(PY_M4A3gCreditScoreImprResults=\"\",\"\",PY_M4A3gCreditScoreImprResults)","v":""},{"$f":"\"PY_\"&B663","v":"PY_M4A3gCreditScoreImprResults"}]
["FNPI_3g_iv","M4A3gCreditScoreImprOutcome",{"$f":"\"'='\" & SUBSTITUTE(MID(CELL(\"address\",INDIRECT(B664)),$I$3,100),\"]\",\"\")","v":"'='FNPIs Income'!$G$15"},{"$f":" M4A3gCreditScoreImprOutcome","v":""},"Number","M4A3gCreditScoreImprOutcome"]
["FNPI_3g_v","M4A3gCreditScoreImprAccuracy",{"$f":"\"'='\" & SUBSTITUTE(MID(CELL(\"address\",INDIRECT(B665)),$I$3,100),\"]\",\"\")","v":"'='FNPIs Income'!$H$15"},{"$f":" M4A3gCreditScoreImprAccuracy","v":""},"Number","M4A3gCreditScoreImprAccuracy"]
["FNPI_3h_I","M4A3hNetWorthIncrPart",{"$f":"\"'='\" & SUBSTITUTE(MID(CELL(\"address\",INDIRECT(B666)),$I$3,100),\"]\",\"\")","v":"'='FNPIs Income'!$D$16"},{"$f":" M4A3hNetWorthIncrPart","v":0},"Number","M4A3hNetWorthIncrPart",null,null,null,{"$f":"IF(PY_M4A3hNetWorthIncrPart=\"\",\"\",PY_M4A3hNetWorthIncrPart)","v":""},{"$f":"\"PY_\"&B666","v":"PY_M4A3hNetWorthIncrPart"}]
["FNPI_3h_II","M4A3hNetWorthIncrTarget",{"$f":"\"'='\" & SUBSTITUTE(MID(CELL(\"address\",INDIRECT(B667)),$I$3,100),\"]\",\"\")","v":"'='FNPIs Income'!$E$16"},{"$f":" M4A3hNetWorthIncrTarget","v":0},"Number","M4A3hNetWorthIncrTarget"]
["FNPI_3h_III","M4A3hNetWorthIncrResults",{"$f":"\"'='\" & SUBSTITUTE(MID(CELL(\"address\",INDIRECT(B668)),$I$3,100),\"]\",\"\")","v":"'='FNPIs Income'!$F$16"},{"$f":" M4A3hNetWorthIncrResults","v":0},"Number","M4A3hNetWorthIncrResults",null,null,null,{"$f":"IF(PY_M4A3hNetWorthIncrResults=\"\",\"\",PY_M4A3hNetWorthIncrResults)","v":""},{"$f":"\"PY_\"&B668","v":"PY_M4A3hNetWorthIncrResults"}]
["FNPI_3h_iv","M4A3hNetWorthIncrOutcome",{"$f":"\"'='\" & SUBSTITUTE(MID(CELL(\"address\",INDIRECT(B669)),$I$3,100),\"]\",\"\")","v":"'='FNPIs Income'!$G$16"},{"$f":" M4A3hNetWorthIncrOutcome","v":""},"Number","M4A3hNetWorthIncrOutcome"]
["FNPI_3h_v","M4A3hNetWorthIncrAccuracy",{"$f":"\"'='\" & SUBSTITUTE(MID(CELL(\"address\",INDIRECT(B670)),$I$3,100),\"]\",\"\")","v":"'='FNPIs Income'!$H$16"},{"$f":" M4A3hNetWorthIncrAccuracy","v":""},"Number","M4A3hNetWorthIncrAccuracy"]
["FNPI_3i_I","M4A3iFinWellBeingImprPart",{"$f":"\"'='\" & SUBSTITUTE(MID(CELL(\"address\",INDIRECT(B671)),$I$3,100),\"]\",\"\")","v":"'='FNPIs Income'!$D$17"},{"$f":" M4A3iFinWellBeingImprPart","v":0},"Number","M4A3iFinWellBeingImprPart",null,null,null,{"$f":"IF(PY_M4A3iFinWellBeingImprPart=\"\",\"\",PY_M4A3iFinWellBeingImprPart)","v":""},{"$f":"\"PY_\"&B671","v":"PY_M4A3iFinWellBeingImprPart"}]
["FNPI_3i_II","M4A3iFinWellBeingImprTarget",{"$f":"\"'='\" & SUBSTITUTE(MID(CELL(\"address\",INDIRECT(B672)),$I$3,100),\"]\",\"\")","v":"'='FNPIs Income'!$E$17"},{"$f":" M4A3iFinWellBeingImprTarget","v":0},"Number","M4A3iFinWellBeingImprTarget"]
["FNPI_3i_III","M4A3iFinWellBeingImprResults",{"$f":"\"'='\" & SUBSTITUTE(MID(CELL(\"address\",INDIRECT(B673)),$I$3,100),\"]\",\"\")","v":"'='FNPIs Income'!$F$17"},{"$f":" M4A3iFinWellBeingImprResults","v":0},"Number","M4A3iFinWellBeingImprResults",null,null,null,{"$f":"IF(PY_M4A3iFinWellBeingImprResults=\"\",\"\",PY_M4A3iFinWellBeingImprResults)","v":""},{"$f":"\"PY_\"&B673","v":"PY_M4A3iFinWellBeingImprResults"}]
["FNPI_3i_iv","M4A3iFinWellBeingImprOutcome",{"$f":"\"'='\" & SUBSTITUTE(MID(CELL(\"address\",INDIRECT(B674)),$I$3,100),\"]\",\"\")","v":"'='FNPIs Income'!$G$17"},{"$f":" M4A3iFinWellBeingImprOutcome","v":""},"Number","M4A3iFinWellBeingImprOutcome"]
["FNPI_3i_v","M4A3iFinWellBeingImprAccuracy",{"$f":"\"'='\" & SUBSTITUTE(MID(CELL(\"address\",INDIRECT(B675)),$I$3,100),\"]\",\"\")","v":"'='FNPIs Income'!$H$17"},{"$f":" M4A3iFinWellBeingImprAccuracy","v":""},"Number","M4A3iFinWellBeingImprAccuracy"]
["FNPI 3z.1","M4A3zOtherInc1Name",{"$f":"\"'='\" & SUBSTITUTE(MID(CELL(\"address\",INDIRECT(B676)),$I$3,100),\"]\",\"\")","v":"'='FNPIs Income'!$C$21"},{"$f":" IF(ISBLANK(M4A3zOtherInc1Name),\"\",M4A3zOtherInc1Name)","v":""},"Text","M4A3zOtherInc1Name",1000]
["FNPI_3z.1_I","M4A3zOtherInc1Part",{"$f":"\"'='\" & SUBSTITUTE(MID(CELL(\"address\",INDIRECT(B677)),$I$3,100),\"]\",\"\")","v":"'='FNPIs Income'!$D$21"},{"$f":" M4A3zOtherInc1Part","v":0},"Number","M4A3zOtherInc1Part"]
["FNPI_3z.1_II","M4A3zOtherInc1Target",{"$f":"\"'='\" & SUBSTITUTE(MID(CELL(\"address\",INDIRECT(B678)),$I$3,100),\"]\",\"\")","v":"'='FNPIs Income'!$E$21"},{"$f":" M4A3zOtherInc1Target","v":0},"Number","M4A3zOtherInc1Target"]
["FNPI_3z.1_III","M4A3zOtherInc1Results",{"$f":"\"'='\" & SUBSTITUTE(MID(CELL(\"address\",INDIRECT(B679)),$I$3,100),\"]\",\"\")","v":"'='FNPIs Income'!$F$21"},{"$f":" M4A3zOtherInc1Results","v":0},"Number","M4A3zOtherInc1Results"]
["FNPI 3z.1iv","M4A3zOtherInc1Outcome",{"$f":"\"'='\" & SUBSTITUTE(MID(CELL(\"address\",INDIRECT(B680)),$I$3,100),\"]\",\"\")","v":"'='FNPIs Income'!$G$21"},{"$f":" M4A3zOtherInc1Outcome","v":""},"Number","M4A3zOtherInc1Outcome"]
["FNPI 3z.1v","M4A3zOtherInc1Accuracy",{"$f":"\"'='\" & SUBSTITUTE(MID(CELL(\"address\",INDIRECT(B681)),$I$3,100),\"]\",\"\")","v":"'='FNPIs Income'!$H$21"},{"$f":" M4A3zOtherInc1Accuracy","v":""},"Number","M4A3zOtherInc1Accuracy"]
["FNPI 3z.2","M4A3zOtherInc2Name",{"$f":"\"'='\" & SUBSTITUTE(MID(CELL(\"address\",INDIRECT(B682)),$I$3,100),\"]\",\"\")","v":"'='FNPIs Income'!$C$22"},{"$f":" IF(ISBLANK(M4A3zOtherInc2Name),\"\",M4A3zOtherInc2Name)","v":""},"Text","M4A3zOtherInc2Name",1000]
["FNPI_3z.2_I","M4A3zOtherInc2Part",{"$f":"\"'='\" & SUBSTITUTE(MID(CELL(\"address\",INDIRECT(B683)),$I$3,100),\"]\",\"\")","v":"'='FNPIs Income'!$D$22"},{"$f":" M4A3zOtherInc2Part","v":0},"Number","M4A3zOtherInc2Part"]
["FNPI_3z.2_II","M4A3zOtherInc2Target",{"$f":"\"'='\" & SUBSTITUTE(MID(CELL(\"address\",INDIRECT(B684)),$I$3,100),\"]\",\"\")","v":"'='FNPIs Income'!$E$22"},{"$f":" M4A3zOtherInc2Target","v":0},"Number","M4A3zOtherInc2Target"]
["FNPI_3z.2_III","M4A3zOtherInc2Results",{"$f":"\"'='\" & SUBSTITUTE(MID(CELL(\"address\",INDIRECT(B685)),$I$3,100),\"]\",\"\")","v":"'='FNPIs Income'!$F$22"},{"$f":" M4A3zOtherInc2Results","v":0},"Number","M4A3zOtherInc2Results"]
["FNPI 3z.2iv","M4A3zOtherInc2Outcome",{"$f":"\"'='\" & SUBSTITUTE(MID(CELL(\"address\",INDIRECT(B686)),$I$3,100),\"]\",\"\")","v":"'='FNPIs Income'!$G$22"},{"$f":" M4A3zOtherInc2Outcome","v":""},"Number","M4A3zOtherInc2Outcome"]
["FNPI 3z.2v","M4A3zOtherInc2Accuracy",{"$f":"\"'='\" & SUBSTITUTE(MID(CELL(\"address\",INDIRECT(B687)),$I$3,100),\"]\",\"\")","v":"'='FNPIs Income'!$H$22"},{"$f":" M4A3zOtherInc2Accuracy","v":""},"Number","M4A3zOtherInc2Accuracy"]
["FNPI 3z.3","M4A3zOtherInc3Name",{"$f":"\"'='\" & SUBSTITUTE(MID(CELL(\"address\",INDIRECT(B688)),$I$3,100),\"]\",\"\")","v":"'='FNPIs Income'!$C$23"},{"$f":" IF(ISBLANK(M4A3zOtherInc3Name),\"\",M4A3zOtherInc3Name)","v":""},"Text","M4A3zOtherInc3Name",1000]
["FNPI_3z.3_I","M4A3zOtherInc3Part",{"$f":"\"'='\" & SUBSTITUTE(MID(CELL(\"address\",INDIRECT(B689)),$I$3,100),\"]\",\"\")","v":"'='FNPIs Income'!$D$23"},{"$f":" M4A3zOtherInc3Part","v":0},"Number","M4A3zOtherInc3Part"]
["FNPI_3z.3_II","M4A3zOtherInc3Target",{"$f":"\"'='\" & SUBSTITUTE(MID(CELL(\"address\",INDIRECT(B690)),$I$3,100),\"]\",\"\")","v":"'='FNPIs Income'!$E$23"},{"$f":" M4A3zOtherInc3Target","v":0},"Number","M4A3zOtherInc3Target"]
["FNPI_3z.3_III","M4A3zOtherInc3Results",{"$f":"\"'='\" & SUBSTITUTE(MID(CELL(\"address\",INDIRECT(B691)),$I$3,100),\"]\",\"\")","v":"'='FNPIs Income'!$F$23"},{"$f":" M4A3zOtherInc3Results","v":0},"Number","M4A3zOtherInc3Results"]
["FNPI 3z.3iv","M4A3zOtherInc3Outcome",{"$f":"\"'='\" & SUBSTITUTE(MID(CELL(\"address\",INDIRECT(B692)),$I$3,100),\"]\",\"\")","v":"'='FNPIs Income'!$G$23"},{"$f":" M4A3zOtherInc3Outcome","v":""},"Number","M4A3zOtherInc3Outcome"]
["FNPI 3z.3v","M4A3zOtherInc3Accuracy",{"$f":"\"'='\" & SUBSTITUTE(MID(CELL(\"address\",INDIRECT(B693)),$I$3,100),\"]\",\"\")","v":"'='FNPIs Income'!$H$23"},{"$f":" M4A3zOtherInc3Accuracy","v":""},"Number","M4A3zOtherInc3Accuracy"]
["FNPI 3z.4","M4A3zOtherInc4Name",{"$f":"\"'='\" & SUBSTITUTE(MID(CELL(\"address\",INDIRECT(B694)),$I$3,100),\"]\",\"\")","v":"'='FNPIs Income'!$C$24"},{"$f":" IF(ISBLANK(M4A3zOtherInc4Name),\"\",M4A3zOtherInc4Name)","v":""},"Text","M4A3zOtherInc4Name",1000]
["FNPI_3z.4_I","M4A3zOtherInc4Part",{"$f":"\"'='\" & SUBSTITUTE(MID(CELL(\"address\",INDIRECT(B695)),$I$3,100),\"]\",\"\")","v":"'='FNPIs Income'!$D$24"},{"$f":" M4A3zOtherInc4Part","v":0},"Number","M4A3zOtherInc4Part"]
["FNPI_3z.4_II","M4A3zOtherInc4Target",{"$f":"\"'='\" & SUBSTITUTE(MID(CELL(\"address\",INDIRECT(B696)),$I$3,100),\"]\",\"\")","v":"'='FNPIs Income'!$E$24"},{"$f":" M4A3zOtherInc4Target","v":0},"Number","M4A3zOtherInc4Target"]
["FNPI_3z.4_III","M4A3zOtherInc4Results",{"$f":"\"'='\" & SUBSTITUTE(MID(CELL(\"address\",INDIRECT(B697)),$I$3,100),\"]\",\"\")","v":"'='FNPIs Income'!$F$24"},{"$f":" M4A3zOtherInc4Results","v":0},"Number","M4A3zOtherInc4Results"]
["FNPI 3z.4iv","M4A3zOtherInc4Outcome",{"$f":"\"'='\" & SUBSTITUTE(MID(CELL(\"address\",INDIRECT(B698)),$I$3,100),\"]\",\"\")","v":"'='FNPIs Income'!$G$24"},{"$f":" M4A3zOtherInc4Outcome","v":""},"Number","M4A3zOtherInc4Outcome"]
["FNPI 3z.4v","M4A3zOtherInc4Accuracy",{"$f":"\"'='\" & SUBSTITUTE(MID(CELL(\"address\",INDIRECT(B699)),$I$3,100),\"]\",\"\")","v":"'='FNPIs Income'!$H$24"},{"$f":" M4A3zOtherInc4Accuracy","v":""},"Number","M4A3zOtherInc4Accuracy"]
["FNPI 3z.5","M4A3zOtherInc5Name",{"$f":"\"'='\" & SUBSTITUTE(MID(CELL(\"address\",INDIRECT(B700)),$I$3,100),\"]\",\"\")","v":"'='FNPIs Income'!$C$25"},{"$f":" IF(ISBLANK(M4A3zOtherInc5Name),\"\",M4A3zOtherInc5Name)","v":""},"Text","M4A3zOtherInc5Name",1000]
["FNPI_3z.5_I","M4A3zOtherInc5Part",{"$f":"\"'='\" & SUBSTITUTE(MID(CELL(\"address\",INDIRECT(B701)),$I$3,100),\"]\",\"\")","v":"'='FNPIs Income'!$D$25"},{"$f":" M4A3zOtherInc5Part","v":0},"Number","M4A3zOtherInc5Part"]
["FNPI_3z.5_II","M4A3zOtherInc5Target",{"$f":"\"'='\" & SUBSTITUTE(MID(CELL(\"address\",INDIRECT(B702)),$I$3,100),\"]\",\"\")","v":"'='FNPIs Income'!$E$25"},{"$f":" M4A3zOtherInc5Target","v":0},"Number","M4A3zOtherInc5Target"]
["FNPI_3z.5_III","M4A3zOtherInc5Results",{"$f":"\"'='\" & SUBSTITUTE(MID(CELL(\"address\",INDIRECT(B703)),$I$3,100),\"]\",\"\")","v":"'='FNPIs Income'!$F$25"},{"$f":" M4A3zOtherInc5Results","v":0},"Number","M4A3zOtherInc5Results"]
["FNPI 3z.5iv","M4A3zOtherInc5Outcome",{"$f":"\"'='\" & SUBSTITUTE(MID(CELL(\"address\",INDIRECT(B704)),$I$3,100),\"]\",\"\")","v":"'='FNPIs Income'!$G$25"},{"$f":" M4A3zOtherInc5Outcome","v":""},"Number","M4A3zOtherInc5Outcome"]
["FNPI 3z.5v","M4A3zOtherInc5Accuracy",{"$f":"\"'='\" & SUBSTITUTE(MID(CELL(\"address\",INDIRECT(B705)),$I$3,100),\"]\",\"\")","v":"'='FNPIs Income'!$H$25"},{"$f":" M4A3zOtherInc5Accuracy","v":""},"Number","M4A3zOtherInc5Accuracy"]
["FNPI_Income_Comments","M4A3Comments",{"$f":"\"'='\" & SUBSTITUTE(MID(CELL(\"address\",INDIRECT(B706)),$I$3,100),\"]\",\"\")","v":"'='Deprecated Fields'!$C$33"},{"$f":" M4A3Comments","v":0},"Memo","M4A3Comments",5000]
["FNPI_7a_I","M4A7aMoreOutcomesPart",{"$f":"\"'='\" & SUBSTITUTE(MID(CELL(\"address\",INDIRECT(B707)),$I$3,100),\"]\",\"\")","v":"'='FNPIs Across Multiple Domains'!$D$9"},{"$f":" M4A7aMoreOutcomesPart","v":0},"Number","M4A7aMoreOutcomesPart",null,null,null,{"$f":"IF(PY_M4A7aMoreOutcomesPart=\"\",\"\",PY_M4A7aMoreOutcomesPart)","v":""},{"$f":"\"PY_\"&B707","v":"PY_M4A7aMoreOutcomesPart"}]
["FNPI_7a_II","M4A7aMoreOutcomesTarget",{"$f":"\"'='\" & SUBSTITUTE(MID(CELL(\"address\",INDIRECT(B708)),$I$3,100),\"]\",\"\")","v":"'='FNPIs Across Multiple Domains'!$E$9"},{"$f":" M4A7aMoreOutcomesTarget","v":0},"Number","M4A7aMoreOutcomesTarget"]
["FNPI_7a_III","M4A7aMoreOutcomesResults",{"$f":"\"'='\" & SUBSTITUTE(MID(CELL(\"address\",INDIRECT(B709)),$I$3,100),\"]\",\"\")","v":"'='FNPIs Across Multiple Domains'!$F$9"},{"$f":" M4A7aMoreOutcomesResults","v":0},"Number","M4A7aMoreOutcomesResults",null,null,null,{"$f":"IF(PY_M4A7aMoreOutcomesResults=\"\",\"\",PY_M4A7aMoreOutcomesResults)","v":""},{"$f":"\"PY_\"&B709","v":"PY_M4A7aMoreOutcomesResults"}]
["FNPI_7a_iv","M4A7aMoreOutcomesOutcome",{"$f":"\"'='\" & SUBSTITUTE(MID(CELL(\"address\",INDIRECT(B710)),$I$3,100),\"]\",\"\")","v":"'='FNPIs Across Multiple Domains'!$G$9"},{"$f":" M4A7aMoreOutcomesOutcome","v":""},"Number","M4A7aMoreOutcomesOutcome"]
["FNPI_7a_v","M4A7aMoreOutcomesAccuracy",{"$f":"\"'='\" & SUBSTITUTE(MID(CELL(\"address\",INDIRECT(B711)),$I$3,100),\"]\",\"\")","v":"'='FNPIs Across Multiple Domains'!$H$9"},{"$f":" M4A7aMoreOutcomesAccuracy","v":""},"Number","M4A7aMoreOutcomesAccuracy"]
["FNPI 7z.1","M4A7zOtherMult1Name",{"$f":"\"'='\" & SUBSTITUTE(MID(CELL(\"address\",INDIRECT(B712)),$I$3,100),\"]\",\"\")","v":"'='FNPIs Across Multiple Domains'!$C$12"},{"$f":" IF(ISBLANK(M4A7zOtherMult1Name),\"\",M4A7zOtherMult1Name)","v":""},"Text","M4A7zOtherMult1Name",1000]
["FNPI_7z.1_I","M4A7zOtherMult1Part",{"$f":"\"'='\" & SUBSTITUTE(MID(CELL(\"address\",INDIRECT(B713)),$I$3,100),\"]\",\"\")","v":"'='FNPIs Across Multiple Domains'!$D$12"},{"$f":" M4A7zOtherMult1Part","v":0},"Number","M4A7zOtherMult1Part"]
["FNPI_7z.1_II","M4A7zOtherMult1Target",{"$f":"\"'='\" & SUBSTITUTE(MID(CELL(\"address\",INDIRECT(B714)),$I$3,100),\"]\",\"\")","v":"'='FNPIs Across Multiple Domains'!$E$12"},{"$f":" M4A7zOtherMult1Target","v":0},"Number","M4A7zOtherMult1Target"]
["FNPI_7z.1_III","M4A7zOtherMult1Results",{"$f":"\"'='\" & SUBSTITUTE(MID(CELL(\"address\",INDIRECT(B715)),$I$3,100),\"]\",\"\")","v":"'='FNPIs Across Multiple Domains'!$F$12"},{"$f":" M4A7zOtherMult1Results","v":0},"Number","M4A7zOtherMult1Results"]
["FNPI 7z.1iv","M4A7zOtherMult1Outcome",{"$f":"\"'='\" & SUBSTITUTE(MID(CELL(\"address\",INDIRECT(B716)),$I$3,100),\"]\",\"\")","v":"'='FNPIs Across Multiple Domains'!$G$12"},{"$f":" M4A7zOtherMult1Outcome","v":""},"Number","M4A7zOtherMult1Outcome"]
["FNPI 7z.1v","M4A7zOtherMult1Accuracy",{"$f":"\"'='\" & SUBSTITUTE(MID(CELL(\"address\",INDIRECT(B717)),$I$3,100),\"]\",\"\")","v":"'='FNPIs Across Multiple Domains'!$H$12"},{"$f":" M4A7zOtherMult1Accuracy","v":""},"Number","M4A7zOtherMult1Accuracy"]
["FNPI 7z.2","M4A7zOtherMult2Name",{"$f":"\"'='\" & SUBSTITUTE(MID(CELL(\"address\",INDIRECT(B718)),$I$3,100),\"]\",\"\")","v":"'='FNPIs Across Multiple Domains'!$C$13"},{"$f":" IF(ISBLANK(M4A7zOtherMult2Name),\"\",M4A7zOtherMult2Name)","v":""},"Text","M4A7zOtherMult2Name",1000]
["FNPI_7z.2_I","M4A7zOtherMult2Part",{"$f":"\"'='\" & SUBSTITUTE(MID(CELL(\"address\",INDIRECT(B719)),$I$3,100),\"]\",\"\")","v":"'='FNPIs Across Multiple Domains'!$D$13"},{"$f":" M4A7zOtherMult2Part","v":0},"Number","M4A7zOtherMult2Part"]
["FNPI_7z.2_II","M4A7zOtherMult2Target",{"$f":"\"'='\" & SUBSTITUTE(MID(CELL(\"address\",INDIRECT(B720)),$I$3,100),\"]\",\"\")","v":"'='FNPIs Across Multiple Domains'!$E$13"},{"$f":" M4A7zOtherMult2Target","v":0},"Number","M4A7zOtherMult2Target"]
["FNPI_7z.2_III","M4A7zOtherMult2Results",{"$f":"\"'='\" & SUBSTITUTE(MID(CELL(\"address\",INDIRECT(B721)),$I$3,100),\"]\",\"\")","v":"'='FNPIs Across Multiple Domains'!$F$13"},{"$f":" M4A7zOtherMult2Results","v":0},"Number","M4A7zOtherMult2Results"]
["FNPI 7z.2iv","M4A7zOtherMult2Outcome",{"$f":"\"'='\" & SUBSTITUTE(MID(CELL(\"address\",INDIRECT(B722)),$I$3,100),\"]\",\"\")","v":"'='FNPIs Across Multiple Domains'!$G$13"},{"$f":" M4A7zOtherMult2Outcome","v":""},"Number","M4A7zOtherMult2Outcome"]
["FNPI 7z.2v","M4A7zOtherMult2Accuracy",{"$f":"\"'='\" & SUBSTITUTE(MID(CELL(\"address\",INDIRECT(B723)),$I$3,100),\"]\",\"\")","v":"'='FNPIs Across Multiple Domains'!$H$13"},{"$f":" M4A7zOtherMult2Accuracy","v":""},"Number","M4A7zOtherMult2Accuracy"]
["FNPI 7z.3","M4A7zOtherMult3Name",{"$f":"\"'='\" & SUBSTITUTE(MID(CELL(\"address\",INDIRECT(B724)),$I$3,100),\"]\",\"\")","v":"'='FNPIs Across Multiple Domains'!$C$14"},{"$f":" IF(ISBLANK(M4A7zOtherMult3Name),\"\",M4A7zOtherMult3Name)","v":""},"Text","M4A7zOtherMult3Name",1000]
["FNPI_7z.3_I","M4A7zOtherMult3Part",{"$f":"\"'='\" & SUBSTITUTE(MID(CELL(\"address\",INDIRECT(B725)),$I$3,100),\"]\",\"\")","v":"'='FNPIs Across Multiple Domains'!$D$14"},{"$f":" M4A7zOtherMult3Part","v":0},"Number","M4A7zOtherMult3Part"]
["FNPI_7z.3_II","M4A7zOtherMult3Target",{"$f":"\"'='\" & SUBSTITUTE(MID(CELL(\"address\",INDIRECT(B726)),$I$3,100),\"]\",\"\")","v":"'='FNPIs Across Multiple Domains'!$E$14"},{"$f":" M4A7zOtherMult3Target","v":0},"Number","M4A7zOtherMult3Target"]
["FNPI_7z.3_III","M4A7zOtherMult3Results",{"$f":"\"'='\" & SUBSTITUTE(MID(CELL(\"address\",INDIRECT(B727)),$I$3,100),\"]\",\"\")","v":"'='FNPIs Across Multiple Domains'!$F$14"},{"$f":" M4A7zOtherMult3Results","v":0},"Number","M4A7zOtherMult3Results"]
["FNPI 7z.3iv","M4A7zOtherMult3Outcome",{"$f":"\"'='\" & SUBSTITUTE(MID(CELL(\"address\",INDIRECT(B728)),$I$3,100),\"]\",\"\")","v":"'='FNPIs Across Multiple Domains'!$G$14"},{"$f":" M4A7zOtherMult3Outcome","v":""},"Number","M4A7zOtherMult3Outcome"]
["FNPI 7z.3v","M4A7zOtherMult3Accuracy",{"$f":"\"'='\" & SUBSTITUTE(MID(CELL(\"address\",INDIRECT(B729)),$I$3,100),\"]\",\"\")","v":"'='FNPIs Across Multiple Domains'!$H$14"},{"$f":" M4A7zOtherMult3Accuracy","v":""},"Number","M4A7zOtherMult3Accuracy"]
["FNPI 7z.4","M4A7zOtherMult4Name",{"$f":"\"'='\" & SUBSTITUTE(MID(CELL(\"address\",INDIRECT(B730)),$I$3,100),\"]\",\"\")","v":"'='FNPIs Across Multiple Domains'!$C$15"},{"$f":" IF(ISBLANK(M4A7zOtherMult4Name),\"\",M4A7zOtherMult4Name)","v":""},"Text","M4A7zOtherMult4Name",1000]
["FNPI_7z.4_I","M4A7zOtherMult4Part",{"$f":"\"'='\" & SUBSTITUTE(MID(CELL(\"address\",INDIRECT(B731)),$I$3,100),\"]\",\"\")","v":"'='FNPIs Across Multiple Domains'!$D$15"},{"$f":" M4A7zOtherMult4Part","v":0},"Number","M4A7zOtherMult4Part"]
["FNPI_7z.4_II","M4A7zOtherMult4Target",{"$f":"\"'='\" & SUBSTITUTE(MID(CELL(\"address\",INDIRECT(B732)),$I$3,100),\"]\",\"\")","v":"'='FNPIs Across Multiple Domains'!$E$15"},{"$f":" M4A7zOtherMult4Target","v":0},"Number","M4A7zOtherMult4Target"]
["FNPI_7z.4_III","M4A7zOtherMult4Results",{"$f":"\"'='\" & SUBSTITUTE(MID(CELL(\"address\",INDIRECT(B733)),$I$3,100),\"]\",\"\")","v":"'='FNPIs Across Multiple Domains'!$F$15"},{"$f":" M4A7zOtherMult4Results","v":0},"Number","M4A7zOtherMult4Results"]
["FNPI 7z.4iv","M4A7zOtherMult4Outcome",{"$f":"\"'='\" & SUBSTITUTE(MID(CELL(\"address\",INDIRECT(B734)),$I$3,100),\"]\",\"\")","v":"'='FNPIs Across Multiple Domains'!$G$15"},{"$f":" M4A7zOtherMult4Outcome","v":""},"Number","M4A7zOtherMult4Outcome"]
["FNPI 7z.4v","M4A7zOtherMult4Accuracy",{"$f":"\"'='\" & SUBSTITUTE(MID(CELL(\"address\",INDIRECT(B735)),$I$3,100),\"]\",\"\")","v":"'='FNPIs Across Multiple Domains'!$H$15"},{"$f":" M4A7zOtherMult4Accuracy","v":""},"Number","M4A7zOtherMult4Accuracy"]
["FNPI 7z.5","M4A7zOtherMult5Name",{"$f":"\"'='\" & SUBSTITUTE(MID(CELL(\"address\",INDIRECT(B736)),$I$3,100),\"]\",\"\")","v":"'='FNPIs Across Multiple Domains'!$C$16"},{"$f":" IF(ISBLANK(M4A7zOtherMult5Name),\"\",M4A7zOtherMult5Name)","v":""},"Text","M4A7zOtherMult5Name",1000]
["FNPI_7z.5_I","M4A7zOtherMult5Part",{"$f":"\"'='\" & SUBSTITUTE(MID(CELL(\"address\",INDIRECT(B737)),$I$3,100),\"]\",\"\")","v":"'='FNPIs Across Multiple Domains'!$D$16"},{"$f":" M4A7zOtherMult5Part","v":0},"Number","M4A7zOtherMult5Part"]
["FNPI_7z.5_II","M4A7zOtherMult5Target",{"$f":"\"'='\" & SUBSTITUTE(MID(CELL(\"address\",INDIRECT(B738)),$I$3,100),\"]\",\"\")","v":"'='FNPIs Across Multiple Domains'!$E$16"},{"$f":" M4A7zOtherMult5Target","v":0},"Number","M4A7zOtherMult5Target"]
["FNPI_7z.5_III","M4A7zOtherMult5Results",{"$f":"\"'='\" & SUBSTITUTE(MID(CELL(\"address\",INDIRECT(B739)),$I$3,100),\"]\",\"\")","v":"'='FNPIs Across Multiple Domains'!$F$16"},{"$f":" M4A7zOtherMult5Results","v":0},"Number","M4A7zOtherMult5Results"]
["FNPI 7z.5iv","M4A7zOtherMult5Outcome",{"$f":"\"'='\" & SUBSTITUTE(MID(CELL(\"address\",INDIRECT(B740)),$I$3,100),\"]\",\"\")","v":"'='FNPIs Across Multiple Domains'!$G$16"},{"$f":" M4A7zOtherMult5Outcome","v":""},"Number","M4A7zOtherMult5Outcome"]
["FNPI 7z.5v","M4A7zOtherMult5Accuracy",{"$f":"\"'='\" & SUBSTITUTE(MID(CELL(\"address\",INDIRECT(B741)),$I$3,100),\"]\",\"\")","v":"'='FNPIs Across Multiple Domains'!$H$16"},{"$f":" M4A7zOtherMult5Accuracy","v":""},"Number","M4A7zOtherMult5Accuracy"]
["FNPI_Multiple_Comments","M4A7Comments",{"$f":"\"'='\" & SUBSTITUTE(MID(CELL(\"address\",INDIRECT(B742)),$I$3,100),\"]\",\"\")","v":"'='Deprecated Fields'!$C$37"},{"$f":" M4A7Comments","v":0},"Memo","M4A7Comments",5000]
["SRV 6a Voter Education and Access","M4B6aCivicEngageVoterEdu",{"$f":"\"'='\" & SUBSTITUTE(MID(CELL(\"address\",INDIRECT(B743)),$I$3,100),\"]\",\"\")","v":"'='Services Civic Eng. & Comm Inv.'!$C$8"},{"$f":" M4B6aCivicEngageVoterEdu","v":0},"Number","M4B6aCivicEngageVoterEdu",null,null,null,{"$f":"IF(PY_M4B6aCivicEngageVoterEdu=\"\",\"\",PY_M4B6aCivicEngageVoterEdu)","v":""},{"$f":"\"PY_\"&B743","v":"PY_M4B6aCivicEngageVoterEdu"}]
["SRV 6b Leadership Training","M4B6bCivicEngageLeadership",{"$f":"\"'='\" & SUBSTITUTE(MID(CELL(\"address\",INDIRECT(B744)),$I$3,100),\"]\",\"\")","v":"'='Services Civic Eng. & Comm Inv.'!$C$10"},{"$f":" M4B6bCivicEngageLeadership","v":0},"Number","M4B6bCivicEngageLeadership",null,null,null,{"$f":"IF(PY_M4B6bCivicEngageLeadership=\"\",\"\",PY_M4B6bCivicEngageLeadership)","v":""},"PY_M4B6bCivicEngageLeadership"]
["SRV 6c Tri-partite Board Membership","M4B6cCivicEngageTripartite",{"$f":"\"'='\" & SUBSTITUTE(MID(CELL(\"address\",INDIRECT(B745)),$I$3,100),\"]\",\"\")","v":"'='Services Civic Eng. & Comm Inv.'!$C$11"},{"$f":" M4B6cCivicEngageTripartite","v":0},"Number","M4B6cCivicEngageTripartite",null,null,null,{"$f":"IF(PY_M4B6cCivicEngageTripartite=\"\",\"\",PY_M4B6cCivicEngageTripartite)","v":""},"PY_M4B6cCivicEngageTripartite"]
["SRV 6d Citizenship Classes","M4B6dCivicEngageCitizen",{"$f":"\"'='\" & SUBSTITUTE(MID(CELL(\"address\",INDIRECT(B746)),$I$3,100),\"]\",\"\")","v":"'='Services Civic Eng. & Comm Inv.'!$C$12"},{"$f":" M4B6dCivicEngageCitizen","v":0},"Number","M4B6dCivicEngageCitizen",null,null,null,{"$f":"IF(PY_M4B6dCivicEngageCitizen=\"\",\"\",PY_M4B6dCivicEngageCitizen)","v":""},"PY_M4B6dCivicEngageCitizen"]
["SRV 6e Getting Ahead Classes","M4B6eCivicEngageGetAhead",{"$f":"\"'='\" & SUBSTITUTE(MID(CELL(\"address\",INDIRECT(B747)),$I$3,100),\"]\",\"\")","v":"'='Services Civic Eng. & Comm Inv.'!$C$13"},{"$f":" M4B6eCivicEngageGetAhead","v":0},"Number","M4B6eCivicEngageGetAhead",null,null,null,{"$f":"IF(PY_M4B6eCivicEngageGetAhead=\"\",\"\",PY_M4B6eCivicEngageGetAhead)","v":""},"PY_M4B6eCivicEngageGetAhead"]
["SRV 6f Volunteer Training ","M4B6fCivicEngageVolTrain",{"$f":"\"'='\" & SUBSTITUTE(MID(CELL(\"address\",INDIRECT(B748)),$I$3,100),\"]\",\"\")","v":"'='Services Civic Eng. & Comm Inv.'!$C$14"},{"$f":" M4B6fCivicEngageVolTrain","v":0},"Number","M4B6fCivicEngageVolTrain",null,null,null,{"$f":"IF(PY_M4B6fCivicEngageVolTrain=\"\",\"\",PY_M4B6fCivicEngageVolTrain)","v":""},"PY_M4B6fCivicEngageVolTrain"]
["SRV 2a Early Head Start ","M4B2aEduEarlyHeadStart",{"$f":"\"'='\" & SUBSTITUTE(MID(CELL(\"address\",INDIRECT(B749)),$I$3,100),\"]\",\"\")","v":"'='Services Education'!$C$9"},{"$f":" M4B2aEduEarlyHeadStart","v":0},"Number","M4B2aEduEarlyHeadStart",null,null,null,{"$f":"IF(PY_M4B2aEduEarlyHeadStart=\"\",\"\",PY_M4B2aEduEarlyHeadStart)","v":""},"PY_M4B2aEduEarlyHeadStart"]
["SRV 2b Head Start","M4B2bEduHeadStart",{"$f":"\"'='\" & SUBSTITUTE(MID(CELL(\"address\",INDIRECT(B750)),$I$3,100),\"]\",\"\")","v":"'='Services Education'!$C$10"},{"$f":" M4B2bEduHeadStart","v":0},"Number","M4B2bEduHeadStart",null,null,null,{"$f":"IF(PY_M4B2bEduHeadStart=\"\",\"\",PY_M4B2bEduHeadStart)","v":""},"PY_M4B2bEduHeadStart"]
["SRV 2c Other Early-Childhood (0-5 yr. old) Education ","M4B2cEduOtherEarly",{"$f":"\"'='\" & SUBSTITUTE(MID(CELL(\"address\",INDIRECT(B751)),$I$3,100),\"]\",\"\")","v":"'='Services Education'!$C$11"},{"$f":" M4B2cEduOtherEarly","v":0},"Number","M4B2cEduOtherEarly",null,null,null,{"$f":"IF(PY_M4B2cEduOtherEarly=\"\",\"\",PY_M4B2cEduOtherEarly)","v":""},"PY_M4B2cEduOtherEarly"]
["SRV 2d K-12 Education ","M4B2dEduK12",{"$f":"\"'='\" & SUBSTITUTE(MID(CELL(\"address\",INDIRECT(B752)),$I$3,100),\"]\",\"\")","v":"'='Services Education'!$C$12"},{"$f":" M4B2dEduK12","v":0},"Number","M4B2dEduK12",null,null,null,{"$f":"IF(PY_M4B2dEduK12=\"\",\"\",PY_M4B2dEduK12)","v":""},"PY_M4B2dEduK12"]
["SRV 2e K-12 Support Services","M4B2eEduK12Support",{"$f":"\"'='\" & SUBSTITUTE(MID(CELL(\"address\",INDIRECT(B753)),$I$3,100),\"]\",\"\")","v":"'='Services Education'!$C$13"},{"$f":" M4B2eEduK12Support","v":0},"Number","M4B2eEduK12Support",null,null,null,{"$f":"IF(PY_M4B2eEduK12Support=\"\",\"\",PY_M4B2eEduK12Support)","v":""},"PY_M4B2eEduK12Support"]
["SRV 2f Financial Literacy Education","M4B2fEduFinancialLit",{"$f":"\"'='\" & SUBSTITUTE(MID(CELL(\"address\",INDIRECT(B754)),$I$3,100),\"]\",\"\")","v":"'='Services Education'!$C$14"},{"$f":" M4B2fEduFinancialLit","v":0},"Number","M4B2fEduFinancialLit",null,null,null,{"$f":"IF(PY_M4B2fEduFinancialLit=\"\",\"\",PY_M4B2fEduFinancialLit)","v":""},"PY_M4B2fEduFinancialLit"]
["SRV 2g Literacy/English Language Education","M4B2gEduEnglishLit",{"$f":"\"'='\" & SUBSTITUTE(MID(CELL(\"address\",INDIRECT(B755)),$I$3,100),\"]\",\"\")","v":"'='Services Education'!$C$15"},{"$f":" M4B2gEduEnglishLit","v":0},"Number","M4B2gEduEnglishLit",null,null,null,{"$f":"IF(PY_M4B2gEduEnglishLit=\"\",\"\",PY_M4B2gEduEnglishLit)","v":""},"PY_M4B2gEduEnglishLit"]
["SRV 2h College-Readiness Preparation/Support  ","M4B2hEduCollegeReady",{"$f":"\"'='\" & SUBSTITUTE(MID(CELL(\"address\",INDIRECT(B756)),$I$3,100),\"]\",\"\")","v":"'='Services Education'!$C$16"},{"$f":" M4B2hEduCollegeReady","v":0},"Number","M4B2hEduCollegeReady",null,null,null,{"$f":"IF(PY_M4B2hEduCollegeReady=\"\",\"\",PY_M4B2hEduCollegeReady)","v":""},"PY_M4B2hEduCollegeReady"]
["SRV 2i Other Post Secondary Preparation","M4B2iEduOtherPostSecPrep",{"$f":"\"'='\" & SUBSTITUTE(MID(CELL(\"address\",INDIRECT(B757)),$I$3,100),\"]\",\"\")","v":"'='Services Education'!$C$17"},{"$f":" M4B2iEduOtherPostSecPrep","v":0},"Number","M4B2iEduOtherPostSecPrep",null,null,null,{"$f":"IF(PY_M4B2iEduOtherPostSecPrep=\"\",\"\",PY_M4B2iEduOtherPostSecPrep)","v":""},"PY_M4B2iEduOtherPostSecPrep"]
["SRV 2j Other Post Secondary Support","M4B2jEduOtherPostSecSup",{"$f":"\"'='\" & SUBSTITUTE(MID(CELL(\"address\",INDIRECT(B758)),$I$3,100),\"]\",\"\")","v":"'='Services Education'!$C$18"},{"$f":" M4B2jEduOtherPostSecSup","v":0},"Number","M4B2jEduOtherPostSecSup",null,null,null,{"$f":"IF(PY_M4B2jEduOtherPostSecSup=\"\",\"\",PY_M4B2jEduOtherPostSecSup)","v":""},"PY_M4B2jEduOtherPostSecSup"]
["SRV 2k School Supplies","M4B2kSchoolSupplies",{"$f":"\"'='\" & SUBSTITUTE(MID(CELL(\"address\",INDIRECT(B759)),$I$3,100),\"]\",\"\")","v":"'='Services Education'!$C$20"},{"$f":" M4B2kSchoolSupplies","v":0},"Number","M4B2kSchoolSupplies",null,null,null,{"$f":"IF(PY_M4B2kSchoolSupplies=\"\",\"\",PY_M4B2kSchoolSupplies)","v":""},"PY_M4B2kSchoolSupplies"]
["SRV 2l Before and After School Activities","M4B2lExtraCurrBeforeAfter",{"$f":"\"'='\" & SUBSTITUTE(MID(CELL(\"address\",INDIRECT(B760)),$I$3,100),\"]\",\"\")","v":"'='Services Education'!$C$22"},{"$f":" M4B2lExtraCurrBeforeAfter","v":0},"Number","M4B2lExtraCurrBeforeAfter",null,null,null,{"$f":"IF(PY_M4B2lExtraCurrBeforeAfter=\"\",\"\",PY_M4B2lExtraCurrBeforeAfter)","v":""},"PY_M4B2lExtraCurrBeforeAfter"]
["SRV 2m Summer Youth Recreational Activities","M4B2mExtraCurrSummerRec",{"$f":"\"'='\" & SUBSTITUTE(MID(CELL(\"address\",INDIRECT(B761)),$I$3,100),\"]\",\"\")","v":"'='Services Education'!$C$23"},{"$f":" M4B2mExtraCurrSummerRec","v":0},"Number","M4B2mExtraCurrSummerRec",null,null,null,{"$f":"IF(PY_M4B2mExtraCurrSummerRec=\"\",\"\",PY_M4B2mExtraCurrSummerRec)","v":""},"PY_M4B2mExtraCurrSummerRec"]
["SRV 2n Summer Education Programs","M4B2nExtraCurrSummerEdu",{"$f":"\"'='\" & SUBSTITUTE(MID(CELL(\"address\",INDIRECT(B762)),$I$3,100),\"]\",\"\")","v":"'='Services Education'!$C$24"},{"$f":" M4B2nExtraCurrSummerEdu","v":0},"Number","M4B2nExtraCurrSummerEdu",null,null,null,{"$f":"IF(PY_M4B2nExtraCurrSummerEdu=\"\",\"\",PY_M4B2nExtraCurrSummerEdu)","v":""},"PY_M4B2nExtraCurrSummerEdu"]
["SRV 2o Behavior Improvement Programs (attitude, self-esteem, Dress-for-Success, etc.)","M4B2oExtraCurrBehavior",{"$f":"\"'='\" & SUBSTITUTE(MID(CELL(\"address\",INDIRECT(B763)),$I$3,100),\"]\",\"\")","v":"'='Services Education'!$C$25"},{"$f":" M4B2oExtraCurrBehavior","v":0},"Number","M4B2oExtraCurrBehavior",null,null,null,{"$f":"IF(PY_M4B2oExtraCurrBehavior=\"\",\"\",PY_M4B2oExtraCurrBehavior)","v":""},"PY_M4B2oExtraCurrBehavior"]
["SRV 2p Mentoring","M4B2pExtraCurrMentor",{"$f":"\"'='\" & SUBSTITUTE(MID(CELL(\"address\",INDIRECT(B764)),$I$3,100),\"]\",\"\")","v":"'='Services Education'!$C$26"},{"$f":" M4B2pExtraCurrMentor","v":0},"Number","M4B2pExtraCurrMentor",null,null,null,{"$f":"IF(PY_M4B2pExtraCurrMentor=\"\",\"\",PY_M4B2pExtraCurrMentor)","v":""},"PY_M4B2pExtraCurrMentor"]
["SRV 2q Leadership Training","M4B2qExtraCurrLeadership",{"$f":"\"'='\" & SUBSTITUTE(MID(CELL(\"address\",INDIRECT(B765)),$I$3,100),\"]\",\"\")","v":"'='Services Education'!$C$27"},{"$f":" M4B2qExtraCurrLeadership","v":0},"Number","M4B2qExtraCurrLeadership",null,null,null,{"$f":"IF(PY_M4B2qExtraCurrLeadership=\"\",\"\",PY_M4B2qExtraCurrLeadership)","v":""},"PY_M4B2qExtraCurrLeadership"]
["SRV 2r Adult Literacy Classes","M4B2rAdultEduLit",{"$f":"\"'='\" & SUBSTITUTE(MID(CELL(\"address\",INDIRECT(B766)),$I$3,100),\"]\",\"\")","v":"'='Services Education'!$C$29"},{"$f":" M4B2rAdultEduLit","v":0},"Number","M4B2rAdultEduLit",null,null,null,{"$f":"IF(PY_M4B2rAdultEduLit=\"\",\"\",PY_M4B2rAdultEduLit)","v":""},"PY_M4B2rAdultEduLit"]
["SRV 2s English Language Classes","M4B2sAdultEduEnglish",{"$f":"\"'='\" & SUBSTITUTE(MID(CELL(\"address\",INDIRECT(B767)),$I$3,100),\"]\",\"\")","v":"'='Services Education'!$C$30"},{"$f":" M4B2sAdultEduEnglish","v":0},"Number","M4B2sAdultEduEnglish",null,null,null,{"$f":"IF(PY_M4B2sAdultEduEnglish=\"\",\"\",PY_M4B2sAdultEduEnglish)","v":""},"PY_M4B2sAdultEduEnglish"]
["SRV 2t Basic Education Classes  ","M4B2tAdultEduBasic",{"$f":"\"'='\" & SUBSTITUTE(MID(CELL(\"address\",INDIRECT(B768)),$I$3,100),\"]\",\"\")","v":"'='Services Education'!$C$31"},{"$f":" M4B2tAdultEduBasic","v":0},"Number","M4B2tAdultEduBasic",null,null,null,{"$f":"IF(PY_M4B2tAdultEduBasic=\"\",\"\",PY_M4B2tAdultEduBasic)","v":""},"PY_M4B2tAdultEduBasic"]
["SRV 2u High School Equivalency Classes","M4B2uAdultEduHighSchool",{"$f":"\"'='\" & SUBSTITUTE(MID(CELL(\"address\",INDIRECT(B769)),$I$3,100),\"]\",\"\")","v":"'='Services Education'!$C$32"},{"$f":" M4B2uAdultEduHighSchool","v":0},"Number","M4B2uAdultEduHighSchool",null,null,null,{"$f":"IF(PY_M4B2uAdultEduHighSchool=\"\",\"\",PY_M4B2uAdultEduHighSchool)","v":""},"PY_M4B2uAdultEduHighSchool"]
["SRV 2v Leadership Training","M4B2vAdultEduLeadership",{"$f":"\"'='\" & SUBSTITUTE(MID(CELL(\"address\",INDIRECT(B770)),$I$3,100),\"]\",\"\")","v":"'='Services Education'!$C$33"},{"$f":" M4B2vAdultEduLeadership","v":0},"Number","M4B2vAdultEduLeadership",null,null,null,{"$f":"IF(PY_M4B2vAdultEduLeadership=\"\",\"\",PY_M4B2vAdultEduLeadership)","v":""},"PY_M4B2vAdultEduLeadership"]
["SRV 2w Parenting Supports (may be a part of the early childhood programs identified above)","M4B2wAdultEduParenting",{"$f":"\"'='\" & SUBSTITUTE(MID(CELL(\"address\",INDIRECT(B771)),$I$3,100),\"]\",\"\")","v":"'='Services Education'!$C$34"},{"$f":" M4B2wAdultEduParenting","v":0},"Number","M4B2wAdultEduParenting",null,null,null,{"$f":"IF(PY_M4B2wAdultEduParenting=\"\",\"\",PY_M4B2wAdultEduParenting)","v":""},"PY_M4B2wAdultEduParenting"]
["SRV 2x Applied Technology Classes","M4B2xAdultEduAppliedTech",{"$f":"\"'='\" & SUBSTITUTE(MID(CELL(\"address\",INDIRECT(B772)),$I$3,100),\"]\",\"\")","v":"'='Services Education'!$C$35"},{"$f":" M4B2xAdultEduAppliedTech","v":0},"Number","M4B2xAdultEduAppliedTech",null,null,null,{"$f":"IF(PY_M4B2xAdultEduAppliedTech=\"\",\"\",PY_M4B2xAdultEduAppliedTech)","v":""},"PY_M4B2xAdultEduAppliedTech"]
["SRV 2y Post-Secondary Education Preparation","M4B2yAdultEduPostSecPrep",{"$f":"\"'='\" & SUBSTITUTE(MID(CELL(\"address\",INDIRECT(B773)),$I$3,100),\"]\",\"\")","v":"'='Services Education'!$C$36"},{"$f":" M4B2yAdultEduPostSecPrep","v":0},"Number","M4B2yAdultEduPostSecPrep",null,null,null,{"$f":"IF(PY_M4B2yAdultEduPostSecPrep=\"\",\"\",PY_M4B2yAdultEduPostSecPrep)","v":""},"PY_M4B2yAdultEduPostSecPrep"]
["SRV 2z Financial Literacy Education","M4B2zAdultEduFinancialLit",{"$f":"\"'='\" & SUBSTITUTE(MID(CELL(\"address\",INDIRECT(B774)),$I$3,100),\"]\",\"\")","v":"'='Services Education'!$C$37"},{"$f":" M4B2zAdultEduFinancialLit","v":0},"Number","M4B2zAdultEduFinancialLit",null,null,null,{"$f":"IF(PY_M4B2zAdultEduFinancialLit=\"\",\"\",PY_M4B2zAdultEduFinancialLit)","v":""},"PY_M4B2zAdultEduFinancialLit"]
["SRV 2aa College applications, text books, computers, etc.","M4B2aaPostSecEduSupports",{"$f":"\"'='\" & SUBSTITUTE(MID(CELL(\"address\",INDIRECT(B775)),$I$3,100),\"]\",\"\")","v":"'='Services Education'!$C$39"},{"$f":" M4B2aaPostSecEduSupports","v":0},"Number","M4B2aaPostSecEduSupports",null,null,null,{"$f":"IF(PY_M4B2aaPostSecEduSupports=\"\",\"\",PY_M4B2aaPostSecEduSupports)","v":""},{"$f":"\"PY_\"&B775","v":"PY_M4B2aaPostSecEduSupports"}]
["SRV 2bb Scholarships","M4B2bbFinancialAid",{"$f":"\"'='\" & SUBSTITUTE(MID(CELL(\"address\",INDIRECT(B776)),$I$3,100),\"]\",\"\")","v":"'='Services Education'!$C$41"},{"$f":" M4B2bbFinancialAid","v":0},"Number","M4B2bbFinancialAid",null,null,null,{"$f":"IF(PY_M4B2bbFinancialAid=\"\",\"\",PY_M4B2bbFinancialAid)","v":""},"PY_M4B2bbFinancialAid"]
["SRV 2cc Home Visits","M4B2ccHomeVisits",{"$f":"\"'='\" & SUBSTITUTE(MID(CELL(\"address\",INDIRECT(B777)),$I$3,100),\"]\",\"\")","v":"'='Services Education'!$C$43"},{"$f":" M4B2ccHomeVisits","v":0},"Number","M4B2ccHomeVisits",null,null,null,{"$f":"IF(PY_M4B2ccHomeVisits=\"\",\"\",PY_M4B2ccHomeVisits)","v":""},"PY_M4B2ccHomeVisits"]
["SRV 1a Vocational Training ","M4B1aSkillsVocational",{"$f":"\"'='\" & SUBSTITUTE(MID(CELL(\"address\",INDIRECT(B778)),$I$3,100),\"]\",\"\")","v":"'='Services Employment'!$C$9"},{"$f":" M4B1aSkillsVocational","v":0},"Number","M4B1aSkillsVocational",null,null,null,{"$f":"IF(PY_M4B1aSkillsVocational=\"\",\"\",PY_M4B1aSkillsVocational)","v":""},"PY_M4B1aSkillsVocational"]
["SRV 1b On-the-Job and other Work Experience ","M4B1bSkillsOTJ",{"$f":"\"'='\" & SUBSTITUTE(MID(CELL(\"address\",INDIRECT(B779)),$I$3,100),\"]\",\"\")","v":"'='Services Employment'!$C$10"},{"$f":" M4B1bSkillsOTJ","v":0},"Number","M4B1bSkillsOTJ",null,null,null,{"$f":"IF(PY_M4B1bSkillsOTJ=\"\",\"\",PY_M4B1bSkillsOTJ)","v":""},"PY_M4B1bSkillsOTJ"]
["SRV 1c Youth Summer Work Placements","M4B1cSkillsYouthSummer",{"$f":"\"'='\" & SUBSTITUTE(MID(CELL(\"address\",INDIRECT(B780)),$I$3,100),\"]\",\"\")","v":"'='Services Employment'!$C$11"},{"$f":" M4B1cSkillsYouthSummer","v":0},"Number","M4B1cSkillsYouthSummer",null,null,null,{"$f":"IF(PY_M4B1cSkillsYouthSummer=\"\",\"\",PY_M4B1cSkillsYouthSummer)","v":""},"PY_M4B1cSkillsYouthSummer"]
["SRV 1d Apprenticeship/Internship","M4B1dSkillsApprentice",{"$f":"\"'='\" & SUBSTITUTE(MID(CELL(\"address\",INDIRECT(B781)),$I$3,100),\"]\",\"\")","v":"'='Services Employment'!$C$12"},{"$f":" M4B1dSkillsApprentice","v":0},"Number","M4B1dSkillsApprentice",null,null,null,{"$f":"IF(PY_M4B1dSkillsApprentice=\"\",\"\",PY_M4B1dSkillsApprentice)","v":""},"PY_M4B1dSkillsApprentice"]
["SRV 1e Self-Employment Skills Training  ","M4B1eSkillsSelfEmploy",{"$f":"\"'='\" & SUBSTITUTE(MID(CELL(\"address\",INDIRECT(B782)),$I$3,100),\"]\",\"\")","v":"'='Services Employment'!$C$13"},{"$f":" M4B1eSkillsSelfEmploy","v":0},"Number","M4B1eSkillsSelfEmploy",null,null,null,{"$f":"IF(PY_M4B1eSkillsSelfEmploy=\"\",\"\",PY_M4B1eSkillsSelfEmploy)","v":""},"PY_M4B1eSkillsSelfEmploy"]
["SRV 1f Job Readiness Training  ","M4B1fSkillsJobReadiness",{"$f":"\"'='\" & SUBSTITUTE(MID(CELL(\"address\",INDIRECT(B783)),$I$3,100),\"]\",\"\")","v":"'='Services Employment'!$C$14"},{"$f":" M4B1fSkillsJobReadiness","v":0},"Number","M4B1fSkillsJobReadiness",null,null,null,{"$f":"IF(PY_M4B1fSkillsJobReadiness=\"\",\"\",PY_M4B1fSkillsJobReadiness)","v":""},"PY_M4B1fSkillsJobReadiness"]
["SRV 1g Workshops","M4B1gCareerWorkshops",{"$f":"\"'='\" & SUBSTITUTE(MID(CELL(\"address\",INDIRECT(B784)),$I$3,100),\"]\",\"\")","v":"'='Services Employment'!$C$16"},{"$f":" M4B1gCareerWorkshops","v":0},"Number","M4B1gCareerWorkshops",null,null,null,{"$f":"IF(PY_M4B1gCareerWorkshops=\"\",\"\",PY_M4B1gCareerWorkshops)","v":""},"PY_M4B1gCareerWorkshops"]
["SRV 1h Coaching ","M4B1hCareerCoaching",{"$f":"\"'='\" & SUBSTITUTE(MID(CELL(\"address\",INDIRECT(B785)),$I$3,100),\"]\",\"\")","v":"'='Services Employment'!$C$17"},{"$f":" M4B1hCareerCoaching","v":0},"Number","M4B1hCareerCoaching",null,null,null,{"$f":"IF(PY_M4B1hCareerCoaching=\"\",\"\",PY_M4B1hCareerCoaching)","v":""},"PY_M4B1hCareerCoaching"]
["SRV 1i Coaching ","M4B1iJobSearchCoaching",{"$f":"\"'='\" & SUBSTITUTE(MID(CELL(\"address\",INDIRECT(B786)),$I$3,100),\"]\",\"\")","v":"'='Services Employment'!$C$19"},{"$f":" M4B1iJobSearchCoaching","v":0},"Number","M4B1iJobSearchCoaching",null,null,null,{"$f":"IF(PY_M4B1iJobSearchCoaching=\"\",\"\",PY_M4B1iJobSearchCoaching)","v":""},"PY_M4B1iJobSearchCoaching"]
["SRV 1j Resume Development ","M4B1jJobSearchResume",{"$f":"\"'='\" & SUBSTITUTE(MID(CELL(\"address\",INDIRECT(B787)),$I$3,100),\"]\",\"\")","v":"'='Services Employment'!$C$20"},{"$f":" M4B1jJobSearchResume","v":0},"Number","M4B1jJobSearchResume",null,null,null,{"$f":"IF(PY_M4B1jJobSearchResume=\"\",\"\",PY_M4B1jJobSearchResume)","v":""},"PY_M4B1jJobSearchResume"]
["SRV 1k Interview Skills Training ","M4B1kJobSearchInterview",{"$f":"\"'='\" & SUBSTITUTE(MID(CELL(\"address\",INDIRECT(B788)),$I$3,100),\"]\",\"\")","v":"'='Services Employment'!$C$21"},{"$f":" M4B1kJobSearchInterview","v":0},"Number","M4B1kJobSearchInterview",null,null,null,{"$f":"IF(PY_M4B1kJobSearchInterview=\"\",\"\",PY_M4B1kJobSearchInterview)","v":""},"PY_M4B1kJobSearchInterview"]
["SRV 1l Job Referrals","M4B1lJobSearchReferral",{"$f":"\"'='\" & SUBSTITUTE(MID(CELL(\"address\",INDIRECT(B789)),$I$3,100),\"]\",\"\")","v":"'='Services Employment'!$C$22"},{"$f":" M4B1lJobSearchReferral","v":0},"Number","M4B1lJobSearchReferral",null,null,null,{"$f":"IF(PY_M4B1lJobSearchReferral=\"\",\"\",PY_M4B1lJobSearchReferral)","v":""},"PY_M4B1lJobSearchReferral"]
["SRV 1m Job Placements","M4B1mJobSearchPlacement",{"$f":"\"'='\" & SUBSTITUTE(MID(CELL(\"address\",INDIRECT(B790)),$I$3,100),\"]\",\"\")","v":"'='Services Employment'!$C$23"},{"$f":" M4B1mJobSearchPlacement","v":0},"Number","M4B1mJobSearchPlacement",null,null,null,{"$f":"IF(PY_M4B1mJobSearchPlacement=\"\",\"\",PY_M4B1mJobSearchPlacement)","v":""},"PY_M4B1mJobSearchPlacement"]
["SRV 1n Pre-employment physicals, background checks, etc.","M4B1nJobSearchBackground",{"$f":"\"'='\" & SUBSTITUTE(MID(CELL(\"address\",INDIRECT(B791)),$I$3,100),\"]\",\"\")","v":"'='Services Employment'!$C$24"},{"$f":" M4B1nJobSearchBackground","v":0},"Number","M4B1nJobSearchBackground",null,null,null,{"$f":"IF(PY_M4B1nJobSearchBackground=\"\",\"\",PY_M4B1nJobSearchBackground)","v":""},"PY_M4B1nJobSearchBackground"]
["SRV 1o Coaching ","M4B1oPostEmployCoaching",{"$f":"\"'='\" & SUBSTITUTE(MID(CELL(\"address\",INDIRECT(B792)),$I$3,100),\"]\",\"\")","v":"'='Services Employment'!$C$26"},{"$f":" M4B1oPostEmployCoaching","v":0},"Number","M4B1oPostEmployCoaching",null,null,null,{"$f":"IF(PY_M4B1oPostEmployCoaching=\"\",\"\",PY_M4B1oPostEmployCoaching)","v":""},"PY_M4B1oPostEmployCoaching"]
["SRV 1p Interactions with employers ","M4B1pPostEmployInteraction",{"$f":"\"'='\" & SUBSTITUTE(MID(CELL(\"address\",INDIRECT(B793)),$I$3,100),\"]\",\"\")","v":"'='Services Employment'!$C$27"},{"$f":" M4B1pPostEmployInteraction","v":0},"Number","M4B1pPostEmployInteraction",null,null,null,{"$f":"IF(PY_M4B1pPostEmployInteraction=\"\",\"\",PY_M4B1pPostEmployInteraction)","v":""},"PY_M4B1pPostEmployInteraction"]
["SRV 1q Employment Supplies","M4B1qEmploySupplies",{"$f":"\"'='\" & SUBSTITUTE(MID(CELL(\"address\",INDIRECT(B794)),$I$3,100),\"]\",\"\")","v":"'='Services Employment'!$C$29"},{"$f":" M4B1qEmploySupplies","v":0},"Number","M4B1qEmploySupplies",null,null,null,{"$f":"IF(PY_M4B1qEmploySupplies=\"\",\"\",PY_M4B1qEmploySupplies)","v":""},"PY_M4B1qEmploySupplies"]
["SRV 5a Immunizations","M4B5aHealthServImmun",{"$f":"\"'='\" & SUBSTITUTE(MID(CELL(\"address\",INDIRECT(B795)),$I$3,100),\"]\",\"\")","v":"'='Services Health'!$C$9"},{"$f":" M4B5aHealthServImmun","v":0},"Number","M4B5aHealthServImmun",null,null,null,{"$f":"IF(PY_M4B5aHealthServImmun=\"\",\"\",PY_M4B5aHealthServImmun)","v":""},"PY_M4B5aHealthServImmun"]
["SRV 5b Physicals","M4B5bHealthServPhysical",{"$f":"\"'='\" & SUBSTITUTE(MID(CELL(\"address\",INDIRECT(B796)),$I$3,100),\"]\",\"\")","v":"'='Services Health'!$C$10"},{"$f":" M4B5bHealthServPhysical","v":0},"Number","M4B5bHealthServPhysical",null,null,null,{"$f":"IF(PY_M4B5bHealthServPhysical=\"\",\"\",PY_M4B5bHealthServPhysical)","v":""},"PY_M4B5bHealthServPhysical"]
["SRV 5c Developmental Delay Screening","M4B5cHealthServDevScreen",{"$f":"\"'='\" & SUBSTITUTE(MID(CELL(\"address\",INDIRECT(B797)),$I$3,100),\"]\",\"\")","v":"'='Services Health'!$C$11"},{"$f":" M4B5cHealthServDevScreen","v":0},"Number","M4B5cHealthServDevScreen",null,null,null,{"$f":"IF(PY_M4B5cHealthServDevScreen=\"\",\"\",PY_M4B5cHealthServDevScreen)","v":""},"PY_M4B5cHealthServDevScreen"]
["SRV 5d Vision  Screening","M4B5dHealthServVisionScreen",{"$f":"\"'='\" & SUBSTITUTE(MID(CELL(\"address\",INDIRECT(B798)),$I$3,100),\"]\",\"\")","v":"'='Services Health'!$C$12"},{"$f":" M4B5dHealthServVisionScreen","v":0},"Number","M4B5dHealthServVisionScreen",null,null,null,{"$f":"IF(PY_M4B5dHealthServVisionScreen=\"\",\"\",PY_M4B5dHealthServVisionScreen)","v":""},"PY_M4B5dHealthServVisionScreen"]
["SRV 5e Prescription Payments","M4B5eHealthServRxPay",{"$f":"\"'='\" & SUBSTITUTE(MID(CELL(\"address\",INDIRECT(B799)),$I$3,100),\"]\",\"\")","v":"'='Services Health'!$C$13"},{"$f":" M4B5eHealthServRxPay","v":0},"Number","M4B5eHealthServRxPay",null,null,null,{"$f":"IF(PY_M4B5eHealthServRxPay=\"\",\"\",PY_M4B5eHealthServRxPay)","v":""},"PY_M4B5eHealthServRxPay"]
["SRV 5f Doctor Visit Payments","M4B5fHealthServDrPay",{"$f":"\"'='\" & SUBSTITUTE(MID(CELL(\"address\",INDIRECT(B800)),$I$3,100),\"]\",\"\")","v":"'='Services Health'!$C$14"},{"$f":" M4B5fHealthServDrPay","v":0},"Number","M4B5fHealthServDrPay",null,null,null,{"$f":"IF(PY_M4B5fHealthServDrPay=\"\",\"\",PY_M4B5fHealthServDrPay)","v":""},"PY_M4B5fHealthServDrPay"]
["SRV 5g Maternal/Child Health","M4B5gHealthServMaternalHealth",{"$f":"\"'='\" & SUBSTITUTE(MID(CELL(\"address\",INDIRECT(B801)),$I$3,100),\"]\",\"\")","v":"'='Services Health'!$C$15"},{"$f":" M4B5gHealthServMaternalHealth","v":0},"Number","M4B5gHealthServMaternalHealth",null,null,null,{"$f":"IF(PY_M4B5gHealthServMaternalHealth=\"\",\"\",PY_M4B5gHealthServMaternalHealth)","v":""},"PY_M4B5gHealthServMaternalHealth"]
["SRV 5h Nursing Care Sessions","M4B5hHealthServNursing",{"$f":"\"'='\" & SUBSTITUTE(MID(CELL(\"address\",INDIRECT(B802)),$I$3,100),\"]\",\"\")","v":"'='Services Health'!$C$16"},{"$f":" M4B5hHealthServNursing","v":0},"Number","M4B5hHealthServNursing",null,null,null,{"$f":"IF(PY_M4B5hHealthServNursing=\"\",\"\",PY_M4B5hHealthServNursing)","v":""},"PY_M4B5hHealthServNursing"]
["SRV 5i In-Home Affordable Seniors/Disabled Care Sessions\n(Nursing, Chores, Personal Care Services) ","M4B5iHealthServInHome",{"$f":"\"'='\" & SUBSTITUTE(MID(CELL(\"address\",INDIRECT(B803)),$I$3,100),\"]\",\"\")","v":"'='Services Health'!$C$17"},{"$f":" M4B5iHealthServInHome","v":0},"Number","M4B5iHealthServInHome",null,null,null,{"$f":"IF(PY_M4B5iHealthServInHome=\"\",\"\",PY_M4B5iHealthServInHome)","v":""},"PY_M4B5iHealthServInHome"]
["SRV 5j Health Insurance Options Counseling","M4B5jHealthServeInsCounsel",{"$f":"\"'='\" & SUBSTITUTE(MID(CELL(\"address\",INDIRECT(B804)),$I$3,100),\"]\",\"\")","v":"'='Services Health'!$C$18"},{"$f":" M4B5jHealthServeInsCounsel","v":0},"Number","M4B5jHealthServeInsCounsel",null,null,null,{"$f":"IF(PY_M4B5jHealthServeInsCounsel=\"\",\"\",PY_M4B5jHealthServeInsCounsel)","v":""},"PY_M4B5jHealthServeInsCounsel"]
["SRV 5k Coaching Sessions","M4B5kReprodHealthCoach",{"$f":"\"'='\" & SUBSTITUTE(MID(CELL(\"address\",INDIRECT(B805)),$I$3,100),\"]\",\"\")","v":"'='Services Health'!$C$20"},{"$f":" M4B5kReprodHealthCoach","v":0},"Number","M4B5kReprodHealthCoach",null,null,null,{"$f":"IF(PY_M4B5kReprodHealthCoach=\"\",\"\",PY_M4B5kReprodHealthCoach)","v":""},"PY_M4B5kReprodHealthCoach"]
["SRV 5l Family Planning Classes","M4B5lReprodHealthPlan",{"$f":"\"'='\" & SUBSTITUTE(MID(CELL(\"address\",INDIRECT(B806)),$I$3,100),\"]\",\"\")","v":"'='Services Health'!$C$21"},{"$f":" M4B5lReprodHealthPlan","v":0},"Number","M4B5lReprodHealthPlan",null,null,null,{"$f":"IF(PY_M4B5lReprodHealthPlan=\"\",\"\",PY_M4B5lReprodHealthPlan)","v":""},"PY_M4B5lReprodHealthPlan"]
["SRV 5m Contraceptives","M4B5mReprodHealthContra",{"$f":"\"'='\" & SUBSTITUTE(MID(CELL(\"address\",INDIRECT(B807)),$I$3,100),\"]\",\"\")","v":"'='Services Health'!$C$22"},{"$f":" M4B5mReprodHealthContra","v":0},"Number","M4B5mReprodHealthContra",null,null,null,{"$f":"IF(PY_M4B5mReprodHealthContra=\"\",\"\",PY_M4B5mReprodHealthContra)","v":""},{"$f":"\"PY_\"&B807","v":"PY_M4B5mReprodHealthContra"}]
["SRV 5n STI/HIV Prevention Counseling Sessions","M4B5nReprodHealthSTIPrev",{"$f":"\"'='\" & SUBSTITUTE(MID(CELL(\"address\",INDIRECT(B808)),$I$3,100),\"]\",\"\")","v":"'='Services Health'!$C$23"},{"$f":" M4B5nReprodHealthSTIPrev","v":0},"Number","M4B5nReprodHealthSTIPrev",null,null,null,{"$f":"IF(PY_M4B5nReprodHealthSTIPrev=\"\",\"\",PY_M4B5nReprodHealthSTIPrev)","v":""},"PY_M4B5nReprodHealthSTIPrev"]
["SRV 5o STI/HIV Screenings","M4B5oReprodHealthSTIScreen",{"$f":"\"'='\" & SUBSTITUTE(MID(CELL(\"address\",INDIRECT(B809)),$I$3,100),\"]\",\"\")","v":"'='Services Health'!$C$24"},{"$f":" M4B5oReprodHealthSTIScreen","v":0},"Number","M4B5oReprodHealthSTIScreen",null,null,null,{"$f":"IF(PY_M4B5oReprodHealthSTIScreen=\"\",\"\",PY_M4B5oReprodHealthSTIScreen)","v":""},"PY_M4B5oReprodHealthSTIScreen"]
["SRV 5p Wellness Classes (stress reduction, medication management, mindfulness, etc.)","M4B5pWellnessEduClass",{"$f":"\"'='\" & SUBSTITUTE(MID(CELL(\"address\",INDIRECT(B810)),$I$3,100),\"]\",\"\")","v":"'='Services Health'!$C$26"},{"$f":" M4B5pWellnessEduClass","v":0},"Number","M4B5pWellnessEduClass",null,null,null,{"$f":"IF(PY_M4B5pWellnessEduClass=\"\",\"\",PY_M4B5pWellnessEduClass)","v":""},"PY_M4B5pWellnessEduClass"]
["SRV 5q Exercise/Fitness ","M4B5qWellnessEduFitness",{"$f":"\"'='\" & SUBSTITUTE(MID(CELL(\"address\",INDIRECT(B811)),$I$3,100),\"]\",\"\")","v":"'='Services Health'!$C$27"},{"$f":" M4B5qWellnessEduFitness","v":0},"Number","M4B5qWellnessEduFitness",null,null,null,{"$f":"IF(PY_M4B5qWellnessEduFitness=\"\",\"\",PY_M4B5qWellnessEduFitness)","v":""},"PY_M4B5qWellnessEduFitness"]
["SRV 5r Detoxification Sessions","M4B5rMentalHealthDetox",{"$f":"\"'='\" & SUBSTITUTE(MID(CELL(\"address\",INDIRECT(B812)),$I$3,100),\"]\",\"\")","v":"'='Services Health'!$C$29"},{"$f":" M4B5rMentalHealthDetox","v":0},"Number","M4B5rMentalHealthDetox",null,null,null,{"$f":"IF(PY_M4B5rMentalHealthDetox=\"\",\"\",PY_M4B5rMentalHealthDetox)","v":""},"PY_M4B5rMentalHealthDetox"]
["SRV 5s Substance Abuse Screenings","M4B5sMentalHealthSubAbuseScreen",{"$f":"\"'='\" & SUBSTITUTE(MID(CELL(\"address\",INDIRECT(B813)),$I$3,100),\"]\",\"\")","v":"'='Services Health'!$C$30"},{"$f":" M4B5sMentalHealthSubAbuseScreen","v":0},"Number","M4B5sMentalHealthSubAbuseScreen",null,null,null,{"$f":"IF(PY_M4B5sMentalHealthSubAbuseScreen=\"\",\"\",PY_M4B5sMentalHealthSubAbuseScreen)","v":""},"PY_M4B5sMentalHealthSubAbuseScreen"]
["SRV 5t Substance Abuse Counseling ","M4B5tMentalHealthSubAbuseCounsel",{"$f":"\"'='\" & SUBSTITUTE(MID(CELL(\"address\",INDIRECT(B814)),$I$3,100),\"]\",\"\")","v":"'='Services Health'!$C$31"},{"$f":" M4B5tMentalHealthSubAbuseCounsel","v":0},"Number","M4B5tMentalHealthSubAbuseCounsel",null,null,null,{"$f":"IF(PY_M4B5tMentalHealthSubAbuseCounsel=\"\",\"\",PY_M4B5tMentalHealthSubAbuseCounsel)","v":""},"PY_M4B5tMentalHealthSubAbuseCounsel"]
["SRV 5u Mental Health Assessments","M4B5uMentalHealthAssess",{"$f":"\"'='\" & SUBSTITUTE(MID(CELL(\"address\",INDIRECT(B815)),$I$3,100),\"]\",\"\")","v":"'='Services Health'!$C$32"},{"$f":" M4B5uMentalHealthAssess","v":0},"Number","M4B5uMentalHealthAssess",null,null,null,{"$f":"IF(PY_M4B5uMentalHealthAssess=\"\",\"\",PY_M4B5uMentalHealthAssess)","v":""},"PY_M4B5uMentalHealthAssess"]
["SRV 5v Mental Health Counseling ","M4B5vMentalHealthCounsel",{"$f":"\"'='\" & SUBSTITUTE(MID(CELL(\"address\",INDIRECT(B816)),$I$3,100),\"]\",\"\")","v":"'='Services Health'!$C$33"},{"$f":" M4B5vMentalHealthCounsel","v":0},"Number","M4B5vMentalHealthCounsel",null,null,null,{"$f":"IF(PY_M4B5vMentalHealthCounsel=\"\",\"\",PY_M4B5vMentalHealthCounsel)","v":""},"PY_M4B5vMentalHealthCounsel"]
["SRV 5w Crisis Response/Call-In Responses","M4B5wMentalHealthResponse",{"$f":"\"'='\" & SUBSTITUTE(MID(CELL(\"address\",INDIRECT(B817)),$I$3,100),\"]\",\"\")","v":"'='Services Health'!$C$34"},{"$f":" M4B5wMentalHealthResponse","v":0},"Number","M4B5wMentalHealthResponse",null,null,null,{"$f":"IF(PY_M4B5wMentalHealthResponse=\"\",\"\",PY_M4B5wMentalHealthResponse)","v":""},"PY_M4B5wMentalHealthResponse"]
["SRV 5x Domestic Violence Programs","M4B5xMentalHealthDomVio",{"$f":"\"'='\" & SUBSTITUTE(MID(CELL(\"address\",INDIRECT(B818)),$I$3,100),\"]\",\"\")","v":"'='Services Health'!$C$35"},{"$f":" M4B5xMentalHealthDomVio","v":0},"Number","M4B5xMentalHealthDomVio",null,null,null,{"$f":"IF(PY_M4B5xMentalHealthDomVio=\"\",\"\",PY_M4B5xMentalHealthDomVio)","v":""},"PY_M4B5xMentalHealthDomVio"]
["SRV 5y Substance Abuse Support Group Meetings","M4B5ySupportGroupsSubAbuse",{"$f":"\"'='\" & SUBSTITUTE(MID(CELL(\"address\",INDIRECT(B819)),$I$3,100),\"]\",\"\")","v":"'='Services Health'!$C$37"},{"$f":" M4B5ySupportGroupsSubAbuse","v":0},"Number","M4B5ySupportGroupsSubAbuse",null,null,null,{"$f":"IF(PY_M4B5ySupportGroupsSubAbuse=\"\",\"\",PY_M4B5ySupportGroupsSubAbuse)","v":""},"PY_M4B5ySupportGroupsSubAbuse"]
["SRV 5z Domestic Violence Support Group Meetings","M4B5zSupportGroupsDomVio",{"$f":"\"'='\" & SUBSTITUTE(MID(CELL(\"address\",INDIRECT(B820)),$I$3,100),\"]\",\"\")","v":"'='Services Health'!$C$38"},{"$f":" M4B5zSupportGroupsDomVio","v":0},"Number","M4B5zSupportGroupsDomVio",null,null,null,{"$f":"IF(PY_M4B5zSupportGroupsDomVio=\"\",\"\",PY_M4B5zSupportGroupsDomVio)","v":""},"PY_M4B5zSupportGroupsDomVio"]
["SRV 5aa Mental Health Support Group Meeting","M4B5aaSupportGroupsMentalHealth",{"$f":"\"'='\" & SUBSTITUTE(MID(CELL(\"address\",INDIRECT(B821)),$I$3,100),\"]\",\"\")","v":"'='Services Health'!$C$39"},{"$f":" M4B5aaSupportGroupsMentalHealth","v":0},"Number","M4B5aaSupportGroupsMentalHealth",null,null,null,{"$f":"IF(PY_M4B5aaSupportGroupsMentalHealth=\"\",\"\",PY_M4B5aaSupportGroupsMentalHealth)","v":""},"PY_M4B5aaSupportGroupsMentalHealth"]
["SRV 5bb Adult Dental Screening/Exams","M4B5bbDentalAdultScreen",{"$f":"\"'='\" & SUBSTITUTE(MID(CELL(\"address\",INDIRECT(B822)),$I$3,100),\"]\",\"\")","v":"'='Services Health'!$C$42"},{"$f":" M4B5bbDentalAdultScreen","v":0},"Number","M4B5bbDentalAdultScreen",null,null,null,{"$f":"IF(PY_M4B5bbDentalAdultScreen=\"\",\"\",PY_M4B5bbDentalAdultScreen)","v":""},"PY_M4B5bbDentalAdultScreen"]
["SRV 5cc Adult Dental Services (including Emergency Dental Procedures)","M4B5ccDentalAdultServ",{"$f":"\"'='\" & SUBSTITUTE(MID(CELL(\"address\",INDIRECT(B823)),$I$3,100),\"]\",\"\")","v":"'='Services Health'!$C$43"},{"$f":" M4B5ccDentalAdultServ","v":0},"Number","M4B5ccDentalAdultServ",null,null,null,{"$f":"IF(PY_M4B5ccDentalAdultServ=\"\",\"\",PY_M4B5ccDentalAdultServ)","v":""},"PY_M4B5ccDentalAdultServ"]
["SRV 5dd Child Dental Screenings/Exams","M4B5ddDentalChildScreen",{"$f":"\"'='\" & SUBSTITUTE(MID(CELL(\"address\",INDIRECT(B824)),$I$3,100),\"]\",\"\")","v":"'='Services Health'!$C$44"},{"$f":" M4B5ddDentalChildScreen","v":0},"Number","M4B5ddDentalChildScreen",null,null,null,{"$f":"IF(PY_M4B5ddDentalChildScreen=\"\",\"\",PY_M4B5ddDentalChildScreen)","v":""},"PY_M4B5ddDentalChildScreen"]
["SRV 5ee Child Dental Services (including Emergency Dental Procedures)","M4B5eeDentalChildServ",{"$f":"\"'='\" & SUBSTITUTE(MID(CELL(\"address\",INDIRECT(B825)),$I$3,100),\"]\",\"\")","v":"'='Services Health'!$C$45"},{"$f":" M4B5eeDentalChildServ","v":0},"Number","M4B5eeDentalChildServ",null,null,null,{"$f":"IF(PY_M4B5eeDentalChildServ=\"\",\"\",PY_M4B5eeDentalChildServ)","v":""},"PY_M4B5eeDentalChildServ"]
["SRV 5ff Skills Classes (Gardening, Cooking, Nutrition)","M4B5ffNutritionSkills",{"$f":"\"'='\" & SUBSTITUTE(MID(CELL(\"address\",INDIRECT(B826)),$I$3,100),\"]\",\"\")","v":"'='Services Health'!$C$47"},{"$f":" M4B5ffNutritionSkills","v":0},"Number","M4B5ffNutritionSkills",null,null,null,{"$f":"IF(PY_M4B5ffNutritionSkills=\"\",\"\",PY_M4B5ffNutritionSkills)","v":""},"PY_M4B5ffNutritionSkills"]
["SRV 5gg Community Gardening Activities","M4B5ggNutritionGardening",{"$f":"\"'='\" & SUBSTITUTE(MID(CELL(\"address\",INDIRECT(B827)),$I$3,100),\"]\",\"\")","v":"'='Services Health'!$C$48"},{"$f":" M4B5ggNutritionGardening","v":0},"Number","M4B5ggNutritionGardening",null,null,null,{"$f":"IF(PY_M4B5ggNutritionGardening=\"\",\"\",PY_M4B5ggNutritionGardening)","v":""},"PY_M4B5ggNutritionGardening"]
["SRV 5hh Incentives (e.g. gift card for food preparation, rewards for participation, etc.)","M4B5hhNutritionIncentives",{"$f":"\"'='\" & SUBSTITUTE(MID(CELL(\"address\",INDIRECT(B828)),$I$3,100),\"]\",\"\")","v":"'='Services Health'!$C$49"},{"$f":" M4B5hhNutritionIncentives","v":0},"Number","M4B5hhNutritionIncentives",null,null,null,{"$f":"IF(PY_M4B5hhNutritionIncentives=\"\",\"\",PY_M4B5hhNutritionIncentives)","v":""},"PY_M4B5hhNutritionIncentives"]
["SRV 5ii Prepared Meals","M4B5iiNutritionPrepMeals",{"$f":"\"'='\" & SUBSTITUTE(MID(CELL(\"address\",INDIRECT(B829)),$I$3,100),\"]\",\"\")","v":"'='Services Health'!$C$50"},{"$f":" M4B5iiNutritionPrepMeals","v":0},"Number","M4B5iiNutritionPrepMeals",null,null,null,{"$f":"IF(PY_M4B5iiNutritionPrepMeals=\"\",\"\",PY_M4B5iiNutritionPrepMeals)","v":""},"PY_M4B5iiNutritionPrepMeals"]
["SRV 5jj Food Distribution (Food Bags/Boxes, Food Share Program, Bags of Groceries)  ","M4B5jjNutritionFoodDist",{"$f":"\"'='\" & SUBSTITUTE(MID(CELL(\"address\",INDIRECT(B830)),$I$3,100),\"]\",\"\")","v":"'='Services Health'!$C$51"},{"$f":" M4B5jjNutritionFoodDist","v":0},"Number","M4B5jjNutritionFoodDist",null,null,null,{"$f":"IF(PY_M4B5jjNutritionFoodDist=\"\",\"\",PY_M4B5jjNutritionFoodDist)","v":""},"PY_M4B5jjNutritionFoodDist"]
["SRV 5kk Family Mentoring Sessions","M4B5kkFamilySkillMentor",{"$f":"\"'='\" & SUBSTITUTE(MID(CELL(\"address\",INDIRECT(B831)),$I$3,100),\"]\",\"\")","v":"'='Services Health'!$C$53"},{"$f":" M4B5kkFamilySkillMentor","v":0},"Number","M4B5kkFamilySkillMentor",null,null,null,{"$f":"IF(PY_M4B5kkFamilySkillMentor=\"\",\"\",PY_M4B5kkFamilySkillMentor)","v":""},"PY_M4B5kkFamilySkillMentor"]
["SRV 5ll Life Skills Coaching Sessions","M4B5llFamilySkillsLife",{"$f":"\"'='\" & SUBSTITUTE(MID(CELL(\"address\",INDIRECT(B832)),$I$3,100),\"]\",\"\")","v":"'='Services Health'!$C$54"},{"$f":" M4B5llFamilySkillsLife","v":0},"Number","M4B5llFamilySkillsLife",null,null,null,{"$f":"IF(PY_M4B5llFamilySkillsLife=\"\",\"\",PY_M4B5llFamilySkillsLife)","v":""},"PY_M4B5llFamilySkillsLife"]
["SRV 5mm Parenting Classes","M4B5mmFamilySkillsParent",{"$f":"\"'='\" & SUBSTITUTE(MID(CELL(\"address\",INDIRECT(B833)),$I$3,100),\"]\",\"\")","v":"'='Services Health'!$C$55"},{"$f":" M4B5mmFamilySkillsParent","v":0},"Number","M4B5mmFamilySkillsParent",null,null,null,{"$f":"IF(PY_M4B5mmFamilySkillsParent=\"\",\"\",PY_M4B5mmFamilySkillsParent)","v":""},"PY_M4B5mmFamilySkillsParent"]
["SRV 5nn Kits/boxes","M4B5nnEmerHygieneKits",{"$f":"\"'='\" & SUBSTITUTE(MID(CELL(\"address\",INDIRECT(B834)),$I$3,100),\"]\",\"\")","v":"'='Services Health'!$C$57"},{"$f":" M4B5nnEmerHygieneKits","v":0},"Number","M4B5nnEmerHygieneKits",null,null,null,{"$f":"IF(PY_M4B5nnEmerHygieneKits=\"\",\"\",PY_M4B5nnEmerHygieneKits)","v":""},"PY_M4B5nnEmerHygieneKits"]
["SRV 5oo Hygiene Facility Utilizations (e.g. showers, toilets, sinks)","M4B5ooEmerHygieneFacility",{"$f":"\"'='\" & SUBSTITUTE(MID(CELL(\"address\",INDIRECT(B835)),$I$3,100),\"]\",\"\")","v":"'='Services Health'!$C$58"},{"$f":" M4B5ooEmerHygieneFacility","v":0},"Number","M4B5ooEmerHygieneFacility",null,null,null,{"$f":"IF(PY_M4B5ooEmerHygieneFacility=\"\",\"\",PY_M4B5ooEmerHygieneFacility)","v":""},"PY_M4B5ooEmerHygieneFacility"]
["SRV 4a Financial Capability Skill Training ","M4B4aHousePayFinancialCap",{"$f":"\"'='\" & SUBSTITUTE(MID(CELL(\"address\",INDIRECT(B836)),$I$3,100),\"]\",\"\")","v":"'='Services Housing'!$C$9"},{"$f":" M4B4aHousePayFinancialCap","v":0},"Number","M4B4aHousePayFinancialCap",null,null,null,{"$f":"IF(PY_M4B4aHousePayFinancialCap=\"\",\"\",PY_M4B4aHousePayFinancialCap)","v":""},"PY_M4B4aHousePayFinancialCap"]
["SRV 4b Financial Coaching/Counseling ","M4B4bHousePayFinancialCounsel",{"$f":"\"'='\" & SUBSTITUTE(MID(CELL(\"address\",INDIRECT(B837)),$I$3,100),\"]\",\"\")","v":"'='Services Housing'!$C$10"},{"$f":" M4B4bHousePayFinancialCounsel","v":0},"Number","M4B4bHousePayFinancialCounsel",null,null,null,{"$f":"IF(PY_M4B4bHousePayFinancialCounsel=\"\",\"\",PY_M4B4bHousePayFinancialCounsel)","v":""},"PY_M4B4bHousePayFinancialCounsel"]
["SRV 4c Rent Payments (includes Emergency Rent Payments)","M4B4cHousePayRent",{"$f":"\"'='\" & SUBSTITUTE(MID(CELL(\"address\",INDIRECT(B838)),$I$3,100),\"]\",\"\")","v":"'='Services Housing'!$C$11"},{"$f":" M4B4cHousePayRent","v":0},"Number","M4B4cHousePayRent",null,null,null,{"$f":"IF(PY_M4B4cHousePayRent=\"\",\"\",PY_M4B4cHousePayRent)","v":""},"PY_M4B4cHousePayRent"]
["SRV 4d Deposit Payments","M4B4dHousePayDeposit",{"$f":"\"'='\" & SUBSTITUTE(MID(CELL(\"address\",INDIRECT(B839)),$I$3,100),\"]\",\"\")","v":"'='Services Housing'!$C$12"},{"$f":" M4B4dHousePayDeposit","v":0},"Number","M4B4dHousePayDeposit",null,null,null,{"$f":"IF(PY_M4B4dHousePayDeposit=\"\",\"\",PY_M4B4dHousePayDeposit)","v":""},{"$f":"\"PY_\"&B839","v":"PY_M4B4dHousePayDeposit"}]
["SRV 4e Mortgage Payments (includes Emergency Mortgage Payments)","M4B4eHousePayMortgage",{"$f":"\"'='\" & SUBSTITUTE(MID(CELL(\"address\",INDIRECT(B840)),$I$3,100),\"]\",\"\")","v":"'='Services Housing'!$C$13"},{"$f":" M4B4eHousePayMortgage","v":0},"Number","M4B4eHousePayMortgage",null,null,null,{"$f":"IF(PY_M4B4eHousePayMortgage=\"\",\"\",PY_M4B4eHousePayMortgage)","v":""},"PY_M4B4eHousePayMortgage"]
["SRV 4f Eviction Counseling ","M4B4fEvictCounseling",{"$f":"\"'='\" & SUBSTITUTE(MID(CELL(\"address\",INDIRECT(B841)),$I$3,100),\"]\",\"\")","v":"'='Services Housing'!$C$15"},{"$f":" M4B4fEvictCounseling","v":0},"Number","M4B4fEvictCounseling",null,null,null,{"$f":"IF(PY_M4B4fEvictCounseling=\"\",\"\",PY_M4B4fEvictCounseling)","v":""},"PY_M4B4fEvictCounseling"]
["SRV 4g Landlord/Tenant Mediations","M4B4gEvictLandlordMed",{"$f":"\"'='\" & SUBSTITUTE(MID(CELL(\"address\",INDIRECT(B842)),$I$3,100),\"]\",\"\")","v":"'='Services Housing'!$C$16"},{"$f":" M4B4gEvictLandlordMed","v":0},"Number","M4B4gEvictLandlordMed",null,null,null,{"$f":"IF(PY_M4B4gEvictLandlordMed=\"\",\"\",PY_M4B4gEvictLandlordMed)","v":""},"PY_M4B4gEvictLandlordMed"]
["SRV 4h Landlord/Tenant Rights Education ","M4B4hEvictLandlordEdu",{"$f":"\"'='\" & SUBSTITUTE(MID(CELL(\"address\",INDIRECT(B843)),$I$3,100),\"]\",\"\")","v":"'='Services Housing'!$C$17"},{"$f":" M4B4hEvictLandlordEdu","v":0},"Number","M4B4hEvictLandlordEdu",null,null,null,{"$f":"IF(PY_M4B4hEvictLandlordEdu=\"\",\"\",PY_M4B4hEvictLandlordEdu)","v":""},"PY_M4B4hEvictLandlordEdu"]
["SRV 4i Utility Payments (LIHEAP-includes Emergency Utility Payments)","M4B4iUtilityPayment",{"$f":"\"'='\" & SUBSTITUTE(MID(CELL(\"address\",INDIRECT(B844)),$I$3,100),\"]\",\"\")","v":"'='Services Housing'!$C$19"},{"$f":" M4B4iUtilityPayment","v":0},"Number","M4B4iUtilityPayment",null,null,null,{"$f":"IF(PY_M4B4iUtilityPayment=\"\",\"\",PY_M4B4iUtilityPayment)","v":""},"PY_M4B4iUtilityPayment"]
["SRV 4j Utility Deposits","M4B4jUtilityDeposit",{"$f":"\"'='\" & SUBSTITUTE(MID(CELL(\"address\",INDIRECT(B845)),$I$3,100),\"]\",\"\")","v":"'='Services Housing'!$C$20"},{"$f":" M4B4jUtilityDeposit","v":0},"Number","M4B4jUtilityDeposit",null,null,null,{"$f":"IF(PY_M4B4jUtilityDeposit=\"\",\"\",PY_M4B4jUtilityDeposit)","v":""},"PY_M4B4jUtilityDeposit"]
["SRV 4k Utility Arrears Payments","M4B4kUtilityArrears",{"$f":"\"'='\" & SUBSTITUTE(MID(CELL(\"address\",INDIRECT(B846)),$I$3,100),\"]\",\"\")","v":"'='Services Housing'!$C$21"},{"$f":" M4B4kUtilityArrears","v":0},"Number","M4B4kUtilityArrears",null,null,null,{"$f":"IF(PY_M4B4kUtilityArrears=\"\",\"\",PY_M4B4kUtilityArrears)","v":""},"PY_M4B4kUtilityArrears"]
["SRV 4l Level Billing Assistance","M4B4lUtilityLevelBill",{"$f":"\"'='\" & SUBSTITUTE(MID(CELL(\"address\",INDIRECT(B847)),$I$3,100),\"]\",\"\")","v":"'='Services Housing'!$C$22"},{"$f":" M4B4lUtilityLevelBill","v":0},"Number","M4B4lUtilityLevelBill",null,null,null,{"$f":"IF(PY_M4B4lUtilityLevelBill=\"\",\"\",PY_M4B4lUtilityLevelBill)","v":""},"PY_M4B4lUtilityLevelBill"]
["SRV 4m Temporary Housing Placement (includes Emergency Shelters)","M4B4mHousePlaceTemp",{"$f":"\"'='\" & SUBSTITUTE(MID(CELL(\"address\",INDIRECT(B848)),$I$3,100),\"]\",\"\")","v":"'='Services Housing'!$C$24"},{"$f":" M4B4mHousePlaceTemp","v":0},"Number","M4B4mHousePlaceTemp",null,null,null,{"$f":"IF(PY_M4B4mHousePlaceTemp=\"\",\"\",PY_M4B4mHousePlaceTemp)","v":""},"PY_M4B4mHousePlaceTemp"]
["SRV 4n Transitional Housing Placements","M4B4nHousePlaceTransition",{"$f":"\"'='\" & SUBSTITUTE(MID(CELL(\"address\",INDIRECT(B849)),$I$3,100),\"]\",\"\")","v":"'='Services Housing'!$C$25"},{"$f":" M4B4nHousePlaceTransition","v":0},"Number","M4B4nHousePlaceTransition",null,null,null,{"$f":"IF(PY_M4B4nHousePlaceTransition=\"\",\"\",PY_M4B4nHousePlaceTransition)","v":""},"PY_M4B4nHousePlaceTransition"]
["SRV 4o Permanent Housing Placements ","M4B4oHousePlacePerm",{"$f":"\"'='\" & SUBSTITUTE(MID(CELL(\"address\",INDIRECT(B850)),$I$3,100),\"]\",\"\")","v":"'='Services Housing'!$C$26"},{"$f":" M4B4oHousePlacePerm","v":0},"Number","M4B4oHousePlacePerm",null,null,null,{"$f":"IF(PY_M4B4oHousePlacePerm=\"\",\"\",PY_M4B4oHousePlacePerm)","v":""},"PY_M4B4oHousePlacePerm"]
["SRV 4p Rental Counseling ","M4B4pHousePlaceRentCouns",{"$f":"\"'='\" & SUBSTITUTE(MID(CELL(\"address\",INDIRECT(B851)),$I$3,100),\"]\",\"\")","v":"'='Services Housing'!$C$27"},{"$f":" M4B4pHousePlaceRentCouns","v":0},"Number","M4B4pHousePlaceRentCouns",null,null,null,{"$f":"IF(PY_M4B4pHousePlaceRentCouns=\"\",\"\",PY_M4B4pHousePlaceRentCouns)","v":""},"PY_M4B4pHousePlaceRentCouns"]
["SRV 4q Home Repairs (e.g. structural, appliance, heating systems. etc.) (Including Emergency Home Repairs)","M4B4qHouseImproveRepair",{"$f":"\"'='\" & SUBSTITUTE(MID(CELL(\"address\",INDIRECT(B852)),$I$3,100),\"]\",\"\")","v":"'='Services Housing'!$C$29"},{"$f":" M4B4qHouseImproveRepair","v":0},"Number","M4B4qHouseImproveRepair",null,null,null,{"$f":"IF(PY_M4B4qHouseImproveRepair=\"\",\"\",PY_M4B4qHouseImproveRepair)","v":""},"PY_M4B4qHouseImproveRepair"]
["SRV 4r Independent-living Home Improvements (e.g. ramps, tub and shower grab bars, handicap accessible modifications, etc.)","M4B4rWxIndLiv",{"$f":"\"'='\" & SUBSTITUTE(MID(CELL(\"address\",INDIRECT(B853)),$I$3,100),\"]\",\"\")","v":"'='Services Housing'!$C$31"},{"$f":" M4B4rWxIndLiv","v":0},"Number","M4B4rWxIndLiv",null,null,null,{"$f":"IF(PY_M4B4rWxIndLiv=\"\",\"\",PY_M4B4rWxIndLiv)","v":""},"PY_M4B4rWxIndLiv"]
["SRV 4s Healthy Homes Services(e.g. reduction or elimination of lead, radon, carbon dioxide and/or fire hazards or electrical issues, etc.)","M4B4sWxHealthyHomes",{"$f":"\"'='\" & SUBSTITUTE(MID(CELL(\"address\",INDIRECT(B854)),$I$3,100),\"]\",\"\")","v":"'='Services Housing'!$C$32"},{"$f":" M4B4sWxHealthyHomes","v":0},"Number","M4B4sWxHealthyHomes",null,null,null,{"$f":"IF(PY_M4B4sWxHealthyHomes=\"\",\"\",PY_M4B4sWxHealthyHomes)","v":5},"PY_M4B4sWxHealthyHomes"]
["SRV 4t Energy Efficiency Improvements (e.g. insullation, air sealing, furnace repair, etc.)","M4B4tWxEE",{"$f":"\"'='\" & SUBSTITUTE(MID(CELL(\"address\",INDIRECT(B855)),$I$3,100),\"]\",\"\")","v":"'='Services Housing'!$C$33"},{"$f":" M4B4tWxEE","v":0},"Number","M4B4tWxEE",null,null,null,{"$f":"IF(PY_M4B4tWxEE=\"\",\"\",PY_M4B4tWxEE)","v":5},"PY_M4B4tWxEE"]
["SRV 3a Financial Capability Skills Training","M4B3aTrainingFinancialCap",{"$f":"\"'='\" & SUBSTITUTE(MID(CELL(\"address\",INDIRECT(B856)),$I$3,100),\"]\",\"\")","v":"'='Services Income'!$C$9"},{"$f":" M4B3aTrainingFinancialCap","v":0},"Number","M4B3aTrainingFinancialCap",null,null,null,{"$f":"IF(PY_M4B3aTrainingFinancialCap=\"\",\"\",PY_M4B3aTrainingFinancialCap)","v":""},"PY_M4B3aTrainingFinancialCap"]
["SRV 3b Financial Coaching/Counseling ","M4B3bTrainingFinancialCounsel",{"$f":"\"'='\" & SUBSTITUTE(MID(CELL(\"address\",INDIRECT(B857)),$I$3,100),\"]\",\"\")","v":"'='Services Income'!$C$10"},{"$f":" M4B3bTrainingFinancialCounsel","v":0},"Number","M4B3bTrainingFinancialCounsel",null,null,null,{"$f":"IF(PY_M4B3bTrainingFinancialCounsel=\"\",\"\",PY_M4B3bTrainingFinancialCounsel)","v":""},"PY_M4B3bTrainingFinancialCounsel"]
["SRV 3c Financial Management Programs (including budgeting, credit management, credit repair, credit counseling, etc.)   ","M4B3cTrainingFinancialMgmt",{"$f":"\"'='\" & SUBSTITUTE(MID(CELL(\"address\",INDIRECT(B858)),$I$3,100),\"]\",\"\")","v":"'='Services Income'!$C$11"},{"$f":" M4B3cTrainingFinancialMgmt","v":0},"Number","M4B3cTrainingFinancialMgmt",null,null,null,{"$f":"IF(PY_M4B3cTrainingFinancialMgmt=\"\",\"\",PY_M4B3cTrainingFinancialMgmt)","v":""},"PY_M4B3cTrainingFinancialMgmt"]
["SRV 3d First-time Homebuyer Counseling","M4B3dTrainingHomebuyer",{"$f":"\"'='\" & SUBSTITUTE(MID(CELL(\"address\",INDIRECT(B859)),$I$3,100),\"]\",\"\")","v":"'='Services Income'!$C$12"},{"$f":" M4B3dTrainingHomebuyer","v":0},"Number","M4B3dTrainingHomebuyer",null,null,null,{"$f":"IF(PY_M4B3dTrainingHomebuyer=\"\",\"\",PY_M4B3dTrainingHomebuyer)","v":""},"PY_M4B3dTrainingHomebuyer"]
["SRV 3e Foreclosure Prevention Counseling","M4B3eTrainingForeclosure",{"$f":"\"'='\" & SUBSTITUTE(MID(CELL(\"address\",INDIRECT(B860)),$I$3,100),\"]\",\"\")","v":"'='Services Income'!$C$13"},{"$f":" M4B3eTrainingForeclosure","v":0},"Number","M4B3eTrainingForeclosure",null,null,null,{"$f":"IF(PY_M4B3eTrainingForeclosure=\"\",\"\",PY_M4B3eTrainingForeclosure)","v":""},"PY_M4B3eTrainingForeclosure"]
["SRV 3f Small Business Start-Up and Development Counseling Sessions/Classes","M4B3fTrainingSmallBus",{"$f":"\"'='\" & SUBSTITUTE(MID(CELL(\"address\",INDIRECT(B861)),$I$3,100),\"]\",\"\")","v":"'='Services Income'!$C$14"},{"$f":" M4B3fTrainingSmallBus","v":0},"Number","M4B3fTrainingSmallBus",null,null,null,{"$f":"IF(PY_M4B3fTrainingSmallBus=\"\",\"\",PY_M4B3fTrainingSmallBus)","v":""},"PY_M4B3fTrainingSmallBus"]
["SRV 3g Child Support Payments","M4B3gBenCoordChildSup",{"$f":"\"'='\" & SUBSTITUTE(MID(CELL(\"address\",INDIRECT(B862)),$I$3,100),\"]\",\"\")","v":"'='Services Income'!$C$16"},{"$f":" M4B3gBenCoordChildSup","v":0},"Number","M4B3gBenCoordChildSup",null,null,null,{"$f":"IF(PY_M4B3gBenCoordChildSup=\"\",\"\",PY_M4B3gBenCoordChildSup)","v":""},"PY_M4B3gBenCoordChildSup"]
["SRV 3h Health Insurance","M4B3hBenCoordHealthIns",{"$f":"\"'='\" & SUBSTITUTE(MID(CELL(\"address\",INDIRECT(B863)),$I$3,100),\"]\",\"\")","v":"'='Services Income'!$C$17"},{"$f":" M4B3hBenCoordHealthIns","v":0},"Number","M4B3hBenCoordHealthIns",null,null,null,{"$f":"IF(PY_M4B3hBenCoordHealthIns=\"\",\"\",PY_M4B3hBenCoordHealthIns)","v":""},"PY_M4B3hBenCoordHealthIns"]
["SRV 3i Social Security/SSI Payments","M4B3iBenCoordSSI",{"$f":"\"'='\" & SUBSTITUTE(MID(CELL(\"address\",INDIRECT(B864)),$I$3,100),\"]\",\"\")","v":"'='Services Income'!$C$18"},{"$f":" M4B3iBenCoordSSI","v":0},"Number","M4B3iBenCoordSSI",null,null,null,{"$f":"IF(PY_M4B3iBenCoordSSI=\"\",\"\",PY_M4B3iBenCoordSSI)","v":""},"PY_M4B3iBenCoordSSI"]
["SRV 3j Veteran's Benefits","M4B3jBenCoordVeterans",{"$f":"\"'='\" & SUBSTITUTE(MID(CELL(\"address\",INDIRECT(B865)),$I$3,100),\"]\",\"\")","v":"'='Services Income'!$C$19"},{"$f":" M4B3jBenCoordVeterans","v":0},"Number","M4B3jBenCoordVeterans",null,null,null,{"$f":"IF(PY_M4B3jBenCoordVeterans=\"\",\"\",PY_M4B3jBenCoordVeterans)","v":""},"PY_M4B3jBenCoordVeterans"]
["SRV 3k TANF Benefits","M4B3kBenCoordTANF",{"$f":"\"'='\" & SUBSTITUTE(MID(CELL(\"address\",INDIRECT(B866)),$I$3,100),\"]\",\"\")","v":"'='Services Income'!$C$20"},{"$f":" M4B3kBenCoordTANF","v":0},"Number","M4B3kBenCoordTANF",null,null,null,{"$f":"IF(PY_M4B3kBenCoordTANF=\"\",\"\",PY_M4B3kBenCoordTANF)","v":""},"PY_M4B3kBenCoordTANF"]
["SRV 3l SNAP Benefits","M4B3lBenCoordSNAP",{"$f":"\"'='\" & SUBSTITUTE(MID(CELL(\"address\",INDIRECT(B867)),$I$3,100),\"]\",\"\")","v":"'='Services Income'!$C$21"},{"$f":" M4B3lBenCoordSNAP","v":0},"Number","M4B3lBenCoordSNAP",null,null,null,{"$f":"IF(PY_M4B3lBenCoordSNAP=\"\",\"\",PY_M4B3lBenCoordSNAP)","v":""},"PY_M4B3lBenCoordSNAP"]
["SRV 3m Saving Accounts/IDAs and other asset building accounts","M4B3mAssetBldgSavings",{"$f":"\"'='\" & SUBSTITUTE(MID(CELL(\"address\",INDIRECT(B868)),$I$3,100),\"]\",\"\")","v":"'='Services Income'!$C$23"},{"$f":" M4B3mAssetBldgSavings","v":0},"Number","M4B3mAssetBldgSavings",null,null,null,{"$f":"IF(PY_M4B3mAssetBldgSavings=\"\",\"\",PY_M4B3mAssetBldgSavings)","v":""},"PY_M4B3mAssetBldgSavings"]
["SRV 3n Other financial products (IRA accounts, MyRA, other retirement accounts, etc.)","M4B3nAssetBldgOtherFin",{"$f":"\"'='\" & SUBSTITUTE(MID(CELL(\"address\",INDIRECT(B869)),$I$3,100),\"]\",\"\")","v":"'='Services Income'!$C$24"},{"$f":" M4B3nAssetBldgOtherFin","v":0},"Number","M4B3nAssetBldgOtherFin",null,null,null,{"$f":"IF(PY_M4B3nAssetBldgOtherFin=\"\",\"\",PY_M4B3nAssetBldgOtherFin)","v":""},"PY_M4B3nAssetBldgOtherFin"]
["SRV 3o VITA, EITC, or Other Tax Preparation programs","M4B3oAssetBldgVITA",{"$f":"\"'='\" & SUBSTITUTE(MID(CELL(\"address\",INDIRECT(B870)),$I$3,100),\"]\",\"\")","v":"'='Services Income'!$C$25"},{"$f":" M4B3oAssetBldgVITA","v":0},"Number","M4B3oAssetBldgVITA",null,null,null,{"$f":"IF(PY_M4B3oAssetBldgVITA=\"\",\"\",PY_M4B3oAssetBldgVITA)","v":""},"PY_M4B3oAssetBldgVITA"]
["SRV 3p Micro-loans","M4B3pMicroLoans",{"$f":"\"'='\" & SUBSTITUTE(MID(CELL(\"address\",INDIRECT(B871)),$I$3,100),\"]\",\"\")","v":"'='Services Income'!$C$27"},{"$f":" M4B3pMicroLoans","v":0},"Number","M4B3pMicroLoans",null,null,null,{"$f":"IF(PY_M4B3pMicroLoans=\"\",\"\",PY_M4B3pMicroLoans)","v":""},{"$f":"\"PY_\"&B871","v":"PY_M4B3pMicroLoans"}]
["SRV 3q Business incubator/business development loans","M4B3qBusIncubatorLoans",{"$f":"\"'='\" & SUBSTITUTE(MID(CELL(\"address\",INDIRECT(B872)),$I$3,100),\"]\",\"\")","v":"'='Services Income'!$C$28"},{"$f":" M4B3qBusIncubatorLoans","v":0},"Number","M4B3qBusIncubatorLoans",null,null,null,{"$f":"IF(PY_M4B3qBusIncubatorLoans=\"\",\"\",PY_M4B3qBusIncubatorLoans)","v":""},"PY_M4B3qBusIncubatorLoans"]
["SRV 7a Case Management","M4B7aCaseMgmt",{"$f":"\"'='\" & SUBSTITUTE(MID(CELL(\"address\",INDIRECT(B873)),$I$3,100),\"]\",\"\")","v":"'='Services Multiple Domains'!$C$9"},{"$f":" M4B7aCaseMgmt","v":0},"Number","M4B7aCaseMgmt",null,null,null,{"$f":"IF(PY_M4B7aCaseMgmt=\"\",\"\",PY_M4B7aCaseMgmt)","v":""},"PY_M4B7aCaseMgmt"]
["SRV 7b Eligibility Determinations","M4B7bEligDetermin",{"$f":"\"'='\" & SUBSTITUTE(MID(CELL(\"address\",INDIRECT(B874)),$I$3,100),\"]\",\"\")","v":"'='Services Multiple Domains'!$C$11"},{"$f":" M4B7bEligDetermin","v":0},"Number","M4B7bEligDetermin",null,null,null,{"$f":"IF(PY_M4B7bEligDetermin=\"\",\"\",PY_M4B7bEligDetermin)","v":""},"PY_M4B7bEligDetermin"]
["SRV 7c Referrals","M4B7cReferrals",{"$f":"\"'='\" & SUBSTITUTE(MID(CELL(\"address\",INDIRECT(B875)),$I$3,100),\"]\",\"\")","v":"'='Services Multiple Domains'!$C$13"},{"$f":" M4B7cReferrals","v":0},"Number","M4B7cReferrals",null,null,null,{"$f":"IF(PY_M4B7cReferrals=\"\",\"\",PY_M4B7cReferrals)","v":""},"PY_M4B7cReferrals"]
["SRV 7d Transportation Services (e.g. bus passes, bus transport, support for auto purchase or repair; including emergency services)","M4B7dTranspServices",{"$f":"\"'='\" & SUBSTITUTE(MID(CELL(\"address\",INDIRECT(B876)),$I$3,100),\"]\",\"\")","v":"'='Services Multiple Domains'!$C$15"},{"$f":" M4B7dTranspServices","v":0},"Number","M4B7dTranspServices",null,null,null,{"$f":"IF(PY_M4B7dTranspServices=\"\",\"\",PY_M4B7dTranspServices)","v":""},"PY_M4B7dTranspServices"]
["SRV 7e Child Care subsidies","M4B7eChildcareSubsidy",{"$f":"\"'='\" & SUBSTITUTE(MID(CELL(\"address\",INDIRECT(B877)),$I$3,100),\"]\",\"\")","v":"'='Services Multiple Domains'!$C$17"},{"$f":" M4B7eChildcareSubsidy","v":0},"Number","M4B7eChildcareSubsidy",null,null,null,{"$f":"IF(PY_M4B7eChildcareSubsidy=\"\",\"\",PY_M4B7eChildcareSubsidy)","v":""},"PY_M4B7eChildcareSubsidy"]
["SRV 7f Child Care payments","M4B7fChildcarePayment",{"$f":"\"'='\" & SUBSTITUTE(MID(CELL(\"address\",INDIRECT(B878)),$I$3,100),\"]\",\"\")","v":"'='Services Multiple Domains'!$C$18"},{"$f":" M4B7fChildcarePayment","v":0},"Number","M4B7fChildcarePayment",null,null,null,{"$f":"IF(PY_M4B7fChildcarePayment=\"\",\"\",PY_M4B7fChildcarePayment)","v":""},"PY_M4B7fChildcarePayment"]
["SRV 7g Day Centers","M4B7gEldercareDayCenter",{"$f":"\"'='\" & SUBSTITUTE(MID(CELL(\"address\",INDIRECT(B879)),$I$3,100),\"]\",\"\")","v":"'='Services Multiple Domains'!$C$20"},{"$f":" M4B7gEldercareDayCenter","v":0},"Number","M4B7gEldercareDayCenter",null,null,null,{"$f":"IF(PY_M4B7gEldercareDayCenter=\"\",\"\",PY_M4B7gEldercareDayCenter)","v":""},"PY_M4B7gEldercareDayCenter"]
["SRV 7h Birth Certificate ","M4B7hIdBirthCert",{"$f":"\"'='\" & SUBSTITUTE(MID(CELL(\"address\",INDIRECT(B880)),$I$3,100),\"]\",\"\")","v":"'='Services Multiple Domains'!$C$22"},{"$f":" M4B7hIdBirthCert","v":0},"Number","M4B7hIdBirthCert",null,null,null,{"$f":"IF(PY_M4B7hIdBirthCert=\"\",\"\",PY_M4B7hIdBirthCert)","v":""},"PY_M4B7hIdBirthCert"]
["SRV 7i Social Security Card ","M4B7iIdSSNCard",{"$f":"\"'='\" & SUBSTITUTE(MID(CELL(\"address\",INDIRECT(B881)),$I$3,100),\"]\",\"\")","v":"'='Services Multiple Domains'!$C$23"},{"$f":" M4B7iIdSSNCard","v":0},"Number","M4B7iIdSSNCard",null,null,null,{"$f":"IF(PY_M4B7iIdSSNCard=\"\",\"\",PY_M4B7iIdSSNCard)","v":""},"PY_M4B7iIdSSNCard"]
["SRV 7j Driver's License ","M4B7jIdDriverLicense",{"$f":"\"'='\" & SUBSTITUTE(MID(CELL(\"address\",INDIRECT(B882)),$I$3,100),\"]\",\"\")","v":"'='Services Multiple Domains'!$C$24"},{"$f":" M4B7jIdDriverLicense","v":0},"Number","M4B7jIdDriverLicense",null,null,null,{"$f":"IF(PY_M4B7jIdDriverLicense=\"\",\"\",PY_M4B7jIdDriverLicense)","v":""},"PY_M4B7jIdDriverLicense"]
["SRV 7k Criminal Record Expungements","M4B7kReentryServ",{"$f":"\"'='\" & SUBSTITUTE(MID(CELL(\"address\",INDIRECT(B883)),$I$3,100),\"]\",\"\")","v":"'='Services Multiple Domains'!$C$26"},{"$f":" M4B7kReentryServ","v":0},"Number","M4B7kReentryServ",null,null,null,{"$f":"IF(PY_M4B7kReentryServ=\"\",\"\",PY_M4B7kReentryServ)","v":""},"PY_M4B7kReentryServ"]
["SRV 7l Immigration Support Services (relocation, food, clothing)","M4B7lImmigrantSupport",{"$f":"\"'='\" & SUBSTITUTE(MID(CELL(\"address\",INDIRECT(B884)),$I$3,100),\"]\",\"\")","v":"'='Deprecated Fields'!$C$12"},{"$f":" M4B7lImmigrantSupport","v":0},"Number","M4B7lImmigrantSupport",null,null,null,{"$f":"IF(PY_M4B7lImmigrantSupport=\"\",\"\",PY_M4B7lImmigrantSupport)","v":""},"PY_M4B7lImmigrantSupport"]
["SRV 7m Legal Assistance ","M4B7mLegalAssist",{"$f":"\"'='\" & SUBSTITUTE(MID(CELL(\"address\",INDIRECT(B885)),$I$3,100),\"]\",\"\")","v":"'='Services Multiple Domains'!$C$28"},{"$f":" M4B7mLegalAssist","v":0},"Number","M4B7mLegalAssist",null,null,null,{"$f":"IF(PY_M4B7mLegalAssist=\"\",\"\",PY_M4B7mLegalAssist)","v":""},"PY_M4B7mLegalAssist"]
["SRV 7n Emergency Clothing Assistance","M4B7nEmerClothing",{"$f":"\"'='\" & SUBSTITUTE(MID(CELL(\"address\",INDIRECT(B886)),$I$3,100),\"]\",\"\")","v":"'='Services Multiple Domains'!$C$30"},{"$f":" M4B7nEmerClothing","v":0},"Number","M4B7nEmerClothing",null,null,null,{"$f":"IF(PY_M4B7nEmerClothing=\"\",\"\",PY_M4B7nEmerClothing)","v":""},"PY_M4B7nEmerClothing"]
["SRV 7o Mediation/Customer Advocacy Interventions","M4B7oMediation",{"$f":"\"'='\" & SUBSTITUTE(MID(CELL(\"address\",INDIRECT(B887)),$I$3,100),\"]\",\"\")","v":"'='Services Multiple Domains'!$C$32"},{"$f":" M4B7oMediation","v":0},"Number","M4B7oMediation",null,null,null,{"$f":"IF(PY_M4B7oMediation=\"\",\"\",PY_M4B7oMediation)","v":""},"PY_M4B7oMediation"]

{"sheet":"Deprecated Fields","index":31,"n_rows":37,"n_cols":20,"rows_kept":37,"cut":false,"hidden":false,"merged":[[10,1,10,2],[10,10,10,11],[17,1,18,5]]}
[]
["EO"]
[null,"All Char",null,null,null,null,null,null,null,null,null,"YOY"]
[]
[null,"C.1",null,null,null,null,null,null,null,null,"C.1"]
[null,"c.","Other",null,null,null,null,null,null,null,"c.","Other",null,null,null,null,{"$f":"IF(ISBLANK('Deprecated Fields'!G6),\"\",'Deprecated Fields'!G6)","v":""},null,{"$f":"IF(AND(P6=\"\",Q6=\"\"),\"\",IFERROR( (Q6-P6)/MIN(Q6,P6),\"\"))","v":""},{"$f":"IFERROR(Q6-P6,\"\")","v":""}]
[null,"d.","Unknown/not reported",null,null,null,null,null,null,null,"d.","Unknown/not reported",null,null,null,null,{"$f":"IF(ISBLANK('Deprecated Fields'!G7),\"\",'Deprecated Fields'!G7)","v":""},null,{"$f":"IF(AND(P7=\"\",Q7=\"\"),\"\",IFERROR( (Q7-P7)/MIN(Q7,P7),\"\"))","v":""},{"$f":"IFERROR(Q7-P7,\"\")","v":""}]
[]
[null,"Support Services",null,null,null,null,null,null,null,null,"Support Services"]
[]
[null,"Immigration Support Services (SRV 7l)",null,null,null,null,null,null,null,null,"Immigration Support Services (SRV 7l)"]
[null,"SRV 7l Immigration Support Services (relocation, food, clothing)",null,null,null,null,null,null,null,null,"SRV 7l Immigration Support Services (relocation, food, clothing)",null,{"$f":"IF(ISBLANK('Deprecated Fields'!C12),\"\",'Deprecated Fields'!C12)","v":""},null,{"$f":"IF(AND(L12=\"\",M12=\"\"),\"\",IFERROR((M12-L12)/MIN(L12,M12),\"\"))","v":""},{"$f":"IFERROR(M12-L12,\"\")","v":""}]
[]
[]
[]
[]
[null,"Section C.1 Status"]
[]
[]
[]
[]
["Other"]
[]
[null,"Comments Fields "]
[null,"M2AComments"]
[null,"PY_M2AComments"]
[null,"M2BComments","\n"]
[null,"PY_M2BComments"]
[null,"M2CComments"]
[null,"PY_M2CComments"]
[null,"FNPI_Employ_Comments"]
[null,"FNPI_Ed_Comments"]
[null,"FNPI_Income_Comments"]
[null,"FNPI_Housing_Comments"]
[null,"FNPI_Health_Comments"]
[null,"FNPI_Civic_Comments"]
[null,"FNPI_Multiple_Comments"]

{"sheet":"Lookups M2","index":32,"n_rows":26,"n_cols":5,"rows_kept":26,"cut":false,"hidden":false,"merged":[]}
[]
[]
[null,"EditText_WsName","Housing NPIs"]
[null,"EditText_FieldName","FNPI 4z.1"]
[null,"EditText_Text","fff"]
[null,"EditText_Status","Cancel"]
[null,"EditText_MaxLength",4000]
[]
[null,"Max_Errors",500]
[]
[null,"XML_Filename"]
[]
[]
[]
[null,"A1_Period",{"$f":"COUNTIF(C16:C18,TRUE)","v":0}]
[null,"Period_1",false,null,false]
[null,"Period_2",false,null,false]
[null,"Period_3",false,null,false]
[]
[null,"A41_Activities",{"$f":"COUNTIF('Lookups M2'!C22:C26,TRUE)","v":0}]
[null,null,null,null,"Prior Year"]
[null,null,false,"community",false]
[null,null,false,"data mgmt",false]
[null,"A41_Other",false,"other",false]
[null,null,false,"planning",false]
[null,null,false,"training",false]

{"sheet":"Lookups M4","index":33,"n_rows":11,"n_cols":3,"rows_kept":11,"cut":false,"hidden":false,"merged":[]}
[]
[]
[null,"EditText_WsName","Employment NPIs"]
[null,"EditText_FieldName","FNPI 1d The number of unemployed adults who obtained and maintained employment for at least 180 days \n(up to a living wage)."]
[null,"EditText_Text"]
[null,"EditText_Status","Cancel"]
[null,"EditText_MaxLength",4000]
[]
[null,"Max_Errors",500]
[]
[null,"XML_Filename"]