BEGIN:VCALENDAR
VERSION:2.0
PRODID:-//NASCSP - ECPv6.15.17.1//NONSGML v1.0//EN
CALSCALE:GREGORIAN
METHOD:PUBLISH
X-WR-CALNAME:NASCSP
X-ORIGINAL-URL:https://nascsp.org
X-WR-CALDESC:Events for NASCSP
REFRESH-INTERVAL;VALUE=DURATION:PT1H
X-Robots-Tag:noindex
X-PUBLISHED-TTL:PT1H
BEGIN:VTIMEZONE
TZID:America/New_York
BEGIN:DAYLIGHT
TZOFFSETFROM:-0500
TZOFFSETTO:-0400
TZNAME:EDT
DTSTART:20200308T070000
END:DAYLIGHT
BEGIN:STANDARD
TZOFFSETFROM:-0400
TZOFFSETTO:-0500
TZNAME:EST
DTSTART:20201101T060000
END:STANDARD
BEGIN:DAYLIGHT
TZOFFSETFROM:-0500
TZOFFSETTO:-0400
TZNAME:EDT
DTSTART:20210314T070000
END:DAYLIGHT
BEGIN:STANDARD
TZOFFSETFROM:-0400
TZOFFSETTO:-0500
TZNAME:EST
DTSTART:20211107T060000
END:STANDARD
BEGIN:DAYLIGHT
TZOFFSETFROM:-0500
TZOFFSETTO:-0400
TZNAME:EDT
DTSTART:20220313T070000
END:DAYLIGHT
BEGIN:STANDARD
TZOFFSETFROM:-0400
TZOFFSETTO:-0500
TZNAME:EST
DTSTART:20221106T060000
END:STANDARD
END:VTIMEZONE
BEGIN:VEVENT
DTSTART;TZID=America/New_York:20211201T140000
DTEND;TZID=America/New_York:20211201T150000
DTSTAMP:20260421T163458
CREATED:20211012T172244Z
LAST-MODIFIED:20211103T191413Z
UID:19686-1638367200-1638370800@nascsp.org
SUMMARY:Coaching for Performance Series Part 1
DESCRIPTION:
URL:https://nascsp.org/event/coaching-for-performance-series-part-1/
CATEGORIES:CSBG
END:VEVENT
BEGIN:VEVENT
DTSTART;TZID=America/New_York:20211118T150000
DTEND;TZID=America/New_York:20211118T160000
DTSTAMP:20260421T163458
CREATED:20210115T154713Z
LAST-MODIFIED:20210115T154713Z
UID:18042-1637247600-1637251200@nascsp.org
SUMMARY:WAP Regional Manager's Call
DESCRIPTION:
URL:https://nascsp.org/event/wap-regional-managers-call-3/
CATEGORIES:WAP
END:VEVENT
BEGIN:VEVENT
DTSTART;TZID=America/New_York:20211118T130000
DTEND;TZID=America/New_York:20211118T143000
DTSTAMP:20260421T163458
CREATED:20210517T190637Z
LAST-MODIFIED:20210517T190637Z
UID:18774-1637240400-1637245800@nascsp.org
SUMMARY:CSBG State Management Work Group Nov Convening
DESCRIPTION:
URL:https://nascsp.org/event/csbg-state-management-work-group-nov-convening/
CATEGORIES:CSBG
END:VEVENT
BEGIN:VEVENT
DTSTART;TZID=America/New_York:20211118T110000
DTEND;TZID=America/New_York:20211118T120000
DTSTAMP:20260421T163458
CREATED:20210208T195934Z
LAST-MODIFIED:20210208T200904Z
UID:18203-1637233200-1637236800@nascsp.org
SUMMARY:WAP Regional Manager's Call
DESCRIPTION:
URL:https://nascsp.org/event/wap-regional-managers-call-5/
CATEGORIES:WAP
END:VEVENT
BEGIN:VEVENT
DTSTART;TZID=America/New_York:20211116T140000
DTEND;TZID=America/New_York:20211116T153000
DTSTAMP:20260421T163458
CREATED:20210115T160136Z
LAST-MODIFIED:20211230T183439Z
UID:18061-1637071200-1637076600@nascsp.org
SUMMARY:NASCSP Quarterly Member Calls
DESCRIPTION:
URL:https://nascsp.org/event/november-csbg-regional-managers-call-2/
CATEGORIES:CSBG
END:VEVENT
BEGIN:VEVENT
DTSTART;TZID=America/New_York:20211116T110000
DTEND;TZID=America/New_York:20211116T123000
DTSTAMP:20260421T163458
CREATED:20210115T160055Z
LAST-MODIFIED:20210115T160055Z
UID:18059-1637060400-1637065800@nascsp.org
SUMMARY:November CSBG Regional Manager's Call
DESCRIPTION:
URL:https://nascsp.org/event/november-csbg-regional-managers-call/
CATEGORIES:CSBG
END:VEVENT
BEGIN:VEVENT
DTSTART;VALUE=DATE:20211030
DTEND;VALUE=DATE:20211031
DTSTAMP:20260421T163458
CREATED:20201223T191537Z
LAST-MODIFIED:20210108T160708Z
UID:17894-1635552000-1635638399@nascsp.org
SUMMARY:Weatherization Day
DESCRIPTION:October 30th is National Weatherization Day—a day that’s meant to highlight the impact of the Weatherization Assistance Program (WAP)\, which saves energy and improves the health and safety of homes.
URL:https://nascsp.org/event/weatherization-day/
CATEGORIES:WAP
ATTACH;FMTTYPE=image/png:https://nascsp.org/wp-content/uploads/2020/12/Screen-Shot-2020-10-28-at-8.25.30-PM.png
END:VEVENT
BEGIN:VEVENT
DTSTART;TZID=America/New_York:20211021T130000
DTEND;TZID=America/New_York:20211021T143000
DTSTAMP:20260421T163458
CREATED:20210517T190443Z
LAST-MODIFIED:20210517T190542Z
UID:18772-1634821200-1634826600@nascsp.org
SUMMARY:CSBG State Management Work Group Oct Convening
DESCRIPTION:
URL:https://nascsp.org/event/csbg-state-management-work-group-oct-convening/
CATEGORIES:CSBG
END:VEVENT
BEGIN:VEVENT
DTSTART;TZID=America/New_York:20211013T080000
DTEND;TZID=America/New_York:20211015T170000
DTSTAMP:20260421T163458
CREATED:20210115T152714Z
LAST-MODIFIED:20210115T152714Z
UID:18017-1634112000-1634317200@nascsp.org
SUMMARY:NASEO Annual Conference
DESCRIPTION:
URL:https://nascsp.org/event/naseo-annual-conference/
CATEGORIES:National Partner
END:VEVENT
BEGIN:VEVENT
DTSTART;TZID=America/New_York:20210930T130000
DTEND;TZID=America/New_York:20210930T150000
DTSTAMP:20260421T163458
CREATED:20210903T165954Z
LAST-MODIFIED:20210903T165954Z
UID:19477-1633006800-1633014000@nascsp.org
SUMMARY:CSBG Member Planning and Action
DESCRIPTION:
URL:https://nascsp.org/event/csbg-member-planning-and-action/
CATEGORIES:CSBG
END:VEVENT
BEGIN:VEVENT
DTSTART;TZID=America/New_York:20210920T080000
DTEND;TZID=America/New_York:20210923T170000
DTSTAMP:20260421T163458
CREATED:20210716T134815Z
LAST-MODIFIED:20210716T134815Z
UID:19287-1632124800-1632416400@nascsp.org
SUMMARY:2021 NASCSP Annual Training Conference
DESCRIPTION:
URL:https://nascsp.org/event/2021-nascsp-annual-training-conference/
CATEGORIES:NASCSP
END:VEVENT
BEGIN:VEVENT
DTSTART;TZID=America/New_York:20210916T130000
DTEND;TZID=America/New_York:20210916T143000
DTSTAMP:20260421T163458
CREATED:20210517T190359Z
LAST-MODIFIED:20210517T190359Z
UID:18770-1631797200-1631802600@nascsp.org
SUMMARY:CSBG State Management Work Group Sept Convening
DESCRIPTION:
URL:https://nascsp.org/event/csbg-state-management-work-group-sept-convening/
CATEGORIES:CSBG
END:VEVENT
BEGIN:VEVENT
DTSTART;TZID=America/New_York:20210914T150000
DTEND;TZID=America/New_York:20210914T160000
DTSTAMP:20260421T163458
CREATED:20210907T151432Z
LAST-MODIFIED:20210907T151432Z
UID:19481-1631631600-1631635200@nascsp.org
SUMMARY:2021 NASCSP Annual Business Meeting
DESCRIPTION:
URL:https://nascsp.org/event/2021-nascsp-annual-business-meeting/
CATEGORIES:NASCSP
END:VEVENT
BEGIN:VEVENT
DTSTART;TZID=America/New_York:20210903T080000
DTEND;TZID=America/New_York:20210903T170000
DTSTAMP:20260421T163458
CREATED:20210115T152948Z
LAST-MODIFIED:20210115T152948Z
UID:18023-1630656000-1630688400@nascsp.org
SUMMARY:CAP Annual Conference
DESCRIPTION:
URL:https://nascsp.org/event/cap-annual-conference/
CATEGORIES:National Partner
END:VEVENT
BEGIN:VEVENT
DTSTART;TZID=America/New_York:20210819T150000
DTEND;TZID=America/New_York:20210819T160000
DTSTAMP:20260421T163458
CREATED:20210115T154628Z
LAST-MODIFIED:20210115T154628Z
UID:18040-1629385200-1629388800@nascsp.org
SUMMARY:WAP Regional Manager's Call
DESCRIPTION:
URL:https://nascsp.org/event/wap-regional-managers-call-2/
CATEGORIES:WAP
END:VEVENT
BEGIN:VEVENT
DTSTART;TZID=America/New_York:20210819T130000
DTEND;TZID=America/New_York:20210819T143000
DTSTAMP:20260421T163459
CREATED:20210517T190316Z
LAST-MODIFIED:20210517T190316Z
UID:18768-1629378000-1629383400@nascsp.org
SUMMARY:CSBG State Management Work Group Aug Convening
DESCRIPTION:
URL:https://nascsp.org/event/csbg-state-management-work-group-aug-convening/
CATEGORIES:CSBG
END:VEVENT
BEGIN:VEVENT
DTSTART;TZID=America/New_York:20210817T140000
DTEND;TZID=America/New_York:20210817T153000
DTSTAMP:20260421T163459
CREATED:20210115T160007Z
LAST-MODIFIED:20210115T160007Z
UID:18057-1629208800-1629214200@nascsp.org
SUMMARY:August CSBG Regional Manager's Call
DESCRIPTION:
URL:https://nascsp.org/event/august-csbg-regional-managers-call-2/
CATEGORIES:CSBG
END:VEVENT
BEGIN:VEVENT
DTSTART;TZID=America/New_York:20210817T110000
DTEND;TZID=America/New_York:20210817T123000
DTSTAMP:20260421T163459
CREATED:20210115T155926Z
LAST-MODIFIED:20210115T155926Z
UID:18055-1629198000-1629203400@nascsp.org
SUMMARY:August CSBG Regional Manager's Call
DESCRIPTION:
URL:https://nascsp.org/event/august-csbg-regional-managers-call/
CATEGORIES:CSBG
END:VEVENT
BEGIN:VEVENT
DTSTART;TZID=America/New_York:20210721T140000
DTEND;TZID=America/New_York:20210721T150000
DTSTAMP:20260421T163459
CREATED:20210616T192932Z
LAST-MODIFIED:20210616T192932Z
UID:18956-1626876000-1626879600@nascsp.org
SUMMARY:Applying a Risk Aware Frame to Key Decisions
DESCRIPTION:
URL:https://nascsp.org/event/applying-a-risk-aware-frame-to-key-decisions/
CATEGORIES:CSBG
END:VEVENT
BEGIN:VEVENT
DTSTART;TZID=America/New_York:20210715T130000
DTEND;TZID=America/New_York:20210715T143000
DTSTAMP:20260421T163459
CREATED:20210517T175908Z
LAST-MODIFIED:20210517T185929Z
UID:18766-1626354000-1626359400@nascsp.org
SUMMARY:CSBG State Management Work Group July Convening
DESCRIPTION:
URL:https://nascsp.org/event/csbg-state-management-work-group-july-convening/
CATEGORIES:CSBG
END:VEVENT
BEGIN:VEVENT
DTSTART;TZID=America/New_York:20210629T080000
DTEND;TZID=America/New_York:20210701T170000
DTSTAMP:20260421T163459
CREATED:20210115T153109Z
LAST-MODIFIED:20210115T153109Z
UID:18025-1624953600-1625158800@nascsp.org
SUMMARY:CAPLAW Annual Conference
DESCRIPTION:
URL:https://nascsp.org/event/caplaw-annual-conference/
CATEGORIES:National Partner
END:VEVENT
BEGIN:VEVENT
DTSTART;TZID=America/New_York:20210623T080000
DTEND;TZID=America/New_York:20210623T170000
DTSTAMP:20260421T163459
CREATED:20210115T160318Z
LAST-MODIFIED:20210115T160318Z
UID:18065-1624435200-1624467600@nascsp.org
SUMMARY:OCS Quarterly Call- Subject TBD
DESCRIPTION:
URL:https://nascsp.org/event/ocs-quarterly-call-subject-tbd/
CATEGORIES:CSBG
END:VEVENT
BEGIN:VEVENT
DTSTART;TZID=America/New_York:20210617T130000
DTEND;TZID=America/New_York:20210617T143000
DTSTAMP:20260421T163459
CREATED:20210519T170451Z
LAST-MODIFIED:20210519T170451Z
UID:18790-1623934800-1623940200@nascsp.org
SUMMARY:WAP Data Management System RFP
DESCRIPTION:
URL:https://nascsp.org/event/wap-data-management-system-rfp/
CATEGORIES:WAP
END:VEVENT
BEGIN:VEVENT
DTSTART;TZID=America/New_York:20210617T130000
DTEND;TZID=America/New_York:20210617T143000
DTSTAMP:20260421T163459
CREATED:20210517T175819Z
LAST-MODIFIED:20210517T175819Z
UID:18764-1623934800-1623940200@nascsp.org
SUMMARY:CSBG State Management Work Group June Convening
DESCRIPTION:
URL:https://nascsp.org/event/csbg-state-management-work-group-june-convening/
CATEGORIES:CSBG
END:VEVENT
BEGIN:VEVENT
DTSTART;TZID=America/New_York:20210616T133000
DTEND;TZID=America/New_York:20210616T143000
DTSTAMP:20260421T163459
CREATED:20210517T190826Z
LAST-MODIFIED:20210517T190826Z
UID:18778-1623850200-1623853800@nascsp.org
SUMMARY:Enterprise Risk Management for State Offices\, Part I
DESCRIPTION:
URL:https://nascsp.org/event/enterprise-risk-management-for-state-offices-part-i/
CATEGORIES:CSBG
END:VEVENT
BEGIN:VEVENT
DTSTART;TZID=America/New_York:20210609T130000
DTEND;TZID=America/New_York:20210609T160000
DTSTAMP:20260421T163459
CREATED:20210422T134920Z
LAST-MODIFIED:20210423T144925Z
UID:18577-1623243600-1623254400@nascsp.org
SUMMARY:CSBG Orientation: Session 5
DESCRIPTION:
URL:https://nascsp.org/event/orientation-session-5/
CATEGORIES:CSBG
END:VEVENT
BEGIN:VEVENT
DTSTART;TZID=America/New_York:20210607T080000
DTEND;TZID=America/New_York:20210610T170000
DTSTAMP:20260421T163459
CREATED:20210115T153240Z
LAST-MODIFIED:20210115T153240Z
UID:18029-1623052800-1623344400@nascsp.org
SUMMARY:NEUAC Annual Conference
DESCRIPTION:
URL:https://nascsp.org/event/neuac-annual-conference/
CATEGORIES:National Partner
END:VEVENT
BEGIN:VEVENT
DTSTART;TZID=America/New_York:20210607T080000
DTEND;TZID=America/New_York:20210608T170000
DTSTAMP:20260421T163459
CREATED:20210115T153158Z
LAST-MODIFIED:20210115T153158Z
UID:18027-1623052800-1623171600@nascsp.org
SUMMARY:NEADA Annual Conference
DESCRIPTION:
URL:https://nascsp.org/event/neada-annual-conference/
CATEGORIES:National Partner
END:VEVENT
BEGIN:VEVENT
DTSTART;TZID=America/New_York:20210602T130000
DTEND;TZID=America/New_York:20210602T160000
DTSTAMP:20260421T163459
CREATED:20210422T134434Z
LAST-MODIFIED:20210423T145002Z
UID:18575-1622638800-1622649600@nascsp.org
SUMMARY:CSBG Orientation: Session 4
DESCRIPTION:
URL:https://nascsp.org/event/orientation-session-4/
CATEGORIES:CSBG
END:VEVENT
BEGIN:VEVENT
DTSTART;TZID=America/New_York:20210527T140000
DTEND;TZID=America/New_York:20210527T150000
DTSTAMP:20260421T163459
CREATED:20210517T174738Z
LAST-MODIFIED:20210517T174738Z
UID:18762-1622124000-1622127600@nascsp.org
SUMMARY:OCS CSBG State Assessment Member Conversation
DESCRIPTION:
URL:https://nascsp.org/event/ocs-csbg-state-assessment-member-conversation/
CATEGORIES:CSBG
END:VEVENT
END:VCALENDAR