BEGIN:VCALENDAR
VERSION:2.0
PRODID:-//NASCSP - ECPv6.15.17.1//NONSGML v1.0//EN
CALSCALE:GREGORIAN
METHOD:PUBLISH
X-WR-CALNAME:NASCSP
X-ORIGINAL-URL:https://nascsp.org
X-WR-CALDESC:Events for NASCSP
REFRESH-INTERVAL;VALUE=DURATION:PT1H
X-Robots-Tag:noindex
X-PUBLISHED-TTL:PT1H
BEGIN:VTIMEZONE
TZID:America/New_York
BEGIN:DAYLIGHT
TZOFFSETFROM:-0500
TZOFFSETTO:-0400
TZNAME:EDT
DTSTART:20200308T070000
END:DAYLIGHT
BEGIN:STANDARD
TZOFFSETFROM:-0400
TZOFFSETTO:-0500
TZNAME:EST
DTSTART:20201101T060000
END:STANDARD
BEGIN:DAYLIGHT
TZOFFSETFROM:-0500
TZOFFSETTO:-0400
TZNAME:EDT
DTSTART:20210314T070000
END:DAYLIGHT
BEGIN:STANDARD
TZOFFSETFROM:-0400
TZOFFSETTO:-0500
TZNAME:EST
DTSTART:20211107T060000
END:STANDARD
BEGIN:DAYLIGHT
TZOFFSETFROM:-0500
TZOFFSETTO:-0400
TZNAME:EDT
DTSTART:20220313T070000
END:DAYLIGHT
BEGIN:STANDARD
TZOFFSETFROM:-0400
TZOFFSETTO:-0500
TZNAME:EST
DTSTART:20221106T060000
END:STANDARD
BEGIN:DAYLIGHT
TZOFFSETFROM:-0500
TZOFFSETTO:-0400
TZNAME:EDT
DTSTART:20230312T070000
END:DAYLIGHT
BEGIN:STANDARD
TZOFFSETFROM:-0400
TZOFFSETTO:-0500
TZNAME:EST
DTSTART:20231105T060000
END:STANDARD
BEGIN:DAYLIGHT
TZOFFSETFROM:-0500
TZOFFSETTO:-0400
TZNAME:EDT
DTSTART:20240310T070000
END:DAYLIGHT
BEGIN:STANDARD
TZOFFSETFROM:-0400
TZOFFSETTO:-0500
TZNAME:EST
DTSTART:20241103T060000
END:STANDARD
BEGIN:DAYLIGHT
TZOFFSETFROM:-0500
TZOFFSETTO:-0400
TZNAME:EDT
DTSTART:20250309T070000
END:DAYLIGHT
BEGIN:STANDARD
TZOFFSETFROM:-0400
TZOFFSETTO:-0500
TZNAME:EST
DTSTART:20251102T060000
END:STANDARD
BEGIN:DAYLIGHT
TZOFFSETFROM:-0500
TZOFFSETTO:-0400
TZNAME:EDT
DTSTART:20260308T070000
END:DAYLIGHT
BEGIN:STANDARD
TZOFFSETFROM:-0400
TZOFFSETTO:-0500
TZNAME:EST
DTSTART:20261101T060000
END:STANDARD
END:VTIMEZONE
BEGIN:VEVENT
DTSTART;VALUE=DATE:20250922
DTEND;VALUE=DATE:20250927
DTSTAMP:20260422T194731
CREATED:20241127T185419Z
LAST-MODIFIED:20241127T185419Z
UID:26380-1758499200-1758931199@nascsp.org
SUMMARY:NASCSP 2025 Annual Training Conference
DESCRIPTION:
URL:https://nascsp.org/event/nascsp-2025-annual-training-conference/
CATEGORIES:WAP,CSBG,National Partner,NASCSP
END:VEVENT
BEGIN:VEVENT
DTSTART;TZID=America/New_York:20230803T140000
DTEND;TZID=America/New_York:20230803T150000
DTSTAMP:20260422T194731
CREATED:20230719T182747Z
LAST-MODIFIED:20230719T182850Z
UID:23168-1691071200-1691074800@nascsp.org
SUMMARY:WAP Public Information Campaign Toolkit Webinar
DESCRIPTION:Register for this webinar here: https://us06web.zoom.us/webinar/register/WN_f333UWprSWixmf_cWwX3rw \n 
URL:https://nascsp.org/event/wap-public-information-campaign-toolkit-webinar/
CATEGORIES:WAP
END:VEVENT
BEGIN:VEVENT
DTSTART;TZID=America/New_York:20221219T160000
DTEND;TZID=America/New_York:20221219T170000
DTSTAMP:20260422T194731
CREATED:20211230T181059Z
LAST-MODIFIED:20211230T181059Z
UID:20085-1671465600-1671469200@nascsp.org
SUMMARY:Anna-Maria Garcia and NASCSP Board
DESCRIPTION:
URL:https://nascsp.org/event/anna-maria-garcia-and-nascsp-board-10/
CATEGORIES:WAP,NASCSP
END:VEVENT
BEGIN:VEVENT
DTSTART;TZID=America/New_York:20221121T160000
DTEND;TZID=America/New_York:20221121T170000
DTSTAMP:20260422T194731
CREATED:20211230T180308Z
LAST-MODIFIED:20211230T180308Z
UID:20083-1669046400-1669050000@nascsp.org
SUMMARY:Anna-Maria Garcia and NASCSP Board
DESCRIPTION:
URL:https://nascsp.org/event/anna-maria-garcia-and-nascsp-board-9/
CATEGORIES:WAP,NASCSP
END:VEVENT
BEGIN:VEVENT
DTSTART;TZID=America/New_York:20221017T160000
DTEND;TZID=America/New_York:20221017T170000
DTSTAMP:20260422T194731
CREATED:20211230T180227Z
LAST-MODIFIED:20211230T180227Z
UID:20081-1666022400-1666026000@nascsp.org
SUMMARY:Anna-Maria Garcia and NASCSP Board
DESCRIPTION:
URL:https://nascsp.org/event/anna-maria-garcia-and-nascsp-board-8/
CATEGORIES:WAP,NASCSP
END:VEVENT
BEGIN:VEVENT
DTSTART;TZID=America/New_York:20221014T130000
DTEND;TZID=America/New_York:20221014T143000
DTSTAMP:20260422T194731
CREATED:20220926T151443Z
LAST-MODIFIED:20220926T151443Z
UID:21584-1665752400-1665757800@nascsp.org
SUMMARY:WAP Davis Bacon Compliance
DESCRIPTION:
URL:https://nascsp.org/event/wap-davis-bacon-compliance/
CATEGORIES:WAP
END:VEVENT
BEGIN:VEVENT
DTSTART;TZID=America/New_York:20220815T160000
DTEND;TZID=America/New_York:20220815T170000
DTSTAMP:20260422T194731
CREATED:20211230T180127Z
LAST-MODIFIED:20211230T180127Z
UID:20079-1660579200-1660582800@nascsp.org
SUMMARY:Anna-Maria Garcia and NASCSP Board
DESCRIPTION:
URL:https://nascsp.org/event/anna-maria-garcia-and-nascsp-board-7/
CATEGORIES:WAP,NASCSP
END:VEVENT
BEGIN:VEVENT
DTSTART;TZID=America/New_York:20220609T160000
DTEND;TZID=America/New_York:20220609T170000
DTSTAMP:20260422T194731
CREATED:20220603T150450Z
LAST-MODIFIED:20220603T150450Z
UID:20976-1654790400-1654794000@nascsp.org
SUMMARY:WAP NREL Integrating Solar into WAP Webinar
DESCRIPTION:
URL:https://nascsp.org/event/wap-nrel-integrating-solar-into-wap-webinar/
CATEGORIES:WAP
END:VEVENT
BEGIN:VEVENT
DTSTART;TZID=America/New_York:20220607T080000
DTEND;TZID=America/New_York:20220607T170000
DTSTAMP:20260422T194731
CREATED:20220607T193038Z
LAST-MODIFIED:20220607T202128Z
UID:21043-1654588800-1654621200@nascsp.org
SUMMARY:TEST Calendar Event (Public)
DESCRIPTION:You are invited to a Zoom meeting.\nWhen: Jun 7\, 2022 03:00 PM Eastern Time (US and Canada) \nRegister in advance for this meeting:\nhttps://us06web.zoom.us/meeting/register/tZcof-6oqjooHNO8JLEbq7rUUywxZYMRmY3M \nAfter registering\, you will receive a confirmation email containing information about joining the meeting.
URL:https://nascsp.org/event/test-calendar-event-public/
CATEGORIES:WAP
END:VEVENT
BEGIN:VEVENT
DTSTART;TZID=America/New_York:20220516T160000
DTEND;TZID=America/New_York:20220516T170000
DTSTAMP:20260422T194731
CREATED:20211230T175211Z
LAST-MODIFIED:20211230T175211Z
UID:20073-1652716800-1652720400@nascsp.org
SUMMARY:Anna-Maria Garcia and NASCSP Board
DESCRIPTION:
URL:https://nascsp.org/event/anna-maria-garcia-and-nascsp-board-4/
CATEGORIES:WAP,NASCSP
END:VEVENT
BEGIN:VEVENT
DTSTART;TZID=America/New_York:20220418T160000
DTEND;TZID=America/New_York:20220418T170000
DTSTAMP:20260422T194731
CREATED:20211230T175134Z
LAST-MODIFIED:20211230T175134Z
UID:20071-1650297600-1650301200@nascsp.org
SUMMARY:Anna-Maria Garcia and NASCSP Board
DESCRIPTION:
URL:https://nascsp.org/event/anna-maria-garcia-and-nascsp-board-3/
CATEGORIES:WAP,NASCSP
END:VEVENT
BEGIN:VEVENT
DTSTART;TZID=America/New_York:20220321T160000
DTEND;TZID=America/New_York:20220321T170000
DTSTAMP:20260422T194731
CREATED:20211230T174412Z
LAST-MODIFIED:20211230T174412Z
UID:20069-1647878400-1647882000@nascsp.org
SUMMARY:Anna-Maria Garcia and NASCSP Board
DESCRIPTION:
URL:https://nascsp.org/event/anna-maria-garcia-and-nascsp-board-2/
CATEGORIES:WAP,NASCSP
END:VEVENT
BEGIN:VEVENT
DTSTART;TZID=America/New_York:20220124T160000
DTEND;TZID=America/New_York:20220124T170000
DTSTAMP:20260422T194731
CREATED:20211230T174235Z
LAST-MODIFIED:20211230T174235Z
UID:20067-1643040000-1643043600@nascsp.org
SUMMARY:Anna-Maria Garcia and NASCSP Board
DESCRIPTION:
URL:https://nascsp.org/event/anna-maria-garcia-and-nascsp-board/
CATEGORIES:WAP,NASCSP
END:VEVENT
BEGIN:VEVENT
DTSTART;TZID=America/New_York:20211118T150000
DTEND;TZID=America/New_York:20211118T160000
DTSTAMP:20260422T194731
CREATED:20210115T154713Z
LAST-MODIFIED:20210115T154713Z
UID:18042-1637247600-1637251200@nascsp.org
SUMMARY:WAP Regional Manager's Call
DESCRIPTION:
URL:https://nascsp.org/event/wap-regional-managers-call-3/
CATEGORIES:WAP
END:VEVENT
BEGIN:VEVENT
DTSTART;TZID=America/New_York:20211118T110000
DTEND;TZID=America/New_York:20211118T120000
DTSTAMP:20260422T194731
CREATED:20210208T195934Z
LAST-MODIFIED:20210208T200904Z
UID:18203-1637233200-1637236800@nascsp.org
SUMMARY:WAP Regional Manager's Call
DESCRIPTION:
URL:https://nascsp.org/event/wap-regional-managers-call-5/
CATEGORIES:WAP
END:VEVENT
BEGIN:VEVENT
DTSTART;VALUE=DATE:20211030
DTEND;VALUE=DATE:20211031
DTSTAMP:20260422T194731
CREATED:20201223T191537Z
LAST-MODIFIED:20210108T160708Z
UID:17894-1635552000-1635638399@nascsp.org
SUMMARY:Weatherization Day
DESCRIPTION:October 30th is National Weatherization Day—a day that’s meant to highlight the impact of the Weatherization Assistance Program (WAP)\, which saves energy and improves the health and safety of homes.
URL:https://nascsp.org/event/weatherization-day/
CATEGORIES:WAP
ATTACH;FMTTYPE=image/png:https://nascsp.org/wp-content/uploads/2020/12/Screen-Shot-2020-10-28-at-8.25.30-PM.png
END:VEVENT
BEGIN:VEVENT
DTSTART;TZID=America/New_York:20210819T150000
DTEND;TZID=America/New_York:20210819T160000
DTSTAMP:20260422T194731
CREATED:20210115T154628Z
LAST-MODIFIED:20210115T154628Z
UID:18040-1629385200-1629388800@nascsp.org
SUMMARY:WAP Regional Manager's Call
DESCRIPTION:
URL:https://nascsp.org/event/wap-regional-managers-call-2/
CATEGORIES:WAP
END:VEVENT
BEGIN:VEVENT
DTSTART;TZID=America/New_York:20210617T130000
DTEND;TZID=America/New_York:20210617T143000
DTSTAMP:20260422T194731
CREATED:20210519T170451Z
LAST-MODIFIED:20210519T170451Z
UID:18790-1623934800-1623940200@nascsp.org
SUMMARY:WAP Data Management System RFP
DESCRIPTION:
URL:https://nascsp.org/event/wap-data-management-system-rfp/
CATEGORIES:WAP
END:VEVENT
BEGIN:VEVENT
DTSTART;TZID=America/New_York:20210520T150000
DTEND;TZID=America/New_York:20210520T160000
DTSTAMP:20260422T194731
CREATED:20210115T154544Z
LAST-MODIFIED:20210115T154544Z
UID:18038-1621522800-1621526400@nascsp.org
SUMMARY:WAP Regional Manager's Call
DESCRIPTION:
URL:https://nascsp.org/event/wap-regional-managers-call/
CATEGORIES:WAP
END:VEVENT
BEGIN:VEVENT
DTSTART;TZID=America/New_York:20210218T150000
DTEND;TZID=America/New_York:20210218T160000
DTSTAMP:20260422T194731
CREATED:20210115T154502Z
LAST-MODIFIED:20210115T154502Z
UID:18035-1613660400-1613664000@nascsp.org
SUMMARY:WAP Regional Manager Call
DESCRIPTION:
URL:https://nascsp.org/event/wap-regional-manager-call/
CATEGORIES:WAP
END:VEVENT
BEGIN:VEVENT
DTSTART;TZID=America/New_York:20210218T110000
DTEND;TZID=America/New_York:20210218T120000
DTSTAMP:20260422T194731
CREATED:20210208T194713Z
LAST-MODIFIED:20210208T194713Z
UID:18201-1613646000-1613649600@nascsp.org
SUMMARY:WAP Regional Manager's Call
DESCRIPTION:
URL:https://nascsp.org/event/wap-regional-managers-call-4/
CATEGORIES:WAP
END:VEVENT
END:VCALENDAR