BEGIN:VCALENDAR
VERSION:2.0
PRODID:-//NASCSP - ECPv6.15.17.1//NONSGML v1.0//EN
CALSCALE:GREGORIAN
METHOD:PUBLISH
X-ORIGINAL-URL:https://nascsp.org
X-WR-CALDESC:Events for NASCSP
REFRESH-INTERVAL;VALUE=DURATION:PT1H
X-Robots-Tag:noindex
X-PUBLISHED-TTL:PT1H
BEGIN:VTIMEZONE
TZID:America/New_York
BEGIN:DAYLIGHT
TZOFFSETFROM:-0500
TZOFFSETTO:-0400
TZNAME:EDT
DTSTART:20210314T070000
END:DAYLIGHT
BEGIN:STANDARD
TZOFFSETFROM:-0400
TZOFFSETTO:-0500
TZNAME:EST
DTSTART:20211107T060000
END:STANDARD
BEGIN:DAYLIGHT
TZOFFSETFROM:-0500
TZOFFSETTO:-0400
TZNAME:EDT
DTSTART:20220313T070000
END:DAYLIGHT
BEGIN:STANDARD
TZOFFSETFROM:-0400
TZOFFSETTO:-0500
TZNAME:EST
DTSTART:20221106T060000
END:STANDARD
BEGIN:DAYLIGHT
TZOFFSETFROM:-0500
TZOFFSETTO:-0400
TZNAME:EDT
DTSTART:20230312T070000
END:DAYLIGHT
BEGIN:STANDARD
TZOFFSETFROM:-0400
TZOFFSETTO:-0500
TZNAME:EST
DTSTART:20231105T060000
END:STANDARD
BEGIN:DAYLIGHT
TZOFFSETFROM:-0500
TZOFFSETTO:-0400
TZNAME:EDT
DTSTART:20240310T070000
END:DAYLIGHT
BEGIN:STANDARD
TZOFFSETFROM:-0400
TZOFFSETTO:-0500
TZNAME:EST
DTSTART:20241103T060000
END:STANDARD
BEGIN:DAYLIGHT
TZOFFSETFROM:-0500
TZOFFSETTO:-0400
TZNAME:EDT
DTSTART:20250309T070000
END:DAYLIGHT
BEGIN:STANDARD
TZOFFSETFROM:-0400
TZOFFSETTO:-0500
TZNAME:EST
DTSTART:20251102T060000
END:STANDARD
END:VTIMEZONE
BEGIN:VEVENT
DTSTART;TZID=America/New_York:20241114T140000
DTEND;TZID=America/New_York:20241114T153000
DTSTAMP:20260422T091527
CREATED:20231113T194435Z
LAST-MODIFIED:20231113T194435Z
UID:23957-1731592800-1731598200@nascsp.org
SUMMARY:WAP QMW Q4
DESCRIPTION:
URL:https://nascsp.org/event/wap-qmw-q4/
CATEGORIES:WAP - Members Only
END:VEVENT
BEGIN:VEVENT
DTSTART;TZID=America/New_York:20240815T140000
DTEND;TZID=America/New_York:20240815T153000
DTSTAMP:20260422T091527
CREATED:20231113T194350Z
LAST-MODIFIED:20231113T194350Z
UID:23955-1723730400-1723735800@nascsp.org
SUMMARY:WAP QMW Q3
DESCRIPTION:
URL:https://nascsp.org/event/wap-qmw-q3/
CATEGORIES:WAP - Members Only
END:VEVENT
BEGIN:VEVENT
DTSTART;TZID=America/New_York:20240509T140000
DTEND;TZID=America/New_York:20240509T153000
DTSTAMP:20260422T091527
CREATED:20231113T194222Z
LAST-MODIFIED:20231113T194222Z
UID:23953-1715263200-1715268600@nascsp.org
SUMMARY:WAP QMW Q2
DESCRIPTION:
URL:https://nascsp.org/event/wap-qmw-q2/
CATEGORIES:WAP - Members Only
END:VEVENT
BEGIN:VEVENT
DTSTART;TZID=America/New_York:20240222T140000
DTEND;TZID=America/New_York:20240222T153000
DTSTAMP:20260422T091527
CREATED:20231113T194154Z
LAST-MODIFIED:20231113T194154Z
UID:23951-1708610400-1708615800@nascsp.org
SUMMARY:WAP QMW Q1
DESCRIPTION:
URL:https://nascsp.org/event/wap-qmw-q1/
CATEGORIES:WAP - Members Only
END:VEVENT
BEGIN:VEVENT
DTSTART;TZID=America/New_York:20231116T130000
DTEND;TZID=America/New_York:20231116T143000
DTSTAMP:20260422T091527
CREATED:20221115T193432Z
LAST-MODIFIED:20221115T195522Z
UID:22003-1700139600-1700145000@nascsp.org
SUMMARY:WAP Q4 Member Webinar
DESCRIPTION:To register for this member-only call\, log in to the member portal and register here.
URL:https://nascsp.org/event/wap-q4-member-webinar-2/
CATEGORIES:WAP - Members Only
END:VEVENT
BEGIN:VEVENT
DTSTART;TZID=America/New_York:20230810T130000
DTEND;TZID=America/New_York:20230810T143000
DTSTAMP:20260422T091527
CREATED:20221115T193135Z
LAST-MODIFIED:20221115T195457Z
UID:22000-1691672400-1691677800@nascsp.org
SUMMARY:WAP Q3 Member Webinar
DESCRIPTION:To register for this member-only call\, log in to the member portal and register here.
URL:https://nascsp.org/event/wap-q3-member-webinar-2/
CATEGORIES:WAP - Members Only
END:VEVENT
BEGIN:VEVENT
DTSTART;TZID=America/New_York:20230607T150000
DTEND;TZID=America/New_York:20230607T160000
DTSTAMP:20260422T091527
CREATED:20230531T153721Z
LAST-MODIFIED:20230531T154817Z
UID:22969-1686150000-1686153600@nascsp.org
SUMMARY:WAP Quarterly New Member Orientation
DESCRIPTION:The National Association for State Community Services Programs (NASCSP) is the sole national association charged with advocating and enhancing the leadership role of States in the administration of the Community Services Block Grant (CSBG) and Weatherization Assistance Program (WAP). Learn about how NASCSP can support you! Take a tour of the resources on our site and meet our staff dedicated to WAP!
URL:https://nascsp.org/event/wap-quarterly-new-member-orientation/
CATEGORIES:WAP - Members Only
END:VEVENT
BEGIN:VEVENT
DTSTART;TZID=America/New_York:20230525T130000
DTEND;TZID=America/New_York:20230525T143000
DTSTAMP:20260422T091527
CREATED:20221115T191033Z
LAST-MODIFIED:20221115T195413Z
UID:21985-1685019600-1685025000@nascsp.org
SUMMARY:WAP Q2 Member Webinar
DESCRIPTION:To register for this member-only call\, log in to the member portal and register here.
URL:https://nascsp.org/event/wap-q2-member-webinar/
CATEGORIES:WAP - Members Only
END:VEVENT
BEGIN:VEVENT
DTSTART;TZID=America/New_York:20230202T130000
DTEND;TZID=America/New_York:20230202T143000
DTSTAMP:20260422T091527
CREATED:20221115T192935Z
LAST-MODIFIED:20221115T195339Z
UID:21996-1675342800-1675348200@nascsp.org
SUMMARY:WAP Q1 Member Webinar
DESCRIPTION:To register for this member-only call\, log in to the member portal and register here.
URL:https://nascsp.org/event/wap-q1-member-webinar-4/
CATEGORIES:WAP - Members Only
END:VEVENT
BEGIN:VEVENT
DTSTART;TZID=America/New_York:20221201T130000
DTEND;TZID=America/New_York:20221201T143000
DTSTAMP:20260422T091527
CREATED:20221107T200829Z
LAST-MODIFIED:20221115T195249Z
UID:21913-1669899600-1669905000@nascsp.org
SUMMARY:NASCSP WAP Quarterly Member Call
DESCRIPTION:To register for this member-only call\, log in to the member portal and register here.
URL:https://nascsp.org/event/nascsp-wap-quarterly-member-call-2/
CATEGORIES:WAP - Members Only
END:VEVENT
BEGIN:VEVENT
DTSTART;TZID=America/New_York:20221004T150000
DTEND;TZID=America/New_York:20221004T160000
DTSTAMP:20260422T091527
CREATED:20220824T150028Z
LAST-MODIFIED:20220831T141213Z
UID:21450-1664895600-1664899200@nascsp.org
SUMMARY:NEPA and Historic Preservation Webinar
DESCRIPTION:Please join NASCSP for a training webinar on important updates regarding NEPA and Historic Preservation from the U.S. Department of Energy\, NEPA Compliance Specialist\, Diana Heyder and members of the DOE WAP.
URL:https://nascsp.org/event/nepa-and-historic-preservation-webinar/
CATEGORIES:WAP - Members Only
END:VEVENT
BEGIN:VEVENT
DTSTART;TZID=America/New_York:20220719T130000
DTEND;TZID=America/New_York:20220719T140000
DTSTAMP:20260422T091527
CREATED:20220603T152034Z
LAST-MODIFIED:20220603T180157Z
UID:20978-1658235600-1658239200@nascsp.org
SUMMARY:WAP DOE BIL and Workbook Planning Webinar
DESCRIPTION:
URL:https://nascsp.org/event/wap-doe-bil-and-workbook-planning-webinar/
CATEGORIES:WAP - Members Only
END:VEVENT
BEGIN:VEVENT
DTSTART;TZID=America/New_York:20220714T150000
DTEND;TZID=America/New_York:20220714T160000
DTSTAMP:20260422T091527
CREATED:20220603T152607Z
LAST-MODIFIED:20220603T180104Z
UID:20980-1657810800-1657814400@nascsp.org
SUMMARY:WAP Orientation Follow Up Coaching Webinar
DESCRIPTION:
URL:https://nascsp.org/event/wap-orientation-follow-up-coaching-webinar/
CATEGORIES:WAP - Members Only
END:VEVENT
BEGIN:VEVENT
DTSTART;TZID=America/New_York:20220713T130000
DTEND;TZID=America/New_York:20220713T140000
DTSTAMP:20260422T091527
CREATED:20220616T160409Z
LAST-MODIFIED:20220616T160409Z
UID:21103-1657717200-1657720800@nascsp.org
SUMMARY:Equitable State Practices: Are We There Yet?
DESCRIPTION:This is a webinar for NASCSP members. The recording and any additional resources for the webinar will be archived in the NASCSP Member Portal.
URL:https://nascsp.org/event/equitable-state-practices-are-we-there-yet/
CATEGORIES:WAP - Members Only,CSBG - Members Only
END:VEVENT
BEGIN:VEVENT
DTSTART;TZID=America/New_York:20220622T130000
DTEND;TZID=America/New_York:20220622T140000
DTSTAMP:20260422T091527
CREATED:20220603T155156Z
LAST-MODIFIED:20220603T180132Z
UID:20983-1655902800-1655906400@nascsp.org
SUMMARY:WAP WX Readiness Implementation Webinar
DESCRIPTION:
URL:https://nascsp.org/event/wap-wx-readiness-implementation-webinar/
CATEGORIES:WAP - Members Only
END:VEVENT
BEGIN:VEVENT
DTSTART;TZID=America/New_York:20220608T080000
DTEND;TZID=America/New_York:20220608T170000
DTSTAMP:20260422T091527
CREATED:20220607T201140Z
LAST-MODIFIED:20220607T201140Z
UID:21051-1654675200-1654707600@nascsp.org
SUMMARY:TEST Calendar Event #2 (Member-Only)
DESCRIPTION:
URL:https://nascsp.org/event/test-calendar-event-2-member-only/
CATEGORIES:WAP - Members Only
END:VEVENT
END:VCALENDAR