BEGIN:VCALENDAR
VERSION:2.0
PRODID:-//NASCSP - ECPv6.15.17.1//NONSGML v1.0//EN
CALSCALE:GREGORIAN
METHOD:PUBLISH
X-ORIGINAL-URL:https://nascsp.org
X-WR-CALDESC:Events for NASCSP
REFRESH-INTERVAL;VALUE=DURATION:PT1H
X-Robots-Tag:noindex
X-PUBLISHED-TTL:PT1H
BEGIN:VTIMEZONE
TZID:America/New_York
BEGIN:DAYLIGHT
TZOFFSETFROM:-0500
TZOFFSETTO:-0400
TZNAME:EDT
DTSTART:20230312T070000
END:DAYLIGHT
BEGIN:STANDARD
TZOFFSETFROM:-0400
TZOFFSETTO:-0500
TZNAME:EST
DTSTART:20231105T060000
END:STANDARD
BEGIN:DAYLIGHT
TZOFFSETFROM:-0500
TZOFFSETTO:-0400
TZNAME:EDT
DTSTART:20240310T070000
END:DAYLIGHT
BEGIN:STANDARD
TZOFFSETFROM:-0400
TZOFFSETTO:-0500
TZNAME:EST
DTSTART:20241103T060000
END:STANDARD
BEGIN:DAYLIGHT
TZOFFSETFROM:-0500
TZOFFSETTO:-0400
TZNAME:EDT
DTSTART:20250309T070000
END:DAYLIGHT
BEGIN:STANDARD
TZOFFSETFROM:-0400
TZOFFSETTO:-0500
TZNAME:EST
DTSTART:20251102T060000
END:STANDARD
END:VTIMEZONE
BEGIN:VEVENT
DTSTART;TZID=America/New_York:20240311T080000
DTEND;TZID=America/New_York:20240315T170000
DTSTAMP:20260421T080359
CREATED:20240327T171813Z
LAST-MODIFIED:20240327T171813Z
UID:24759-1710144000-1710522000@nascsp.org
SUMMARY:NASCSP 2024 Winter Training Conference
DESCRIPTION:
URL:https://nascsp.org/event/nascsp-2024-winter-training-conference/
CATEGORIES:NASCSP
END:VEVENT
BEGIN:VEVENT
DTSTART;TZID=America/New_York:20240312T160000
DTEND;TZID=America/New_York:20240312T180000
DTSTAMP:20260421T080359
CREATED:20240327T171902Z
LAST-MODIFIED:20240327T171902Z
UID:24761-1710259200-1710266400@nascsp.org
SUMMARY:NASCSP Board Meeting
DESCRIPTION:
URL:https://nascsp.org/event/nascsp-board-meeting/
CATEGORIES:NASCSP
END:VEVENT
END:VCALENDAR