BEGIN:VCALENDAR
VERSION:2.0
PRODID:-//NASCSP - ECPv6.15.17.1//NONSGML v1.0//EN
CALSCALE:GREGORIAN
METHOD:PUBLISH
X-WR-CALNAME:NASCSP
X-ORIGINAL-URL:https://nascsp.org
X-WR-CALDESC:Events for NASCSP
REFRESH-INTERVAL;VALUE=DURATION:PT1H
X-Robots-Tag:noindex
X-PUBLISHED-TTL:PT1H
BEGIN:VTIMEZONE
TZID:America/New_York
BEGIN:DAYLIGHT
TZOFFSETFROM:-0500
TZOFFSETTO:-0400
TZNAME:EDT
DTSTART:20210314T070000
END:DAYLIGHT
BEGIN:STANDARD
TZOFFSETFROM:-0400
TZOFFSETTO:-0500
TZNAME:EST
DTSTART:20211107T060000
END:STANDARD
BEGIN:DAYLIGHT
TZOFFSETFROM:-0500
TZOFFSETTO:-0400
TZNAME:EDT
DTSTART:20220313T070000
END:DAYLIGHT
BEGIN:STANDARD
TZOFFSETFROM:-0400
TZOFFSETTO:-0500
TZNAME:EST
DTSTART:20221106T060000
END:STANDARD
BEGIN:DAYLIGHT
TZOFFSETFROM:-0500
TZOFFSETTO:-0400
TZNAME:EDT
DTSTART:20230312T070000
END:DAYLIGHT
BEGIN:STANDARD
TZOFFSETFROM:-0400
TZOFFSETTO:-0500
TZNAME:EST
DTSTART:20231105T060000
END:STANDARD
END:VTIMEZONE
BEGIN:VEVENT
DTSTART;TZID=America/New_York:20220720T110000
DTEND;TZID=America/New_York:20220720T120000
DTSTAMP:20260422T021514
CREATED:20220616T160156Z
LAST-MODIFIED:20220707T193243Z
UID:21101-1658314800-1658318400@nascsp.org
SUMMARY:Advancing Racial Equity by Creating Space
DESCRIPTION:This is an open webinar. You can register for this event here!
URL:https://nascsp.org/event/advancing-racial-equity-by-creating-space/
CATEGORIES:NASCSP
END:VEVENT
END:VCALENDAR