BEGIN:VCALENDAR
VERSION:2.0
PRODID:-//NASCSP - ECPv6.15.17.1//NONSGML v1.0//EN
CALSCALE:GREGORIAN
METHOD:PUBLISH
X-WR-CALNAME:NASCSP
X-ORIGINAL-URL:https://nascsp.org
X-WR-CALDESC:Events for NASCSP
REFRESH-INTERVAL;VALUE=DURATION:PT1H
X-Robots-Tag:noindex
X-PUBLISHED-TTL:PT1H
BEGIN:VTIMEZONE
TZID:America/New_York
BEGIN:DAYLIGHT
TZOFFSETFROM:-0500
TZOFFSETTO:-0400
TZNAME:EDT
DTSTART:20200308T070000
END:DAYLIGHT
BEGIN:STANDARD
TZOFFSETFROM:-0400
TZOFFSETTO:-0500
TZNAME:EST
DTSTART:20201101T060000
END:STANDARD
BEGIN:DAYLIGHT
TZOFFSETFROM:-0500
TZOFFSETTO:-0400
TZNAME:EDT
DTSTART:20210314T070000
END:DAYLIGHT
BEGIN:STANDARD
TZOFFSETFROM:-0400
TZOFFSETTO:-0500
TZNAME:EST
DTSTART:20211107T060000
END:STANDARD
BEGIN:DAYLIGHT
TZOFFSETFROM:-0500
TZOFFSETTO:-0400
TZNAME:EDT
DTSTART:20220313T070000
END:DAYLIGHT
BEGIN:STANDARD
TZOFFSETFROM:-0400
TZOFFSETTO:-0500
TZNAME:EST
DTSTART:20221106T060000
END:STANDARD
END:VTIMEZONE
BEGIN:VEVENT
DTSTART;TZID=America/New_York:20210623T080000
DTEND;TZID=America/New_York:20210623T170000
DTSTAMP:20260422T160551
CREATED:20210115T160318Z
LAST-MODIFIED:20210115T160318Z
UID:18065-1624435200-1624467600@nascsp.org
SUMMARY:OCS Quarterly Call- Subject TBD
DESCRIPTION:
URL:https://nascsp.org/event/ocs-quarterly-call-subject-tbd/
CATEGORIES:CSBG
END:VEVENT
BEGIN:VEVENT
DTSTART;TZID=America/New_York:20210617T130000
DTEND;TZID=America/New_York:20210617T143000
DTSTAMP:20260422T160551
CREATED:20210517T175819Z
LAST-MODIFIED:20210517T175819Z
UID:18764-1623934800-1623940200@nascsp.org
SUMMARY:CSBG State Management Work Group June Convening
DESCRIPTION:
URL:https://nascsp.org/event/csbg-state-management-work-group-june-convening/
CATEGORIES:CSBG
END:VEVENT
BEGIN:VEVENT
DTSTART;TZID=America/New_York:20210616T133000
DTEND;TZID=America/New_York:20210616T143000
DTSTAMP:20260422T160551
CREATED:20210517T190826Z
LAST-MODIFIED:20210517T190826Z
UID:18778-1623850200-1623853800@nascsp.org
SUMMARY:Enterprise Risk Management for State Offices\, Part I
DESCRIPTION:
URL:https://nascsp.org/event/enterprise-risk-management-for-state-offices-part-i/
CATEGORIES:CSBG
END:VEVENT
BEGIN:VEVENT
DTSTART;TZID=America/New_York:20210609T130000
DTEND;TZID=America/New_York:20210609T160000
DTSTAMP:20260422T160551
CREATED:20210422T134920Z
LAST-MODIFIED:20210423T144925Z
UID:18577-1623243600-1623254400@nascsp.org
SUMMARY:CSBG Orientation: Session 5
DESCRIPTION:
URL:https://nascsp.org/event/orientation-session-5/
CATEGORIES:CSBG
END:VEVENT
BEGIN:VEVENT
DTSTART;TZID=America/New_York:20210602T130000
DTEND;TZID=America/New_York:20210602T160000
DTSTAMP:20260422T160551
CREATED:20210422T134434Z
LAST-MODIFIED:20210423T145002Z
UID:18575-1622638800-1622649600@nascsp.org
SUMMARY:CSBG Orientation: Session 4
DESCRIPTION:
URL:https://nascsp.org/event/orientation-session-4/
CATEGORIES:CSBG
END:VEVENT
BEGIN:VEVENT
DTSTART;TZID=America/New_York:20210527T140000
DTEND;TZID=America/New_York:20210527T150000
DTSTAMP:20260422T160551
CREATED:20210517T174738Z
LAST-MODIFIED:20210517T174738Z
UID:18762-1622124000-1622127600@nascsp.org
SUMMARY:OCS CSBG State Assessment Member Conversation
DESCRIPTION:
URL:https://nascsp.org/event/ocs-csbg-state-assessment-member-conversation/
CATEGORIES:CSBG
END:VEVENT
BEGIN:VEVENT
DTSTART;TZID=America/New_York:20210526T130000
DTEND;TZID=America/New_York:20210526T160000
DTSTAMP:20260422T160551
CREATED:20210422T134311Z
LAST-MODIFIED:20210423T145129Z
UID:18573-1622034000-1622044800@nascsp.org
SUMMARY:CSBG Orientation: Session 3
DESCRIPTION:
URL:https://nascsp.org/event/orientation-session-3/
CATEGORIES:CSBG
END:VEVENT
BEGIN:VEVENT
DTSTART;TZID=America/New_York:20210520T130000
DTEND;TZID=America/New_York:20210520T143000
DTSTAMP:20260422T160551
CREATED:20210422T135059Z
LAST-MODIFIED:20210428T180323Z
UID:18579-1621515600-1621521000@nascsp.org
SUMMARY:CSBG State Management Work Group May Convening
DESCRIPTION:
URL:https://nascsp.org/event/csbg-state-management-work-group-april-convening-2/
CATEGORIES:CSBG
END:VEVENT
BEGIN:VEVENT
DTSTART;TZID=America/New_York:20210519T130000
DTEND;TZID=America/New_York:20210519T160000
DTSTAMP:20260422T160551
CREATED:20210422T134202Z
LAST-MODIFIED:20210423T145101Z
UID:18571-1621429200-1621440000@nascsp.org
SUMMARY:CSBG Orientation: Session 2
DESCRIPTION:
URL:https://nascsp.org/event/orientation-session-2/
CATEGORIES:CSBG
END:VEVENT
BEGIN:VEVENT
DTSTART;TZID=America/New_York:20210518T140000
DTEND;TZID=America/New_York:20210518T153000
DTSTAMP:20260422T160551
CREATED:20210115T155718Z
LAST-MODIFIED:20210127T230848Z
UID:18053-1621346400-1621351800@nascsp.org
SUMMARY:May CSBG Regional Manager's Call
DESCRIPTION:
URL:https://nascsp.org/event/may-csbg-regional-managers-call/
CATEGORIES:CSBG
END:VEVENT
BEGIN:VEVENT
DTSTART;TZID=America/New_York:20210518T110000
DTEND;TZID=America/New_York:20210518T123000
DTSTAMP:20260422T160551
CREATED:20210115T155633Z
LAST-MODIFIED:20210115T155640Z
UID:18050-1621335600-1621341000@nascsp.org
SUMMARY:May CSBG Regional Manager's Call
DESCRIPTION:
URL:https://nascsp.org/event/may-csbg-regional-manafers-call/
CATEGORIES:CSBG
END:VEVENT
BEGIN:VEVENT
DTSTART;TZID=America/New_York:20210512T130000
DTEND;TZID=America/New_York:20210512T160000
DTSTAMP:20260422T160551
CREATED:20210422T134013Z
LAST-MODIFIED:20210423T145030Z
UID:18569-1620824400-1620835200@nascsp.org
SUMMARY:CSBG Orientation: Session I
DESCRIPTION:
URL:https://nascsp.org/event/orientation-session-i/
CATEGORIES:CSBG
END:VEVENT
BEGIN:VEVENT
DTSTART;TZID=America/New_York:20210414T130000
DTEND;TZID=America/New_York:20210414T143000
DTSTAMP:20260422T160551
CREATED:20210406T180654Z
LAST-MODIFIED:20210406T180654Z
UID:18387-1618405200-1618410600@nascsp.org
SUMMARY:CSBG State Management Work Group April Convening
DESCRIPTION:
URL:https://nascsp.org/event/csbg-state-management-work-group-april-convening/
CATEGORIES:CSBG
END:VEVENT
BEGIN:VEVENT
DTSTART;TZID=America/New_York:20210317T130000
DTEND;TZID=America/New_York:20210317T150000
DTSTAMP:20260422T160551
CREATED:20210216T210604Z
LAST-MODIFIED:20210216T210725Z
UID:18245-1615986000-1615993200@nascsp.org
SUMMARY:CSBG Member Planning & Action (Conference Attendees Only)
DESCRIPTION:
URL:https://nascsp.org/event/csbg-member-planning-action-conference-attendees-only/
CATEGORIES:CSBG
END:VEVENT
BEGIN:VEVENT
DTSTART;TZID=America/New_York:20210303T080000
DTEND;TZID=America/New_York:20210303T170000
DTSTAMP:20260422T160551
CREATED:20210115T160219Z
LAST-MODIFIED:20210115T160219Z
UID:18063-1614758400-1614790800@nascsp.org
SUMMARY:OCS Quarterly Call- Trends and Promising Practices
DESCRIPTION:
URL:https://nascsp.org/event/ocs-quarterly-call-trends-and-promising-practices/
CATEGORIES:CSBG
END:VEVENT
BEGIN:VEVENT
DTSTART;TZID=America/New_York:20210223T140000
DTEND;TZID=America/New_York:20210223T153000
DTSTAMP:20260422T160551
CREATED:20210115T155447Z
LAST-MODIFIED:20210211T145121Z
UID:18048-1614088800-1614094200@nascsp.org
SUMMARY:February CSBG Regional Manager's Call
DESCRIPTION:
URL:https://nascsp.org/event/february-csbg-regional-managers-call-2/
CATEGORIES:CSBG
END:VEVENT
BEGIN:VEVENT
DTSTART;TZID=America/New_York:20210223T110000
DTEND;TZID=America/New_York:20210223T123000
DTSTAMP:20260422T160551
CREATED:20210115T155404Z
LAST-MODIFIED:20210211T145202Z
UID:18046-1614078000-1614083400@nascsp.org
SUMMARY:February CSBG Regional Manager's Call
DESCRIPTION:
URL:https://nascsp.org/event/february-csbg-regional-managers-call/
CATEGORIES:CSBG
END:VEVENT
BEGIN:VEVENT
DTSTART;TZID=America/New_York:20210119T140000
DTEND;TZID=America/New_York:20210119T150000
DTSTAMP:20260422T160551
CREATED:20210115T160430Z
LAST-MODIFIED:20210115T160430Z
UID:18067-1611064800-1611068400@nascsp.org
SUMMARY:CSBG Member- Only Webinar on Supp. Reporting
DESCRIPTION:
URL:https://nascsp.org/event/csbg-member-only-webinar-on-supp-reporting/
CATEGORIES:CSBG
END:VEVENT
END:VCALENDAR