BEGIN:VCALENDAR
VERSION:2.0
PRODID:-//NASCSP - ECPv6.15.17.1//NONSGML v1.0//EN
CALSCALE:GREGORIAN
METHOD:PUBLISH
X-WR-CALNAME:NASCSP
X-ORIGINAL-URL:https://nascsp.org
X-WR-CALDESC:Events for NASCSP
REFRESH-INTERVAL;VALUE=DURATION:PT1H
X-Robots-Tag:noindex
X-PUBLISHED-TTL:PT1H
BEGIN:VTIMEZONE
TZID:America/New_York
BEGIN:DAYLIGHT
TZOFFSETFROM:-0500
TZOFFSETTO:-0400
TZNAME:EDT
DTSTART:20210314T070000
END:DAYLIGHT
BEGIN:STANDARD
TZOFFSETFROM:-0400
TZOFFSETTO:-0500
TZNAME:EST
DTSTART:20211107T060000
END:STANDARD
BEGIN:DAYLIGHT
TZOFFSETFROM:-0500
TZOFFSETTO:-0400
TZNAME:EDT
DTSTART:20220313T070000
END:DAYLIGHT
BEGIN:STANDARD
TZOFFSETFROM:-0400
TZOFFSETTO:-0500
TZNAME:EST
DTSTART:20221106T060000
END:STANDARD
BEGIN:DAYLIGHT
TZOFFSETFROM:-0500
TZOFFSETTO:-0400
TZNAME:EDT
DTSTART:20230312T070000
END:DAYLIGHT
BEGIN:STANDARD
TZOFFSETFROM:-0400
TZOFFSETTO:-0500
TZNAME:EST
DTSTART:20231105T060000
END:STANDARD
BEGIN:DAYLIGHT
TZOFFSETFROM:-0500
TZOFFSETTO:-0400
TZNAME:EDT
DTSTART:20240310T070000
END:DAYLIGHT
BEGIN:STANDARD
TZOFFSETFROM:-0400
TZOFFSETTO:-0500
TZNAME:EST
DTSTART:20241103T060000
END:STANDARD
END:VTIMEZONE
BEGIN:VEVENT
DTSTART;TZID=America/New_York:20231024T140000
DTEND;TZID=America/New_York:20231024T150000
DTSTAMP:20260422T040109
CREATED:20231010T162755Z
LAST-MODIFIED:20231010T162755Z
UID:23784-1698156000-1698159600@nascsp.org
SUMMARY:October Monthly State Administrator Webinar
DESCRIPTION:
URL:https://nascsp.org/event/october-monthly-state-administrator-webinar/
CATEGORIES:CSBG - Members Only
END:VEVENT
BEGIN:VEVENT
DTSTART;TZID=America/New_York:20230920T143000
DTEND;TZID=America/New_York:20230920T153000
DTSTAMP:20260422T040109
CREATED:20230707T184821Z
LAST-MODIFIED:20230707T184821Z
UID:23146-1695220200-1695223800@nascsp.org
SUMMARY:CSBG CARES Monthly Check-ins for Small States
DESCRIPTION:
URL:https://nascsp.org/event/csbg-cares-monthly-check-ins-for-small-states-3/
CATEGORIES:CSBG - Members Only
END:VEVENT
BEGIN:VEVENT
DTSTART;TZID=America/New_York:20230829T140000
DTEND;TZID=America/New_York:20230829T150000
DTSTAMP:20260422T040109
CREATED:20230707T185538Z
LAST-MODIFIED:20230707T185538Z
UID:23152-1693317600-1693321200@nascsp.org
SUMMARY:August CSBG Monthly State Manager Webinar
DESCRIPTION:
URL:https://nascsp.org/event/august-csbg-monthly-state-manager-webinar/
CATEGORIES:CSBG - Members Only
END:VEVENT
BEGIN:VEVENT
DTSTART;TZID=America/New_York:20230816T143000
DTEND;TZID=America/New_York:20230816T153000
DTSTAMP:20260422T040109
CREATED:20230707T184746Z
LAST-MODIFIED:20230707T184746Z
UID:23144-1692196200-1692199800@nascsp.org
SUMMARY:CSBG CARES Monthly Check-ins for Small States
DESCRIPTION:
URL:https://nascsp.org/event/csbg-cares-monthly-check-ins-for-small-states-2/
CATEGORIES:CSBG - Members Only
END:VEVENT
BEGIN:VEVENT
DTSTART;TZID=America/New_York:20230815T140000
DTEND;TZID=America/New_York:20230815T153000
DTSTAMP:20260422T040109
CREATED:20221107T201925Z
LAST-MODIFIED:20221107T211721Z
UID:21919-1692108000-1692113400@nascsp.org
SUMMARY:CSBG Quarterly Member Call
DESCRIPTION:To register for this member-only call\, log in to the member portal and register here!
URL:https://nascsp.org/event/csbg-quarterly-member-call-3/
CATEGORIES:CSBG - Members Only
END:VEVENT
BEGIN:VEVENT
DTSTART;TZID=America/New_York:20230807T153000
DTEND;TZID=America/New_York:20230807T163000
DTSTAMP:20260422T040109
CREATED:20230707T185130Z
LAST-MODIFIED:20230707T185130Z
UID:23148-1691422200-1691425800@nascsp.org
SUMMARY:State ROMA Peer Group
DESCRIPTION:
URL:https://nascsp.org/event/state-roma-peer-group/
CATEGORIES:CSBG - Members Only
END:VEVENT
BEGIN:VEVENT
DTSTART;TZID=America/New_York:20230725T140000
DTEND;TZID=America/New_York:20230725T150000
DTSTAMP:20260422T040109
CREATED:20230707T185629Z
LAST-MODIFIED:20230707T185629Z
UID:23154-1690293600-1690297200@nascsp.org
SUMMARY:July CSBG Monthly State Manager Webinar
DESCRIPTION:
URL:https://nascsp.org/event/july-csbg-monthly-state-manager-webinar/
CATEGORIES:CSBG - Members Only
END:VEVENT
BEGIN:VEVENT
DTSTART;TZID=America/New_York:20230719T143000
DTEND;TZID=America/New_York:20230719T153000
DTSTAMP:20260422T040109
CREATED:20230707T184717Z
LAST-MODIFIED:20230707T184717Z
UID:23142-1689777000-1689780600@nascsp.org
SUMMARY:CSBG CARES Monthly Check-ins for Small States
DESCRIPTION:
URL:https://nascsp.org/event/csbg-cares-monthly-check-ins-for-small-states/
CATEGORIES:CSBG - Members Only
END:VEVENT
BEGIN:VEVENT
DTSTART;TZID=America/New_York:20230516T140000
DTEND;TZID=America/New_York:20230516T153000
DTSTAMP:20260422T040109
CREATED:20221107T201807Z
LAST-MODIFIED:20221107T211536Z
UID:21917-1684245600-1684251000@nascsp.org
SUMMARY:CSBG Quarterly Member Call
DESCRIPTION:To register for this member-only call\, log in to the member portal and register here!
URL:https://nascsp.org/event/csbg-quarterly-member-call-2/
CATEGORIES:CSBG - Members Only
END:VEVENT
BEGIN:VEVENT
DTSTART;TZID=America/New_York:20230221T140000
DTEND;TZID=America/New_York:20230221T153000
DTSTAMP:20260422T040109
CREATED:20221107T201603Z
LAST-MODIFIED:20221107T211449Z
UID:21915-1676988000-1676993400@nascsp.org
SUMMARY:CSBG Quarterly Member Call
DESCRIPTION:To register for this member-only call\, log in to the member portal and register here!
URL:https://nascsp.org/event/csbg-quarterly-member-call/
CATEGORIES:CSBG - Members Only
END:VEVENT
BEGIN:VEVENT
DTSTART;TZID=America/New_York:20220816T140000
DTEND;TZID=America/New_York:20220816T153000
DTSTAMP:20260422T040109
CREATED:20210901T191526Z
LAST-MODIFIED:20220901T135720Z
UID:19470-1660658400-1660663800@nascsp.org
SUMMARY:NASCSP CSBG Quarterly Member Call
DESCRIPTION:
URL:https://nascsp.org/event/august-csbg-regional-call-2/
CATEGORIES:CSBG - Members Only
END:VEVENT
BEGIN:VEVENT
DTSTART;TZID=America/New_York:20220713T130000
DTEND;TZID=America/New_York:20220713T140000
DTSTAMP:20260422T040109
CREATED:20220616T160409Z
LAST-MODIFIED:20220616T160409Z
UID:21103-1657717200-1657720800@nascsp.org
SUMMARY:Equitable State Practices: Are We There Yet?
DESCRIPTION:This is a webinar for NASCSP members. The recording and any additional resources for the webinar will be archived in the NASCSP Member Portal.
URL:https://nascsp.org/event/equitable-state-practices-are-we-there-yet/
CATEGORIES:WAP - Members Only,CSBG - Members Only
END:VEVENT
BEGIN:VEVENT
DTSTART;TZID=America/New_York:20220215T140000
DTEND;TZID=America/New_York:20220215T153000
DTSTAMP:20260422T040109
CREATED:20210901T191133Z
LAST-MODIFIED:20220901T142951Z
UID:19462-1644933600-1644939000@nascsp.org
SUMMARY:NASCSP CSBG Quarterly Member Call
DESCRIPTION:
URL:https://nascsp.org/event/february-csbg-regional-call-2/
CATEGORIES:CSBG - Members Only
END:VEVENT
END:VCALENDAR